{"text_format":"2","workbook":"xlsx","n_sheets":1,"sheets":["점검계획"],"not_rendered":{"charts":0,"images":0,"macros":0,"external_links":1,"defined_names":2,"comments":0,"pivot_tables":0},"unopened":[],"bounds":{"document_bytes":16777216,"sheet_cells":100000,"run_cost":"one","rows_first":2000,"rows_last":500,"rows_between":2000,"halvings":0,"cell_chars":16384,"cell_head_chars":4096},"cells_cut":0,"cells_raw":0,"read":"whole","date_system":"1900"}

{"sheet":"점검계획","index":0,"n_rows":238,"n_cols":15,"rows_kept":238,"cut":false,"hidden":false,"merged":[[234,2,234,13],[235,2,235,13],[237,2,237,13],[238,3,238,7],[239,3,239,7],[240,3,240,9],[215,0,221,0],[222,0,226,0],[227,0,229,0],[231,2,231,12],[232,2,232,13],[233,2,233,13],[120,0,147,0],[148,0,159,0],[160,0,161,0],[162,0,165,0],[166,0,210,0],[211,0,213,0],[3,0,29,0],[30,0,53,0],[54,0,81,0],[82,0,105,0],[106,0,115,0],[116,0,119,0],[0,0,0,14],[1,0,2,0],[1,1,1,8],[1,9,1,11],[1,12,2,13],[1,14,2,14],[2,9,2,10]]}
["2015년 멀티미디어미디어 강의실 점검(3월) 및 계획(4월)"]
["건물","강의실 정보",{"$nulls":7},"램프사용시간",null,null,"점검예정일",null,"방문수리"]
[null,"건물","번호","강의실","구분","프로젝터","교탁","램프교체","정밀크리닝","최종확인일",null,"사용시간"]
["다산관","다산관",1,"B105",{"$f":"VLOOKUP(B4&D4,'[1]점검현황(금월)'!$D$7:$AH$231,2,0)","v":"멀티미디어"},{"$f":"VLOOKUP(B4&D4,'[1]점검현황(금월)'!$D$7:$AH$231,3,0)","v":"EX600"},{"$f":"VLOOKUP(B4&D4,'[1]점검현황(금월)'!$D$2:$AH$231,15,0)","v":"구"},{"$f":"VLOOKUP(B4&D4,'[1]점검현황(금월)'!$D$2:$AH$231,21,0)","v":"2014-04-07"},{"$f":"VLOOKUP(B4&D4,'[1]점검현황(금월)'!$D$7:$AH$231,24,0)","v":"2014-05-07"},{"$f":"VLOOKUP(B4&D4,'[1]점검현황(금월)'!$D$7:$AH$231,19,0)","v":313},{"$f":"VLOOKUP(B4&D4,'[1]점검현황(금월)'!$D$7:$AH$231,20,0)","v":"12:05:00"},{"$f":"VLOOKUP(B4&D4,'[1]점검현황(금월)'!$D$7:$AH$231,31,0)","v":521},{"$f":"VLOOKUP(B4&D4,'[1]점검현황(금월)'!$D$7:$AH$231,17,0)","v":303},{"$f":"VLOOKUP(B4&D4,'[1]점검현황(금월)'!$D$7:$AH$231,18,0)","v":"08:30:00"},{"$f":"VLOOKUP(B4&D4,'[1]점검현황(금월)'!$D$7:$AH$231,23,0)","v":"6,10,13"}]
[null,{"$f":"B4","v":"다산관"},2,"B106",{"$f":"VLOOKUP(B5&D5,'[1]점검현황(금월)'!$D$7:$AH$231,2,0)","v":"경영대"},{"$f":"VLOOKUP(B5&D5,'[1]점검현황(금월)'!$D$7:$AH$231,3,0)","v":"EX600"},{"$f":"VLOOKUP(B5&D5,'[1]점검현황(금월)'!$D$2:$AH$231,15,0)","v":"신"},"o",{"$f":"VLOOKUP(B5&D5,'[1]점검현황(금월)'!$D$7:$AH$231,24,0)","v":"2013-03-05"},{"$f":"VLOOKUP(B5&D5,'[1]점검현황(금월)'!$D$7:$AH$231,19,0)","v":327},{"$f":"VLOOKUP(B5&D5,'[1]점검현황(금월)'!$D$7:$AH$231,20,0)","v":"10:10:00"},{"$f":"VLOOKUP(B5&D5,'[1]점검현황(금월)'!$D$7:$AH$231,31,0)","v":518},{"$f":"VLOOKUP(B5&D5,'[1]점검현황(금월)'!$D$7:$AH$231,17,0)","v":303},{"$f":"VLOOKUP(B5&D5,'[1]점검현황(금월)'!$D$7:$AH$231,18,0)","v":"08:40:00"},{"$f":"VLOOKUP(B5&D5,'[1]점검현황(금월)'!$D$7:$AH$231,23,0)","v":"3,11,12,13,24,27"}]
[null,{"$f":"B5","v":"다산관"},3,"B107",{"$f":"VLOOKUP(B6&D6,'[1]점검현황(금월)'!$D$7:$AH$231,2,0)","v":"자동녹화"},{"$f":"VLOOKUP(B6&D6,'[1]점검현황(금월)'!$D$7:$AH$231,3,0)","v":"XT35K"},{"$f":"VLOOKUP(B6&D6,'[1]점검현황(금월)'!$D$2:$AH$231,15,0)","v":"e-ST"},{"$f":"VLOOKUP(B6&D6,'[1]점검현황(금월)'!$D$2:$AH$231,21,0)","v":"2014-04-07"},{"$f":"VLOOKUP(B6&D6,'[1]점검현황(금월)'!$D$7:$AH$231,24,0)","v":"2013-01-21"},{"$f":"VLOOKUP(B6&D6,'[1]점검현황(금월)'!$D$7:$AH$231,19,0)","v":320},{"$f":"VLOOKUP(B6&D6,'[1]점검현황(금월)'!$D$7:$AH$231,20,0)","v":"13:04:00"},{"$f":"VLOOKUP(B6&D6,'[1]점검현황(금월)'!$D$7:$AH$231,31,0)","v":941},{"$f":"VLOOKUP(B6&D6,'[1]점검현황(금월)'!$D$7:$AH$231,17,0)","v":303},{"$f":"VLOOKUP(B6&D6,'[1]점검현황(금월)'!$D$7:$AH$231,18,0)","v":"08:50:00"},{"$f":"VLOOKUP(B6&D6,'[1]점검현황(금월)'!$D$7:$AH$231,23,0)","v":"12,20"}]
[null,"다산관",4,"B108",{"$f":"VLOOKUP(B7&D7,'[1]점검현황(금월)'!$D$7:$AH$231,2,0)","v":"E-biz"},{"$f":"VLOOKUP(B7&D7,'[1]점검현황(금월)'!$D$7:$AH$231,3,0)","v":"EX600"},{"$f":"VLOOKUP(B7&D7,'[1]점검현황(금월)'!$D$2:$AH$231,15,0)","v":"구"},{"$f":"VLOOKUP(B7&D7,'[1]점검현황(금월)'!$D$2:$AH$231,21,0)","v":"2013-10-17"},{"$f":"VLOOKUP(B7&D7,'[1]점검현황(금월)'!$D$7:$AH$231,24,0)","v":"2013-03-05"},{"$f":"VLOOKUP(B7&D7,'[1]점검현황(금월)'!$D$7:$AH$231,19,0)","v":319},{"$f":"VLOOKUP(B7&D7,'[1]점검현황(금월)'!$D$7:$AH$231,20,0)","v":"13:20:00"},{"$f":"VLOOKUP(B7&D7,'[1]점검현황(금월)'!$D$7:$AH$231,31,0)","v":549},{"$f":"VLOOKUP(B7&D7,'[1]점검현황(금월)'!$D$7:$AH$231,17,0)","v":303},{"$f":"VLOOKUP(B7&D7,'[1]점검현황(금월)'!$D$7:$AH$231,18,0)","v":"19:00:00"},{"$f":"VLOOKUP(B7&D7,'[1]점검현황(금월)'!$D$7:$AH$231,23,0)","v":"2,9,12,19"}]
[null,"다산관",5,"B109",{"$f":"VLOOKUP(B8&D8,'[1]점검현황(금월)'!$D$7:$AH$231,2,0)","v":"멀티미디어"},{"$f":"VLOOKUP(B8&D8,'[1]점검현황(금월)'!$D$7:$AH$231,3,0)","v":"XU106K"},{"$f":"VLOOKUP(B8&D8,'[1]점검현황(금월)'!$D$2:$AH$231,15,0)","v":"구"},{"$f":"VLOOKUP(B8&D8,'[1]점검현황(금월)'!$D$2:$AH$231,21,0)","v":"2014-04-17"},{"$f":"VLOOKUP(B8&D8,'[1]점검현황(금월)'!$D$7:$AH$231,24,0)","v":"2013-11-26"},{"$f":"VLOOKUP(B8&D8,'[1]점검현황(금월)'!$D$7:$AH$231,19,0)","v":319},{"$f":"VLOOKUP(B8&D8,'[1]점검현황(금월)'!$D$7:$AH$231,20,0)","v":"19:10:00"},{"$f":"VLOOKUP(B8&D8,'[1]점검현황(금월)'!$D$7:$AH$231,31,0)","v":478},{"$f":"VLOOKUP(B8&D8,'[1]점검현황(금월)'!$D$7:$AH$231,17,0)","v":303},{"$f":"VLOOKUP(B8&D8,'[1]점검현황(금월)'!$D$7:$AH$231,18,0)","v":"19:10:00"},{"$f":"VLOOKUP(B8&D8,'[1]점검현황(금월)'!$D$7:$AH$231,23,0)","v":"19"}]
[null,"다산관",6,"B112",{"$f":"VLOOKUP(B9&D9,'[1]점검현황(금월)'!$D$7:$AH$231,2,0)","v":"대학원"},{"$f":"VLOOKUP(B9&D9,'[1]점검현황(금월)'!$D$7:$AH$231,3,0)","v":"XKB101K"},{"$f":"VLOOKUP(B9&D9,'[1]점검현황(금월)'!$D$2:$AH$231,15,0)","v":"구"},{"$f":"VLOOKUP(B9&D9,'[1]점검현황(금월)'!$D$2:$AH$231,21,0)","v":"·"},{"$f":"VLOOKUP(B9&D9,'[1]점검현황(금월)'!$D$7:$AH$231,24,0)","v":"·"},{"$f":"VLOOKUP(B9&D9,'[1]점검현황(금월)'!$D$7:$AH$231,19,0)","v":310},{"$f":"VLOOKUP(B9&D9,'[1]점검현황(금월)'!$D$7:$AH$231,20,0)","v":"19:30:00"},{"$f":"VLOOKUP(B9&D9,'[1]점검현황(금월)'!$D$7:$AH$231,31,0)","v":1156},{"$f":"VLOOKUP(B9&D9,'[1]점검현황(금월)'!$D$7:$AH$231,17,0)","v":303},{"$f":"VLOOKUP(B9&D9,'[1]점검현황(금월)'!$D$7:$AH$231,18,0)","v":"19:20:00"},{"$f":"VLOOKUP(B9&D9,'[1]점검현황(금월)'!$D$7:$AH$231,23,0)","v":"10"}]
[null,{"$f":"B8","v":"다산관"},7,"B115",{"$f":"VLOOKUP(B10&D10,'[1]점검현황(금월)'!$D$7:$AH$231,2,0)","v":"대학원"},{"$f":"VLOOKUP(B10&D10,'[1]점검현황(금월)'!$D$7:$AH$231,3,0)","v":"XT15KA"},{"$f":"VLOOKUP(B10&D10,'[1]점검현황(금월)'!$D$2:$AH$231,15,0)","v":"구"},{"$f":"VLOOKUP(B10&D10,'[1]점검현황(금월)'!$D$2:$AH$231,21,0)","v":"2014-03-07"},{"$f":"VLOOKUP(B10&D10,'[1]점검현황(금월)'!$D$7:$AH$231,24,0)","v":"2013-02-13"},{"$f":"VLOOKUP(B10&D10,'[1]점검현황(금월)'!$D$7:$AH$231,19,0)","v":303},{"$f":"VLOOKUP(B10&D10,'[1]점검현황(금월)'!$D$7:$AH$231,20,0)","v":"08:30:00"},{"$f":"VLOOKUP(B10&D10,'[1]점검현황(금월)'!$D$7:$AH$231,31,0)","v":796},{"$f":"VLOOKUP(B10&D10,'[1]점검현황(금월)'!$D$7:$AH$231,17,0)","v":303},{"$f":"VLOOKUP(B10&D10,'[1]점검현황(금월)'!$D$7:$AH$231,18,0)","v":"08:30:00"},{"$f":"VLOOKUP(B10&D10,'[1]점검현황(금월)'!$D$7:$AH$231,23,0)","v":"."}]
[null,"다산관",8,"B121",{"$f":"VLOOKUP(B11&D11,'[1]점검현황(금월)'!$D$7:$AH$231,2,0)","v":"대강당"},{"$f":"VLOOKUP(B11&D11,'[1]점검현황(금월)'!$D$7:$AH$231,3,0)","v":"XF40"},{"$f":"VLOOKUP(B11&D11,'[1]점검현황(금월)'!$D$2:$AH$231,15,0)","v":"신"},{"$f":"VLOOKUP(B11&D11,'[1]점검현황(금월)'!$D$2:$AH$231,21,0)","v":"2014-04-07"},{"$f":"VLOOKUP(B11&D11,'[1]점검현황(금월)'!$D$7:$AH$231,24,0)","v":"·"},{"$f":"VLOOKUP(B11&D11,'[1]점검현황(금월)'!$D$7:$AH$231,19,0)","v":327},{"$f":"VLOOKUP(B11&D11,'[1]점검현황(금월)'!$D$7:$AH$231,20,0)","v":"17:10:00"},{"$f":"VLOOKUP(B11&D11,'[1]점검현황(금월)'!$D$7:$AH$231,31,0)","v":601},{"$f":"VLOOKUP(B11&D11,'[1]점검현황(금월)'!$D$7:$AH$231,17,0)","v":303},{"$f":"VLOOKUP(B11&D11,'[1]점검현황(금월)'!$D$7:$AH$231,18,0)","v":"08:40:00"},{"$f":"VLOOKUP(B11&D11,'[1]점검현황(금월)'!$D$7:$AH$231,23,0)","v":"2(3),4,10(2),27"}]
[null,"다산관",9,105,{"$f":"VLOOKUP(B12&D12,'[1]점검현황(금월)'!$D$7:$AH$231,2,0)","v":"멀티미디어"},{"$f":"VLOOKUP(B12&D12,'[1]점검현황(금월)'!$D$7:$AH$231,3,0)","v":"XU106K"},{"$f":"VLOOKUP(B12&D12,'[1]점검현황(금월)'!$D$2:$AH$231,15,0)","v":"구"},{"$f":"VLOOKUP(B12&D12,'[1]점검현황(금월)'!$D$2:$AH$231,21,0)","v":"2015-02-28"},{"$f":"VLOOKUP(B12&D12,'[1]점검현황(금월)'!$D$7:$AH$231,24,0)","v":"2015-03-26"},{"$f":"VLOOKUP(B12&D12,'[1]점검현황(금월)'!$D$7:$AH$231,19,0)","v":326},{"$f":"VLOOKUP(B12&D12,'[1]점검현황(금월)'!$D$7:$AH$231,20,0)","v":"14:50:00"},{"$f":"VLOOKUP(B12&D12,'[1]점검현황(금월)'!$D$7:$AH$231,31,0)","v":1080},{"$f":"VLOOKUP(B12&D12,'[1]점검현황(금월)'!$D$7:$AH$231,17,0)","v":303},{"$f":"VLOOKUP(B12&D12,'[1]점검현황(금월)'!$D$7:$AH$231,18,0)","v":"08:50:00"},{"$f":"VLOOKUP(B12&D12,'[1]점검현황(금월)'!$D$7:$AH$231,23,0)","v":"."}]
[null,"다산관",10,106,{"$f":"VLOOKUP(B13&D13,'[1]점검현황(금월)'!$D$7:$AH$231,2,0)","v":"불어불문"},{"$f":"VLOOKUP(B13&D13,'[1]점검현황(금월)'!$D$7:$AH$231,3,0)","v":"XU106K"},{"$f":"VLOOKUP(B13&D13,'[1]점검현황(금월)'!$D$2:$AH$231,15,0)","v":"구"},{"$f":"VLOOKUP(B13&D13,'[1]점검현황(금월)'!$D$2:$AH$231,21,0)","v":"·"},{"$f":"VLOOKUP(B13&D13,'[1]점검현황(금월)'!$D$7:$AH$231,24,0)","v":"·"},{"$f":"VLOOKUP(B13&D13,'[1]점검현황(금월)'!$D$7:$AH$231,19,0)","v":303},{"$f":"VLOOKUP(B13&D13,'[1]점검현황(금월)'!$D$7:$AH$231,20,0)","v":"19:00:00"},{"$f":"VLOOKUP(B13&D13,'[1]점검현황(금월)'!$D$7:$AH$231,31,0)","v":894},{"$f":"VLOOKUP(B13&D13,'[1]점검현황(금월)'!$D$7:$AH$231,17,0)","v":303},{"$f":"VLOOKUP(B13&D13,'[1]점검현황(금월)'!$D$7:$AH$231,18,0)","v":"19:00:00"},{"$f":"VLOOKUP(B13&D13,'[1]점검현황(금월)'!$D$7:$AH$231,23,0)","v":"."}]
[null,"다산관",11,107,{"$f":"VLOOKUP(B14&D14,'[1]점검현황(금월)'!$D$7:$AH$231,2,0)","v":"국어국문"},{"$f":"VLOOKUP(B14&D14,'[1]점검현황(금월)'!$D$7:$AH$231,3,0)","v":"XU106K"},{"$f":"VLOOKUP(B14&D14,'[1]점검현황(금월)'!$D$2:$AH$231,15,0)","v":"구"},{"$f":"VLOOKUP(B14&D14,'[1]점검현황(금월)'!$D$2:$AH$231,21,0)","v":"2014-07-10"},{"$f":"VLOOKUP(B14&D14,'[1]점검현황(금월)'!$D$7:$AH$231,24,0)","v":"·"},{"$f":"VLOOKUP(B14&D14,'[1]점검현황(금월)'!$D$7:$AH$231,19,0)","v":324},{"$f":"VLOOKUP(B14&D14,'[1]점검현황(금월)'!$D$7:$AH$231,20,0)","v":"16:10:00"},{"$f":"VLOOKUP(B14&D14,'[1]점검현황(금월)'!$D$7:$AH$231,31,0)","v":453},{"$f":"VLOOKUP(B14&D14,'[1]점검현황(금월)'!$D$7:$AH$231,17,0)","v":303},{"$f":"VLOOKUP(B14&D14,'[1]점검현황(금월)'!$D$7:$AH$231,18,0)","v":"19:10:00"},{"$f":"VLOOKUP(B14&D14,'[1]점검현황(금월)'!$D$7:$AH$231,23,0)","v":"24"}]
[null,"다산관",12,108,{"$f":"VLOOKUP(B15&D15,'[1]점검현황(금월)'!$D$7:$AH$231,2,0)","v":"사학과"},{"$f":"VLOOKUP(B15&D15,'[1]점검현황(금월)'!$D$7:$AH$231,3,0)","v":"XU106K"},{"$f":"VLOOKUP(B15&D15,'[1]점검현황(금월)'!$D$2:$AH$231,15,0)","v":"구"},{"$f":"VLOOKUP(B15&D15,'[1]점검현황(금월)'!$D$2:$AH$231,21,0)","v":"2013-10-14"},{"$f":"VLOOKUP(B15&D15,'[1]점검현황(금월)'!$D$7:$AH$231,24,0)","v":"·"},{"$f":"VLOOKUP(B15&D15,'[1]점검현황(금월)'!$D$7:$AH$231,19,0)","v":317},{"$f":"VLOOKUP(B15&D15,'[1]점검현황(금월)'!$D$7:$AH$231,20,0)","v":"19:20:00"},{"$f":"VLOOKUP(B15&D15,'[1]점검현황(금월)'!$D$7:$AH$231,31,0)","v":912},{"$f":"VLOOKUP(B15&D15,'[1]점검현황(금월)'!$D$7:$AH$231,17,0)","v":303},{"$f":"VLOOKUP(B15&D15,'[1]점검현황(금월)'!$D$7:$AH$231,18,0)","v":"19:20:00"},{"$f":"VLOOKUP(B15&D15,'[1]점검현황(금월)'!$D$7:$AH$231,23,0)","v":"17"}]
[null,"다산관",13,109,{"$f":"VLOOKUP(B16&D16,'[1]점검현황(금월)'!$D$7:$AH$231,2,0)","v":"멀티미디어"},{"$f":"VLOOKUP(B16&D16,'[1]점검현황(금월)'!$D$7:$AH$231,3,0)","v":"XU106K"},{"$f":"VLOOKUP(B16&D16,'[1]점검현황(금월)'!$D$2:$AH$231,15,0)","v":"구"},{"$f":"VLOOKUP(B16&D16,'[1]점검현황(금월)'!$D$2:$AH$231,21,0)","v":"2015-02-28"},{"$f":"VLOOKUP(B16&D16,'[1]점검현황(금월)'!$D$7:$AH$231,24,0)","v":"2013-07-18"},{"$f":"VLOOKUP(B16&D16,'[1]점검현황(금월)'!$D$7:$AH$231,19,0)","v":324},{"$f":"VLOOKUP(B16&D16,'[1]점검현황(금월)'!$D$7:$AH$231,20,0)","v":"20:05:00"},{"$f":"VLOOKUP(B16&D16,'[1]점검현황(금월)'!$D$7:$AH$231,31,0)","v":1408},{"$f":"VLOOKUP(B16&D16,'[1]점검현황(금월)'!$D$7:$AH$231,17,0)","v":305},{"$f":"VLOOKUP(B16&D16,'[1]점검현황(금월)'!$D$7:$AH$231,18,0)","v":"08:30:00"},{"$f":"VLOOKUP(B16&D16,'[1]점검현황(금월)'!$D$7:$AH$231,23,0)","v":"5(2),10(2),24"}]
[null,"다산관",14,110,{"$f":"VLOOKUP(B17&D17,'[1]점검현황(금월)'!$D$7:$AH$231,2,0)","v":"대학원"},{"$f":"VLOOKUP(B17&D17,'[1]점검현황(금월)'!$D$7:$AH$231,3,0)","v":"XU106K"},{"$f":"VLOOKUP(B17&D17,'[1]점검현황(금월)'!$D$2:$AH$231,15,0)","v":"구"},{"$f":"VLOOKUP(B17&D17,'[1]점검현황(금월)'!$D$2:$AH$231,21,0)","v":"2010-11-02"},{"$f":"VLOOKUP(B17&D17,'[1]점검현황(금월)'!$D$7:$AH$231,24,0)","v":"2013-02-13"},{"$f":"VLOOKUP(B17&D17,'[1]점검현황(금월)'!$D$7:$AH$231,19,0)","v":306},{"$f":"VLOOKUP(B17&D17,'[1]점검현황(금월)'!$D$7:$AH$231,20,0)","v":"08:40:00"},{"$f":"VLOOKUP(B17&D17,'[1]점검현황(금월)'!$D$7:$AH$231,31,0)","v":2316},{"$f":"VLOOKUP(B17&D17,'[1]점검현황(금월)'!$D$7:$AH$231,17,0)","v":305},{"$f":"VLOOKUP(B17&D17,'[1]점검현황(금월)'!$D$7:$AH$231,18,0)","v":"08:40:00"},{"$f":"VLOOKUP(B17&D17,'[1]점검현황(금월)'!$D$7:$AH$231,23,0)","v":"2,6"}]
[null,"다산관",15,111,{"$f":"VLOOKUP(B18&D18,'[1]점검현황(금월)'!$D$7:$AH$231,2,0)","v":"자동녹화"},{"$f":"VLOOKUP(B18&D18,'[1]점검현황(금월)'!$D$7:$AH$231,3,0)","v":"EX600"},{"$f":"VLOOKUP(B18&D18,'[1]점검현황(금월)'!$D$2:$AH$231,15,0)","v":"e-ST"},{"$f":"VLOOKUP(B18&D18,'[1]점검현황(금월)'!$D$2:$AH$231,21,0)","v":"2014-04-07"},{"$f":"VLOOKUP(B18&D18,'[1]점검현황(금월)'!$D$7:$AH$231,24,0)","v":"2013-10-22"},{"$f":"VLOOKUP(B18&D18,'[1]점검현황(금월)'!$D$7:$AH$231,19,0)","v":305},{"$f":"VLOOKUP(B18&D18,'[1]점검현황(금월)'!$D$7:$AH$231,20,0)","v":"08:50:00"},{"$f":"VLOOKUP(B18&D18,'[1]점검현황(금월)'!$D$7:$AH$231,31,0)","v":435},{"$f":"VLOOKUP(B18&D18,'[1]점검현황(금월)'!$D$7:$AH$231,17,0)","v":305},{"$f":"VLOOKUP(B18&D18,'[1]점검현황(금월)'!$D$7:$AH$231,18,0)","v":"08:50:00"},{"$f":"VLOOKUP(B18&D18,'[1]점검현황(금월)'!$D$7:$AH$231,23,0)","v":"2"}]
[null,"다산관",16,115,{"$f":"VLOOKUP(B19&D19,'[1]점검현황(금월)'!$D$7:$AH$231,2,0)","v":"멀티미디어"},{"$f":"VLOOKUP(B19&D19,'[1]점검현황(금월)'!$D$7:$AH$231,3,0)","v":"XU106K"},{"$f":"VLOOKUP(B19&D19,'[1]점검현황(금월)'!$D$2:$AH$231,15,0)","v":"구"},{"$f":"VLOOKUP(B19&D19,'[1]점검현황(금월)'!$D$2:$AH$231,21,0)","v":"2014-04-11"},{"$f":"VLOOKUP(B19&D19,'[1]점검현황(금월)'!$D$7:$AH$231,24,0)","v":"2013-12-07"},{"$f":"VLOOKUP(B19&D19,'[1]점검현황(금월)'!$D$7:$AH$231,19,0)","v":320},{"$f":"VLOOKUP(B19&D19,'[1]점검현황(금월)'!$D$7:$AH$231,20,0)","v":"17:42:00"},{"$f":"VLOOKUP(B19&D19,'[1]점검현황(금월)'!$D$7:$AH$231,31,0)","v":1315},{"$f":"VLOOKUP(B19&D19,'[1]점검현황(금월)'!$D$7:$AH$231,17,0)","v":305},{"$f":"VLOOKUP(B19&D19,'[1]점검현황(금월)'!$D$7:$AH$231,18,0)","v":"19:00:00"},{"$f":"VLOOKUP(B19&D19,'[1]점검현황(금월)'!$D$7:$AH$231,23,0)","v":"3,9,20"}]
[null,"다산관",17,"205A",{"$f":"VLOOKUP(B20&D20,'[1]점검현황(금월)'!$D$7:$AH$231,2,0)","v":"인문대 (PC실)"},{"$f":"VLOOKUP(B20&D20,'[1]점검현황(금월)'!$D$7:$AH$231,3,0)","v":"EX500"},{"$f":"VLOOKUP(B20&D20,'[1]점검현황(금월)'!$D$2:$AH$231,15,0)","v":"e-ST"},{"$f":"VLOOKUP(B20&D20,'[1]점검현황(금월)'!$D$2:$AH$231,21,0)","v":"·"},{"$f":"VLOOKUP(B20&D20,'[1]점검현황(금월)'!$D$7:$AH$231,24,0)","v":"·"},{"$f":"VLOOKUP(B20&D20,'[1]점검현황(금월)'!$D$7:$AH$231,19,0)","v":305},{"$f":"VLOOKUP(B20&D20,'[1]점검현황(금월)'!$D$7:$AH$231,20,0)","v":"19:10:00"},{"$f":"VLOOKUP(B20&D20,'[1]점검현황(금월)'!$D$7:$AH$231,31,0)","v":1014},{"$f":"VLOOKUP(B20&D20,'[1]점검현황(금월)'!$D$7:$AH$231,17,0)","v":305},{"$f":"VLOOKUP(B20&D20,'[1]점검현황(금월)'!$D$7:$AH$231,18,0)","v":"19:10:00"},{"$f":"VLOOKUP(B20&D20,'[1]점검현황(금월)'!$D$7:$AH$231,23,0)","v":"."}]
[null,"다산관",18,"205B",{"$f":"VLOOKUP(B21&D21,'[1]점검현황(금월)'!$D$7:$AH$231,2,0)","v":"인문대 (자동녹화)"},{"$f":"VLOOKUP(B21&D21,'[1]점검현황(금월)'!$D$7:$AH$231,3,0)","v":"XT35K"},{"$f":"VLOOKUP(B21&D21,'[1]점검현황(금월)'!$D$2:$AH$231,15,0)","v":"e-ST"},{"$f":"VLOOKUP(B21&D21,'[1]점검현황(금월)'!$D$2:$AH$231,21,0)","v":"2013-11-06"},{"$f":"VLOOKUP(B21&D21,'[1]점검현황(금월)'!$D$7:$AH$231,24,0)","v":"·"},{"$f":"VLOOKUP(B21&D21,'[1]점검현황(금월)'!$D$7:$AH$231,19,0)","v":326},{"$f":"VLOOKUP(B21&D21,'[1]점검현황(금월)'!$D$7:$AH$231,20,0)","v":"15:41:00"},{"$f":"VLOOKUP(B21&D21,'[1]점검현황(금월)'!$D$7:$AH$231,31,0)","v":1050},{"$f":"VLOOKUP(B21&D21,'[1]점검현황(금월)'!$D$7:$AH$231,17,0)","v":305},"19:30:00",{"$f":"VLOOKUP(B21&D21,'[1]점검현황(금월)'!$D$7:$AH$231,23,0)","v":"10,20,26"}]
[null,"다산관",19,307,"경영대(PC실)","VX-510","구",".",".",{"$f":"VLOOKUP(B22&D22,'[1]점검현황(금월)'!$D$7:$AH$231,19,0)","v":305},{"$f":"VLOOKUP(B22&D22,'[1]점검현황(금월)'!$D$7:$AH$231,20,0)","v":"19:30:00"},{"$f":"VLOOKUP(B22&D22,'[1]점검현황(금월)'!$D$7:$AH$231,31,0)","v":80},{"$f":"VLOOKUP(B22&D22,'[1]점검현황(금월)'!$D$7:$AH$231,17,0)","v":305},"20:30:00","."]
[null,{"$f":"B21","v":"다산관"},20,308,{"$f":"VLOOKUP(B23&D23,'[1]점검현황(금월)'!$D$7:$AH$231,2,0)","v":"경영대 (PC실)"},{"$f":"VLOOKUP(B23&D23,'[1]점검현황(금월)'!$D$7:$AH$231,3,0)","v":"VX510"},{"$f":"VLOOKUP(B23&D23,'[1]점검현황(금월)'!$D$2:$AH$231,15,0)","v":"e-ST"},{"$f":"VLOOKUP(B23&D23,'[1]점검현황(금월)'!$D$2:$AH$231,21,0)","v":"2013-05-16"},{"$f":"VLOOKUP(B23&D23,'[1]점검현황(금월)'!$D$7:$AH$231,24,0)","v":"·"},{"$f":"VLOOKUP(B23&D23,'[1]점검현황(금월)'!$D$7:$AH$231,19,0)","v":305},{"$f":"VLOOKUP(B23&D23,'[1]점검현황(금월)'!$D$7:$AH$231,20,0)","v":"08:30:00"},{"$f":"VLOOKUP(B23&D23,'[1]점검현황(금월)'!$D$7:$AH$231,31,0)","v":116},{"$f":"VLOOKUP(B23&D23,'[1]점검현황(금월)'!$D$7:$AH$231,17,0)","v":305},{"$f":"VLOOKUP(B23&D23,'[1]점검현황(금월)'!$D$7:$AH$231,18,0)","v":"08:30:00"},{"$f":"VLOOKUP(B23&D23,'[1]점검현황(금월)'!$D$7:$AH$231,23,0)","v":"2"}]
[null,"다산관",21,309,{"$f":"VLOOKUP(B24&D24,'[1]점검현황(금월)'!$D$7:$AH$231,2,0)","v":"경영대대학원"},{"$f":"VLOOKUP(B24&D24,'[1]점검현황(금월)'!$D$7:$AH$231,3,0)","v":"EX500E"},{"$f":"VLOOKUP(B24&D24,'[1]점검현황(금월)'!$D$2:$AH$231,15,0)","v":"e-ST"},{"$f":"VLOOKUP(B24&D24,'[1]점검현황(금월)'!$D$2:$AH$231,21,0)","v":"·"},{"$f":"VLOOKUP(B24&D24,'[1]점검현황(금월)'!$D$7:$AH$231,24,0)","v":"·"},{"$f":"VLOOKUP(B24&D24,'[1]점검현황(금월)'!$D$7:$AH$231,19,0)","v":305},{"$f":"VLOOKUP(B24&D24,'[1]점검현황(금월)'!$D$7:$AH$231,20,0)","v":"08:40:00"},{"$f":"VLOOKUP(B24&D24,'[1]점검현황(금월)'!$D$7:$AH$231,31,0)","v":760},{"$f":"VLOOKUP(B24&D24,'[1]점검현황(금월)'!$D$7:$AH$231,17,0)","v":305},{"$f":"VLOOKUP(B24&D24,'[1]점검현황(금월)'!$D$7:$AH$231,18,0)","v":"08:40:00"},{"$f":"VLOOKUP(B24&D24,'[1]점검현황(금월)'!$D$7:$AH$231,23,0)","v":"2"}]
[null,"다산관",22,310,{"$f":"VLOOKUP(B25&D25,'[1]점검현황(금월)'!$D$7:$AH$231,2,0)","v":"경영대대학원"},{"$f":"VLOOKUP(B25&D25,'[1]점검현황(금월)'!$D$7:$AH$231,3,0)","v":"VX410/VX410"},{"$f":"VLOOKUP(B25&D25,'[1]점검현황(금월)'!$D$2:$AH$231,15,0)","v":"e-ST"},{"$f":"VLOOKUP(B25&D25,'[1]점검현황(금월)'!$D$2:$AH$231,21,0)","v":"2013-04-15/2013-08-06"},{"$f":"VLOOKUP(B25&D25,'[1]점검현황(금월)'!$D$7:$AH$231,24,0)","v":"·"},{"$f":"VLOOKUP(B25&D25,'[1]점검현황(금월)'!$D$7:$AH$231,19,0)","v":317},{"$f":"VLOOKUP(B25&D25,'[1]점검현황(금월)'!$D$7:$AH$231,20,0)","v":"08:50:00"},{"$f":"VLOOKUP(B25&D25,'[1]점검현황(금월)'!$D$7:$AH$231,31,0)","v":"74/158"},{"$f":"VLOOKUP(B25&D25,'[1]점검현황(금월)'!$D$7:$AH$231,17,0)","v":305},{"$f":"VLOOKUP(B25&D25,'[1]점검현황(금월)'!$D$7:$AH$231,18,0)","v":"08:50:00"},{"$f":"VLOOKUP(B25&D25,'[1]점검현황(금월)'!$D$7:$AH$231,23,0)","v":"17"}]
[null,"다산관",23,311,{"$f":"VLOOKUP(B26&D26,'[1]점검현황(금월)'!$D$7:$AH$231,2,0)","v":"경영대대학원"},{"$f":"VLOOKUP(B26&D26,'[1]점검현황(금월)'!$D$7:$AH$231,3,0)","v":"VX410/VX400"},{"$f":"VLOOKUP(B26&D26,'[1]점검현황(금월)'!$D$2:$AH$231,15,0)","v":"e-ST"},{"$f":"VLOOKUP(B26&D26,'[1]점검현황(금월)'!$D$2:$AH$231,21,0)","v":"2013-12-3/   ·"},{"$f":"VLOOKUP(B26&D26,'[1]점검현황(금월)'!$D$7:$AH$231,24,0)","v":"·"},{"$f":"VLOOKUP(B26&D26,'[1]점검현황(금월)'!$D$7:$AH$231,19,0)","v":305},{"$f":"VLOOKUP(B26&D26,'[1]점검현황(금월)'!$D$7:$AH$231,20,0)","v":"19:00:00"},{"$f":"VLOOKUP(B26&D26,'[1]점검현황(금월)'!$D$7:$AH$231,31,0)","v":"14/1496"},{"$f":"VLOOKUP(B26&D26,'[1]점검현황(금월)'!$D$7:$AH$231,17,0)","v":305},{"$f":"VLOOKUP(B26&D26,'[1]점검현황(금월)'!$D$7:$AH$231,18,0)","v":"19:00:00"},{"$f":"VLOOKUP(B26&D26,'[1]점검현황(금월)'!$D$7:$AH$231,23,0)","v":"3"}]
[null,"다산관",24,406,{"$f":"VLOOKUP(B27&D27,'[1]점검현황(금월)'!$D$7:$AH$231,2,0)","v":"경영대대학원"},{"$f":"VLOOKUP(B27&D27,'[1]점검현황(금월)'!$D$7:$AH$231,3,0)","v":"XU106K"},{"$f":"VLOOKUP(B27&D27,'[1]점검현황(금월)'!$D$2:$AH$231,15,0)","v":"e-ST"},{"$f":"VLOOKUP(B27&D27,'[1]점검현황(금월)'!$D$2:$AH$231,21,0)","v":"·"},{"$f":"VLOOKUP(B27&D27,'[1]점검현황(금월)'!$D$7:$AH$231,24,0)","v":"·"},{"$f":"VLOOKUP(B27&D27,'[1]점검현황(금월)'!$D$7:$AH$231,19,0)","v":305},{"$f":"VLOOKUP(B27&D27,'[1]점검현황(금월)'!$D$7:$AH$231,20,0)","v":"19:10:00"},{"$f":"VLOOKUP(B27&D27,'[1]점검현황(금월)'!$D$7:$AH$231,31,0)","v":545},{"$f":"VLOOKUP(B27&D27,'[1]점검현황(금월)'!$D$7:$AH$231,17,0)","v":305},{"$f":"VLOOKUP(B27&D27,'[1]점검현황(금월)'!$D$7:$AH$231,18,0)","v":"19:10:00"},{"$f":"VLOOKUP(B27&D27,'[1]점검현황(금월)'!$D$7:$AH$231,23,0)","v":"."}]
[null,"다산관",25,505,{"$f":"VLOOKUP(B28&D28,'[1]점검현황(금월)'!$D$7:$AH$231,2,0)","v":"대학원"},{"$f":"VLOOKUP(B28&D28,'[1]점검현황(금월)'!$D$7:$AH$231,3,0)","v":"XU301K"},{"$f":"VLOOKUP(B28&D28,'[1]점검현황(금월)'!$D$2:$AH$231,15,0)","v":"구"},{"$f":"VLOOKUP(B28&D28,'[1]점검현황(금월)'!$D$2:$AH$231,21,0)","v":"2011-03-29"},{"$f":"VLOOKUP(B28&D28,'[1]점검현황(금월)'!$D$7:$AH$231,24,0)","v":"2013-07-15"},{"$f":"VLOOKUP(B28&D28,'[1]점검현황(금월)'!$D$7:$AH$231,19,0)","v":306},{"$f":"VLOOKUP(B28&D28,'[1]점검현황(금월)'!$D$7:$AH$231,20,0)","v":"19:20:00"},{"$f":"VLOOKUP(B28&D28,'[1]점검현황(금월)'!$D$7:$AH$231,31,0)","v":2879},{"$f":"VLOOKUP(B28&D28,'[1]점검현황(금월)'!$D$7:$AH$231,17,0)","v":306},{"$f":"VLOOKUP(B28&D28,'[1]점검현황(금월)'!$D$7:$AH$231,18,0)","v":"19:20:00"},{"$f":"VLOOKUP(B28&D28,'[1]점검현황(금월)'!$D$7:$AH$231,23,0)","v":"."}]
[null,"다산관",26,506,{"$f":"VLOOKUP(B29&D29,'[1]점검현황(금월)'!$D$7:$AH$231,2,0)","v":"멀티미디어"},{"$f":"VLOOKUP(B29&D29,'[1]점검현황(금월)'!$D$7:$AH$231,3,0)","v":"VX106K"},{"$f":"VLOOKUP(B29&D29,'[1]점검현황(금월)'!$D$2:$AH$231,15,0)","v":"구"},{"$f":"VLOOKUP(B29&D29,'[1]점검현황(금월)'!$D$2:$AH$231,21,0)","v":"2014-03-03"},{"$f":"VLOOKUP(B29&D29,'[1]점검현황(금월)'!$D$7:$AH$231,24,0)","v":"2013-06-20"},{"$f":"VLOOKUP(B29&D29,'[1]점검현황(금월)'!$D$7:$AH$231,19,0)","v":320},{"$f":"VLOOKUP(B29&D29,'[1]점검현황(금월)'!$D$7:$AH$231,20,0)","v":"08:30:00"},{"$f":"VLOOKUP(B29&D29,'[1]점검현황(금월)'!$D$7:$AH$231,31,0)","v":903},{"$f":"VLOOKUP(B29&D29,'[1]점검현황(금월)'!$D$7:$AH$231,17,0)","v":306},{"$f":"VLOOKUP(B29&D29,'[1]점검현황(금월)'!$D$7:$AH$231,18,0)","v":"09:00:00"},{"$f":"VLOOKUP(B29&D29,'[1]점검현황(금월)'!$D$7:$AH$231,23,0)","v":"20"}]
[null,"다산관",27,507,{"$f":"VLOOKUP(B30&D30,'[1]점검현황(금월)'!$D$7:$AH$231,2,0)","v":"자동녹화"},{"$f":"VLOOKUP(B30&D30,'[1]점검현황(금월)'!$D$7:$AH$231,3,0)","v":"XT35K"},{"$f":"VLOOKUP(B30&D30,'[1]점검현황(금월)'!$D$2:$AH$231,15,0)","v":"e-ST"},{"$f":"VLOOKUP(B30&D30,'[1]점검현황(금월)'!$D$2:$AH$231,21,0)","v":"2014-04-07"},{"$f":"VLOOKUP(B30&D30,'[1]점검현황(금월)'!$D$7:$AH$231,24,0)","v":"2014-04-29"},{"$f":"VLOOKUP(B30&D30,'[1]점검현황(금월)'!$D$7:$AH$231,19,0)","v":326},{"$f":"VLOOKUP(B30&D30,'[1]점검현황(금월)'!$D$7:$AH$231,20,0)","v":"14:40:00"},{"$f":"VLOOKUP(B30&D30,'[1]점검현황(금월)'!$D$7:$AH$231,31,0)","v":781},{"$f":"VLOOKUP(B30&D30,'[1]점검현황(금월)'!$D$7:$AH$231,17,0)","v":306},{"$f":"VLOOKUP(B30&D30,'[1]점검현황(금월)'!$D$7:$AH$231,18,0)","v":"09:10:00"},{"$f":"VLOOKUP(B30&D30,'[1]점검현황(금월)'!$D$7:$AH$231,23,0)","v":"26"}]
["율곡관","율곡관",1,150,{"$f":"VLOOKUP(B31&D31,'[1]점검현황(금월)'!$D$7:$AH$231,2,0)","v":"대강당"},{"$f":"VLOOKUP(B31&D31,'[1]점검현황(금월)'!$D$7:$AH$231,3,0)","v":"XF47"},{"$f":"VLOOKUP(B31&D31,'[1]점검현황(금월)'!$D$2:$AH$231,15,0)","v":"구"},{"$f":"VLOOKUP(B31&D31,'[1]점검현황(금월)'!$D$2:$AH$231,21,0)","v":"2013-05-24"},{"$f":"VLOOKUP(B31&D31,'[1]점검현황(금월)'!$D$7:$AH$231,24,0)","v":"·"},{"$f":"VLOOKUP(B31&D31,'[1]점검현황(금월)'!$D$7:$AH$231,19,0)","v":306},{"$f":"VLOOKUP(B31&D31,'[1]점검현황(금월)'!$D$7:$AH$231,20,0)","v":"13:30:00"},{"$f":"VLOOKUP(B31&D31,'[1]점검현황(금월)'!$D$7:$AH$231,31,0)","v":"963/1278/1278/963"},{"$f":"VLOOKUP(B31&D31,'[1]점검현황(금월)'!$D$7:$AH$231,17,0)","v":306},{"$f":"VLOOKUP(B31&D31,'[1]점검현황(금월)'!$D$7:$AH$231,18,0)","v":"09:20:00"},{"$f":"VLOOKUP(B31&D31,'[1]점검현황(금월)'!$D$7:$AH$231,23,0)","v":"3,6"}]
[null,"율곡관",2,151,{"$f":"VLOOKUP(B32&D32,'[1]점검현황(금월)'!$D$7:$AH$231,2,0)","v":"영상회의실"},{"$f":"VLOOKUP(B32&D32,'[1]점검현황(금월)'!$D$7:$AH$231,3,0)","v":"EX500"},{"$f":"VLOOKUP(B32&D32,'[1]점검현황(금월)'!$D$2:$AH$231,15,0)","v":"자체"},{"$f":"VLOOKUP(B32&D32,'[1]점검현황(금월)'!$D$2:$AH$231,21,0)","v":"2013-07-22"},{"$f":"VLOOKUP(B32&D32,'[1]점검현황(금월)'!$D$7:$AH$231,24,0)","v":"2013-02-28"},{"$f":"VLOOKUP(B32&D32,'[1]점검현황(금월)'!$D$7:$AH$231,19,0)","v":324},{"$f":"VLOOKUP(B32&D32,'[1]점검현황(금월)'!$D$7:$AH$231,20,0)","v":"18:20:00"},{"$f":"VLOOKUP(B32&D32,'[1]점검현황(금월)'!$D$7:$AH$231,31,0)","v":956},{"$f":"VLOOKUP(B32&D32,'[1]점검현황(금월)'!$D$7:$AH$231,17,0)","v":306},{"$f":"VLOOKUP(B32&D32,'[1]점검현황(금월)'!$D$7:$AH$231,18,0)","v":"09:30:00"},{"$f":"VLOOKUP(B32&D32,'[1]점검현황(금월)'!$D$7:$AH$231,23,0)","v":"10,24"}]
[null,"율곡관",3,153,{"$f":"VLOOKUP(B33&D33,'[1]점검현황(금월)'!$D$7:$AH$231,2,0)","v":"글로벌라운지 국제협력팀"},{"$f":"VLOOKUP(B33&D33,'[1]점검현황(금월)'!$D$7:$AH$231,3,0)","v":"XU106K"},{"$f":"VLOOKUP(B33&D33,'[1]점검현황(금월)'!$D$2:$AH$231,15,0)","v":"e-ST"},{"$f":"VLOOKUP(B33&D33,'[1]점검현황(금월)'!$D$2:$AH$231,21,0)","v":"2011-04-18"},{"$f":"VLOOKUP(B33&D33,'[1]점검현황(금월)'!$D$7:$AH$231,24,0)","v":"2012-08-31"},{"$f":"VLOOKUP(B33&D33,'[1]점검현황(금월)'!$D$7:$AH$231,19,0)","v":306},{"$f":"VLOOKUP(B33&D33,'[1]점검현황(금월)'!$D$7:$AH$231,20,0)","v":"14:10:00"},{"$f":"VLOOKUP(B33&D33,'[1]점검현황(금월)'!$D$7:$AH$231,31,0)","v":846},{"$f":"VLOOKUP(B33&D33,'[1]점검현황(금월)'!$D$7:$AH$231,17,0)","v":306},{"$f":"VLOOKUP(B33&D33,'[1]점검현황(금월)'!$D$7:$AH$231,18,0)","v":"09:40:00"},{"$f":"VLOOKUP(B33&D33,'[1]점검현황(금월)'!$D$7:$AH$231,23,0)","v":"."}]
[null,"율곡관",4,154,{"$f":"VLOOKUP(B34&D34,'[1]점검현황(금월)'!$D$7:$AH$231,2,0)","v":"멀티미디어 국제대학원"},{"$f":"VLOOKUP(B34&D34,'[1]점검현황(금월)'!$D$7:$AH$231,3,0)","v":"XT35K"},{"$f":"VLOOKUP(B34&D34,'[1]점검현황(금월)'!$D$2:$AH$231,15,0)","v":"e-ST"},{"$f":"VLOOKUP(B34&D34,'[1]점검현황(금월)'!$D$2:$AH$231,21,0)","v":"2014-05-09"},{"$f":"VLOOKUP(B34&D34,'[1]점검현황(금월)'!$D$7:$AH$231,24,0)","v":"2014-05-09"},{"$f":"VLOOKUP(B34&D34,'[1]점검현황(금월)'!$D$7:$AH$231,19,0)","v":324},{"$f":"VLOOKUP(B34&D34,'[1]점검현황(금월)'!$D$7:$AH$231,20,0)","v":"14:30:00"},{"$f":"VLOOKUP(B34&D34,'[1]점검현황(금월)'!$D$7:$AH$231,31,0)","v":875},{"$f":"VLOOKUP(B34&D34,'[1]점검현황(금월)'!$D$7:$AH$231,17,0)","v":307},{"$f":"VLOOKUP(B34&D34,'[1]점검현황(금월)'!$D$7:$AH$231,18,0)","v":"09:50:00"},{"$f":"VLOOKUP(B34&D34,'[1]점검현황(금월)'!$D$7:$AH$231,23,0)","v":"24"}]
[null,"율곡관",5,157,{"$f":"VLOOKUP(B35&D35,'[1]점검현황(금월)'!$D$7:$AH$231,2,0)","v":"사회대 (PC실)"},{"$f":"VLOOKUP(B35&D35,'[1]점검현황(금월)'!$D$7:$AH$231,3,0)","v":"XU106K"},{"$f":"VLOOKUP(B35&D35,'[1]점검현황(금월)'!$D$2:$AH$231,15,0)","v":"e-ST"},{"$f":"VLOOKUP(B35&D35,'[1]점검현황(금월)'!$D$2:$AH$231,21,0)","v":"·"},{"$f":"VLOOKUP(B35&D35,'[1]점검현황(금월)'!$D$7:$AH$231,24,0)","v":"·"},{"$f":"VLOOKUP(B35&D35,'[1]점검현황(금월)'!$D$7:$AH$231,19,0)","v":307},{"$f":"VLOOKUP(B35&D35,'[1]점검현황(금월)'!$D$7:$AH$231,20,0)","v":"09:00:00"},{"$f":"VLOOKUP(B35&D35,'[1]점검현황(금월)'!$D$7:$AH$231,31,0)","v":666},{"$f":"VLOOKUP(B35&D35,'[1]점검현황(금월)'!$D$7:$AH$231,17,0)","v":307},{"$f":"VLOOKUP(B35&D35,'[1]점검현황(금월)'!$D$7:$AH$231,18,0)","v":"10:00:00"},{"$f":"VLOOKUP(B35&D35,'[1]점검현황(금월)'!$D$7:$AH$231,23,0)","v":"4"}]
[null,"율곡관",6,204,{"$f":"VLOOKUP(B36&D36,'[1]점검현황(금월)'!$D$7:$AH$231,2,0)","v":"제1회의실"},{"$f":"VLOOKUP(B36&D36,'[1]점검현황(금월)'!$D$7:$AH$231,3,0)","v":"XM100K"},{"$f":"VLOOKUP(B36&D36,'[1]점검현황(금월)'!$D$2:$AH$231,15,0)","v":"자체"},{"$f":"VLOOKUP(B36&D36,'[1]점검현황(금월)'!$D$2:$AH$231,21,0)","v":"2013-09-03"},{"$f":"VLOOKUP(B36&D36,'[1]점검현황(금월)'!$D$7:$AH$231,24,0)","v":"2013-06-28"},{"$f":"VLOOKUP(B36&D36,'[1]점검현황(금월)'!$D$7:$AH$231,19,0)","v":312},{"$f":"VLOOKUP(B36&D36,'[1]점검현황(금월)'!$D$7:$AH$231,20,0)","v":"11:50:00"},{"$f":"VLOOKUP(B36&D36,'[1]점검현황(금월)'!$D$7:$AH$231,31,0)","v":415},{"$f":"VLOOKUP(B36&D36,'[1]점검현황(금월)'!$D$7:$AH$231,17,0)","v":307},{"$f":"VLOOKUP(B36&D36,'[1]점검현황(금월)'!$D$7:$AH$231,18,0)","v":"10:10:00"},{"$f":"VLOOKUP(B36&D36,'[1]점검현황(금월)'!$D$7:$AH$231,23,0)","v":"12"}]
[null,"율곡관",7,252,{"$f":"VLOOKUP(B37&D37,'[1]점검현황(금월)'!$D$7:$AH$231,2,0)","v":"정치외교"},{"$f":"VLOOKUP(B37&D37,'[1]점검현황(금월)'!$D$7:$AH$231,3,0)","v":"VX400"},{"$f":"VLOOKUP(B37&D37,'[1]점검현황(금월)'!$D$2:$AH$231,15,0)","v":"e-ST"},{"$f":"VLOOKUP(B37&D37,'[1]점검현황(금월)'!$D$2:$AH$231,21,0)","v":"2013-11-24"},{"$f":"VLOOKUP(B37&D37,'[1]점검현황(금월)'!$D$7:$AH$231,24,0)","v":"·"},{"$f":"VLOOKUP(B37&D37,'[1]점검현황(금월)'!$D$7:$AH$231,19,0)","v":307},{"$f":"VLOOKUP(B37&D37,'[1]점검현황(금월)'!$D$7:$AH$231,20,0)","v":"09:20:00"},{"$f":"VLOOKUP(B37&D37,'[1]점검현황(금월)'!$D$7:$AH$231,31,0)","v":125},{"$f":"VLOOKUP(B37&D37,'[1]점검현황(금월)'!$D$7:$AH$231,17,0)","v":307},{"$f":"VLOOKUP(B37&D37,'[1]점검현황(금월)'!$D$7:$AH$231,18,0)","v":"10:20:00"},{"$f":"VLOOKUP(B37&D37,'[1]점검현황(금월)'!$D$7:$AH$231,23,0)","v":"6(2)"}]
[null,"율곡관",8,253,{"$f":"VLOOKUP(B38&D38,'[1]점검현황(금월)'!$D$7:$AH$231,2,0)","v":"멀티미디어"},{"$f":"VLOOKUP(B38&D38,'[1]점검현황(금월)'!$D$7:$AH$231,3,0)","v":"XU106K"},{"$f":"VLOOKUP(B38&D38,'[1]점검현황(금월)'!$D$2:$AH$231,15,0)","v":"구"},{"$f":"VLOOKUP(B38&D38,'[1]점검현황(금월)'!$D$2:$AH$231,21,0)","v":"2014-04-12"},{"$f":"VLOOKUP(B38&D38,'[1]점검현황(금월)'!$D$7:$AH$231,24,0)","v":"2013-07-13"},{"$f":"VLOOKUP(B38&D38,'[1]점검현황(금월)'!$D$7:$AH$231,19,0)","v":317},{"$f":"VLOOKUP(B38&D38,'[1]점검현황(금월)'!$D$7:$AH$231,20,0)","v":"09:30:00"},{"$f":"VLOOKUP(B38&D38,'[1]점검현황(금월)'!$D$7:$AH$231,31,0)","v":632},{"$f":"VLOOKUP(B38&D38,'[1]점검현황(금월)'!$D$7:$AH$231,17,0)","v":307},{"$f":"VLOOKUP(B38&D38,'[1]점검현황(금월)'!$D$7:$AH$231,18,0)","v":"10:30:00"},{"$f":"VLOOKUP(B38&D38,'[1]점검현황(금월)'!$D$7:$AH$231,23,0)","v":"17"}]
[null,"율곡관",9,254,{"$f":"VLOOKUP(B39&D39,'[1]점검현황(금월)'!$D$7:$AH$231,2,0)","v":"자동녹화"},{"$f":"VLOOKUP(B39&D39,'[1]점검현황(금월)'!$D$7:$AH$231,3,0)","v":"XU106K"},{"$f":"VLOOKUP(B39&D39,'[1]점검현황(금월)'!$D$2:$AH$231,15,0)","v":"e-ST"},{"$f":"VLOOKUP(B39&D39,'[1]점검현황(금월)'!$D$2:$AH$231,21,0)","v":"2014-04-11"},{"$f":"VLOOKUP(B39&D39,'[1]점검현황(금월)'!$D$7:$AH$231,24,0)","v":"2013-04-19"},{"$f":"VLOOKUP(B39&D39,'[1]점검현황(금월)'!$D$7:$AH$231,19,0)","v":320},{"$f":"VLOOKUP(B39&D39,'[1]점검현황(금월)'!$D$7:$AH$231,20,0)","v":"09:40:00"},{"$f":"VLOOKUP(B39&D39,'[1]점검현황(금월)'!$D$7:$AH$231,31,0)","v":735},{"$f":"VLOOKUP(B39&D39,'[1]점검현황(금월)'!$D$7:$AH$231,17,0)","v":307},{"$f":"VLOOKUP(B39&D39,'[1]점검현황(금월)'!$D$7:$AH$231,18,0)","v":"10:40:00"},{"$f":"VLOOKUP(B39&D39,'[1]점검현황(금월)'!$D$7:$AH$231,23,0)","v":"20"}]
[null,"율곡관",10,255,{"$f":"VLOOKUP(B40&D40,'[1]점검현황(금월)'!$D$7:$AH$231,2,0)","v":"행정학"},{"$f":"VLOOKUP(B40&D40,'[1]점검현황(금월)'!$D$7:$AH$231,3,0)","v":"EX500E"},{"$f":"VLOOKUP(B40&D40,'[1]점검현황(금월)'!$D$2:$AH$231,15,0)","v":"e-ST"},{"$f":"VLOOKUP(B40&D40,'[1]점검현황(금월)'!$D$2:$AH$231,21,0)","v":"2013-11-24"},{"$f":"VLOOKUP(B40&D40,'[1]점검현황(금월)'!$D$7:$AH$231,24,0)","v":"·"},{"$f":"VLOOKUP(B40&D40,'[1]점검현황(금월)'!$D$7:$AH$231,19,0)","v":307},{"$f":"VLOOKUP(B40&D40,'[1]점검현황(금월)'!$D$7:$AH$231,20,0)","v":"09:50:00"},{"$f":"VLOOKUP(B40&D40,'[1]점검현황(금월)'!$D$7:$AH$231,31,0)","v":962},{"$f":"VLOOKUP(B40&D40,'[1]점검현황(금월)'!$D$7:$AH$231,17,0)","v":307},{"$f":"VLOOKUP(B40&D40,'[1]점검현황(금월)'!$D$7:$AH$231,18,0)","v":"10:50:00"},{"$f":"VLOOKUP(B40&D40,'[1]점검현황(금월)'!$D$7:$AH$231,23,0)","v":"."}]
[null,"율곡관",11,256,{"$f":"VLOOKUP(B41&D41,'[1]점검현황(금월)'!$D$7:$AH$231,2,0)","v":"심리학"},{"$f":"VLOOKUP(B41&D41,'[1]점검현황(금월)'!$D$7:$AH$231,3,0)","v":"EX500E"},{"$f":"VLOOKUP(B41&D41,'[1]점검현황(금월)'!$D$2:$AH$231,15,0)","v":"e-ST"},{"$f":"VLOOKUP(B41&D41,'[1]점검현황(금월)'!$D$2:$AH$231,21,0)","v":"2013-11-24"},{"$f":"VLOOKUP(B41&D41,'[1]점검현황(금월)'!$D$7:$AH$231,24,0)","v":"·"},{"$f":"VLOOKUP(B41&D41,'[1]점검현황(금월)'!$D$7:$AH$231,19,0)","v":313},{"$f":"VLOOKUP(B41&D41,'[1]점검현황(금월)'!$D$7:$AH$231,20,0)","v":"10:25:00"},{"$f":"VLOOKUP(B41&D41,'[1]점검현황(금월)'!$D$7:$AH$231,31,0)","v":1282},{"$f":"VLOOKUP(B41&D41,'[1]점검현황(금월)'!$D$7:$AH$231,17,0)","v":307},{"$f":"VLOOKUP(B41&D41,'[1]점검현황(금월)'!$D$7:$AH$231,18,0)","v":"11:00:00"},{"$f":"VLOOKUP(B41&D41,'[1]점검현황(금월)'!$D$7:$AH$231,23,0)","v":"13"}]
[null,"율곡관",12,257,{"$f":"VLOOKUP(B42&D42,'[1]점검현황(금월)'!$D$7:$AH$231,2,0)","v":"사회학"},{"$f":"VLOOKUP(B42&D42,'[1]점검현황(금월)'!$D$7:$AH$231,3,0)","v":"EX500E"},{"$f":"VLOOKUP(B42&D42,'[1]점검현황(금월)'!$D$2:$AH$231,15,0)","v":"e-ST"},{"$f":"VLOOKUP(B42&D42,'[1]점검현황(금월)'!$D$2:$AH$231,21,0)","v":"2013-11-24"},{"$f":"VLOOKUP(B42&D42,'[1]점검현황(금월)'!$D$7:$AH$231,24,0)","v":"·"},{"$f":"VLOOKUP(B42&D42,'[1]점검현황(금월)'!$D$7:$AH$231,19,0)","v":307},{"$f":"VLOOKUP(B42&D42,'[1]점검현황(금월)'!$D$7:$AH$231,20,0)","v":"10:10:00"},{"$f":"VLOOKUP(B42&D42,'[1]점검현황(금월)'!$D$7:$AH$231,31,0)","v":1274},{"$f":"VLOOKUP(B42&D42,'[1]점검현황(금월)'!$D$7:$AH$231,17,0)","v":307},{"$f":"VLOOKUP(B42&D42,'[1]점검현황(금월)'!$D$7:$AH$231,18,0)","v":"11:10:00"},{"$f":"VLOOKUP(B42&D42,'[1]점검현황(금월)'!$D$7:$AH$231,23,0)","v":"."}]
[null,"율곡관",13,258,{"$f":"VLOOKUP(B43&D43,'[1]점검현황(금월)'!$D$7:$AH$231,2,0)","v":"멀티미디어"},{"$f":"VLOOKUP(B43&D43,'[1]점검현황(금월)'!$D$7:$AH$231,3,0)","v":"XU106K"},{"$f":"VLOOKUP(B43&D43,'[1]점검현황(금월)'!$D$2:$AH$231,15,0)","v":"구"},{"$f":"VLOOKUP(B43&D43,'[1]점검현황(금월)'!$D$2:$AH$231,21,0)","v":"2014-04-12"},{"$f":"VLOOKUP(B43&D43,'[1]점검현황(금월)'!$D$7:$AH$231,24,0)","v":"2013-06-24"},{"$f":"VLOOKUP(B43&D43,'[1]점검현황(금월)'!$D$7:$AH$231,19,0)","v":326},{"$f":"VLOOKUP(B43&D43,'[1]점검현황(금월)'!$D$7:$AH$231,20,0)","v":"10:20:00"},{"$f":"VLOOKUP(B43&D43,'[1]점검현황(금월)'!$D$7:$AH$231,31,0)","v":662},{"$f":"VLOOKUP(B43&D43,'[1]점검현황(금월)'!$D$7:$AH$231,17,0)","v":307},{"$f":"VLOOKUP(B43&D43,'[1]점검현황(금월)'!$D$7:$AH$231,18,0)","v":"11:20:00"},{"$f":"VLOOKUP(B43&D43,'[1]점검현황(금월)'!$D$7:$AH$231,23,0)","v":"26"}]
[null,"율곡관",14,259,{"$f":"VLOOKUP(B44&D44,'[1]점검현황(금월)'!$D$7:$AH$231,2,0)","v":"멀티미디어"},{"$f":"VLOOKUP(B44&D44,'[1]점검현황(금월)'!$D$7:$AH$231,3,0)","v":"VX510EA"},{"$f":"VLOOKUP(B44&D44,'[1]점검현황(금월)'!$D$2:$AH$231,15,0)","v":"구"},{"$f":"VLOOKUP(B44&D44,'[1]점검현황(금월)'!$D$2:$AH$231,21,0)","v":"2014-04-12"},{"$f":"VLOOKUP(B44&D44,'[1]점검현황(금월)'!$D$7:$AH$231,24,0)","v":"2013-01-21"},{"$f":"VLOOKUP(B44&D44,'[1]점검현황(금월)'!$D$7:$AH$231,19,0)","v":326},{"$f":"VLOOKUP(B44&D44,'[1]점검현황(금월)'!$D$7:$AH$231,20,0)","v":"10:30:00"},{"$f":"VLOOKUP(B44&D44,'[1]점검현황(금월)'!$D$7:$AH$231,31,0)","v":7},{"$f":"VLOOKUP(B44&D44,'[1]점검현황(금월)'!$D$7:$AH$231,17,0)","v":307},{"$f":"VLOOKUP(B44&D44,'[1]점검현황(금월)'!$D$7:$AH$231,18,0)","v":"11:30:00"},{"$f":"VLOOKUP(B44&D44,'[1]점검현황(금월)'!$D$7:$AH$231,23,0)","v":"3,26"}]
[null,"율곡관",15,260,{"$f":"VLOOKUP(B45&D45,'[1]점검현황(금월)'!$D$7:$AH$231,2,0)","v":"자동녹화"},{"$f":"VLOOKUP(B45&D45,'[1]점검현황(금월)'!$D$7:$AH$231,3,0)","v":"XU106K"},{"$f":"VLOOKUP(B45&D45,'[1]점검현황(금월)'!$D$2:$AH$231,15,0)","v":"e-ST"},{"$f":"VLOOKUP(B45&D45,'[1]점검현황(금월)'!$D$2:$AH$231,21,0)","v":"2014-04-12"},"2014-11-21",{"$f":"VLOOKUP(B45&D45,'[1]점검현황(금월)'!$D$7:$AH$231,19,0)","v":324},{"$f":"VLOOKUP(B45&D45,'[1]점검현황(금월)'!$D$7:$AH$231,20,0)","v":"10:15:00"},{"$f":"VLOOKUP(B45&D45,'[1]점검현황(금월)'!$D$7:$AH$231,31,0)","v":943},{"$f":"VLOOKUP(B45&D45,'[1]점검현황(금월)'!$D$7:$AH$231,17,0)","v":307},{"$f":"VLOOKUP(B45&D45,'[1]점검현황(금월)'!$D$7:$AH$231,18,0)","v":"11:40:00"},{"$f":"VLOOKUP(B45&D45,'[1]점검현황(금월)'!$D$7:$AH$231,23,0)","v":"3,13,24"}]
[null,"율곡관",16,261,{"$f":"VLOOKUP(B46&D46,'[1]점검현황(금월)'!$D$7:$AH$231,2,0)","v":"자동녹화"},{"$f":"VLOOKUP(B46&D46,'[1]점검현황(금월)'!$D$7:$AH$231,3,0)","v":"VK460"},{"$f":"VLOOKUP(B46&D46,'[1]점검현황(금월)'!$D$2:$AH$231,15,0)","v":"e-ST"},{"$f":"VLOOKUP(B46&D46,'[1]점검현황(금월)'!$D$2:$AH$231,21,0)","v":"2015-03-09"},{"$f":"VLOOKUP(B46&D46,'[1]점검현황(금월)'!$D$7:$AH$231,24,0)","v":"2013-02-28"},{"$f":"VLOOKUP(B46&D46,'[1]점검현황(금월)'!$D$7:$AH$231,19,0)","v":309},{"$f":"VLOOKUP(B46&D46,'[1]점검현황(금월)'!$D$7:$AH$231,20,0)","v":"13:50:00"},{"$f":"VLOOKUP(B46&D46,'[1]점검현황(금월)'!$D$7:$AH$231,31,0)","v":150},{"$f":"VLOOKUP(B46&D46,'[1]점검현황(금월)'!$D$7:$AH$231,17,0)","v":307},{"$f":"VLOOKUP(B46&D46,'[1]점검현황(금월)'!$D$7:$AH$231,18,0)","v":"11:50:00"},{"$f":"VLOOKUP(B46&D46,'[1]점검현황(금월)'!$D$7:$AH$231,23,0)","v":"3,9(2)"}]
[null,"율곡관",17,262,{"$f":"VLOOKUP(B47&D47,'[1]점검현황(금월)'!$D$7:$AH$231,2,0)","v":"멀티미디어"},{"$f":"VLOOKUP(B47&D47,'[1]점검현황(금월)'!$D$7:$AH$231,3,0)","v":"VX510EA"},{"$f":"VLOOKUP(B47&D47,'[1]점검현황(금월)'!$D$2:$AH$231,15,0)","v":"구"},{"$f":"VLOOKUP(B47&D47,'[1]점검현황(금월)'!$D$2:$AH$231,21,0)","v":"2013-10-02"},{"$f":"VLOOKUP(B47&D47,'[1]점검현황(금월)'!$D$7:$AH$231,24,0)","v":"2014-04-29"},{"$f":"VLOOKUP(B47&D47,'[1]점검현황(금월)'!$D$7:$AH$231,19,0)","v":307},{"$f":"VLOOKUP(B47&D47,'[1]점검현황(금월)'!$D$7:$AH$231,20,0)","v":"11:00:00"},{"$f":"VLOOKUP(B47&D47,'[1]점검현황(금월)'!$D$7:$AH$231,31,0)","v":752},{"$f":"VLOOKUP(B47&D47,'[1]점검현황(금월)'!$D$7:$AH$231,17,0)","v":307},{"$f":"VLOOKUP(B47&D47,'[1]점검현황(금월)'!$D$7:$AH$231,18,0)","v":"12:00:00"},{"$f":"VLOOKUP(B47&D47,'[1]점검현황(금월)'!$D$7:$AH$231,23,0)","v":"2"}]
[null,"율곡관",18,354,{"$f":"VLOOKUP(B48&D48,'[1]점검현황(금월)'!$D$7:$AH$231,2,0)","v":"대학원"},{"$f":"VLOOKUP(B48&D48,'[1]점검현황(금월)'!$D$7:$AH$231,3,0)","v":"XT15KA"},{"$f":"VLOOKUP(B48&D48,'[1]점검현황(금월)'!$D$2:$AH$231,15,0)","v":"구"},{"$f":"VLOOKUP(B48&D48,'[1]점검현황(금월)'!$D$2:$AH$231,21,0)","v":"2012-10-11"},{"$f":"VLOOKUP(B48&D48,'[1]점검현황(금월)'!$D$7:$AH$231,24,0)","v":"2013-07-15"},{"$f":"VLOOKUP(B48&D48,'[1]점검현황(금월)'!$D$7:$AH$231,19,0)","v":311},{"$f":"VLOOKUP(B48&D48,'[1]점검현황(금월)'!$D$7:$AH$231,20,0)","v":"15:37:00"},{"$f":"VLOOKUP(B48&D48,'[1]점검현황(금월)'!$D$7:$AH$231,31,0)","v":684},{"$f":"VLOOKUP(B48&D48,'[1]점검현황(금월)'!$D$7:$AH$231,17,0)","v":307},{"$f":"VLOOKUP(B48&D48,'[1]점검현황(금월)'!$D$7:$AH$231,18,0)","v":"13:00:00"},{"$f":"VLOOKUP(B48&D48,'[1]점검현황(금월)'!$D$7:$AH$231,23,0)","v":"11"}]
[null,"율곡관",19,356,{"$f":"VLOOKUP(B49&D49,'[1]점검현황(금월)'!$D$7:$AH$231,2,0)","v":"경제학"},{"$f":"VLOOKUP(B49&D49,'[1]점검현황(금월)'!$D$7:$AH$231,3,0)","v":"EX500E"},{"$f":"VLOOKUP(B49&D49,'[1]점검현황(금월)'!$D$2:$AH$231,15,0)","v":"e-ST"},{"$f":"VLOOKUP(B49&D49,'[1]점검현황(금월)'!$D$2:$AH$231,21,0)","v":"2013-10-21"},{"$f":"VLOOKUP(B49&D49,'[1]점검현황(금월)'!$D$7:$AH$231,24,0)","v":"2015-03-26"},{"$f":"VLOOKUP(B49&D49,'[1]점검현황(금월)'!$D$7:$AH$231,19,0)","v":326},{"$f":"VLOOKUP(B49&D49,'[1]점검현황(금월)'!$D$7:$AH$231,20,0)","v":"09:10:00"},{"$f":"VLOOKUP(B49&D49,'[1]점검현황(금월)'!$D$7:$AH$231,31,0)","v":1174},{"$f":"VLOOKUP(B49&D49,'[1]점검현황(금월)'!$D$7:$AH$231,17,0)","v":307},{"$f":"VLOOKUP(B49&D49,'[1]점검현황(금월)'!$D$7:$AH$231,18,0)","v":"13:10:00"},{"$f":"VLOOKUP(B49&D49,'[1]점검현황(금월)'!$D$7:$AH$231,23,0)","v":"23,26"}]
[null,"율곡관",20,357,{"$f":"VLOOKUP(B50&D50,'[1]점검현황(금월)'!$D$7:$AH$231,2,0)","v":"대학원"},{"$f":"VLOOKUP(B50&D50,'[1]점검현황(금월)'!$D$7:$AH$231,3,0)","v":"XT16K"},{"$f":"VLOOKUP(B50&D50,'[1]점검현황(금월)'!$D$2:$AH$231,15,0)","v":"구"},{"$f":"VLOOKUP(B50&D50,'[1]점검현황(금월)'!$D$2:$AH$231,21,0)","v":"·"},{"$f":"VLOOKUP(B50&D50,'[1]점검현황(금월)'!$D$7:$AH$231,24,0)","v":"2013-04-29"},{"$f":"VLOOKUP(B50&D50,'[1]점검현황(금월)'!$D$7:$AH$231,19,0)","v":320},{"$f":"VLOOKUP(B50&D50,'[1]점검현황(금월)'!$D$7:$AH$231,20,0)","v":"11:30:00"},{"$f":"VLOOKUP(B50&D50,'[1]점검현황(금월)'!$D$7:$AH$231,31,0)","v":986},{"$f":"VLOOKUP(B50&D50,'[1]점검현황(금월)'!$D$7:$AH$231,17,0)","v":307},{"$f":"VLOOKUP(B50&D50,'[1]점검현황(금월)'!$D$7:$AH$231,18,0)","v":"13:20:00"},{"$f":"VLOOKUP(B50&D50,'[1]점검현황(금월)'!$D$7:$AH$231,23,0)","v":"4,20"}]
[null,"율곡관",21,358,{"$f":"VLOOKUP(B51&D51,'[1]점검현황(금월)'!$D$7:$AH$231,2,0)","v":"awe"},{"$f":"VLOOKUP(B51&D51,'[1]점검현황(금월)'!$D$7:$AH$231,3,0)","v":"XT35K"},{"$f":"VLOOKUP(B51&D51,'[1]점검현황(금월)'!$D$2:$AH$231,15,0)","v":"e-ST"},{"$f":"VLOOKUP(B51&D51,'[1]점검현황(금월)'!$D$2:$AH$231,21,0)","v":"2015-03-20/2014-03-07"},{"$f":"VLOOKUP(B51&D51,'[1]점검현황(금월)'!$D$7:$AH$231,24,0)","v":"2013-1022"},{"$f":"VLOOKUP(B51&D51,'[1]점검현황(금월)'!$D$7:$AH$231,19,0)","v":326},{"$f":"VLOOKUP(B51&D51,'[1]점검현황(금월)'!$D$7:$AH$231,20,0)","v":"13:20:00"},{"$f":"VLOOKUP(B51&D51,'[1]점검현황(금월)'!$D$7:$AH$231,31,0)","v":24},{"$f":"VLOOKUP(B51&D51,'[1]점검현황(금월)'!$D$7:$AH$231,17,0)","v":307},{"$f":"VLOOKUP(B51&D51,'[1]점검현황(금월)'!$D$7:$AH$231,18,0)","v":"13:30:00"},{"$f":"VLOOKUP(B51&D51,'[1]점검현황(금월)'!$D$7:$AH$231,23,0)","v":"2,11,19,20,23(2),26"}]
[null,"율곡관",22,359,{"$f":"VLOOKUP(B52&D52,'[1]점검현황(금월)'!$D$7:$AH$231,2,0)","v":"멀티미디어"},{"$f":"VLOOKUP(B52&D52,'[1]점검현황(금월)'!$D$7:$AH$231,3,0)","v":"VX510EA"},{"$f":"VLOOKUP(B52&D52,'[1]점검현황(금월)'!$D$2:$AH$231,15,0)","v":"구"},{"$f":"VLOOKUP(B52&D52,'[1]점검현황(금월)'!$D$2:$AH$231,21,0)","v":"2014-05-14"},{"$f":"VLOOKUP(B52&D52,'[1]점검현황(금월)'!$D$7:$AH$231,24,0)","v":"2013-03-26"},{"$f":"VLOOKUP(B52&D52,'[1]점검현황(금월)'!$D$7:$AH$231,19,0)","v":323},{"$f":"VLOOKUP(B52&D52,'[1]점검현황(금월)'!$D$7:$AH$231,20,0)","v":"14:47:00"},{"$f":"VLOOKUP(B52&D52,'[1]점검현황(금월)'!$D$7:$AH$231,31,0)","v":10},{"$f":"VLOOKUP(B52&D52,'[1]점검현황(금월)'!$D$7:$AH$231,17,0)","v":307},{"$f":"VLOOKUP(B52&D52,'[1]점검현황(금월)'!$D$7:$AH$231,18,0)","v":"13:40:00"},{"$f":"VLOOKUP(B52&D52,'[1]점검현황(금월)'!$D$7:$AH$231,23,0)","v":"12,13,23"}]
[null,"율곡관",23,425,{"$f":"VLOOKUP(B53&D53,'[1]점검현황(금월)'!$D$7:$AH$231,2,0)","v":"대학원"},{"$f":"VLOOKUP(B53&D53,'[1]점검현황(금월)'!$D$7:$AH$231,3,0)","v":"XT35K"},{"$f":"VLOOKUP(B53&D53,'[1]점검현황(금월)'!$D$2:$AH$231,15,0)","v":"구"},{"$f":"VLOOKUP(B53&D53,'[1]점검현황(금월)'!$D$2:$AH$231,21,0)","v":"2013-04-09"},{"$f":"VLOOKUP(B53&D53,'[1]점검현황(금월)'!$D$7:$AH$231,24,0)","v":"2013-09-10"},{"$f":"VLOOKUP(B53&D53,'[1]점검현황(금월)'!$D$7:$AH$231,19,0)","v":307},{"$f":"VLOOKUP(B53&D53,'[1]점검현황(금월)'!$D$7:$AH$231,20,0)","v":"12:00:00"},{"$f":"VLOOKUP(B53&D53,'[1]점검현황(금월)'!$D$7:$AH$231,31,0)","v":829},{"$f":"VLOOKUP(B53&D53,'[1]점검현황(금월)'!$D$7:$AH$231,17,0)","v":307},{"$f":"VLOOKUP(B53&D53,'[1]점검현황(금월)'!$D$7:$AH$231,18,0)","v":"08:30:00"},{"$f":"VLOOKUP(B53&D53,'[1]점검현황(금월)'!$D$7:$AH$231,23,0)","v":"."}]
[null,"율곡관",24,427,{"$f":"VLOOKUP(B54&D54,'[1]점검현황(금월)'!$D$7:$AH$231,2,0)","v":"대학원"},{"$f":"VLOOKUP(B54&D54,'[1]점검현황(금월)'!$D$7:$AH$231,3,0)","v":"XU106K"},{"$f":"VLOOKUP(B54&D54,'[1]점검현황(금월)'!$D$2:$AH$231,15,0)","v":"구"},{"$f":"VLOOKUP(B54&D54,'[1]점검현황(금월)'!$D$2:$AH$231,21,0)","v":"2013-02-21"},{"$f":"VLOOKUP(B54&D54,'[1]점검현황(금월)'!$D$7:$AH$231,24,0)","v":"2012-11-23"},{"$f":"VLOOKUP(B54&D54,'[1]점검현황(금월)'!$D$7:$AH$231,19,0)","v":324},{"$f":"VLOOKUP(B54&D54,'[1]점검현황(금월)'!$D$7:$AH$231,20,0)","v":"13:00:00"},{"$f":"VLOOKUP(B54&D54,'[1]점검현황(금월)'!$D$7:$AH$231,31,0)","v":795},{"$f":"VLOOKUP(B54&D54,'[1]점검현황(금월)'!$D$7:$AH$231,17,0)","v":307},{"$f":"VLOOKUP(B54&D54,'[1]점검현황(금월)'!$D$7:$AH$231,18,0)","v":"08:40:00"},{"$f":"VLOOKUP(B54&D54,'[1]점검현황(금월)'!$D$7:$AH$231,23,0)","v":"24"}]
["성호관","성호관",1,"소극장",{"$f":"VLOOKUP(B55&D55,'[1]점검현황(금월)'!$D$7:$AH$231,2,0)","v":"소극장"},{"$f":"VLOOKUP(B55&D55,'[1]점검현황(금월)'!$D$7:$AH$231,3,0)","v":"EX16KE"},{"$f":"VLOOKUP(B55&D55,'[1]점검현황(금월)'!$D$2:$AH$231,15,0)","v":"e-ST"},{"$f":"VLOOKUP(B55&D55,'[1]점검현황(금월)'!$D$2:$AH$231,21,0)","v":"2014-04-15"},{"$f":"VLOOKUP(B55&D55,'[1]점검현황(금월)'!$D$7:$AH$231,24,0)","v":"·"},{"$f":"VLOOKUP(B55&D55,'[1]점검현황(금월)'!$D$7:$AH$231,19,0)","v":320},{"$f":"VLOOKUP(B55&D55,'[1]점검현황(금월)'!$D$7:$AH$231,20,0)","v":"13:10:00"},{"$f":"VLOOKUP(B55&D55,'[1]점검현황(금월)'!$D$7:$AH$231,31,0)","v":462},{"$f":"VLOOKUP(B55&D55,'[1]점검현황(금월)'!$D$7:$AH$231,17,0)","v":309},{"$f":"VLOOKUP(B55&D55,'[1]점검현황(금월)'!$D$7:$AH$231,18,0)","v":"08:50:00"},{"$f":"VLOOKUP(B55&D55,'[1]점검현황(금월)'!$D$7:$AH$231,23,0)","v":"4,19,20"}]
[null,"성호관",2,103,{"$f":"VLOOKUP(B56&D56,'[1]점검현황(금월)'!$D$7:$AH$231,2,0)","v":"인문대 (PC실)"},{"$f":"VLOOKUP(B56&D56,'[1]점검현황(금월)'!$D$7:$AH$231,3,0)","v":"XT35K"},{"$f":"VLOOKUP(B56&D56,'[1]점검현황(금월)'!$D$2:$AH$231,15,0)","v":"e-ST"},{"$f":"VLOOKUP(B56&D56,'[1]점검현황(금월)'!$D$2:$AH$231,21,0)","v":"2014-12-19"},{"$f":"VLOOKUP(B56&D56,'[1]점검현황(금월)'!$D$7:$AH$231,24,0)","v":"2014-12-19"},{"$f":"VLOOKUP(B56&D56,'[1]점검현황(금월)'!$D$7:$AH$231,19,0)","v":309},{"$f":"VLOOKUP(B56&D56,'[1]점검현황(금월)'!$D$7:$AH$231,20,0)","v":"13:20:00"},{"$f":"VLOOKUP(B56&D56,'[1]점검현황(금월)'!$D$7:$AH$231,31,0)","v":331},{"$f":"VLOOKUP(B56&D56,'[1]점검현황(금월)'!$D$7:$AH$231,17,0)","v":309},{"$f":"VLOOKUP(B56&D56,'[1]점검현황(금월)'!$D$7:$AH$231,18,0)","v":"19:00:00"},{"$f":"VLOOKUP(B56&D56,'[1]점검현황(금월)'!$D$7:$AH$231,23,0)","v":"."}]
[null,"성호관",3,104,{"$f":"VLOOKUP(B57&D57,'[1]점검현황(금월)'!$D$7:$AH$231,2,0)","v":"멀티미디어"},{"$f":"VLOOKUP(B57&D57,'[1]점검현황(금월)'!$D$7:$AH$231,3,0)","v":"XU106K"},{"$f":"VLOOKUP(B57&D57,'[1]점검현황(금월)'!$D$2:$AH$231,15,0)","v":"e-ST"},{"$f":"VLOOKUP(B57&D57,'[1]점검현황(금월)'!$D$2:$AH$231,21,0)","v":"2013-11-28"},{"$f":"VLOOKUP(B57&D57,'[1]점검현황(금월)'!$D$7:$AH$231,24,0)","v":"2013-02-25"},{"$f":"VLOOKUP(B57&D57,'[1]점검현황(금월)'!$D$7:$AH$231,19,0)","v":327},{"$f":"VLOOKUP(B57&D57,'[1]점검현황(금월)'!$D$7:$AH$231,20,0)","v":"12:10:00"},{"$f":"VLOOKUP(B57&D57,'[1]점검현황(금월)'!$D$7:$AH$231,31,0)","v":1173},{"$f":"VLOOKUP(B57&D57,'[1]점검현황(금월)'!$D$7:$AH$231,17,0)","v":309},{"$f":"VLOOKUP(B57&D57,'[1]점검현황(금월)'!$D$7:$AH$231,18,0)","v":"19:10:00"},{"$f":"VLOOKUP(B57&D57,'[1]점검현황(금월)'!$D$7:$AH$231,23,0)","v":"2,9,12,13,16,27"}]
[null,"성호관",4,105,{"$f":"VLOOKUP(B58&D58,'[1]점검현황(금월)'!$D$7:$AH$231,2,0)","v":"자동녹화"},{"$f":"VLOOKUP(B58&D58,'[1]점검현황(금월)'!$D$7:$AH$231,3,0)","v":"VX410Z"},{"$f":"VLOOKUP(B58&D58,'[1]점검현황(금월)'!$D$2:$AH$231,15,0)","v":"신"},"2014-11-17","2014-11-22",{"$f":"VLOOKUP(B58&D58,'[1]점검현황(금월)'!$D$7:$AH$231,19,0)","v":326},{"$f":"VLOOKUP(B58&D58,'[1]점검현황(금월)'!$D$7:$AH$231,20,0)","v":"11:40:00"},{"$f":"VLOOKUP(B58&D58,'[1]점검현황(금월)'!$D$7:$AH$231,31,0)","v":754},{"$f":"VLOOKUP(B58&D58,'[1]점검현황(금월)'!$D$7:$AH$231,17,0)","v":309},{"$f":"VLOOKUP(B58&D58,'[1]점검현황(금월)'!$D$7:$AH$231,18,0)","v":"19:20:00"},{"$f":"VLOOKUP(B58&D58,'[1]점검현황(금월)'!$D$7:$AH$231,23,0)","v":"2,26"}]
[null,"성호관",5,131,{"$f":"VLOOKUP(B59&D59,'[1]점검현황(금월)'!$D$7:$AH$231,2,0)","v":"멀티미디어"},{"$f":"VLOOKUP(B59&D59,'[1]점검현황(금월)'!$D$7:$AH$231,3,0)","v":"XU105K"},{"$f":"VLOOKUP(B59&D59,'[1]점검현황(금월)'!$D$2:$AH$231,15,0)","v":"e-ST"},{"$f":"VLOOKUP(B59&D59,'[1]점검현황(금월)'!$D$2:$AH$231,21,0)","v":"2013-10-16"},{"$f":"VLOOKUP(B59&D59,'[1]점검현황(금월)'!$D$7:$AH$231,24,0)","v":"2013-08-17"},{"$f":"VLOOKUP(B59&D59,'[1]점검현황(금월)'!$D$7:$AH$231,19,0)","v":317},{"$f":"VLOOKUP(B59&D59,'[1]점검현황(금월)'!$D$7:$AH$231,20,0)","v":"10:35:00"},{"$f":"VLOOKUP(B59&D59,'[1]점검현황(금월)'!$D$7:$AH$231,31,0)","v":429},{"$f":"VLOOKUP(B59&D59,'[1]점검현황(금월)'!$D$7:$AH$231,17,0)","v":309},{"$f":"VLOOKUP(B59&D59,'[1]점검현황(금월)'!$D$7:$AH$231,18,0)","v":"08:30:00"},{"$f":"VLOOKUP(B59&D59,'[1]점검현황(금월)'!$D$7:$AH$231,23,0)","v":"2,11,17"}]
[null,"성호관",6,132,{"$f":"VLOOKUP(B60&D60,'[1]점검현황(금월)'!$D$7:$AH$231,2,0)","v":"멀티미디어"},{"$f":"VLOOKUP(B60&D60,'[1]점검현황(금월)'!$D$7:$AH$231,3,0)","v":"XU106K"},{"$f":"VLOOKUP(B60&D60,'[1]점검현황(금월)'!$D$2:$AH$231,15,0)","v":"구"},{"$f":"VLOOKUP(B60&D60,'[1]점검현황(금월)'!$D$2:$AH$231,21,0)","v":"2013-02-21"},{"$f":"VLOOKUP(B60&D60,'[1]점검현황(금월)'!$D$7:$AH$231,24,0)","v":"2013-09-10"},{"$f":"VLOOKUP(B60&D60,'[1]점검현황(금월)'!$D$7:$AH$231,19,0)","v":319},{"$f":"VLOOKUP(B60&D60,'[1]점검현황(금월)'!$D$7:$AH$231,20,0)","v":"19:30:00"},{"$f":"VLOOKUP(B60&D60,'[1]점검현황(금월)'!$D$7:$AH$231,31,0)","v":30},{"$f":"VLOOKUP(B60&D60,'[1]점검현황(금월)'!$D$7:$AH$231,17,0)","v":309},{"$f":"VLOOKUP(B60&D60,'[1]점검현황(금월)'!$D$7:$AH$231,18,0)","v":"08:40:00"},{"$f":"VLOOKUP(B60&D60,'[1]점검현황(금월)'!$D$7:$AH$231,23,0)","v":"5,10,12,16,19"}]
[null,"성호관",7,133,{"$f":"VLOOKUP(B61&D61,'[1]점검현황(금월)'!$D$7:$AH$231,2,0)","v":"멀티미디어"},{"$f":"VLOOKUP(B61&D61,'[1]점검현황(금월)'!$D$7:$AH$231,3,0)","v":"VX410Z"},{"$f":"VLOOKUP(B61&D61,'[1]점검현황(금월)'!$D$2:$AH$231,15,0)","v":"구"},{"$f":"VLOOKUP(B61&D61,'[1]점검현황(금월)'!$D$2:$AH$231,21,0)","v":"2014-07-12"},{"$f":"VLOOKUP(B61&D61,'[1]점검현황(금월)'!$D$7:$AH$231,24,0)","v":"2014-07-12"},{"$f":"VLOOKUP(B61&D61,'[1]점검현황(금월)'!$D$7:$AH$231,19,0)","v":310},{"$f":"VLOOKUP(B61&D61,'[1]점검현황(금월)'!$D$7:$AH$231,20,0)","v":"08:30:00"},{"$f":"VLOOKUP(B61&D61,'[1]점검현황(금월)'!$D$7:$AH$231,31,0)","v":1766},{"$f":"VLOOKUP(B61&D61,'[1]점검현황(금월)'!$D$7:$AH$231,17,0)","v":310},{"$f":"VLOOKUP(B61&D61,'[1]점검현황(금월)'!$D$7:$AH$231,18,0)","v":"08:50:00"},{"$f":"VLOOKUP(B61&D61,'[1]점검현황(금월)'!$D$7:$AH$231,23,0)","v":"2,3"}]
[null,"성호관",8,201,{"$f":"VLOOKUP(B62&D62,'[1]점검현황(금월)'!$D$7:$AH$231,2,0)","v":"멀티미디어"},{"$f":"VLOOKUP(B62&D62,'[1]점검현황(금월)'!$D$7:$AH$231,3,0)","v":"XU106K"},{"$f":"VLOOKUP(B62&D62,'[1]점검현황(금월)'!$D$2:$AH$231,15,0)","v":"e-ST"},{"$f":"VLOOKUP(B62&D62,'[1]점검현황(금월)'!$D$2:$AH$231,21,0)","v":"2014-04-12"},{"$f":"VLOOKUP(B62&D62,'[1]점검현황(금월)'!$D$7:$AH$231,24,0)","v":"2013-06-28"},{"$f":"VLOOKUP(B62&D62,'[1]점검현황(금월)'!$D$7:$AH$231,19,0)","v":316},{"$f":"VLOOKUP(B62&D62,'[1]점검현황(금월)'!$D$7:$AH$231,20,0)","v":"08:40:00"},{"$f":"VLOOKUP(B62&D62,'[1]점검현황(금월)'!$D$7:$AH$231,31,0)","v":775},{"$f":"VLOOKUP(B62&D62,'[1]점검현황(금월)'!$D$7:$AH$231,17,0)","v":310},{"$f":"VLOOKUP(B62&D62,'[1]점검현황(금월)'!$D$7:$AH$231,18,0)","v":"19:00:00"},{"$f":"VLOOKUP(B62&D62,'[1]점검현황(금월)'!$D$7:$AH$231,23,0)","v":"16"}]
[null,"성호관",9,"201-1",{"$f":"VLOOKUP(B63&D63,'[1]점검현황(금월)'!$D$7:$AH$231,2,0)","v":"자동녹화"},{"$f":"VLOOKUP(B63&D63,'[1]점검현황(금월)'!$D$7:$AH$231,3,0)","v":"XU106K"},{"$f":"VLOOKUP(B63&D63,'[1]점검현황(금월)'!$D$2:$AH$231,15,0)","v":"신"},{"$f":"VLOOKUP(B63&D63,'[1]점검현황(금월)'!$D$2:$AH$231,21,0)","v":"2015-02-28"},{"$f":"VLOOKUP(B63&D63,'[1]점검현황(금월)'!$D$7:$AH$231,24,0)","v":"2013-07-23"},{"$f":"VLOOKUP(B63&D63,'[1]점검현황(금월)'!$D$7:$AH$231,19,0)","v":310},{"$f":"VLOOKUP(B63&D63,'[1]점검현황(금월)'!$D$7:$AH$231,20,0)","v":"18:50:00"},{"$f":"VLOOKUP(B63&D63,'[1]점검현황(금월)'!$D$7:$AH$231,31,0)","v":1694},{"$f":"VLOOKUP(B63&D63,'[1]점검현황(금월)'!$D$7:$AH$231,17,0)","v":310},{"$f":"VLOOKUP(B63&D63,'[1]점검현황(금월)'!$D$7:$AH$231,18,0)","v":"19:10:00"},{"$f":"VLOOKUP(B63&D63,'[1]점검현황(금월)'!$D$7:$AH$231,23,0)","v":"."}]
[null,"성호관",10,202,{"$f":"VLOOKUP(B64&D64,'[1]점검현황(금월)'!$D$7:$AH$231,2,0)","v":"멀티미디어"},{"$f":"VLOOKUP(B64&D64,'[1]점검현황(금월)'!$D$7:$AH$231,3,0)","v":"VX410Z"},{"$f":"VLOOKUP(B64&D64,'[1]점검현황(금월)'!$D$2:$AH$231,15,0)","v":"구"},{"$f":"VLOOKUP(B64&D64,'[1]점검현황(금월)'!$D$2:$AH$231,21,0)","v":"2013-11-25"},"2014-11-22",{"$f":"VLOOKUP(B64&D64,'[1]점검현황(금월)'!$D$7:$AH$231,19,0)","v":310},{"$f":"VLOOKUP(B64&D64,'[1]점검현황(금월)'!$D$7:$AH$231,20,0)","v":"19:00:00"},{"$f":"VLOOKUP(B64&D64,'[1]점검현황(금월)'!$D$7:$AH$231,31,0)","v":830},{"$f":"VLOOKUP(B64&D64,'[1]점검현황(금월)'!$D$7:$AH$231,17,0)","v":310},{"$f":"VLOOKUP(B64&D64,'[1]점검현황(금월)'!$D$7:$AH$231,18,0)","v":"19:20:00"},{"$f":"VLOOKUP(B64&D64,'[1]점검현황(금월)'!$D$7:$AH$231,23,0)","v":"."}]
[null,"성호관",11,203,{"$f":"VLOOKUP(B65&D65,'[1]점검현황(금월)'!$D$7:$AH$231,2,0)","v":"자동녹화"},{"$f":"VLOOKUP(B65&D65,'[1]점검현황(금월)'!$D$7:$AH$231,3,0)","v":"XU105K"},{"$f":"VLOOKUP(B65&D65,'[1]점검현황(금월)'!$D$2:$AH$231,15,0)","v":"e-ST"},{"$f":"VLOOKUP(B65&D65,'[1]점검현황(금월)'!$D$2:$AH$231,21,0)","v":"2014-01-17"},"2014-11-22",{"$f":"VLOOKUP(B65&D65,'[1]점검현황(금월)'!$D$7:$AH$231,19,0)","v":324},{"$f":"VLOOKUP(B65&D65,'[1]점검현황(금월)'!$D$7:$AH$231,20,0)","v":"17:22:00"},{"$f":"VLOOKUP(B65&D65,'[1]점검현황(금월)'!$D$7:$AH$231,31,0)","v":612},{"$f":"VLOOKUP(B65&D65,'[1]점검현황(금월)'!$D$7:$AH$231,17,0)","v":310},{"$f":"VLOOKUP(B65&D65,'[1]점검현황(금월)'!$D$7:$AH$231,18,0)","v":"08:30:00"},{"$f":"VLOOKUP(B65&D65,'[1]점검현황(금월)'!$D$7:$AH$231,23,0)","v":"2,5(2),10,11,16,24"}]
[null,"성호관",12,204,{"$f":"VLOOKUP(B66&D66,'[1]점검현황(금월)'!$D$7:$AH$231,2,0)","v":"자동녹화"},{"$f":"VLOOKUP(B66&D66,'[1]점검현황(금월)'!$D$7:$AH$231,3,0)","v":"XU106K"},{"$f":"VLOOKUP(B66&D66,'[1]점검현황(금월)'!$D$2:$AH$231,15,0)","v":"e-ST"},{"$f":"VLOOKUP(B66&D66,'[1]점검현황(금월)'!$D$2:$AH$231,21,0)","v":"2013-02-21"},{"$f":"VLOOKUP(B66&D66,'[1]점검현황(금월)'!$D$7:$AH$231,24,0)","v":"2014-02-13"},{"$f":"VLOOKUP(B66&D66,'[1]점검현황(금월)'!$D$7:$AH$231,19,0)","v":310},{"$f":"VLOOKUP(B66&D66,'[1]점검현황(금월)'!$D$7:$AH$231,20,0)","v":"19:20:00"},{"$f":"VLOOKUP(B66&D66,'[1]점검현황(금월)'!$D$7:$AH$231,31,0)","v":374},{"$f":"VLOOKUP(B66&D66,'[1]점검현황(금월)'!$D$7:$AH$231,17,0)","v":310},{"$f":"VLOOKUP(B66&D66,'[1]점검현황(금월)'!$D$7:$AH$231,18,0)","v":"08:40:00"},{"$f":"VLOOKUP(B66&D66,'[1]점검현황(금월)'!$D$7:$AH$231,23,0)","v":"."}]
[null,"성호관",13,205,{"$f":"VLOOKUP(B67&D67,'[1]점검현황(금월)'!$D$7:$AH$231,2,0)","v":"자동녹화"},{"$f":"VLOOKUP(B67&D67,'[1]점검현황(금월)'!$D$7:$AH$231,3,0)","v":"XU106K"},{"$f":"VLOOKUP(B67&D67,'[1]점검현황(금월)'!$D$2:$AH$231,15,0)","v":"e-ST"},{"$f":"VLOOKUP(B67&D67,'[1]점검현황(금월)'!$D$2:$AH$231,21,0)","v":"2014-07-08"},{"$f":"VLOOKUP(B67&D67,'[1]점검현황(금월)'!$D$7:$AH$231,24,0)","v":"2013-08-17"},{"$f":"VLOOKUP(B67&D67,'[1]점검현황(금월)'!$D$7:$AH$231,19,0)","v":325},{"$f":"VLOOKUP(B67&D67,'[1]점검현황(금월)'!$D$7:$AH$231,20,0)","v":"08:30:00"},{"$f":"VLOOKUP(B67&D67,'[1]점검현황(금월)'!$D$7:$AH$231,31,0)","v":1365},{"$f":"VLOOKUP(B67&D67,'[1]점검현황(금월)'!$D$7:$AH$231,17,0)","v":311},{"$f":"VLOOKUP(B67&D67,'[1]점검현황(금월)'!$D$7:$AH$231,18,0)","v":"08:50:00"},{"$f":"VLOOKUP(B67&D67,'[1]점검현황(금월)'!$D$7:$AH$231,23,0)","v":"4(2),13,25"}]
[null,"성호관",14,232,{"$f":"VLOOKUP(B68&D68,'[1]점검현황(금월)'!$D$7:$AH$231,2,0)","v":"자동녹화"},{"$f":"VLOOKUP(B68&D68,'[1]점검현황(금월)'!$D$7:$AH$231,3,0)","v":"VX410Z"},{"$f":"VLOOKUP(B68&D68,'[1]점검현황(금월)'!$D$2:$AH$231,15,0)","v":"신"},{"$f":"VLOOKUP(B68&D68,'[1]점검현황(금월)'!$D$2:$AH$231,21,0)","v":"2014-05-09"},{"$f":"VLOOKUP(B68&D68,'[1]점검현황(금월)'!$D$7:$AH$231,24,0)","v":"2013-02-25"},{"$f":"VLOOKUP(B68&D68,'[1]점검현황(금월)'!$D$7:$AH$231,19,0)","v":320},{"$f":"VLOOKUP(B68&D68,'[1]점검현황(금월)'!$D$7:$AH$231,20,0)","v":"14:50:00"},{"$f":"VLOOKUP(B68&D68,'[1]점검현황(금월)'!$D$7:$AH$231,31,0)","v":666},{"$f":"VLOOKUP(B68&D68,'[1]점검현황(금월)'!$D$7:$AH$231,17,0)","v":311},{"$f":"VLOOKUP(B68&D68,'[1]점검현황(금월)'!$D$7:$AH$231,18,0)","v":"19:00:00"},{"$f":"VLOOKUP(B68&D68,'[1]점검현황(금월)'!$D$7:$AH$231,23,0)","v":"4(2),9,13,19,20(2)"}]
[null,"성호관",15,233,{"$f":"VLOOKUP(B69&D69,'[1]점검현황(금월)'!$D$7:$AH$231,2,0)","v":"자동녹화"},{"$f":"VLOOKUP(B69&D69,'[1]점검현황(금월)'!$D$7:$AH$231,3,0)","v":"XU106K"},{"$f":"VLOOKUP(B69&D69,'[1]점검현황(금월)'!$D$2:$AH$231,15,0)","v":"구"},{"$f":"VLOOKUP(B69&D69,'[1]점검현황(금월)'!$D$2:$AH$231,21,0)","v":"2014-05-01"},{"$f":"VLOOKUP(B69&D69,'[1]점검현황(금월)'!$D$7:$AH$231,24,0)","v":"2013-10-30"},{"$f":"VLOOKUP(B69&D69,'[1]점검현황(금월)'!$D$7:$AH$231,19,0)","v":324},{"$f":"VLOOKUP(B69&D69,'[1]점검현황(금월)'!$D$7:$AH$231,20,0)","v":"08:50:00"},{"$f":"VLOOKUP(B69&D69,'[1]점검현황(금월)'!$D$7:$AH$231,31,0)","v":600},{"$f":"VLOOKUP(B69&D69,'[1]점검현황(금월)'!$D$7:$AH$231,17,0)","v":311},{"$f":"VLOOKUP(B69&D69,'[1]점검현황(금월)'!$D$7:$AH$231,18,0)","v":"19:10:00"},{"$f":"VLOOKUP(B69&D69,'[1]점검현황(금월)'!$D$7:$AH$231,23,0)","v":"3,24"}]
[null,"성호관",16,234,{"$f":"VLOOKUP(B70&D70,'[1]점검현황(금월)'!$D$7:$AH$231,2,0)","v":"멀티미디어"},{"$f":"VLOOKUP(B70&D70,'[1]점검현황(금월)'!$D$7:$AH$231,3,0)","v":"XU106K"},{"$f":"VLOOKUP(B70&D70,'[1]점검현황(금월)'!$D$2:$AH$231,15,0)","v":"구"},{"$f":"VLOOKUP(B70&D70,'[1]점검현황(금월)'!$D$2:$AH$231,21,0)","v":"2013-02-21"},{"$f":"VLOOKUP(B70&D70,'[1]점검현황(금월)'!$D$7:$AH$231,24,0)","v":"2013-08-17"},{"$f":"VLOOKUP(B70&D70,'[1]점검현황(금월)'!$D$7:$AH$231,19,0)","v":311},{"$f":"VLOOKUP(B70&D70,'[1]점검현황(금월)'!$D$7:$AH$231,20,0)","v":"19:00:00"},{"$f":"VLOOKUP(B70&D70,'[1]점검현황(금월)'!$D$7:$AH$231,31,0)","v":2047},{"$f":"VLOOKUP(B70&D70,'[1]점검현황(금월)'!$D$7:$AH$231,17,0)","v":311},{"$f":"VLOOKUP(B70&D70,'[1]점검현황(금월)'!$D$7:$AH$231,18,0)","v":"19:20:00"},{"$f":"VLOOKUP(B70&D70,'[1]점검현황(금월)'!$D$7:$AH$231,23,0)","v":"."}]
[null,"성호관",17,235,{"$f":"VLOOKUP(B71&D71,'[1]점검현황(금월)'!$D$7:$AH$231,2,0)","v":"멀티미디어"},{"$f":"VLOOKUP(B71&D71,'[1]점검현황(금월)'!$D$7:$AH$231,3,0)","v":"XU106K"},{"$f":"VLOOKUP(B71&D71,'[1]점검현황(금월)'!$D$2:$AH$231,15,0)","v":"구"},{"$f":"VLOOKUP(B71&D71,'[1]점검현황(금월)'!$D$2:$AH$231,21,0)","v":"2013-12-07"},{"$f":"VLOOKUP(B71&D71,'[1]점검현황(금월)'!$D$7:$AH$231,24,0)","v":"2014-12-10"},{"$f":"VLOOKUP(B71&D71,'[1]점검현황(금월)'!$D$7:$AH$231,19,0)","v":312},{"$f":"VLOOKUP(B71&D71,'[1]점검현황(금월)'!$D$7:$AH$231,20,0)","v":"13:05:00"},{"$f":"VLOOKUP(B71&D71,'[1]점검현황(금월)'!$D$7:$AH$231,31,0)","v":693},{"$f":"VLOOKUP(B71&D71,'[1]점검현황(금월)'!$D$7:$AH$231,17,0)","v":311},{"$f":"VLOOKUP(B71&D71,'[1]점검현황(금월)'!$D$7:$AH$231,18,0)","v":"08:30:00"},{"$f":"VLOOKUP(B71&D71,'[1]점검현황(금월)'!$D$7:$AH$231,23,0)","v":"2.12"}]
[null,"성호관",18,236,{"$f":"VLOOKUP(B72&D72,'[1]점검현황(금월)'!$D$7:$AH$231,2,0)","v":"멀티미디어"},{"$f":"VLOOKUP(B72&D72,'[1]점검현황(금월)'!$D$7:$AH$231,3,0)","v":"XU106K"},{"$f":"VLOOKUP(B72&D72,'[1]점검현황(금월)'!$D$2:$AH$231,15,0)","v":"구"},{"$f":"VLOOKUP(B72&D72,'[1]점검현황(금월)'!$D$2:$AH$231,21,0)","v":"2013-11-27"},{"$f":"VLOOKUP(B72&D72,'[1]점검현황(금월)'!$D$7:$AH$231,24,0)","v":"2014-07-12"},{"$f":"VLOOKUP(B72&D72,'[1]점검현황(금월)'!$D$7:$AH$231,19,0)","v":311},{"$f":"VLOOKUP(B72&D72,'[1]점검현황(금월)'!$D$7:$AH$231,20,0)","v":"19:20:00"},{"$f":"VLOOKUP(B72&D72,'[1]점검현황(금월)'!$D$7:$AH$231,31,0)","v":1054},{"$f":"VLOOKUP(B72&D72,'[1]점검현황(금월)'!$D$7:$AH$231,17,0)","v":311},{"$f":"VLOOKUP(B72&D72,'[1]점검현황(금월)'!$D$7:$AH$231,18,0)","v":"08:40:00"},{"$f":"VLOOKUP(B72&D72,'[1]점검현황(금월)'!$D$7:$AH$231,23,0)","v":"."}]
[null,"성호관",19,237,{"$f":"VLOOKUP(B73&D73,'[1]점검현황(금월)'!$D$7:$AH$231,2,0)","v":"멀티미디어"},{"$f":"VLOOKUP(B73&D73,'[1]점검현황(금월)'!$D$7:$AH$231,3,0)","v":"VX410Z"},{"$f":"VLOOKUP(B73&D73,'[1]점검현황(금월)'!$D$2:$AH$231,15,0)","v":"신"},{"$f":"VLOOKUP(B73&D73,'[1]점검현황(금월)'!$D$2:$AH$231,21,0)","v":"2013-09-09"},{"$f":"VLOOKUP(B73&D73,'[1]점검현황(금월)'!$D$7:$AH$231,24,0)","v":"2013-11-26"},{"$f":"VLOOKUP(B73&D73,'[1]점검현황(금월)'!$D$7:$AH$231,19,0)","v":324},{"$f":"VLOOKUP(B73&D73,'[1]점검현황(금월)'!$D$7:$AH$231,20,0)","v":"08:30:00"},{"$f":"VLOOKUP(B73&D73,'[1]점검현황(금월)'!$D$7:$AH$231,31,0)","v":291},{"$f":"VLOOKUP(B73&D73,'[1]점검현황(금월)'!$D$7:$AH$231,17,0)","v":312},{"$f":"VLOOKUP(B73&D73,'[1]점검현황(금월)'!$D$7:$AH$231,18,0)","v":"08:50:00"},{"$f":"VLOOKUP(B73&D73,'[1]점검현황(금월)'!$D$7:$AH$231,23,0)","v":"24"}]
[null,"성호관",21,304,{"$f":"VLOOKUP(B74&D74,'[1]점검현황(금월)'!$D$7:$AH$231,2,0)","v":"멀티미디어"},{"$f":"VLOOKUP(B74&D74,'[1]점검현황(금월)'!$D$7:$AH$231,3,0)","v":"VX510EA"},{"$f":"VLOOKUP(B74&D74,'[1]점검현황(금월)'!$D$2:$AH$231,15,0)","v":"구"},{"$f":"VLOOKUP(B74&D74,'[1]점검현황(금월)'!$D$2:$AH$231,21,0)","v":"2014-04-10"},{"$f":"VLOOKUP(B74&D74,'[1]점검현황(금월)'!$D$7:$AH$231,24,0)","v":"2012-11-08"},{"$f":"VLOOKUP(B74&D74,'[1]점검현황(금월)'!$D$7:$AH$231,19,0)","v":313},{"$f":"VLOOKUP(B74&D74,'[1]점검현황(금월)'!$D$7:$AH$231,20,0)","v":"13:47:00"},{"$f":"VLOOKUP(B74&D74,'[1]점검현황(금월)'!$D$7:$AH$231,31,0)","v":1474},{"$f":"VLOOKUP(B74&D74,'[1]점검현황(금월)'!$D$7:$AH$231,17,0)","v":312},{"$f":"VLOOKUP(B74&D74,'[1]점검현황(금월)'!$D$7:$AH$231,18,0)","v":"19:10:00"},{"$f":"VLOOKUP(B74&D74,'[1]점검현황(금월)'!$D$7:$AH$231,23,0)","v":"2(2),5,13"}]
[null,"성호관",22,305,{"$f":"VLOOKUP(B75&D75,'[1]점검현황(금월)'!$D$7:$AH$231,2,0)","v":"자동녹화"},{"$f":"VLOOKUP(B75&D75,'[1]점검현황(금월)'!$D$7:$AH$231,3,0)","v":"XT16KA"},{"$f":"VLOOKUP(B75&D75,'[1]점검현황(금월)'!$D$2:$AH$231,15,0)","v":"e-ST"},{"$f":"VLOOKUP(B75&D75,'[1]점검현황(금월)'!$D$2:$AH$231,21,0)","v":"2014-05-14"},{"$f":"VLOOKUP(B75&D75,'[1]점검현황(금월)'!$D$7:$AH$231,24,0)","v":"2013-05-31"},{"$f":"VLOOKUP(B75&D75,'[1]점검현황(금월)'!$D$7:$AH$231,19,0)","v":312},{"$f":"VLOOKUP(B75&D75,'[1]점검현황(금월)'!$D$7:$AH$231,20,0)","v":"19:00:00"},{"$f":"VLOOKUP(B75&D75,'[1]점검현황(금월)'!$D$7:$AH$231,31,0)","v":618},{"$f":"VLOOKUP(B75&D75,'[1]점검현황(금월)'!$D$7:$AH$231,17,0)","v":312},{"$f":"VLOOKUP(B75&D75,'[1]점검현황(금월)'!$D$7:$AH$231,18,0)","v":"19:20:00"},{"$f":"VLOOKUP(B75&D75,'[1]점검현황(금월)'!$D$7:$AH$231,23,0)","v":"5"}]
[null,"성호관",23,306,{"$f":"VLOOKUP(B76&D76,'[1]점검현황(금월)'!$D$7:$AH$231,2,0)","v":"멀티미디어"},{"$f":"VLOOKUP(B76&D76,'[1]점검현황(금월)'!$D$7:$AH$231,3,0)","v":"VX510EA"},{"$f":"VLOOKUP(B76&D76,'[1]점검현황(금월)'!$D$2:$AH$231,15,0)","v":"구"},{"$f":"VLOOKUP(B76&D76,'[1]점검현황(금월)'!$D$2:$AH$231,21,0)","v":"2014-04-07"},{"$f":"VLOOKUP(B76&D76,'[1]점검현황(금월)'!$D$7:$AH$231,24,0)","v":"2013-06-27"},{"$f":"VLOOKUP(B76&D76,'[1]점검현황(금월)'!$D$7:$AH$231,19,0)","v":325},{"$f":"VLOOKUP(B76&D76,'[1]점검현황(금월)'!$D$7:$AH$231,20,0)","v":"13:04:00"},{"$f":"VLOOKUP(B76&D76,'[1]점검현황(금월)'!$D$7:$AH$231,31,0)","v":335},{"$f":"VLOOKUP(B76&D76,'[1]점검현황(금월)'!$D$7:$AH$231,17,0)","v":312},{"$f":"VLOOKUP(B76&D76,'[1]점검현황(금월)'!$D$7:$AH$231,18,0)","v":"08:30:00"},{"$f":"VLOOKUP(B76&D76,'[1]점검현황(금월)'!$D$7:$AH$231,23,0)","v":"3,4,9,12,25"}]
[null,"성호관",24,331,{"$f":"VLOOKUP(B77&D77,'[1]점검현황(금월)'!$D$7:$AH$231,2,0)","v":"스튜디오"},{"$f":"VLOOKUP(B77&D77,'[1]점검현황(금월)'!$D$7:$AH$231,3,0)","v":"ㅡ"},{"$f":"VLOOKUP(B77&D77,'[1]점검현황(금월)'!$D$2:$AH$231,15,0)","v":0},{"$f":"VLOOKUP(B77&D77,'[1]점검현황(금월)'!$D$2:$AH$231,21,0)","v":"2012-09-21"},{"$f":"VLOOKUP(B77&D77,'[1]점검현황(금월)'!$D$7:$AH$231,24,0)","v":"2012-10-20"},{"$f":"VLOOKUP(B77&D77,'[1]점검현황(금월)'!$D$7:$AH$231,19,0)","v":312},{"$f":"VLOOKUP(B77&D77,'[1]점검현황(금월)'!$D$7:$AH$231,20,0)","v":"19:20:00"},{"$f":"VLOOKUP(B77&D77,'[1]점검현황(금월)'!$D$7:$AH$231,31,0)","v":"ㅡ"},{"$f":"VLOOKUP(B77&D77,'[1]점검현황(금월)'!$D$7:$AH$231,17,0)","v":312},{"$f":"VLOOKUP(B77&D77,'[1]점검현황(금월)'!$D$7:$AH$231,18,0)","v":"08:40:00"},{"$f":"VLOOKUP(B77&D77,'[1]점검현황(금월)'!$D$7:$AH$231,23,0)","v":"."}]
[null,"성호관",25,332,{"$f":"VLOOKUP(B78&D78,'[1]점검현황(금월)'!$D$7:$AH$231,2,0)","v":"멀티미디어"},{"$f":"VLOOKUP(B78&D78,'[1]점검현황(금월)'!$D$7:$AH$231,3,0)","v":"XU106K"},{"$f":"VLOOKUP(B78&D78,'[1]점검현황(금월)'!$D$2:$AH$231,15,0)","v":"구"},{"$f":"VLOOKUP(B78&D78,'[1]점검현황(금월)'!$D$2:$AH$231,21,0)","v":"2013-02-21"},{"$f":"VLOOKUP(B78&D78,'[1]점검현황(금월)'!$D$7:$AH$231,24,0)","v":"2012-11-23"},{"$f":"VLOOKUP(B78&D78,'[1]점검현황(금월)'!$D$7:$AH$231,19,0)","v":319},{"$f":"VLOOKUP(B78&D78,'[1]점검현황(금월)'!$D$7:$AH$231,20,0)","v":613},{"$f":"VLOOKUP(B78&D78,'[1]점검현황(금월)'!$D$7:$AH$231,31,0)","v":1676},{"$f":"VLOOKUP(B78&D78,'[1]점검현황(금월)'!$D$7:$AH$231,17,0)","v":313},{"$f":"VLOOKUP(B78&D78,'[1]점검현황(금월)'!$D$7:$AH$231,18,0)","v":"08:50:00"},{"$f":"VLOOKUP(B78&D78,'[1]점검현황(금월)'!$D$7:$AH$231,23,0)","v":"19"}]
[null,"성호관",26,333,{"$f":"VLOOKUP(B79&D79,'[1]점검현황(금월)'!$D$7:$AH$231,2,0)","v":"멀티미디어"},{"$f":"VLOOKUP(B79&D79,'[1]점검현황(금월)'!$D$7:$AH$231,3,0)","v":"XU106K"},{"$f":"VLOOKUP(B79&D79,'[1]점검현황(금월)'!$D$2:$AH$231,15,0)","v":"신"},{"$f":"VLOOKUP(B79&D79,'[1]점검현황(금월)'!$D$2:$AH$231,21,0)","v":"2014-04-12"},{"$f":"VLOOKUP(B79&D79,'[1]점검현황(금월)'!$D$7:$AH$231,24,0)","v":"2013-10-22"},{"$f":"VLOOKUP(B79&D79,'[1]점검현황(금월)'!$D$7:$AH$231,19,0)","v":313},{"$f":"VLOOKUP(B79&D79,'[1]점검현황(금월)'!$D$7:$AH$231,20,0)","v":"08:40:00"},{"$f":"VLOOKUP(B79&D79,'[1]점검현황(금월)'!$D$7:$AH$231,31,0)","v":1111},{"$f":"VLOOKUP(B79&D79,'[1]점검현황(금월)'!$D$7:$AH$231,17,0)","v":313},{"$f":"VLOOKUP(B79&D79,'[1]점검현황(금월)'!$D$7:$AH$231,18,0)","v":"19:00:00"},{"$f":"VLOOKUP(B79&D79,'[1]점검현황(금월)'!$D$7:$AH$231,23,0)","v":"."}]
[null,"성호관",27,334,{"$f":"VLOOKUP(B80&D80,'[1]점검현황(금월)'!$D$7:$AH$231,2,0)","v":"멀티미디어"},{"$f":"VLOOKUP(B80&D80,'[1]점검현황(금월)'!$D$7:$AH$231,3,0)","v":"VX410Z"},{"$f":"VLOOKUP(B80&D80,'[1]점검현황(금월)'!$D$2:$AH$231,15,0)","v":"구"},{"$f":"VLOOKUP(B80&D80,'[1]점검현황(금월)'!$D$2:$AH$231,21,0)","v":"2014-05-20"},{"$f":"VLOOKUP(B80&D80,'[1]점검현황(금월)'!$D$7:$AH$231,24,0)","v":"2012-12-12"},{"$f":"VLOOKUP(B80&D80,'[1]점검현황(금월)'!$D$7:$AH$231,19,0)","v":313},{"$f":"VLOOKUP(B80&D80,'[1]점검현황(금월)'!$D$7:$AH$231,20,0)","v":"17:21:00"},{"$f":"VLOOKUP(B80&D80,'[1]점검현황(금월)'!$D$7:$AH$231,31,0)","v":433},{"$f":"VLOOKUP(B80&D80,'[1]점검현황(금월)'!$D$7:$AH$231,17,0)","v":313},{"$f":"VLOOKUP(B80&D80,'[1]점검현황(금월)'!$D$7:$AH$231,18,0)","v":"19:10:00"},{"$f":"VLOOKUP(B80&D80,'[1]점검현황(금월)'!$D$7:$AH$231,23,0)","v":"9,11"}]
[null,"성호관",28,337,{"$f":"VLOOKUP(B81&D81,'[1]점검현황(금월)'!$D$7:$AH$231,2,0)","v":"물리학과"},{"$f":"VLOOKUP(B81&D81,'[1]점검현황(금월)'!$D$7:$AH$231,3,0)","v":"XU106K"},{"$f":"VLOOKUP(B81&D81,'[1]점검현황(금월)'!$D$2:$AH$231,15,0)","v":"구"},{"$f":"VLOOKUP(B81&D81,'[1]점검현황(금월)'!$D$2:$AH$231,21,0)","v":"2013-08-01"},{"$f":"VLOOKUP(B81&D81,'[1]점검현황(금월)'!$D$7:$AH$231,24,0)","v":"·"},{"$f":"VLOOKUP(B81&D81,'[1]점검현황(금월)'!$D$7:$AH$231,19,0)","v":313},{"$f":"VLOOKUP(B81&D81,'[1]점검현황(금월)'!$D$7:$AH$231,20,0)","v":"19:00:00"},{"$f":"VLOOKUP(B81&D81,'[1]점검현황(금월)'!$D$7:$AH$231,31,0)","v":166},{"$f":"VLOOKUP(B81&D81,'[1]점검현황(금월)'!$D$7:$AH$231,17,0)","v":313},{"$f":"VLOOKUP(B81&D81,'[1]점검현황(금월)'!$D$7:$AH$231,18,0)","v":"19:20:00"},{"$f":"VLOOKUP(B81&D81,'[1]점검현황(금월)'!$D$7:$AH$231,23,0)","v":"."}]
[null,"성호관",29,339,{"$f":"VLOOKUP(B82&D82,'[1]점검현황(금월)'!$D$7:$AH$231,2,0)","v":"대학원"},{"$f":"VLOOKUP(B82&D82,'[1]점검현황(금월)'!$D$7:$AH$231,3,0)","v":"XU106K"},{"$f":"VLOOKUP(B82&D82,'[1]점검현황(금월)'!$D$2:$AH$231,15,0)","v":"신"},{"$f":"VLOOKUP(B82&D82,'[1]점검현황(금월)'!$D$2:$AH$231,21,0)","v":"·"},{"$f":"VLOOKUP(B82&D82,'[1]점검현황(금월)'!$D$7:$AH$231,24,0)","v":"·"},{"$f":"VLOOKUP(B82&D82,'[1]점검현황(금월)'!$D$7:$AH$231,19,0)","v":313},{"$f":"VLOOKUP(B82&D82,'[1]점검현황(금월)'!$D$7:$AH$231,20,0)","v":"19:10:00"},{"$f":"VLOOKUP(B82&D82,'[1]점검현황(금월)'!$D$7:$AH$231,31,0)","v":538},{"$f":"VLOOKUP(B82&D82,'[1]점검현황(금월)'!$D$7:$AH$231,17,0)","v":313},{"$f":"VLOOKUP(B82&D82,'[1]점검현황(금월)'!$D$7:$AH$231,18,0)","v":"09:00:00"},{"$f":"VLOOKUP(B82&D82,'[1]점검현황(금월)'!$D$7:$AH$231,23,0)","v":"."}]
["원천관","원천관",1,107,{"$f":"VLOOKUP(B83&D83,'[1]점검현황(금월)'!$D$7:$AH$231,2,0)","v":"전자공학"},{"$f":"VLOOKUP(B83&D83,'[1]점검현황(금월)'!$D$7:$AH$231,3,0)","v":"XT35K"},{"$f":"VLOOKUP(B83&D83,'[1]점검현황(금월)'!$D$2:$AH$231,15,0)","v":"자체"},{"$f":"VLOOKUP(B83&D83,'[1]점검현황(금월)'!$D$2:$AH$231,21,0)","v":"2013-08-14"},{"$f":"VLOOKUP(B83&D83,'[1]점검현황(금월)'!$D$7:$AH$231,24,0)","v":"·"},{"$f":"VLOOKUP(B83&D83,'[1]점검현황(금월)'!$D$7:$AH$231,19,0)","v":313},{"$f":"VLOOKUP(B83&D83,'[1]점검현황(금월)'!$D$7:$AH$231,20,0)","v":"19:20:00"},{"$f":"VLOOKUP(B83&D83,'[1]점검현황(금월)'!$D$7:$AH$231,31,0)","v":126},{"$f":"VLOOKUP(B83&D83,'[1]점검현황(금월)'!$D$7:$AH$231,17,0)","v":313},{"$f":"VLOOKUP(B83&D83,'[1]점검현황(금월)'!$D$7:$AH$231,18,0)","v":"09:10:00"},{"$f":"VLOOKUP(B83&D83,'[1]점검현황(금월)'!$D$7:$AH$231,23,0)","v":"."}]
[null,"원천관",2,226,{"$f":"VLOOKUP(B84&D84,'[1]점검현황(금월)'!$D$7:$AH$231,2,0)","v":"전자공학"},{"$f":"VLOOKUP(B84&D84,'[1]점검현황(금월)'!$D$7:$AH$231,3,0)","v":"XU106K"},null,null,null,{"$f":"VLOOKUP(B84&D84,'[1]점검현황(금월)'!$D$7:$AH$231,19,0)","v":314},{"$f":"VLOOKUP(B84&D84,'[1]점검현황(금월)'!$D$7:$AH$231,20,0)","v":"20:20:00"},{"$f":"VLOOKUP(B84&D84,'[1]점검현황(금월)'!$D$7:$AH$231,31,0)","v":1012},{"$f":"VLOOKUP(B84&D84,'[1]점검현황(금월)'!$D$7:$AH$231,17,0)","v":314},{"$f":"VLOOKUP(B84&D84,'[1]점검현황(금월)'!$D$7:$AH$231,18,0)","v":"10:10:00"}]
[null,"원천관",3,237,{"$f":"VLOOKUP(B85&D85,'[1]점검현황(금월)'!$D$7:$AH$231,2,0)","v":"생명과학"},{"$f":"VLOOKUP(B85&D85,'[1]점검현황(금월)'!$D$7:$AH$231,3,0)","v":"XT15KA"},{"$f":"VLOOKUP(B85&D85,'[1]점검현황(금월)'!$D$2:$AH$231,15,0)","v":"구"},{"$f":"VLOOKUP(B85&D85,'[1]점검현황(금월)'!$D$2:$AH$231,21,0)","v":"2013-04-08"},{"$f":"VLOOKUP(B85&D85,'[1]점검현황(금월)'!$D$7:$AH$231,24,0)","v":"·"},{"$f":"VLOOKUP(B85&D85,'[1]점검현황(금월)'!$D$7:$AH$231,19,0)","v":314},{"$f":"VLOOKUP(B85&D85,'[1]점검현황(금월)'!$D$7:$AH$231,20,0)","v":"08:30:00"},{"$f":"VLOOKUP(B85&D85,'[1]점검현황(금월)'!$D$7:$AH$231,31,0)","v":6},{"$f":"VLOOKUP(B85&D85,'[1]점검현황(금월)'!$D$7:$AH$231,17,0)","v":314},{"$f":"VLOOKUP(B85&D85,'[1]점검현황(금월)'!$D$7:$AH$231,18,0)","v":"09:20:00"},{"$f":"VLOOKUP(B85&D85,'[1]점검현황(금월)'!$D$7:$AH$231,23,0)","v":"."}]
[null,"원천관",4,242,{"$f":"VLOOKUP(B86&D86,'[1]점검현황(금월)'!$D$7:$AH$231,2,0)","v":"대학원"},{"$f":"VLOOKUP(B86&D86,'[1]점검현황(금월)'!$D$7:$AH$231,3,0)","v":"XU301K"},{"$f":"VLOOKUP(B86&D86,'[1]점검현황(금월)'!$D$2:$AH$231,15,0)","v":"구"},{"$f":"VLOOKUP(B86&D86,'[1]점검현황(금월)'!$D$2:$AH$231,21,0)","v":"·"},{"$f":"VLOOKUP(B86&D86,'[1]점검현황(금월)'!$D$7:$AH$231,24,0)","v":"·"},{"$f":"VLOOKUP(B86&D86,'[1]점검현황(금월)'!$D$7:$AH$231,19,0)","v":314},{"$f":"VLOOKUP(B86&D86,'[1]점검현황(금월)'!$D$7:$AH$231,20,0)","v":"08:40:00"},{"$f":"VLOOKUP(B86&D86,'[1]점검현황(금월)'!$D$7:$AH$231,31,0)","v":2097},{"$f":"VLOOKUP(B86&D86,'[1]점검현황(금월)'!$D$7:$AH$231,17,0)","v":314},{"$f":"VLOOKUP(B86&D86,'[1]점검현황(금월)'!$D$7:$AH$231,18,0)","v":"09:30:00"},{"$f":"VLOOKUP(B86&D86,'[1]점검현황(금월)'!$D$7:$AH$231,23,0)","v":"."}]
[null,"원천관",5,243,{"$f":"VLOOKUP(B87&D87,'[1]점검현황(금월)'!$D$7:$AH$231,2,0)","v":"대학원"},{"$f":"VLOOKUP(B87&D87,'[1]점검현황(금월)'!$D$7:$AH$231,3,0)","v":"XU301K"},{"$f":"VLOOKUP(B87&D87,'[1]점검현황(금월)'!$D$2:$AH$231,15,0)","v":"구"},{"$f":"VLOOKUP(B87&D87,'[1]점검현황(금월)'!$D$2:$AH$231,21,0)","v":"1901-05-26"},{"$f":"VLOOKUP(B87&D87,'[1]점검현황(금월)'!$D$7:$AH$231,24,0)","v":"·"},{"$f":"VLOOKUP(B87&D87,'[1]점검현황(금월)'!$D$7:$AH$231,19,0)","v":314},{"$f":"VLOOKUP(B87&D87,'[1]점검현황(금월)'!$D$7:$AH$231,20,0)","v":"08:50:00"},{"$f":"VLOOKUP(B87&D87,'[1]점검현황(금월)'!$D$7:$AH$231,31,0)","v":3486},{"$f":"VLOOKUP(B87&D87,'[1]점검현황(금월)'!$D$7:$AH$231,17,0)","v":314},{"$f":"VLOOKUP(B87&D87,'[1]점검현황(금월)'!$D$7:$AH$231,18,0)","v":"09:40:00"},{"$f":"VLOOKUP(B87&D87,'[1]점검현황(금월)'!$D$7:$AH$231,23,0)","v":"."}]
[null,"원천관",6,251,{"$f":"VLOOKUP(B88&D88,'[1]점검현황(금월)'!$D$7:$AH$231,2,0)","v":"강당"},{"$f":"VLOOKUP(B88&D88,'[1]점검현황(금월)'!$D$7:$AH$231,3,0)","v":"DVM-O70M"},{"$f":"VLOOKUP(B88&D88,'[1]점검현황(금월)'!$D$2:$AH$231,15,0)","v":"e-ST"},{"$f":"VLOOKUP(B88&D88,'[1]점검현황(금월)'!$D$2:$AH$231,21,0)","v":"·"},{"$f":"VLOOKUP(B88&D88,'[1]점검현황(금월)'!$D$7:$AH$231,24,0)","v":"·"},{"$f":"VLOOKUP(B88&D88,'[1]점검현황(금월)'!$D$7:$AH$231,19,0)","v":325},{"$f":"VLOOKUP(B88&D88,'[1]점검현황(금월)'!$D$7:$AH$231,20,0)","v":"19:29:00"},{"$f":"VLOOKUP(B88&D88,'[1]점검현황(금월)'!$D$7:$AH$231,31,0)","v":"2511/1666"},{"$f":"VLOOKUP(B88&D88,'[1]점검현황(금월)'!$D$7:$AH$231,17,0)","v":314},{"$f":"VLOOKUP(B88&D88,'[1]점검현황(금월)'!$D$7:$AH$231,18,0)","v":"09:50:00"},{"$f":"VLOOKUP(B88&D88,'[1]점검현황(금월)'!$D$7:$AH$231,23,0)","v":"4,9(2),10,16,25"}]
[null,"원천관",7,317,{"$f":"VLOOKUP(B89&D89,'[1]점검현황(금월)'!$D$7:$AH$231,2,0)","v":"전자공학"},{"$f":"VLOOKUP(B89&D89,'[1]점검현황(금월)'!$D$7:$AH$231,3,0)","v":"XU105K"},{"$f":"VLOOKUP(B89&D89,'[1]점검현황(금월)'!$D$2:$AH$231,15,0)","v":"e-ST"},{"$f":"VLOOKUP(B89&D89,'[1]점검현황(금월)'!$D$2:$AH$231,21,0)","v":"·"},{"$f":"VLOOKUP(B89&D89,'[1]점검현황(금월)'!$D$7:$AH$231,24,0)","v":"·"},{"$f":"VLOOKUP(B89&D89,'[1]점검현황(금월)'!$D$7:$AH$231,19,0)","v":314},{"$f":"VLOOKUP(B89&D89,'[1]점검현황(금월)'!$D$7:$AH$231,20,0)","v":"19:10:00"},{"$f":"VLOOKUP(B89&D89,'[1]점검현황(금월)'!$D$7:$AH$231,31,0)","v":1300},{"$f":"VLOOKUP(B89&D89,'[1]점검현황(금월)'!$D$7:$AH$231,17,0)","v":314},{"$f":"VLOOKUP(B89&D89,'[1]점검현황(금월)'!$D$7:$AH$231,18,0)","v":"10:00:00"},{"$f":"VLOOKUP(B89&D89,'[1]점검현황(금월)'!$D$7:$AH$231,23,0)","v":"."}]
[null,"원천관",8,318,{"$f":"VLOOKUP(B90&D90,'[1]점검현황(금월)'!$D$7:$AH$231,2,0)","v":"전자공학"},{"$f":"VLOOKUP(B90&D90,'[1]점검현황(금월)'!$D$7:$AH$231,3,0)","v":"XU100K"},{"$f":"VLOOKUP(B90&D90,'[1]점검현황(금월)'!$D$2:$AH$231,15,0)","v":"e-ST"},{"$f":"VLOOKUP(B90&D90,'[1]점검현황(금월)'!$D$2:$AH$231,21,0)","v":"2010-12-27"},{"$f":"VLOOKUP(B90&D90,'[1]점검현황(금월)'!$D$7:$AH$231,24,0)","v":"2014-11-19"},{"$f":"VLOOKUP(B90&D90,'[1]점검현황(금월)'!$D$7:$AH$231,19,0)","v":314},{"$f":"VLOOKUP(B90&D90,'[1]점검현황(금월)'!$D$7:$AH$231,20,0)","v":"19:20:00"},{"$f":"VLOOKUP(B90&D90,'[1]점검현황(금월)'!$D$7:$AH$231,31,0)","v":125},{"$f":"VLOOKUP(B90&D90,'[1]점검현황(금월)'!$D$7:$AH$231,17,0)","v":314},{"$f":"VLOOKUP(B90&D90,'[1]점검현황(금월)'!$D$7:$AH$231,18,0)","v":"10:10:00"},{"$f":"VLOOKUP(B90&D90,'[1]점검현황(금월)'!$D$7:$AH$231,23,0)","v":"4"}]
[null,"원천관",9,333,{"$f":"VLOOKUP(B91&D91,'[1]점검현황(금월)'!$D$7:$AH$231,2,0)","v":"전자공학"},"XU106K",null,null,null,{"$f":"VLOOKUP(B91&D91,'[1]점검현황(금월)'!$D$7:$AH$231,19,0)","v":314},{"$f":"VLOOKUP(B91&D91,'[1]점검현황(금월)'!$D$7:$AH$231,20,0)","v":"20:20:00"},{"$f":"VLOOKUP(B91&D91,'[1]점검현황(금월)'!$D$7:$AH$231,31,0)","v":10},{"$f":"VLOOKUP(B91&D91,'[1]점검현황(금월)'!$D$7:$AH$231,17,0)","v":314},{"$f":"VLOOKUP(B91&D91,'[1]점검현황(금월)'!$D$7:$AH$231,18,0)","v":"11:10:00"}]
[null,"원천관",10,334,{"$f":"VLOOKUP(B92&D92,'[1]점검현황(금월)'!$D$7:$AH$231,2,0)","v":"전자공학"},{"$f":"VLOOKUP(B92&D92,'[1]점검현황(금월)'!$D$7:$AH$231,3,0)","v":"XU106K"},{"$f":"VLOOKUP(B92&D92,'[1]점검현황(금월)'!$D$2:$AH$231,15,0)","v":"자체"},{"$f":"VLOOKUP(B92&D92,'[1]점검현황(금월)'!$D$2:$AH$231,21,0)","v":"·"},{"$f":"VLOOKUP(B92&D92,'[1]점검현황(금월)'!$D$7:$AH$231,24,0)","v":"2014-11-19"},{"$f":"VLOOKUP(B92&D92,'[1]점검현황(금월)'!$D$7:$AH$231,19,0)","v":314},{"$f":"VLOOKUP(B92&D92,'[1]점검현황(금월)'!$D$7:$AH$231,20,0)","v":"09:00:00"},{"$f":"VLOOKUP(B92&D92,'[1]점검현황(금월)'!$D$7:$AH$231,31,0)","v":198},{"$f":"VLOOKUP(B92&D92,'[1]점검현황(금월)'!$D$7:$AH$231,17,0)","v":314},{"$f":"VLOOKUP(B92&D92,'[1]점검현황(금월)'!$D$7:$AH$231,18,0)","v":"10:20:00"},{"$f":"VLOOKUP(B92&D92,'[1]점검현황(금월)'!$D$7:$AH$231,23,0)","v":"."}]
[null,"원천관",11,340,{"$f":"VLOOKUP(B93&D93,'[1]점검현황(금월)'!$D$7:$AH$231,2,0)","v":"전자공학"},{"$f":"VLOOKUP(B93&D93,'[1]점검현황(금월)'!$D$7:$AH$231,3,0)","v":"XU106K"},{"$f":"VLOOKUP(B93&D93,'[1]점검현황(금월)'!$D$2:$AH$231,15,0)","v":"자체"},{"$f":"VLOOKUP(B93&D93,'[1]점검현황(금월)'!$D$2:$AH$231,21,0)","v":"·"},{"$f":"VLOOKUP(B93&D93,'[1]점검현황(금월)'!$D$7:$AH$231,24,0)","v":"·"},{"$f":"VLOOKUP(B93&D93,'[1]점검현황(금월)'!$D$7:$AH$231,19,0)","v":314},{"$f":"VLOOKUP(B93&D93,'[1]점검현황(금월)'!$D$7:$AH$231,20,0)","v":"09:05:00"},{"$f":"VLOOKUP(B93&D93,'[1]점검현황(금월)'!$D$7:$AH$231,31,0)","v":520},{"$f":"VLOOKUP(B93&D93,'[1]점검현황(금월)'!$D$7:$AH$231,17,0)","v":314},{"$f":"VLOOKUP(B93&D93,'[1]점검현황(금월)'!$D$7:$AH$231,18,0)","v":"10:30:00"},{"$f":"VLOOKUP(B93&D93,'[1]점검현황(금월)'!$D$7:$AH$231,23,0)","v":"."}]
[null,"원천관",12,502,{"$f":"VLOOKUP(B94&D94,'[1]점검현황(금월)'!$D$7:$AH$231,2,0)","v":"물리학과"},{"$f":"VLOOKUP(B94&D94,'[1]점검현황(금월)'!$D$7:$AH$231,3,0)","v":"XU106K"},{"$f":"VLOOKUP(B94&D94,'[1]점검현황(금월)'!$D$2:$AH$231,15,0)","v":"자체"},{"$f":"VLOOKUP(B94&D94,'[1]점검현황(금월)'!$D$2:$AH$231,21,0)","v":"·"},{"$f":"VLOOKUP(B94&D94,'[1]점검현황(금월)'!$D$7:$AH$231,24,0)","v":"·"},{"$f":"VLOOKUP(B94&D94,'[1]점검현황(금월)'!$D$7:$AH$231,19,0)","v":314},{"$f":"VLOOKUP(B94&D94,'[1]점검현황(금월)'!$D$7:$AH$231,20,0)","v":"09:10:00"},{"$f":"VLOOKUP(B94&D94,'[1]점검현황(금월)'!$D$7:$AH$231,31,0)","v":37},{"$f":"VLOOKUP(B94&D94,'[1]점검현황(금월)'!$D$7:$AH$231,17,0)","v":314},{"$f":"VLOOKUP(B94&D94,'[1]점검현황(금월)'!$D$7:$AH$231,18,0)","v":"10:40:00"},{"$f":"VLOOKUP(B94&D94,'[1]점검현황(금월)'!$D$7:$AH$231,23,0)","v":"."}]
[null,"원천관",13,503,{"$f":"VLOOKUP(B95&D95,'[1]점검현황(금월)'!$D$7:$AH$231,2,0)","v":"물리학과"},{"$f":"VLOOKUP(B95&D95,'[1]점검현황(금월)'!$D$7:$AH$231,3,0)","v":"XU106K"},{"$f":"VLOOKUP(B95&D95,'[1]점검현황(금월)'!$D$2:$AH$231,15,0)","v":"자체"},{"$f":"VLOOKUP(B95&D95,'[1]점검현황(금월)'!$D$2:$AH$231,21,0)","v":"·"},{"$f":"VLOOKUP(B95&D95,'[1]점검현황(금월)'!$D$7:$AH$231,24,0)","v":"·"},{"$f":"VLOOKUP(B95&D95,'[1]점검현황(금월)'!$D$7:$AH$231,19,0)","v":314},{"$f":"VLOOKUP(B95&D95,'[1]점검현황(금월)'!$D$7:$AH$231,20,0)","v":"09:15:00"},{"$f":"VLOOKUP(B95&D95,'[1]점검현황(금월)'!$D$7:$AH$231,31,0)","v":379},{"$f":"VLOOKUP(B95&D95,'[1]점검현황(금월)'!$D$7:$AH$231,17,0)","v":314},{"$f":"VLOOKUP(B95&D95,'[1]점검현황(금월)'!$D$7:$AH$231,18,0)","v":"10:50:00"},{"$f":"VLOOKUP(B95&D95,'[1]점검현황(금월)'!$D$7:$AH$231,23,0)","v":"."}]
[null,"원천관",14,504,{"$f":"VLOOKUP(B96&D96,'[1]점검현황(금월)'!$D$7:$AH$231,2,0)","v":"물리학과"},{"$f":"VLOOKUP(B96&D96,'[1]점검현황(금월)'!$D$7:$AH$231,3,0)","v":"XU106K"},{"$f":"VLOOKUP(B96&D96,'[1]점검현황(금월)'!$D$2:$AH$231,15,0)","v":"자체"},{"$f":"VLOOKUP(B96&D96,'[1]점검현황(금월)'!$D$2:$AH$231,21,0)","v":"·"},{"$f":"VLOOKUP(B96&D96,'[1]점검현황(금월)'!$D$7:$AH$231,24,0)","v":"·"},{"$f":"VLOOKUP(B96&D96,'[1]점검현황(금월)'!$D$7:$AH$231,19,0)","v":314},{"$f":"VLOOKUP(B96&D96,'[1]점검현황(금월)'!$D$7:$AH$231,20,0)","v":"09:20:00"},{"$f":"VLOOKUP(B96&D96,'[1]점검현황(금월)'!$D$7:$AH$231,31,0)","v":110},{"$f":"VLOOKUP(B96&D96,'[1]점검현황(금월)'!$D$7:$AH$231,17,0)","v":314},{"$f":"VLOOKUP(B96&D96,'[1]점검현황(금월)'!$D$7:$AH$231,18,0)","v":"11:00:00"},{"$f":"VLOOKUP(B96&D96,'[1]점검현황(금월)'!$D$7:$AH$231,23,0)","v":"."}]
[null,"원천관",15,505,{"$f":"VLOOKUP(B97&D97,'[1]점검현황(금월)'!$D$7:$AH$231,2,0)","v":"물리학과"},{"$f":"VLOOKUP(B97&D97,'[1]점검현황(금월)'!$D$7:$AH$231,3,0)","v":"XU106K"},{"$f":"VLOOKUP(B97&D97,'[1]점검현황(금월)'!$D$2:$AH$231,15,0)","v":"자체"},{"$f":"VLOOKUP(B97&D97,'[1]점검현황(금월)'!$D$2:$AH$231,21,0)","v":"·"},{"$f":"VLOOKUP(B97&D97,'[1]점검현황(금월)'!$D$7:$AH$231,24,0)","v":"·"},{"$f":"VLOOKUP(B97&D97,'[1]점검현황(금월)'!$D$7:$AH$231,19,0)","v":314},{"$f":"VLOOKUP(B97&D97,'[1]점검현황(금월)'!$D$7:$AH$231,20,0)","v":"09:25:00"},{"$f":"VLOOKUP(B97&D97,'[1]점검현황(금월)'!$D$7:$AH$231,31,0)","v":243},{"$f":"VLOOKUP(B97&D97,'[1]점검현황(금월)'!$D$7:$AH$231,17,0)","v":314},{"$f":"VLOOKUP(B97&D97,'[1]점검현황(금월)'!$D$7:$AH$231,18,0)","v":"11:10:00"},{"$f":"VLOOKUP(B97&D97,'[1]점검현황(금월)'!$D$7:$AH$231,23,0)","v":"."}]
[null,"원천관",16,506,{"$f":"VLOOKUP(B98&D98,'[1]점검현황(금월)'!$D$7:$AH$231,2,0)","v":"물리학과"},{"$f":"VLOOKUP(B98&D98,'[1]점검현황(금월)'!$D$7:$AH$231,3,0)","v":"XU106K"},{"$f":"VLOOKUP(B98&D98,'[1]점검현황(금월)'!$D$2:$AH$231,15,0)","v":"자체"},{"$f":"VLOOKUP(B98&D98,'[1]점검현황(금월)'!$D$2:$AH$231,21,0)","v":"·"},{"$f":"VLOOKUP(B98&D98,'[1]점검현황(금월)'!$D$7:$AH$231,24,0)","v":"·"},{"$f":"VLOOKUP(B98&D98,'[1]점검현황(금월)'!$D$7:$AH$231,19,0)","v":314},{"$f":"VLOOKUP(B98&D98,'[1]점검현황(금월)'!$D$7:$AH$231,20,0)","v":"09:30:00"},{"$f":"VLOOKUP(B98&D98,'[1]점검현황(금월)'!$D$7:$AH$231,31,0)","v":445},{"$f":"VLOOKUP(B98&D98,'[1]점검현황(금월)'!$D$7:$AH$231,17,0)","v":314},{"$f":"VLOOKUP(B98&D98,'[1]점검현황(금월)'!$D$7:$AH$231,18,0)","v":"11:20:00"},{"$f":"VLOOKUP(B98&D98,'[1]점검현황(금월)'!$D$7:$AH$231,23,0)","v":"."}]
[null,"원천관",17,507,{"$f":"VLOOKUP(B99&D99,'[1]점검현황(금월)'!$D$7:$AH$231,2,0)","v":"화학과"},{"$f":"VLOOKUP(B99&D99,'[1]점검현황(금월)'!$D$7:$AH$231,3,0)","v":"XU106K"},{"$f":"VLOOKUP(B99&D99,'[1]점검현황(금월)'!$D$2:$AH$231,15,0)","v":"구"},{"$f":"VLOOKUP(B99&D99,'[1]점검현황(금월)'!$D$2:$AH$231,21,0)","v":"2012-09-21"},{"$f":"VLOOKUP(B99&D99,'[1]점검현황(금월)'!$D$7:$AH$231,24,0)","v":"·"},{"$f":"VLOOKUP(B99&D99,'[1]점검현황(금월)'!$D$7:$AH$231,19,0)","v":314},{"$f":"VLOOKUP(B99&D99,'[1]점검현황(금월)'!$D$7:$AH$231,20,0)","v":"09:35:00"},{"$f":"VLOOKUP(B99&D99,'[1]점검현황(금월)'!$D$7:$AH$231,31,0)","v":963},{"$f":"VLOOKUP(B99&D99,'[1]점검현황(금월)'!$D$7:$AH$231,17,0)","v":314},{"$f":"VLOOKUP(B99&D99,'[1]점검현황(금월)'!$D$7:$AH$231,18,0)","v":"11:30:00"},{"$f":"VLOOKUP(B99&D99,'[1]점검현황(금월)'!$D$7:$AH$231,23,0)","v":"."}]
[null,"원천관",18,508,{"$f":"VLOOKUP(B100&D100,'[1]점검현황(금월)'!$D$7:$AH$231,2,0)","v":"전자공학"},{"$f":"VLOOKUP(B100&D100,'[1]점검현황(금월)'!$D$7:$AH$231,3,0)","v":"XU106K"},{"$f":"VLOOKUP(B100&D100,'[1]점검현황(금월)'!$D$2:$AH$231,15,0)","v":"e-ST"},{"$f":"VLOOKUP(B100&D100,'[1]점검현황(금월)'!$D$2:$AH$231,21,0)","v":"2014-07-10"},{"$f":"VLOOKUP(B100&D100,'[1]점검현황(금월)'!$D$7:$AH$231,24,0)","v":"·"},{"$f":"VLOOKUP(B100&D100,'[1]점검현황(금월)'!$D$7:$AH$231,19,0)","v":317},{"$f":"VLOOKUP(B100&D100,'[1]점검현황(금월)'!$D$7:$AH$231,20,0)","v":"09:40:00"},{"$f":"VLOOKUP(B100&D100,'[1]점검현황(금월)'!$D$7:$AH$231,31,0)","v":1620},{"$f":"VLOOKUP(B100&D100,'[1]점검현황(금월)'!$D$7:$AH$231,17,0)","v":314},{"$f":"VLOOKUP(B100&D100,'[1]점검현황(금월)'!$D$7:$AH$231,18,0)","v":"11:40:00"},{"$f":"VLOOKUP(B100&D100,'[1]점검현황(금월)'!$D$7:$AH$231,23,0)","v":"17"}]
[null,"원천관",19,509,{"$f":"VLOOKUP(B101&D101,'[1]점검현황(금월)'!$D$7:$AH$231,2,0)","v":"전자공학"},{"$f":"VLOOKUP(B101&D101,'[1]점검현황(금월)'!$D$7:$AH$231,3,0)","v":"XU106K"},{"$f":"VLOOKUP(B101&D101,'[1]점검현황(금월)'!$D$2:$AH$231,15,0)","v":"e-ST"},{"$f":"VLOOKUP(B101&D101,'[1]점검현황(금월)'!$D$2:$AH$231,21,0)","v":"2011-09-08"},{"$f":"VLOOKUP(B101&D101,'[1]점검현황(금월)'!$D$7:$AH$231,24,0)","v":"·"},{"$f":"VLOOKUP(B101&D101,'[1]점검현황(금월)'!$D$7:$AH$231,19,0)","v":314},{"$f":"VLOOKUP(B101&D101,'[1]점검현황(금월)'!$D$7:$AH$231,20,0)","v":"17:35:00"},{"$f":"VLOOKUP(B101&D101,'[1]점검현황(금월)'!$D$7:$AH$231,31,0)","v":713},{"$f":"VLOOKUP(B101&D101,'[1]점검현황(금월)'!$D$7:$AH$231,17,0)","v":314},{"$f":"VLOOKUP(B101&D101,'[1]점검현황(금월)'!$D$7:$AH$231,18,0)","v":"11:50:00"},{"$f":"VLOOKUP(B101&D101,'[1]점검현황(금월)'!$D$7:$AH$231,23,0)","v":"6(2),11"}]
[null,"원천관",20,"534-2",{"$f":"VLOOKUP(B102&D102,'[1]점검현황(금월)'!$D$7:$AH$231,2,0)","v":"생명과학"},{"$f":"VLOOKUP(B102&D102,'[1]점검현황(금월)'!$D$7:$AH$231,3,0)","v":"XU106K"},{"$f":"VLOOKUP(B102&D102,'[1]점검현황(금월)'!$D$2:$AH$231,15,0)","v":"구"},{"$f":"VLOOKUP(B102&D102,'[1]점검현황(금월)'!$D$2:$AH$231,21,0)","v":"·"},{"$f":"VLOOKUP(B102&D102,'[1]점검현황(금월)'!$D$7:$AH$231,24,0)","v":"·"},{"$f":"VLOOKUP(B102&D102,'[1]점검현황(금월)'!$D$7:$AH$231,19,0)","v":314},{"$f":"VLOOKUP(B102&D102,'[1]점검현황(금월)'!$D$7:$AH$231,20,0)","v":"09:50:00"},{"$f":"VLOOKUP(B102&D102,'[1]점검현황(금월)'!$D$7:$AH$231,31,0)","v":1050},{"$f":"VLOOKUP(B102&D102,'[1]점검현황(금월)'!$D$7:$AH$231,17,0)","v":314},{"$f":"VLOOKUP(B102&D102,'[1]점검현황(금월)'!$D$7:$AH$231,18,0)","v":"12:00:00"},{"$f":"VLOOKUP(B102&D102,'[1]점검현황(금월)'!$D$7:$AH$231,23,0)","v":"6"}]
[null,"원천관",22,535,{"$f":"VLOOKUP(B103&D103,'[1]점검현황(금월)'!$D$7:$AH$231,2,0)","v":"전자공학"},{"$f":"VLOOKUP(B103&D103,'[1]점검현황(금월)'!$D$7:$AH$231,3,0)","v":"XM150K / XM150K"},{"$f":"VLOOKUP(B103&D103,'[1]점검현황(금월)'!$D$2:$AH$231,15,0)","v":"e-ST"},{"$f":"VLOOKUP(B103&D103,'[1]점검현황(금월)'!$D$2:$AH$231,21,0)","v":"2013-01-04"},{"$f":"VLOOKUP(B103&D103,'[1]점검현황(금월)'!$D$7:$AH$231,24,0)","v":"·"},{"$f":"VLOOKUP(B103&D103,'[1]점검현황(금월)'!$D$7:$AH$231,19,0)","v":324},{"$f":"VLOOKUP(B103&D103,'[1]점검현황(금월)'!$D$7:$AH$231,20,0)","v":"10:00:00"},{"$f":"VLOOKUP(B103&D103,'[1]점검현황(금월)'!$D$7:$AH$231,31,0)","v":"709/31"},{"$f":"VLOOKUP(B103&D103,'[1]점검현황(금월)'!$D$7:$AH$231,17,0)","v":314},{"$f":"VLOOKUP(B103&D103,'[1]점검현황(금월)'!$D$7:$AH$231,18,0)","v":"13:00:00"},{"$f":"VLOOKUP(B103&D103,'[1]점검현황(금월)'!$D$7:$AH$231,23,0)","v":"4,5,24"}]
[null,"원천관",23,537,{"$f":"VLOOKUP(B104&D104,'[1]점검현황(금월)'!$D$7:$AH$231,2,0)","v":"전자공학"},{"$f":"VLOOKUP(B104&D104,'[1]점검현황(금월)'!$D$7:$AH$231,3,0)","v":"NEC-NP2000"},{"$f":"VLOOKUP(B104&D104,'[1]점검현황(금월)'!$D$2:$AH$231,15,0)","v":"자체"},{"$f":"VLOOKUP(B104&D104,'[1]점검현황(금월)'!$D$2:$AH$231,21,0)","v":"·"},{"$f":"VLOOKUP(B104&D104,'[1]점검현황(금월)'!$D$7:$AH$231,24,0)","v":"·"},{"$f":"VLOOKUP(B104&D104,'[1]점검현황(금월)'!$D$7:$AH$231,19,0)","v":316},{"$f":"VLOOKUP(B104&D104,'[1]점검현황(금월)'!$D$7:$AH$231,20,0)","v":"10:10:00"},{"$f":"VLOOKUP(B104&D104,'[1]점검현황(금월)'!$D$7:$AH$231,31,0)","v":1255},{"$f":"VLOOKUP(B104&D104,'[1]점검현황(금월)'!$D$7:$AH$231,17,0)","v":316},{"$f":"VLOOKUP(B104&D104,'[1]점검현황(금월)'!$D$7:$AH$231,18,0)","v":"13:10:00"},{"$f":"VLOOKUP(B104&D104,'[1]점검현황(금월)'!$D$7:$AH$231,23,0)","v":"4"}]
[null,"원천관",24,539,{"$f":"VLOOKUP(B105&D105,'[1]점검현황(금월)'!$D$7:$AH$231,2,0)","v":"전자공학"},{"$f":"VLOOKUP(B105&D105,'[1]점검현황(금월)'!$D$7:$AH$231,3,0)","v":"XU100K"},{"$f":"VLOOKUP(B105&D105,'[1]점검현황(금월)'!$D$2:$AH$231,15,0)","v":"자체"},{"$f":"VLOOKUP(B105&D105,'[1]점검현황(금월)'!$D$2:$AH$231,21,0)","v":"·"},{"$f":"VLOOKUP(B105&D105,'[1]점검현황(금월)'!$D$7:$AH$231,24,0)","v":"·"},{"$f":"VLOOKUP(B105&D105,'[1]점검현황(금월)'!$D$7:$AH$231,19,0)","v":316},{"$f":"VLOOKUP(B105&D105,'[1]점검현황(금월)'!$D$7:$AH$231,20,0)","v":"10:20:00"},{"$f":"VLOOKUP(B105&D105,'[1]점검현황(금월)'!$D$7:$AH$231,31,0)","v":120},{"$f":"VLOOKUP(B105&D105,'[1]점검현황(금월)'!$D$7:$AH$231,17,0)","v":316},{"$f":"VLOOKUP(B105&D105,'[1]점검현황(금월)'!$D$7:$AH$231,18,0)","v":"13:20:00"},{"$f":"VLOOKUP(B105&D105,'[1]점검현황(금월)'!$D$7:$AH$231,23,0)","v":"."}]
[null,"원천관",25,540,{"$f":"VLOOKUP(B106&D106,'[1]점검현황(금월)'!$D$7:$AH$231,2,0)","v":"PC실"},{"$f":"VLOOKUP(B106&D106,'[1]점검현황(금월)'!$D$7:$AH$231,3,0)","v":"XU105K"},{"$f":"VLOOKUP(B106&D106,'[1]점검현황(금월)'!$D$2:$AH$231,15,0)","v":"구"},{"$f":"VLOOKUP(B106&D106,'[1]점검현황(금월)'!$D$2:$AH$231,21,0)","v":"2013-02-22"},{"$f":"VLOOKUP(B106&D106,'[1]점검현황(금월)'!$D$7:$AH$231,24,0)","v":"2013-04-29"},{"$f":"VLOOKUP(B106&D106,'[1]점검현황(금월)'!$D$7:$AH$231,19,0)","v":328},{"$f":"VLOOKUP(B106&D106,'[1]점검현황(금월)'!$D$7:$AH$231,20,0)","v":"18:00:00"},{"$f":"VLOOKUP(B106&D106,'[1]점검현황(금월)'!$D$7:$AH$231,31,0)","v":878},{"$f":"VLOOKUP(B106&D106,'[1]점검현황(금월)'!$D$7:$AH$231,17,0)","v":316},{"$f":"VLOOKUP(B106&D106,'[1]점검현황(금월)'!$D$7:$AH$231,18,0)","v":"13:30:00"},{"$f":"VLOOKUP(B106&D106,'[1]점검현황(금월)'!$D$7:$AH$231,23,0)","v":"4,9,13,16,23,28"}]
["서관","서관",1,107,{"$f":"VLOOKUP(B107&D107,'[1]점검현황(금월)'!$D$7:$AH$231,2,0)","v":"멀티미디어"},{"$f":"VLOOKUP(B107&D107,'[1]점검현황(금월)'!$D$7:$AH$231,3,0)","v":"XT35K"},{"$f":"VLOOKUP(B107&D107,'[1]점검현황(금월)'!$D$2:$AH$231,15,0)","v":"e-ST"},{"$f":"VLOOKUP(B107&D107,'[1]점검현황(금월)'!$D$2:$AH$231,21,0)","v":"2015-02-28"},{"$f":"VLOOKUP(B107&D107,'[1]점검현황(금월)'!$D$7:$AH$231,24,0)","v":"2013-12-21"},{"$f":"VLOOKUP(B107&D107,'[1]점검현황(금월)'!$D$7:$AH$231,19,0)","v":316},{"$f":"VLOOKUP(B107&D107,'[1]점검현황(금월)'!$D$7:$AH$231,20,0)","v":"10:40:00"},{"$f":"VLOOKUP(B107&D107,'[1]점검현황(금월)'!$D$7:$AH$231,31,0)","v":1073},{"$f":"VLOOKUP(B107&D107,'[1]점검현황(금월)'!$D$7:$AH$231,17,0)","v":316},{"$f":"VLOOKUP(B107&D107,'[1]점검현황(금월)'!$D$7:$AH$231,18,0)","v":"13:40:00"},{"$f":"VLOOKUP(B107&D107,'[1]점검현황(금월)'!$D$7:$AH$231,23,0)","v":"17"}]
[null,"서관",2,135,{"$f":"VLOOKUP(B108&D108,'[1]점검현황(금월)'!$D$7:$AH$231,2,0)","v":"멀티미디어"},{"$f":"VLOOKUP(B108&D108,'[1]점검현황(금월)'!$D$7:$AH$231,3,0)","v":"XT35K"},{"$f":"VLOOKUP(B108&D108,'[1]점검현황(금월)'!$D$2:$AH$231,15,0)","v":"e-ST"},{"$f":"VLOOKUP(B108&D108,'[1]점검현황(금월)'!$D$2:$AH$231,21,0)","v":"3014-03-07"},{"$f":"VLOOKUP(B108&D108,'[1]점검현황(금월)'!$D$7:$AH$231,24,0)","v":"2014-03-07"},{"$f":"VLOOKUP(B108&D108,'[1]점검현황(금월)'!$D$7:$AH$231,19,0)","v":316},{"$f":"VLOOKUP(B108&D108,'[1]점검현황(금월)'!$D$7:$AH$231,20,0)","v":"10:50:00"},{"$f":"VLOOKUP(B108&D108,'[1]점검현황(금월)'!$D$7:$AH$231,31,0)","v":42},{"$f":"VLOOKUP(B108&D108,'[1]점검현황(금월)'!$D$7:$AH$231,17,0)","v":316},{"$f":"VLOOKUP(B108&D108,'[1]점검현황(금월)'!$D$7:$AH$231,18,0)","v":"08:30:00"},{"$f":"VLOOKUP(B108&D108,'[1]점검현황(금월)'!$D$7:$AH$231,23,0)","v":"19"}]
[null,"서관",3,239,{"$f":"VLOOKUP(B109&D109,'[1]점검현황(금월)'!$D$7:$AH$231,2,0)","v":"환경공학"},{"$f":"VLOOKUP(B109&D109,'[1]점검현황(금월)'!$D$7:$AH$231,3,0)","v":"XT16KA"},{"$f":"VLOOKUP(B109&D109,'[1]점검현황(금월)'!$D$2:$AH$231,15,0)","v":"구"},{"$f":"VLOOKUP(B109&D109,'[1]점검현황(금월)'!$D$2:$AH$231,21,0)","v":"2013-03-13"},{"$f":"VLOOKUP(B109&D109,'[1]점검현황(금월)'!$D$7:$AH$231,24,0)","v":"2012-07-14"},{"$f":"VLOOKUP(B109&D109,'[1]점검현황(금월)'!$D$7:$AH$231,19,0)","v":316},{"$f":"VLOOKUP(B109&D109,'[1]점검현황(금월)'!$D$7:$AH$231,20,0)","v":"11:00:00"},{"$f":"VLOOKUP(B109&D109,'[1]점검현황(금월)'!$D$7:$AH$231,31,0)","v":1079},{"$f":"VLOOKUP(B109&D109,'[1]점검현황(금월)'!$D$7:$AH$231,17,0)","v":316},{"$f":"VLOOKUP(B109&D109,'[1]점검현황(금월)'!$D$7:$AH$231,18,0)","v":"08:40:00"},{"$f":"VLOOKUP(B109&D109,'[1]점검현황(금월)'!$D$7:$AH$231,23,0)","v":"."}]
[null,"서관",4,302,{"$f":"VLOOKUP(B110&D110,'[1]점검현황(금월)'!$D$7:$AH$231,2,0)","v":"대학원"},{"$f":"VLOOKUP(B110&D110,'[1]점검현황(금월)'!$D$7:$AH$231,3,0)","v":"XU106K"},{"$f":"VLOOKUP(B110&D110,'[1]점검현황(금월)'!$D$2:$AH$231,15,0)","v":"구"},{"$f":"VLOOKUP(B110&D110,'[1]점검현황(금월)'!$D$2:$AH$231,21,0)","v":"·"},{"$f":"VLOOKUP(B110&D110,'[1]점검현황(금월)'!$D$7:$AH$231,24,0)","v":"2013-08-22"},{"$f":"VLOOKUP(B110&D110,'[1]점검현황(금월)'!$D$7:$AH$231,19,0)","v":317},{"$f":"VLOOKUP(B110&D110,'[1]점검현황(금월)'!$D$7:$AH$231,20,0)","v":"11:10:00"},{"$f":"VLOOKUP(B110&D110,'[1]점검현황(금월)'!$D$7:$AH$231,31,0)","v":1970},{"$f":"VLOOKUP(B110&D110,'[1]점검현황(금월)'!$D$7:$AH$231,17,0)","v":317},{"$f":"VLOOKUP(B110&D110,'[1]점검현황(금월)'!$D$7:$AH$231,18,0)","v":"08:50:00"},{"$f":"VLOOKUP(B110&D110,'[1]점검현황(금월)'!$D$7:$AH$231,23,0)","v":"."}]
[null,"서관",5,303,{"$f":"VLOOKUP(B111&D111,'[1]점검현황(금월)'!$D$7:$AH$231,2,0)","v":"화학공학"},{"$f":"VLOOKUP(B111&D111,'[1]점검현황(금월)'!$D$7:$AH$231,3,0)","v":"XT35K"},{"$f":"VLOOKUP(B111&D111,'[1]점검현황(금월)'!$D$2:$AH$231,15,0)","v":"구"},{"$f":"VLOOKUP(B111&D111,'[1]점검현황(금월)'!$D$2:$AH$231,21,0)","v":"2013-09-25"},{"$f":"VLOOKUP(B111&D111,'[1]점검현황(금월)'!$D$7:$AH$231,24,0)","v":"·"},{"$f":"VLOOKUP(B111&D111,'[1]점검현황(금월)'!$D$7:$AH$231,19,0)","v":317},{"$f":"VLOOKUP(B111&D111,'[1]점검현황(금월)'!$D$7:$AH$231,20,0)","v":"11:20:00"},{"$f":"VLOOKUP(B111&D111,'[1]점검현황(금월)'!$D$7:$AH$231,31,0)","v":1098},{"$f":"VLOOKUP(B111&D111,'[1]점검현황(금월)'!$D$7:$AH$231,17,0)","v":317},{"$f":"VLOOKUP(B111&D111,'[1]점검현황(금월)'!$D$7:$AH$231,18,0)","v":"19:00:00"},{"$f":"VLOOKUP(B111&D111,'[1]점검현황(금월)'!$D$7:$AH$231,23,0)","v":"."}]
[null,"서관",6,307,{"$f":"VLOOKUP(B112&D112,'[1]점검현황(금월)'!$D$7:$AH$231,2,0)","v":"기계공학"},{"$f":"VLOOKUP(B112&D112,'[1]점검현황(금월)'!$D$7:$AH$231,3,0)","v":"XU106K"},{"$f":"VLOOKUP(B112&D112,'[1]점검현황(금월)'!$D$2:$AH$231,15,0)","v":"e-ST"},{"$f":"VLOOKUP(B112&D112,'[1]점검현황(금월)'!$D$2:$AH$231,21,0)","v":"·"},{"$f":"VLOOKUP(B112&D112,'[1]점검현황(금월)'!$D$7:$AH$231,24,0)","v":"·"},{"$f":"VLOOKUP(B112&D112,'[1]점검현황(금월)'!$D$7:$AH$231,19,0)","v":317},{"$f":"VLOOKUP(B112&D112,'[1]점검현황(금월)'!$D$7:$AH$231,20,0)","v":"11:30:00"},{"$f":"VLOOKUP(B112&D112,'[1]점검현황(금월)'!$D$7:$AH$231,31,0)","v":1641},{"$f":"VLOOKUP(B112&D112,'[1]점검현황(금월)'!$D$7:$AH$231,17,0)","v":317},{"$f":"VLOOKUP(B112&D112,'[1]점검현황(금월)'!$D$7:$AH$231,18,0)","v":"19:10:00"},{"$f":"VLOOKUP(B112&D112,'[1]점검현황(금월)'!$D$7:$AH$231,23,0)","v":"."}]
[null,"서관",7,331,{"$f":"VLOOKUP(B113&D113,'[1]점검현황(금월)'!$D$7:$AH$231,2,0)","v":"멀티미디어"},{"$f":"VLOOKUP(B113&D113,'[1]점검현황(금월)'!$D$7:$AH$231,3,0)","v":"XU106K"},{"$f":"VLOOKUP(B113&D113,'[1]점검현황(금월)'!$D$2:$AH$231,15,0)","v":"e-ST"},{"$f":"VLOOKUP(B113&D113,'[1]점검현황(금월)'!$D$2:$AH$231,21,0)","v":"2014-05-21"},{"$f":"VLOOKUP(B113&D113,'[1]점검현황(금월)'!$D$7:$AH$231,24,0)","v":"2014-07-12"},{"$f":"VLOOKUP(B113&D113,'[1]점검현황(금월)'!$D$7:$AH$231,19,0)","v":321},{"$f":"VLOOKUP(B113&D113,'[1]점검현황(금월)'!$D$7:$AH$231,20,0)","v":"17:41:00"},{"$f":"VLOOKUP(B113&D113,'[1]점검현황(금월)'!$D$7:$AH$231,31,0)","v":2307},{"$f":"VLOOKUP(B113&D113,'[1]점검현황(금월)'!$D$7:$AH$231,17,0)","v":317},{"$f":"VLOOKUP(B113&D113,'[1]점검현황(금월)'!$D$7:$AH$231,18,0)","v":"19:20:00"},{"$f":"VLOOKUP(B113&D113,'[1]점검현황(금월)'!$D$7:$AH$231,23,0)","v":"9,16"}]
[null,"서관",8,332,{"$f":"VLOOKUP(B114&D114,'[1]점검현황(금월)'!$D$7:$AH$231,2,0)","v":"응 화 생"},{"$f":"VLOOKUP(B114&D114,'[1]점검현황(금월)'!$D$7:$AH$231,3,0)","v":"XU350K"},{"$f":"VLOOKUP(B114&D114,'[1]점검현황(금월)'!$D$2:$AH$231,15,0)","v":"구"},{"$f":"VLOOKUP(B114&D114,'[1]점검현황(금월)'!$D$2:$AH$231,21,0)","v":"·"},{"$f":"VLOOKUP(B114&D114,'[1]점검현황(금월)'!$D$7:$AH$231,24,0)","v":"·"},{"$f":"VLOOKUP(B114&D114,'[1]점검현황(금월)'!$D$7:$AH$231,19,0)","v":317},{"$f":"VLOOKUP(B114&D114,'[1]점검현황(금월)'!$D$7:$AH$231,20,0)","v":"11:50:00"},{"$f":"VLOOKUP(B114&D114,'[1]점검현황(금월)'!$D$7:$AH$231,31,0)","v":605},{"$f":"VLOOKUP(B114&D114,'[1]점검현황(금월)'!$D$7:$AH$231,17,0)","v":317},{"$f":"VLOOKUP(B114&D114,'[1]점검현황(금월)'!$D$7:$AH$231,18,0)","v":"08:30:00"},{"$f":"VLOOKUP(B114&D114,'[1]점검현황(금월)'!$D$7:$AH$231,23,0)","v":"."}]
[null,"서관",9,334,{"$f":"VLOOKUP(B115&D115,'[1]점검현황(금월)'!$D$7:$AH$231,2,0)","v":"멀티미디어"},{"$f":"VLOOKUP(B115&D115,'[1]점검현황(금월)'!$D$7:$AH$231,3,0)","v":"XT15KA"},{"$f":"VLOOKUP(B115&D115,'[1]점검현황(금월)'!$D$2:$AH$231,15,0)","v":"구"},{"$f":"VLOOKUP(B115&D115,'[1]점검현황(금월)'!$D$2:$AH$231,21,0)","v":"2014-03-20"},{"$f":"VLOOKUP(B115&D115,'[1]점검현황(금월)'!$D$7:$AH$231,24,0)","v":"2014-04-29"},{"$f":"VLOOKUP(B115&D115,'[1]점검현황(금월)'!$D$7:$AH$231,19,0)","v":317},{"$f":"VLOOKUP(B115&D115,'[1]점검현황(금월)'!$D$7:$AH$231,20,0)","v":"12:00:00"},{"$f":"VLOOKUP(B115&D115,'[1]점검현황(금월)'!$D$7:$AH$231,31,0)","v":880},{"$f":"VLOOKUP(B115&D115,'[1]점검현황(금월)'!$D$7:$AH$231,17,0)","v":317},{"$f":"VLOOKUP(B115&D115,'[1]점검현황(금월)'!$D$7:$AH$231,18,0)","v":"08:40:00"},{"$f":"VLOOKUP(B115&D115,'[1]점검현황(금월)'!$D$7:$AH$231,23,0)","v":"."}]
[null,"서관",10,337,{"$f":"VLOOKUP(B116&D116,'[1]점검현황(금월)'!$D$7:$AH$231,2,0)","v":"환경공학"},{"$f":"VLOOKUP(B116&D116,'[1]점검현황(금월)'!$D$7:$AH$231,3,0)","v":"XU106K"},{"$f":"VLOOKUP(B116&D116,'[1]점검현황(금월)'!$D$2:$AH$231,15,0)","v":0},{"$f":"VLOOKUP(B116&D116,'[1]점검현황(금월)'!$D$2:$AH$231,21,0)","v":"00:00:00"},{"$f":"VLOOKUP(B116&D116,'[1]점검현황(금월)'!$D$7:$AH$231,24,0)","v":"00:00:00"},{"$f":"VLOOKUP(B116&D116,'[1]점검현황(금월)'!$D$7:$AH$231,19,0)","v":317},{"$f":"VLOOKUP(B116&D116,'[1]점검현황(금월)'!$D$7:$AH$231,20,0)","v":"13:00:00"},{"$f":"VLOOKUP(B116&D116,'[1]점검현황(금월)'!$D$7:$AH$231,31,0)","v":285},{"$f":"VLOOKUP(B116&D116,'[1]점검현황(금월)'!$D$7:$AH$231,17,0)","v":317},{"$f":"VLOOKUP(B116&D116,'[1]점검현황(금월)'!$D$7:$AH$231,18,0)","v":"09:40:00"},{"$f":"VLOOKUP(B116&D116,'[1]점검현황(금월)'!$D$7:$AH$231,23,0)","v":"."}]
["동관","동관",1,"104-1",{"$f":"VLOOKUP(B117&D117,'[1]점검현황(금월)'!$D$7:$AH$231,2,0)","v":"기계공학"},{"$f":"VLOOKUP(B117&D117,'[1]점검현황(금월)'!$D$7:$AH$231,3,0)","v":"XU106K"},{"$f":"VLOOKUP(B117&D117,'[1]점검현황(금월)'!$D$2:$AH$231,15,0)","v":"구"},{"$f":"VLOOKUP(B117&D117,'[1]점검현황(금월)'!$D$2:$AH$231,21,0)","v":"·"},{"$f":"VLOOKUP(B117&D117,'[1]점검현황(금월)'!$D$7:$AH$231,24,0)","v":"·"},{"$f":"VLOOKUP(B117&D117,'[1]점검현황(금월)'!$D$7:$AH$231,19,0)","v":318},{"$f":"VLOOKUP(B117&D117,'[1]점검현황(금월)'!$D$7:$AH$231,20,0)","v":"13:00:00"},{"$f":"VLOOKUP(B117&D117,'[1]점검현황(금월)'!$D$7:$AH$231,31,0)","v":1072},{"$f":"VLOOKUP(B117&D117,'[1]점검현황(금월)'!$D$7:$AH$231,17,0)","v":318},{"$f":"VLOOKUP(B117&D117,'[1]점검현황(금월)'!$D$7:$AH$231,18,0)","v":"08:50:00"},{"$f":"VLOOKUP(B117&D117,'[1]점검현황(금월)'!$D$7:$AH$231,23,0)","v":"."}]
[null,"동관",2,"104-2",{"$f":"VLOOKUP(B118&D118,'[1]점검현황(금월)'!$D$7:$AH$231,2,0)","v":"기계공학"},{"$f":"VLOOKUP(B118&D118,'[1]점검현황(금월)'!$D$7:$AH$231,3,0)","v":"ㅡ"},{"$f":"VLOOKUP(B118&D118,'[1]점검현황(금월)'!$D$2:$AH$231,15,0)","v":0},{"$f":"VLOOKUP(B118&D118,'[1]점검현황(금월)'!$D$2:$AH$231,21,0)","v":"·"},{"$f":"VLOOKUP(B118&D118,'[1]점검현황(금월)'!$D$7:$AH$231,24,0)","v":"·"},{"$f":"VLOOKUP(B118&D118,'[1]점검현황(금월)'!$D$7:$AH$231,19,0)","v":318},{"$f":"VLOOKUP(B118&D118,'[1]점검현황(금월)'!$D$7:$AH$231,20,0)","v":"13:10:00"},{"$f":"VLOOKUP(B118&D118,'[1]점검현황(금월)'!$D$7:$AH$231,31,0)","v":"ㅡ"},{"$f":"VLOOKUP(B118&D118,'[1]점검현황(금월)'!$D$7:$AH$231,17,0)","v":318},{"$f":"VLOOKUP(B118&D118,'[1]점검현황(금월)'!$D$7:$AH$231,18,0)","v":"19:00:00"},{"$f":"VLOOKUP(B118&D118,'[1]점검현황(금월)'!$D$7:$AH$231,23,0)","v":"."}]
[null,"동관",3,"104-3",{"$f":"VLOOKUP(B119&D119,'[1]점검현황(금월)'!$D$7:$AH$231,2,0)","v":"기계공학"},{"$f":"VLOOKUP(B119&D119,'[1]점검현황(금월)'!$D$7:$AH$231,3,0)","v":"XU106K"},{"$f":"VLOOKUP(B119&D119,'[1]점검현황(금월)'!$D$2:$AH$231,15,0)","v":"구"},{"$f":"VLOOKUP(B119&D119,'[1]점검현황(금월)'!$D$2:$AH$231,21,0)","v":"·"},{"$f":"VLOOKUP(B119&D119,'[1]점검현황(금월)'!$D$7:$AH$231,24,0)","v":"·"},{"$f":"VLOOKUP(B119&D119,'[1]점검현황(금월)'!$D$7:$AH$231,19,0)","v":318},{"$f":"VLOOKUP(B119&D119,'[1]점검현황(금월)'!$D$7:$AH$231,20,0)","v":"13:20:00"},{"$f":"VLOOKUP(B119&D119,'[1]점검현황(금월)'!$D$7:$AH$231,31,0)","v":697},{"$f":"VLOOKUP(B119&D119,'[1]점검현황(금월)'!$D$7:$AH$231,17,0)","v":318},{"$f":"VLOOKUP(B119&D119,'[1]점검현황(금월)'!$D$7:$AH$231,18,0)","v":"19:10:00"},{"$f":"VLOOKUP(B119&D119,'[1]점검현황(금월)'!$D$7:$AH$231,23,0)","v":"."}]
[null,"동관",4,331,{"$f":"VLOOKUP(B120&D120,'[1]점검현황(금월)'!$D$7:$AH$231,2,0)","v":"기계공학"},{"$f":"VLOOKUP(B120&D120,'[1]점검현황(금월)'!$D$7:$AH$231,3,0)","v":"XU105K"},{"$f":"VLOOKUP(B120&D120,'[1]점검현황(금월)'!$D$2:$AH$231,15,0)","v":"자체"},{"$f":"VLOOKUP(B120&D120,'[1]점검현황(금월)'!$D$2:$AH$231,21,0)","v":"·"},{"$f":"VLOOKUP(B120&D120,'[1]점검현황(금월)'!$D$7:$AH$231,24,0)","v":"·"},{"$f":"VLOOKUP(B120&D120,'[1]점검현황(금월)'!$D$7:$AH$231,19,0)","v":321},{"$f":"VLOOKUP(B120&D120,'[1]점검현황(금월)'!$D$7:$AH$231,20,0)","v":"13:30:00"},{"$f":"VLOOKUP(B120&D120,'[1]점검현황(금월)'!$D$7:$AH$231,31,0)","v":1352},{"$f":"VLOOKUP(B120&D120,'[1]점검현황(금월)'!$D$7:$AH$231,17,0)","v":318},{"$f":"VLOOKUP(B120&D120,'[1]점검현황(금월)'!$D$7:$AH$231,18,0)","v":"19:20:00"},{"$f":"VLOOKUP(B120&D120,'[1]점검현황(금월)'!$D$7:$AH$231,23,0)","v":"."}]
["팔달관","팔달관",1,107,{"$f":"VLOOKUP(B121&D121,'[1]점검현황(금월)'!$D$7:$AH$231,2,0)","v":"자동녹화"},{"$f":"VLOOKUP(B121&D121,'[1]점검현황(금월)'!$D$7:$AH$231,3,0)","v":"XT35K"},{"$f":"VLOOKUP(B121&D121,'[1]점검현황(금월)'!$D$2:$AH$231,15,0)","v":"e-ST"},{"$f":"VLOOKUP(B121&D121,'[1]점검현황(금월)'!$D$2:$AH$231,21,0)","v":"2013-10-28"},{"$f":"VLOOKUP(B121&D121,'[1]점검현황(금월)'!$D$7:$AH$231,24,0)","v":"2013-08-22"},{"$f":"VLOOKUP(B121&D121,'[1]점검현황(금월)'!$D$7:$AH$231,19,0)","v":326},{"$f":"VLOOKUP(B121&D121,'[1]점검현황(금월)'!$D$7:$AH$231,20,0)","v":"13:40:00"},{"$f":"VLOOKUP(B121&D121,'[1]점검현황(금월)'!$D$7:$AH$231,31,0)","v":1805},{"$f":"VLOOKUP(B121&D121,'[1]점검현황(금월)'!$D$7:$AH$231,17,0)","v":318},{"$f":"VLOOKUP(B121&D121,'[1]점검현황(금월)'!$D$7:$AH$231,18,0)","v":"08:30:00"},{"$f":"VLOOKUP(B121&D121,'[1]점검현황(금월)'!$D$7:$AH$231,23,0)","v":"16,26"}]
[null,"팔달관",2,108,{"$f":"VLOOKUP(B122&D122,'[1]점검현황(금월)'!$D$7:$AH$231,2,0)","v":"멀티미디어"},{"$f":"VLOOKUP(B122&D122,'[1]점검현황(금월)'!$D$7:$AH$231,3,0)","v":"XT35K"},{"$f":"VLOOKUP(B122&D122,'[1]점검현황(금월)'!$D$2:$AH$231,15,0)","v":"e-ST"},{"$f":"VLOOKUP(B122&D122,'[1]점검현황(금월)'!$D$2:$AH$231,21,0)","v":"2014-10-31"},{"$f":"VLOOKUP(B122&D122,'[1]점검현황(금월)'!$D$7:$AH$231,24,0)","v":"2014-10-31"},{"$f":"VLOOKUP(B122&D122,'[1]점검현황(금월)'!$D$7:$AH$231,19,0)","v":318},{"$f":"VLOOKUP(B122&D122,'[1]점검현황(금월)'!$D$7:$AH$231,20,0)","v":"17:28:00"},{"$f":"VLOOKUP(B122&D122,'[1]점검현황(금월)'!$D$7:$AH$231,31,0)","v":812},{"$f":"VLOOKUP(B122&D122,'[1]점검현황(금월)'!$D$7:$AH$231,17,0)","v":318},{"$f":"VLOOKUP(B122&D122,'[1]점검현황(금월)'!$D$7:$AH$231,18,0)","v":"08:40:00"},{"$f":"VLOOKUP(B122&D122,'[1]점검현황(금월)'!$D$7:$AH$231,23,0)","v":"11,12"}]
[null,"팔달관",3,110,{"$f":"VLOOKUP(B123&D123,'[1]점검현황(금월)'!$D$7:$AH$231,2,0)","v":"자동녹화"},{"$f":"VLOOKUP(B123&D123,'[1]점검현황(금월)'!$D$7:$AH$231,3,0)","v":"VX510EA"},{"$f":"VLOOKUP(B123&D123,'[1]점검현황(금월)'!$D$2:$AH$231,15,0)","v":"e-ST"},{"$f":"VLOOKUP(B123&D123,'[1]점검현황(금월)'!$D$2:$AH$231,21,0)","v":"2014-04-07"},{"$f":"VLOOKUP(B123&D123,'[1]점검현황(금월)'!$D$7:$AH$231,24,0)","v":"2014-02-13"},{"$f":"VLOOKUP(B123&D123,'[1]점검현황(금월)'!$D$7:$AH$231,19,0)","v":327},{"$f":"VLOOKUP(B123&D123,'[1]점검현황(금월)'!$D$7:$AH$231,20,0)","v":"14:00:00"},{"$f":"VLOOKUP(B123&D123,'[1]점검현황(금월)'!$D$7:$AH$231,31,0)","v":33},{"$f":"VLOOKUP(B123&D123,'[1]점검현황(금월)'!$D$7:$AH$231,17,0)","v":318},{"$f":"VLOOKUP(B123&D123,'[1]점검현황(금월)'!$D$7:$AH$231,18,0)","v":"08:50:00"},{"$f":"VLOOKUP(B123&D123,'[1]점검현황(금월)'!$D$7:$AH$231,23,0)","v":"3,4,16,27"}]
[null,"팔달관",4,111,{"$f":"VLOOKUP(B124&D124,'[1]점검현황(금월)'!$D$7:$AH$231,2,0)","v":"멀티미디어"},{"$f":"VLOOKUP(B124&D124,'[1]점검현황(금월)'!$D$7:$AH$231,3,0)","v":"XT35K"},{"$f":"VLOOKUP(B124&D124,'[1]점검현황(금월)'!$D$2:$AH$231,15,0)","v":"e-ST"},{"$f":"VLOOKUP(B124&D124,'[1]점검현황(금월)'!$D$2:$AH$231,21,0)","v":"2014-10-10"},{"$f":"VLOOKUP(B124&D124,'[1]점검현황(금월)'!$D$7:$AH$231,24,0)","v":"2014-10-10"},{"$f":"VLOOKUP(B124&D124,'[1]점검현황(금월)'!$D$7:$AH$231,19,0)","v":318},{"$f":"VLOOKUP(B124&D124,'[1]점검현황(금월)'!$D$7:$AH$231,20,0)","v":"11:30:00"},{"$f":"VLOOKUP(B124&D124,'[1]점검현황(금월)'!$D$7:$AH$231,31,0)","v":785},{"$f":"VLOOKUP(B124&D124,'[1]점검현황(금월)'!$D$7:$AH$231,17,0)","v":318},{"$f":"VLOOKUP(B124&D124,'[1]점검현황(금월)'!$D$7:$AH$231,18,0)","v":"19:00:00"},{"$f":"VLOOKUP(B124&D124,'[1]점검현황(금월)'!$D$7:$AH$231,23,0)","v":"10,11"}]
[null,"팔달관",5,207,{"$f":"VLOOKUP(B125&D125,'[1]점검현황(금월)'!$D$7:$AH$231,2,0)","v":"신소재"},{"$f":"VLOOKUP(B125&D125,'[1]점검현황(금월)'!$D$7:$AH$231,3,0)","v":"XU106K"},{"$f":"VLOOKUP(B125&D125,'[1]점검현황(금월)'!$D$2:$AH$231,15,0)","v":"구"},{"$f":"VLOOKUP(B125&D125,'[1]점검현황(금월)'!$D$2:$AH$231,21,0)","v":"2013-03-13"},{"$f":"VLOOKUP(B125&D125,'[1]점검현황(금월)'!$D$7:$AH$231,24,0)","v":"·"},{"$f":"VLOOKUP(B125&D125,'[1]점검현황(금월)'!$D$7:$AH$231,19,0)","v":327},{"$f":"VLOOKUP(B125&D125,'[1]점검현황(금월)'!$D$7:$AH$231,20,0)","v":"08:40:00"},{"$f":"VLOOKUP(B125&D125,'[1]점검현황(금월)'!$D$7:$AH$231,31,0)","v":2110},{"$f":"VLOOKUP(B125&D125,'[1]점검현황(금월)'!$D$7:$AH$231,17,0)","v":319},{"$f":"VLOOKUP(B125&D125,'[1]점검현황(금월)'!$D$7:$AH$231,18,0)","v":"19:10:00"},{"$f":"VLOOKUP(B125&D125,'[1]점검현황(금월)'!$D$7:$AH$231,23,0)","v":"27"}]
[null,"팔달관",6,211,{"$f":"VLOOKUP(B126&D126,'[1]점검현황(금월)'!$D$7:$AH$231,2,0)","v":"교통시스템"},{"$f":"VLOOKUP(B126&D126,'[1]점검현황(금월)'!$D$7:$AH$231,3,0)","v":"XU106K"},{"$f":"VLOOKUP(B126&D126,'[1]점검현황(금월)'!$D$2:$AH$231,15,0)","v":"신"},{"$f":"VLOOKUP(B126&D126,'[1]점검현황(금월)'!$D$2:$AH$231,21,0)","v":"2013-03-13"},{"$f":"VLOOKUP(B126&D126,'[1]점검현황(금월)'!$D$7:$AH$231,24,0)","v":"·"},{"$f":"VLOOKUP(B126&D126,'[1]점검현황(금월)'!$D$7:$AH$231,19,0)","v":319},{"$f":"VLOOKUP(B126&D126,'[1]점검현황(금월)'!$D$7:$AH$231,20,0)","v":"08:50:00"},{"$f":"VLOOKUP(B126&D126,'[1]점검현황(금월)'!$D$7:$AH$231,31,0)","v":1806},{"$f":"VLOOKUP(B126&D126,'[1]점검현황(금월)'!$D$7:$AH$231,17,0)","v":319},{"$f":"VLOOKUP(B126&D126,'[1]점검현황(금월)'!$D$7:$AH$231,18,0)","v":"19:20:00"},{"$f":"VLOOKUP(B126&D126,'[1]점검현황(금월)'!$D$7:$AH$231,23,0)","v":"."}]
[null,"팔달관",7,307,{"$f":"VLOOKUP(B127&D127,'[1]점검현황(금월)'!$D$7:$AH$231,2,0)","v":"산업정보"},{"$f":"VLOOKUP(B127&D127,'[1]점검현황(금월)'!$D$7:$AH$231,3,0)","v":"XT35K"},{"$f":"VLOOKUP(B127&D127,'[1]점검현황(금월)'!$D$2:$AH$231,15,0)","v":"구"},{"$f":"VLOOKUP(B127&D127,'[1]점검현황(금월)'!$D$2:$AH$231,21,0)","v":"2013-05-08"},{"$f":"VLOOKUP(B127&D127,'[1]점검현황(금월)'!$D$7:$AH$231,24,0)","v":"2012-12-03"},{"$f":"VLOOKUP(B127&D127,'[1]점검현황(금월)'!$D$7:$AH$231,19,0)","v":319},{"$f":"VLOOKUP(B127&D127,'[1]점검현황(금월)'!$D$7:$AH$231,20,0)","v":"19:00:00"},{"$f":"VLOOKUP(B127&D127,'[1]점검현황(금월)'!$D$7:$AH$231,31,0)","v":1216},{"$f":"VLOOKUP(B127&D127,'[1]점검현황(금월)'!$D$7:$AH$231,17,0)","v":319},{"$f":"VLOOKUP(B127&D127,'[1]점검현황(금월)'!$D$7:$AH$231,18,0)","v":"08:30:00"},{"$f":"VLOOKUP(B127&D127,'[1]점검현황(금월)'!$D$7:$AH$231,23,0)","v":"19"}]
[null,"팔달관",8,308,{"$f":"VLOOKUP(B128&D128,'[1]점검현황(금월)'!$D$7:$AH$231,2,0)","v":"생명공학"},{"$f":"VLOOKUP(B128&D128,'[1]점검현황(금월)'!$D$7:$AH$231,3,0)","v":"XU106K"},{"$f":"VLOOKUP(B128&D128,'[1]점검현황(금월)'!$D$2:$AH$231,15,0)","v":"구"},{"$f":"VLOOKUP(B128&D128,'[1]점검현황(금월)'!$D$2:$AH$231,21,0)","v":"2014-11-07"},{"$f":"VLOOKUP(B128&D128,'[1]점검현황(금월)'!$D$7:$AH$231,24,0)","v":"2014-12-06"},{"$f":"VLOOKUP(B128&D128,'[1]점검현황(금월)'!$D$7:$AH$231,19,0)","v":319},{"$f":"VLOOKUP(B128&D128,'[1]점검현황(금월)'!$D$7:$AH$231,20,0)","v":"19:10:00"},{"$f":"VLOOKUP(B128&D128,'[1]점검현황(금월)'!$D$7:$AH$231,31,0)","v":210},{"$f":"VLOOKUP(B128&D128,'[1]점검현황(금월)'!$D$7:$AH$231,17,0)","v":319},{"$f":"VLOOKUP(B128&D128,'[1]점검현황(금월)'!$D$7:$AH$231,18,0)","v":"08:40:00"},{"$f":"VLOOKUP(B128&D128,'[1]점검현황(금월)'!$D$7:$AH$231,23,0)","v":"."}]
[null,"팔달관",9,309,{"$f":"VLOOKUP(B129&D129,'[1]점검현황(금월)'!$D$7:$AH$231,2,0)","v":"정 통 컴"},{"$f":"VLOOKUP(B129&D129,'[1]점검현황(금월)'!$D$7:$AH$231,3,0)","v":"XT35K"},{"$f":"VLOOKUP(B129&D129,'[1]점검현황(금월)'!$D$2:$AH$231,15,0)","v":"구"},{"$f":"VLOOKUP(B129&D129,'[1]점검현황(금월)'!$D$2:$AH$231,21,0)","v":"2010-04-01"},{"$f":"VLOOKUP(B129&D129,'[1]점검현황(금월)'!$D$7:$AH$231,24,0)","v":"2014-12-09"},{"$f":"VLOOKUP(B129&D129,'[1]점검현황(금월)'!$D$7:$AH$231,19,0)","v":319},{"$f":"VLOOKUP(B129&D129,'[1]점검현황(금월)'!$D$7:$AH$231,20,0)","v":"19:20:00"},{"$f":"VLOOKUP(B129&D129,'[1]점검현황(금월)'!$D$7:$AH$231,31,0)","v":2287},{"$f":"VLOOKUP(B129&D129,'[1]점검현황(금월)'!$D$7:$AH$231,17,0)","v":319},{"$f":"VLOOKUP(B129&D129,'[1]점검현황(금월)'!$D$7:$AH$231,18,0)","v":"08:50:00"},{"$f":"VLOOKUP(B129&D129,'[1]점검현황(금월)'!$D$7:$AH$231,23,0)","v":"3"}]
[null,"팔달관",10,310,{"$f":"VLOOKUP(B130&D130,'[1]점검현황(금월)'!$D$7:$AH$231,2,0)","v":"건설시스템"},{"$f":"VLOOKUP(B130&D130,'[1]점검현황(금월)'!$D$7:$AH$231,3,0)","v":"XU106K"},{"$f":"VLOOKUP(B130&D130,'[1]점검현황(금월)'!$D$2:$AH$231,15,0)","v":"구"},{"$f":"VLOOKUP(B130&D130,'[1]점검현황(금월)'!$D$2:$AH$231,21,0)","v":"2013-09-23"},{"$f":"VLOOKUP(B130&D130,'[1]점검현황(금월)'!$D$7:$AH$231,24,0)","v":"·"},{"$f":"VLOOKUP(B130&D130,'[1]점검현황(금월)'!$D$7:$AH$231,19,0)","v":319},{"$f":"VLOOKUP(B130&D130,'[1]점검현황(금월)'!$D$7:$AH$231,20,0)","v":"08:30:00"},{"$f":"VLOOKUP(B130&D130,'[1]점검현황(금월)'!$D$7:$AH$231,31,0)","v":1092},{"$f":"VLOOKUP(B130&D130,'[1]점검현황(금월)'!$D$7:$AH$231,17,0)","v":319},{"$f":"VLOOKUP(B130&D130,'[1]점검현황(금월)'!$D$7:$AH$231,18,0)","v":"19:00:00"},{"$f":"VLOOKUP(B130&D130,'[1]점검현황(금월)'!$D$7:$AH$231,23,0)","v":"."}]
[null,"팔달관",11,311,{"$f":"VLOOKUP(B131&D131,'[1]점검현황(금월)'!$D$7:$AH$231,2,0)","v":"수학과 LAB"},{"$f":"VLOOKUP(B131&D131,'[1]점검현황(금월)'!$D$7:$AH$231,3,0)","v":"XU105K"},{"$f":"VLOOKUP(B131&D131,'[1]점검현황(금월)'!$D$2:$AH$231,15,0)","v":"e-ST"},{"$f":"VLOOKUP(B131&D131,'[1]점검현황(금월)'!$D$2:$AH$231,21,0)","v":"·"},{"$f":"VLOOKUP(B131&D131,'[1]점검현황(금월)'!$D$7:$AH$231,24,0)","v":"·"},{"$f":"VLOOKUP(B131&D131,'[1]점검현황(금월)'!$D$7:$AH$231,19,0)","v":319},{"$f":"VLOOKUP(B131&D131,'[1]점검현황(금월)'!$D$7:$AH$231,20,0)","v":"18:42:00"},{"$f":"VLOOKUP(B131&D131,'[1]점검현황(금월)'!$D$7:$AH$231,31,0)","v":1001},{"$f":"VLOOKUP(B131&D131,'[1]점검현황(금월)'!$D$7:$AH$231,17,0)","v":319},{"$f":"VLOOKUP(B131&D131,'[1]점검현황(금월)'!$D$7:$AH$231,18,0)","v":"19:10:00"},{"$f":"VLOOKUP(B131&D131,'[1]점검현황(금월)'!$D$7:$AH$231,23,0)","v":"12"}]
[null,"팔달관",12,318,{"$f":"VLOOKUP(B132&D132,'[1]점검현황(금월)'!$D$7:$AH$231,2,0)","v":"정 통 컴"},{"$f":"VLOOKUP(B132&D132,'[1]점검현황(금월)'!$D$7:$AH$231,3,0)","v":"XT35K"},{"$f":"VLOOKUP(B132&D132,'[1]점검현황(금월)'!$D$2:$AH$231,15,0)","v":"모든넷"},{"$f":"VLOOKUP(B132&D132,'[1]점검현황(금월)'!$D$2:$AH$231,21,0)","v":"2013-06-07"},{"$f":"VLOOKUP(B132&D132,'[1]점검현황(금월)'!$D$7:$AH$231,24,0)","v":"·"},{"$f":"VLOOKUP(B132&D132,'[1]점검현황(금월)'!$D$7:$AH$231,19,0)","v":320},{"$f":"VLOOKUP(B132&D132,'[1]점검현황(금월)'!$D$7:$AH$231,20,0)","v":"08:50:00"},{"$f":"VLOOKUP(B132&D132,'[1]점검현황(금월)'!$D$7:$AH$231,31,0)","v":369},{"$f":"VLOOKUP(B132&D132,'[1]점검현황(금월)'!$D$7:$AH$231,17,0)","v":320},{"$f":"VLOOKUP(B132&D132,'[1]점검현황(금월)'!$D$7:$AH$231,18,0)","v":"19:20:00"},{"$f":"VLOOKUP(B132&D132,'[1]점검현황(금월)'!$D$7:$AH$231,23,0)","v":"4"}]
[null,"팔달관",13,325,{"$f":"VLOOKUP(B133&D133,'[1]점검현황(금월)'!$D$7:$AH$231,2,0)","v":"정 통 컴"},{"$f":"VLOOKUP(B133&D133,'[1]점검현황(금월)'!$D$7:$AH$231,3,0)","v":"XT35K"},{"$f":"VLOOKUP(B133&D133,'[1]점검현황(금월)'!$D$2:$AH$231,15,0)","v":"e-ST"},{"$f":"VLOOKUP(B133&D133,'[1]점검현황(금월)'!$D$2:$AH$231,21,0)","v":"2013-06-07"},{"$f":"VLOOKUP(B133&D133,'[1]점검현황(금월)'!$D$7:$AH$231,24,0)","v":"·"},{"$f":"VLOOKUP(B133&D133,'[1]점검현황(금월)'!$D$7:$AH$231,19,0)","v":320},{"$f":"VLOOKUP(B133&D133,'[1]점검현황(금월)'!$D$7:$AH$231,20,0)","v":"14:05:00"},{"$f":"VLOOKUP(B133&D133,'[1]점검현황(금월)'!$D$7:$AH$231,31,0)","v":680},{"$f":"VLOOKUP(B133&D133,'[1]점검현황(금월)'!$D$7:$AH$231,17,0)","v":320},{"$f":"VLOOKUP(B133&D133,'[1]점검현황(금월)'!$D$7:$AH$231,18,0)","v":"08:30:00"},{"$f":"VLOOKUP(B133&D133,'[1]점검현황(금월)'!$D$7:$AH$231,23,0)","v":"11(2),12,13,16,18,20"}]
[null,"팔달관",14,328,{"$f":"VLOOKUP(B134&D134,'[1]점검현황(금월)'!$D$7:$AH$231,2,0)","v":"정 통 컴"},{"$f":"VLOOKUP(B134&D134,'[1]점검현황(금월)'!$D$7:$AH$231,3,0)","v":"XT35K"},{"$f":"VLOOKUP(B134&D134,'[1]점검현황(금월)'!$D$2:$AH$231,15,0)","v":"모든넷"},{"$f":"VLOOKUP(B134&D134,'[1]점검현황(금월)'!$D$2:$AH$231,21,0)","v":"2013-07-08"},{"$f":"VLOOKUP(B134&D134,'[1]점검현황(금월)'!$D$7:$AH$231,24,0)","v":"·"},{"$f":"VLOOKUP(B134&D134,'[1]점검현황(금월)'!$D$7:$AH$231,19,0)","v":323},{"$f":"VLOOKUP(B134&D134,'[1]점검현황(금월)'!$D$7:$AH$231,20,0)","v":"19:10:00"},{"$f":"VLOOKUP(B134&D134,'[1]점검현황(금월)'!$D$7:$AH$231,31,0)","v":"철거"},{"$f":"VLOOKUP(B134&D134,'[1]점검현황(금월)'!$D$7:$AH$231,17,0)","v":320},{"$f":"VLOOKUP(B134&D134,'[1]점검현황(금월)'!$D$7:$AH$231,18,0)","v":"08:40:00"},{"$f":"VLOOKUP(B134&D134,'[1]점검현황(금월)'!$D$7:$AH$231,23,0)","v":"23"}]
[null,"팔달관",15,334,{"$f":"VLOOKUP(B135&D135,'[1]점검현황(금월)'!$D$7:$AH$231,2,0)","v":"정 통 컴"},{"$f":"VLOOKUP(B135&D135,'[1]점검현황(금월)'!$D$7:$AH$231,3,0)","v":"ㅡ"},{"$f":"VLOOKUP(B135&D135,'[1]점검현황(금월)'!$D$2:$AH$231,15,0)","v":"자체"},{"$f":"VLOOKUP(B135&D135,'[1]점검현황(금월)'!$D$2:$AH$231,21,0)","v":"·"},{"$f":"VLOOKUP(B135&D135,'[1]점검현황(금월)'!$D$7:$AH$231,24,0)","v":"·"},{"$f":"VLOOKUP(B135&D135,'[1]점검현황(금월)'!$D$7:$AH$231,19,0)","v":326},{"$f":"VLOOKUP(B135&D135,'[1]점검현황(금월)'!$D$7:$AH$231,20,0)","v":"19:20:00"},{"$f":"VLOOKUP(B135&D135,'[1]점검현황(금월)'!$D$7:$AH$231,31,0)","v":"철거"},{"$f":"VLOOKUP(B135&D135,'[1]점검현황(금월)'!$D$7:$AH$231,17,0)","v":320},{"$f":"VLOOKUP(B135&D135,'[1]점검현황(금월)'!$D$7:$AH$231,18,0)","v":"08:50:00"},{"$f":"VLOOKUP(B135&D135,'[1]점검현황(금월)'!$D$7:$AH$231,23,0)","v":"4(2),26"}]
[null,"팔달관",16,336,{"$f":"VLOOKUP(B136&D136,'[1]점검현황(금월)'!$D$7:$AH$231,2,0)","v":"정 통 컴"},{"$f":"VLOOKUP(B136&D136,'[1]점검현황(금월)'!$D$7:$AH$231,3,0)","v":"XT35K"},{"$f":"VLOOKUP(B136&D136,'[1]점검현황(금월)'!$D$2:$AH$231,15,0)","v":"자체"},{"$f":"VLOOKUP(B136&D136,'[1]점검현황(금월)'!$D$2:$AH$231,21,0)","v":"2013-06-07"},{"$f":"VLOOKUP(B136&D136,'[1]점검현황(금월)'!$D$7:$AH$231,24,0)","v":"·"},{"$f":"VLOOKUP(B136&D136,'[1]점검현황(금월)'!$D$7:$AH$231,19,0)","v":320},{"$f":"VLOOKUP(B136&D136,'[1]점검현황(금월)'!$D$7:$AH$231,20,0)","v":"08:30:00"},{"$f":"VLOOKUP(B136&D136,'[1]점검현황(금월)'!$D$7:$AH$231,31,0)","v":322},{"$f":"VLOOKUP(B136&D136,'[1]점검현황(금월)'!$D$7:$AH$231,17,0)","v":320},{"$f":"VLOOKUP(B136&D136,'[1]점검현황(금월)'!$D$7:$AH$231,18,0)","v":"19:00:00"},{"$f":"VLOOKUP(B136&D136,'[1]점검현황(금월)'!$D$7:$AH$231,23,0)","v":"."}]
[null,"팔달관",17,407,{"$f":"VLOOKUP(B137&D137,'[1]점검현황(금월)'!$D$7:$AH$231,2,0)","v":"SW특성화대학원"},{"$f":"VLOOKUP(B137&D137,'[1]점검현황(금월)'!$D$7:$AH$231,3,0)","v":"EX600 / EX600 / EX600"},{"$f":"VLOOKUP(B137&D137,'[1]점검현황(금월)'!$D$2:$AH$231,15,0)","v":"e-ST"},{"$f":"VLOOKUP(B137&D137,'[1]점검현황(금월)'!$D$2:$AH$231,21,0)","v":"2011-04-14"},{"$f":"VLOOKUP(B137&D137,'[1]점검현황(금월)'!$D$7:$AH$231,24,0)","v":"2011-05-31"},{"$f":"VLOOKUP(B137&D137,'[1]점검현황(금월)'!$D$7:$AH$231,19,0)","v":320},{"$f":"VLOOKUP(B137&D137,'[1]점검현황(금월)'!$D$7:$AH$231,20,0)","v":"08:40:00"},{"$f":"VLOOKUP(B137&D137,'[1]점검현황(금월)'!$D$7:$AH$231,31,0)","v":"998/725/416"},{"$f":"VLOOKUP(B137&D137,'[1]점검현황(금월)'!$D$7:$AH$231,17,0)","v":320},{"$f":"VLOOKUP(B137&D137,'[1]점검현황(금월)'!$D$7:$AH$231,18,0)","v":"19:10:00"},{"$f":"VLOOKUP(B137&D137,'[1]점검현황(금월)'!$D$7:$AH$231,23,0)","v":"."}]
[null,"팔달관",18,409,{"$f":"VLOOKUP(B138&D138,'[1]점검현황(금월)'!$D$7:$AH$231,2,0)","v":"SW특성화대학원"},{"$f":"VLOOKUP(B138&D138,'[1]점검현황(금월)'!$D$7:$AH$231,3,0)","v":"XU106K"},{"$f":"VLOOKUP(B138&D138,'[1]점검현황(금월)'!$D$2:$AH$231,15,0)","v":"신"},{"$f":"VLOOKUP(B138&D138,'[1]점검현황(금월)'!$D$2:$AH$231,21,0)","v":"2014-05-23"},{"$f":"VLOOKUP(B138&D138,'[1]점검현황(금월)'!$D$7:$AH$231,24,0)","v":"·"},{"$f":"VLOOKUP(B138&D138,'[1]점검현황(금월)'!$D$7:$AH$231,19,0)","v":320},{"$f":"VLOOKUP(B138&D138,'[1]점검현황(금월)'!$D$7:$AH$231,20,0)","v":"08:50:00"},{"$f":"VLOOKUP(B138&D138,'[1]점검현황(금월)'!$D$7:$AH$231,31,0)","v":579},{"$f":"VLOOKUP(B138&D138,'[1]점검현황(금월)'!$D$7:$AH$231,17,0)","v":320},{"$f":"VLOOKUP(B138&D138,'[1]점검현황(금월)'!$D$7:$AH$231,18,0)","v":"19:20:00"},{"$f":"VLOOKUP(B138&D138,'[1]점검현황(금월)'!$D$7:$AH$231,23,0)","v":"."}]
[null,"팔달관",19,410,{"$f":"VLOOKUP(B139&D139,'[1]점검현황(금월)'!$D$7:$AH$231,2,0)","v":"정 통 컴"},{"$f":"VLOOKUP(B139&D139,'[1]점검현황(금월)'!$D$7:$AH$231,3,0)","v":"XU106K"},{"$f":"VLOOKUP(B139&D139,'[1]점검현황(금월)'!$D$2:$AH$231,15,0)","v":"임"},{"$f":"VLOOKUP(B139&D139,'[1]점검현황(금월)'!$D$2:$AH$231,21,0)","v":"·"},{"$f":"VLOOKUP(B139&D139,'[1]점검현황(금월)'!$D$7:$AH$231,24,0)","v":"·"},{"$f":"VLOOKUP(B139&D139,'[1]점검현황(금월)'!$D$7:$AH$231,19,0)","v":320},{"$f":"VLOOKUP(B139&D139,'[1]점검현황(금월)'!$D$7:$AH$231,20,0)","v":"09:00:00"},{"$f":"VLOOKUP(B139&D139,'[1]점검현황(금월)'!$D$7:$AH$231,31,0)","v":974},{"$f":"VLOOKUP(B139&D139,'[1]점검현황(금월)'!$D$7:$AH$231,17,0)","v":320},{"$f":"VLOOKUP(B139&D139,'[1]점검현황(금월)'!$D$7:$AH$231,18,0)","v":"09:00:00"},{"$f":"VLOOKUP(B139&D139,'[1]점검현황(금월)'!$D$7:$AH$231,23,0)","v":"6"}]
[null,"팔달관",20,415,{"$f":"VLOOKUP(B140&D140,'[1]점검현황(금월)'!$D$7:$AH$231,2,0)","v":"교통시스템"},{"$f":"VLOOKUP(B140&D140,'[1]점검현황(금월)'!$D$7:$AH$231,3,0)","v":"XU100K"},{"$f":"VLOOKUP(B140&D140,'[1]점검현황(금월)'!$D$2:$AH$231,15,0)","v":"자체"},{"$f":"VLOOKUP(B140&D140,'[1]점검현황(금월)'!$D$2:$AH$231,21,0)","v":"·"},{"$f":"VLOOKUP(B140&D140,'[1]점검현황(금월)'!$D$7:$AH$231,24,0)","v":"·"},{"$f":"VLOOKUP(B140&D140,'[1]점검현황(금월)'!$D$7:$AH$231,19,0)","v":321},{"$f":"VLOOKUP(B140&D140,'[1]점검현황(금월)'!$D$7:$AH$231,20,0)","v":"09:10:00"},{"$f":"VLOOKUP(B140&D140,'[1]점검현황(금월)'!$D$7:$AH$231,31,0)","v":488},{"$f":"VLOOKUP(B140&D140,'[1]점검현황(금월)'!$D$7:$AH$231,17,0)","v":321},{"$f":"VLOOKUP(B140&D140,'[1]점검현황(금월)'!$D$7:$AH$231,18,0)","v":"09:10:00"},{"$f":"VLOOKUP(B140&D140,'[1]점검현황(금월)'!$D$7:$AH$231,23,0)","v":"."}]
[null,"팔달관",21,621,{"$f":"VLOOKUP(B141&D141,'[1]점검현황(금월)'!$D$7:$AH$231,2,0)","v":"수학과 LAB"},{"$f":"VLOOKUP(B141&D141,'[1]점검현황(금월)'!$D$7:$AH$231,3,0)","v":"EPSON EB-G5900"},{"$f":"VLOOKUP(B141&D141,'[1]점검현황(금월)'!$D$2:$AH$231,15,0)","v":"e-ST"},{"$f":"VLOOKUP(B141&D141,'[1]점검현황(금월)'!$D$2:$AH$231,21,0)","v":"·"},{"$f":"VLOOKUP(B141&D141,'[1]점검현황(금월)'!$D$7:$AH$231,24,0)","v":"·"},{"$f":"VLOOKUP(B141&D141,'[1]점검현황(금월)'!$D$7:$AH$231,19,0)","v":321},{"$f":"VLOOKUP(B141&D141,'[1]점검현황(금월)'!$D$7:$AH$231,20,0)","v":"19:00:00"},{"$f":"VLOOKUP(B141&D141,'[1]점검현황(금월)'!$D$7:$AH$231,31,0)","v":256},{"$f":"VLOOKUP(B141&D141,'[1]점검현황(금월)'!$D$7:$AH$231,17,0)","v":321},{"$f":"VLOOKUP(B141&D141,'[1]점검현황(금월)'!$D$7:$AH$231,18,0)","v":"09:20:00"},{"$f":"VLOOKUP(B141&D141,'[1]점검현황(금월)'!$D$7:$AH$231,23,0)","v":"."}]
[null,"팔달관",22,735,{"$f":"VLOOKUP(B142&D142,'[1]점검현황(금월)'!$D$7:$AH$231,2,0)","v":"대학원"},{"$f":"VLOOKUP(B142&D142,'[1]점검현황(금월)'!$D$7:$AH$231,3,0)","v":"XU106K"},{"$f":"VLOOKUP(B142&D142,'[1]점검현황(금월)'!$D$2:$AH$231,15,0)","v":"구"},{"$f":"VLOOKUP(B142&D142,'[1]점검현황(금월)'!$D$2:$AH$231,21,0)","v":"·"},{"$f":"VLOOKUP(B142&D142,'[1]점검현황(금월)'!$D$7:$AH$231,24,0)","v":"2013-04-27"},{"$f":"VLOOKUP(B142&D142,'[1]점검현황(금월)'!$D$7:$AH$231,19,0)","v":321},{"$f":"VLOOKUP(B142&D142,'[1]점검현황(금월)'!$D$7:$AH$231,20,0)","v":"19:10:00"},{"$f":"VLOOKUP(B142&D142,'[1]점검현황(금월)'!$D$7:$AH$231,31,0)","v":1801},{"$f":"VLOOKUP(B142&D142,'[1]점검현황(금월)'!$D$7:$AH$231,17,0)","v":321},{"$f":"VLOOKUP(B142&D142,'[1]점검현황(금월)'!$D$7:$AH$231,18,0)","v":"09:30:00"},{"$f":"VLOOKUP(B142&D142,'[1]점검현황(금월)'!$D$7:$AH$231,23,0)","v":"2,6"}]
[null,"팔달관",23,1001,{"$f":"VLOOKUP(B143&D143,'[1]점검현황(금월)'!$D$7:$AH$231,2,0)","v":"대학원"},{"$f":"VLOOKUP(B143&D143,'[1]점검현황(금월)'!$D$7:$AH$231,3,0)","v":"XU106K"},{"$f":"VLOOKUP(B143&D143,'[1]점검현황(금월)'!$D$2:$AH$231,15,0)","v":"구"},{"$f":"VLOOKUP(B143&D143,'[1]점검현황(금월)'!$D$2:$AH$231,21,0)","v":"2013-05-03"},{"$f":"VLOOKUP(B143&D143,'[1]점검현황(금월)'!$D$7:$AH$231,24,0)","v":"2012-09-11"},{"$f":"VLOOKUP(B143&D143,'[1]점검현황(금월)'!$D$7:$AH$231,19,0)","v":321},{"$f":"VLOOKUP(B143&D143,'[1]점검현황(금월)'!$D$7:$AH$231,20,0)","v":"19:20:00"},{"$f":"VLOOKUP(B143&D143,'[1]점검현황(금월)'!$D$7:$AH$231,31,0)","v":1211},{"$f":"VLOOKUP(B143&D143,'[1]점검현황(금월)'!$D$7:$AH$231,17,0)","v":321},{"$f":"VLOOKUP(B143&D143,'[1]점검현황(금월)'!$D$7:$AH$231,18,0)","v":"09:40:00"},{"$f":"VLOOKUP(B143&D143,'[1]점검현황(금월)'!$D$7:$AH$231,23,0)","v":"."}]
[null,"팔달관",24,1002,{"$f":"VLOOKUP(B144&D144,'[1]점검현황(금월)'!$D$7:$AH$231,2,0)","v":"대학원"},{"$f":"VLOOKUP(B144&D144,'[1]점검현황(금월)'!$D$7:$AH$231,3,0)","v":"XU106K"},{"$f":"VLOOKUP(B144&D144,'[1]점검현황(금월)'!$D$2:$AH$231,15,0)","v":"구"},{"$f":"VLOOKUP(B144&D144,'[1]점검현황(금월)'!$D$2:$AH$231,21,0)","v":"2014-07-04"},{"$f":"VLOOKUP(B144&D144,'[1]점검현황(금월)'!$D$7:$AH$231,24,0)","v":"2013-06-24"},{"$f":"VLOOKUP(B144&D144,'[1]점검현황(금월)'!$D$7:$AH$231,19,0)","v":321},{"$f":"VLOOKUP(B144&D144,'[1]점검현황(금월)'!$D$7:$AH$231,20,0)","v":"08:30:00"},{"$f":"VLOOKUP(B144&D144,'[1]점검현황(금월)'!$D$7:$AH$231,31,0)","v":375},{"$f":"VLOOKUP(B144&D144,'[1]점검현황(금월)'!$D$7:$AH$231,17,0)","v":321},{"$f":"VLOOKUP(B144&D144,'[1]점검현황(금월)'!$D$7:$AH$231,18,0)","v":"09:50:00"},{"$f":"VLOOKUP(B144&D144,'[1]점검현황(금월)'!$D$7:$AH$231,23,0)","v":"."}]
[null,"팔달관",25,1003,{"$f":"VLOOKUP(B145&D145,'[1]점검현황(금월)'!$D$7:$AH$231,2,0)","v":"SW특성화대학원"},{"$f":"VLOOKUP(B145&D145,'[1]점검현황(금월)'!$D$7:$AH$231,3,0)","v":"XU106K"},{"$f":"VLOOKUP(B145&D145,'[1]점검현황(금월)'!$D$2:$AH$231,15,0)","v":"구"},{"$f":"VLOOKUP(B145&D145,'[1]점검현황(금월)'!$D$2:$AH$231,21,0)","v":"·"},{"$f":"VLOOKUP(B145&D145,'[1]점검현황(금월)'!$D$7:$AH$231,24,0)","v":"·"},{"$f":"VLOOKUP(B145&D145,'[1]점검현황(금월)'!$D$7:$AH$231,19,0)","v":321},{"$f":"VLOOKUP(B145&D145,'[1]점검현황(금월)'!$D$7:$AH$231,20,0)","v":"08:40:00"},{"$f":"VLOOKUP(B145&D145,'[1]점검현황(금월)'!$D$7:$AH$231,31,0)","v":1591},{"$f":"VLOOKUP(B145&D145,'[1]점검현황(금월)'!$D$7:$AH$231,17,0)","v":321},{"$f":"VLOOKUP(B145&D145,'[1]점검현황(금월)'!$D$7:$AH$231,18,0)","v":"10:00:00"},{"$f":"VLOOKUP(B145&D145,'[1]점검현황(금월)'!$D$7:$AH$231,23,0)","v":"."}]
[null,"팔달관",26,1020,{"$f":"VLOOKUP(B146&D146,'[1]점검현황(금월)'!$D$7:$AH$231,2,0)","v":"건설교통 (CAD실)"},{"$f":"VLOOKUP(B146&D146,'[1]점검현황(금월)'!$D$7:$AH$231,3,0)","v":"PT-VX400"},{"$f":"VLOOKUP(B146&D146,'[1]점검현황(금월)'!$D$2:$AH$231,15,0)","v":"구"},{"$f":"VLOOKUP(B146&D146,'[1]점검현황(금월)'!$D$2:$AH$231,21,0)","v":"2013-03-13"},{"$f":"VLOOKUP(B146&D146,'[1]점검현황(금월)'!$D$7:$AH$231,24,0)","v":"·"},{"$f":"VLOOKUP(B146&D146,'[1]점검현황(금월)'!$D$7:$AH$231,19,0)","v":321},{"$f":"VLOOKUP(B146&D146,'[1]점검현황(금월)'!$D$7:$AH$231,20,0)","v":"08:50:00"},{"$f":"VLOOKUP(B146&D146,'[1]점검현황(금월)'!$D$7:$AH$231,31,0)","v":304},{"$f":"VLOOKUP(B146&D146,'[1]점검현황(금월)'!$D$7:$AH$231,17,0)","v":321},{"$f":"VLOOKUP(B146&D146,'[1]점검현황(금월)'!$D$7:$AH$231,18,0)","v":"10:10:00"},{"$f":"VLOOKUP(B146&D146,'[1]점검현황(금월)'!$D$7:$AH$231,23,0)","v":"."}]
[null,"팔달관",27,1024,{"$f":"VLOOKUP(B147&D147,'[1]점검현황(금월)'!$D$7:$AH$231,2,0)","v":"토목공학 (CAD실)"},{"$f":"VLOOKUP(B147&D147,'[1]점검현황(금월)'!$D$7:$AH$231,3,0)","v":"XT15KA"},{"$f":"VLOOKUP(B147&D147,'[1]점검현황(금월)'!$D$2:$AH$231,15,0)","v":"구"},{"$f":"VLOOKUP(B147&D147,'[1]점검현황(금월)'!$D$2:$AH$231,21,0)","v":"·"},{"$f":"VLOOKUP(B147&D147,'[1]점검현황(금월)'!$D$7:$AH$231,24,0)","v":"·"},{"$f":"VLOOKUP(B147&D147,'[1]점검현황(금월)'!$D$7:$AH$231,19,0)","v":321},{"$f":"VLOOKUP(B147&D147,'[1]점검현황(금월)'!$D$7:$AH$231,20,0)","v":"19:00:00"},{"$f":"VLOOKUP(B147&D147,'[1]점검현황(금월)'!$D$7:$AH$231,31,0)","v":933},{"$f":"VLOOKUP(B147&D147,'[1]점검현황(금월)'!$D$7:$AH$231,17,0)","v":321},{"$f":"VLOOKUP(B147&D147,'[1]점검현황(금월)'!$D$7:$AH$231,18,0)","v":"10:20:00"},{"$f":"VLOOKUP(B147&D147,'[1]점검현황(금월)'!$D$7:$AH$231,23,0)","v":"."}]
[null,"팔달관",28,1025,{"$f":"VLOOKUP(B148&D148,'[1]점검현황(금월)'!$D$7:$AH$231,2,0)","v":"정 통 컴"},{"$f":"VLOOKUP(B148&D148,'[1]점검현황(금월)'!$D$7:$AH$231,3,0)","v":"XT35K"},{"$f":"VLOOKUP(B148&D148,'[1]점검현황(금월)'!$D$2:$AH$231,15,0)","v":"자체"},{"$f":"VLOOKUP(B148&D148,'[1]점검현황(금월)'!$D$2:$AH$231,21,0)","v":"2011-12-07"},{"$f":"VLOOKUP(B148&D148,'[1]점검현황(금월)'!$D$7:$AH$231,24,0)","v":"·"},{"$f":"VLOOKUP(B148&D148,'[1]점검현황(금월)'!$D$7:$AH$231,19,0)","v":321},{"$f":"VLOOKUP(B148&D148,'[1]점검현황(금월)'!$D$7:$AH$231,20,0)","v":"19:10:00"},{"$f":"VLOOKUP(B148&D148,'[1]점검현황(금월)'!$D$7:$AH$231,31,0)","v":948},{"$f":"VLOOKUP(B148&D148,'[1]점검현황(금월)'!$D$7:$AH$231,17,0)","v":321},{"$f":"VLOOKUP(B148&D148,'[1]점검현황(금월)'!$D$7:$AH$231,18,0)","v":"10:30:00"},{"$f":"VLOOKUP(B148&D148,'[1]점검현황(금월)'!$D$7:$AH$231,23,0)","v":"."}]
["산학원","산학원",1,"B103",{"$f":"VLOOKUP(B149&D149,'[1]점검현황(금월)'!$D$7:$AH$231,2,0)","v":"미디어"},{"$f":"VLOOKUP(B149&D149,'[1]점검현황(금월)'!$D$7:$AH$231,3,0)","v":"EX500E / EX500E"},{"$f":"VLOOKUP(B149&D149,'[1]점검현황(금월)'!$D$2:$AH$231,15,0)","v":"e-ST"},{"$f":"VLOOKUP(B149&D149,'[1]점검현황(금월)'!$D$2:$AH$231,21,0)","v":"·"},{"$f":"VLOOKUP(B149&D149,'[1]점검현황(금월)'!$D$7:$AH$231,24,0)","v":"·"},{"$f":"VLOOKUP(B149&D149,'[1]점검현황(금월)'!$D$7:$AH$231,19,0)","v":321},{"$f":"VLOOKUP(B149&D149,'[1]점검현황(금월)'!$D$7:$AH$231,20,0)","v":"19:20:00"},{"$f":"VLOOKUP(B149&D149,'[1]점검현황(금월)'!$D$7:$AH$231,31,0)","v":"1530/1612"},{"$f":"VLOOKUP(B149&D149,'[1]점검현황(금월)'!$D$7:$AH$231,17,0)","v":321},{"$f":"VLOOKUP(B149&D149,'[1]점검현황(금월)'!$D$7:$AH$231,18,0)","v":"10:40:00"},{"$f":"VLOOKUP(B149&D149,'[1]점검현황(금월)'!$D$7:$AH$231,23,0)","v":"."}]
[null,"산학원",2,415,{"$f":"VLOOKUP(B150&D150,'[1]점검현황(금월)'!$D$7:$AH$231,2,0)","v":"미디어 (PC실)"},{"$f":"VLOOKUP(B150&D150,'[1]점검현황(금월)'!$D$7:$AH$231,3,0)","v":"XU106K"},{"$f":"VLOOKUP(B150&D150,'[1]점검현황(금월)'!$D$2:$AH$231,15,0)","v":"자체"},{"$f":"VLOOKUP(B150&D150,'[1]점검현황(금월)'!$D$2:$AH$231,21,0)","v":"·"},{"$f":"VLOOKUP(B150&D150,'[1]점검현황(금월)'!$D$7:$AH$231,24,0)","v":"·"},{"$f":"VLOOKUP(B150&D150,'[1]점검현황(금월)'!$D$7:$AH$231,19,0)","v":321},{"$f":"VLOOKUP(B150&D150,'[1]점검현황(금월)'!$D$7:$AH$231,20,0)","v":"08:30:00"},{"$f":"VLOOKUP(B150&D150,'[1]점검현황(금월)'!$D$7:$AH$231,31,0)","v":1707},{"$f":"VLOOKUP(B150&D150,'[1]점검현황(금월)'!$D$7:$AH$231,17,0)","v":321},{"$f":"VLOOKUP(B150&D150,'[1]점검현황(금월)'!$D$7:$AH$231,18,0)","v":"10:50:00"},{"$f":"VLOOKUP(B150&D150,'[1]점검현황(금월)'!$D$7:$AH$231,23,0)","v":"."}]
[null,"산학원",3,419,{"$f":"VLOOKUP(B151&D151,'[1]점검현황(금월)'!$D$7:$AH$231,2,0)","v":"미디어 (PC실)"},{"$f":"VLOOKUP(B151&D151,'[1]점검현황(금월)'!$D$7:$AH$231,3,0)","v":"EX500E"},{"$f":"VLOOKUP(B151&D151,'[1]점검현황(금월)'!$D$2:$AH$231,15,0)","v":"자체"},{"$f":"VLOOKUP(B151&D151,'[1]점검현황(금월)'!$D$2:$AH$231,21,0)","v":"·"},{"$f":"VLOOKUP(B151&D151,'[1]점검현황(금월)'!$D$7:$AH$231,24,0)","v":"·"},{"$f":"VLOOKUP(B151&D151,'[1]점검현황(금월)'!$D$7:$AH$231,19,0)","v":321},{"$f":"VLOOKUP(B151&D151,'[1]점검현황(금월)'!$D$7:$AH$231,20,0)","v":"08:40:00"},{"$f":"VLOOKUP(B151&D151,'[1]점검현황(금월)'!$D$7:$AH$231,31,0)","v":888},{"$f":"VLOOKUP(B151&D151,'[1]점검현황(금월)'!$D$7:$AH$231,17,0)","v":321},{"$f":"VLOOKUP(B151&D151,'[1]점검현황(금월)'!$D$7:$AH$231,18,0)","v":"11:00:00"},{"$f":"VLOOKUP(B151&D151,'[1]점검현황(금월)'!$D$7:$AH$231,23,0)","v":"."}]
[null,"산학원",4,420,{"$f":"VLOOKUP(B152&D152,'[1]점검현황(금월)'!$D$7:$AH$231,2,0)","v":"미디어 (PC실)"},{"$f":"VLOOKUP(B152&D152,'[1]점검현황(금월)'!$D$7:$AH$231,3,0)","v":"EX500E"},{"$f":"VLOOKUP(B152&D152,'[1]점검현황(금월)'!$D$2:$AH$231,15,0)","v":"자체"},{"$f":"VLOOKUP(B152&D152,'[1]점검현황(금월)'!$D$2:$AH$231,21,0)","v":"·"},{"$f":"VLOOKUP(B152&D152,'[1]점검현황(금월)'!$D$7:$AH$231,24,0)","v":"·"},{"$f":"VLOOKUP(B152&D152,'[1]점검현황(금월)'!$D$7:$AH$231,19,0)","v":321},{"$f":"VLOOKUP(B152&D152,'[1]점검현황(금월)'!$D$7:$AH$231,20,0)","v":"08:50:00"},{"$f":"VLOOKUP(B152&D152,'[1]점검현황(금월)'!$D$7:$AH$231,31,0)","v":981},{"$f":"VLOOKUP(B152&D152,'[1]점검현황(금월)'!$D$7:$AH$231,17,0)","v":321},{"$f":"VLOOKUP(B152&D152,'[1]점검현황(금월)'!$D$7:$AH$231,18,0)","v":"11:10:00"},{"$f":"VLOOKUP(B152&D152,'[1]점검현황(금월)'!$D$7:$AH$231,23,0)","v":"."}]
[null,"산학원",5,421,{"$f":"VLOOKUP(B153&D153,'[1]점검현황(금월)'!$D$7:$AH$231,2,0)","v":"미디어 (PC실)"},{"$f":"VLOOKUP(B153&D153,'[1]점검현황(금월)'!$D$7:$AH$231,3,0)","v":"XU106K"},{"$f":"VLOOKUP(B153&D153,'[1]점검현황(금월)'!$D$2:$AH$231,15,0)","v":"자체"},{"$f":"VLOOKUP(B153&D153,'[1]점검현황(금월)'!$D$2:$AH$231,21,0)","v":"2014-04-01"},{"$f":"VLOOKUP(B153&D153,'[1]점검현황(금월)'!$D$7:$AH$231,24,0)","v":"·"},{"$f":"VLOOKUP(B153&D153,'[1]점검현황(금월)'!$D$7:$AH$231,19,0)","v":321},{"$f":"VLOOKUP(B153&D153,'[1]점검현황(금월)'!$D$7:$AH$231,20,0)","v":"19:00:00"},{"$f":"VLOOKUP(B153&D153,'[1]점검현황(금월)'!$D$7:$AH$231,31,0)","v":310},{"$f":"VLOOKUP(B153&D153,'[1]점검현황(금월)'!$D$7:$AH$231,17,0)","v":321},{"$f":"VLOOKUP(B153&D153,'[1]점검현황(금월)'!$D$7:$AH$231,18,0)","v":"11:20:00"},{"$f":"VLOOKUP(B153&D153,'[1]점검현황(금월)'!$D$7:$AH$231,23,0)","v":"."}]
[null,"산학원",6,422,{"$f":"VLOOKUP(B154&D154,'[1]점검현황(금월)'!$D$7:$AH$231,2,0)","v":"미디어"},{"$f":"VLOOKUP(B154&D154,'[1]점검현황(금월)'!$D$7:$AH$231,3,0)","v":"XU105K"},{"$f":"VLOOKUP(B154&D154,'[1]점검현황(금월)'!$D$2:$AH$231,15,0)","v":"e-ST"},{"$f":"VLOOKUP(B154&D154,'[1]점검현황(금월)'!$D$2:$AH$231,21,0)","v":"2014-06-10"},{"$f":"VLOOKUP(B154&D154,'[1]점검현황(금월)'!$D$7:$AH$231,24,0)","v":"2012-07-28"},{"$f":"VLOOKUP(B154&D154,'[1]점검현황(금월)'!$D$7:$AH$231,19,0)","v":321},{"$f":"VLOOKUP(B154&D154,'[1]점검현황(금월)'!$D$7:$AH$231,20,0)","v":"19:10:00"},{"$f":"VLOOKUP(B154&D154,'[1]점검현황(금월)'!$D$7:$AH$231,31,0)","v":84},{"$f":"VLOOKUP(B154&D154,'[1]점검현황(금월)'!$D$7:$AH$231,17,0)","v":321},{"$f":"VLOOKUP(B154&D154,'[1]점검현황(금월)'!$D$7:$AH$231,18,0)","v":"11:30:00"},{"$f":"VLOOKUP(B154&D154,'[1]점검현황(금월)'!$D$7:$AH$231,23,0)","v":"."}]
[null,"산학원",7,"422-1",{"$f":"VLOOKUP(B155&D155,'[1]점검현황(금월)'!$D$7:$AH$231,2,0)","v":"미디어"},{"$f":"VLOOKUP(B155&D155,'[1]점검현황(금월)'!$D$7:$AH$231,3,0)","v":"SHARP"},{"$f":"VLOOKUP(B155&D155,'[1]점검현황(금월)'!$D$2:$AH$231,15,0)","v":"자체"},{"$f":"VLOOKUP(B155&D155,'[1]점검현황(금월)'!$D$2:$AH$231,21,0)","v":"·"},{"$f":"VLOOKUP(B155&D155,'[1]점검현황(금월)'!$D$7:$AH$231,24,0)","v":"·"},{"$f":"VLOOKUP(B155&D155,'[1]점검현황(금월)'!$D$7:$AH$231,19,0)","v":321},{"$f":"VLOOKUP(B155&D155,'[1]점검현황(금월)'!$D$7:$AH$231,20,0)","v":"19:20:00"},{"$f":"VLOOKUP(B155&D155,'[1]점검현황(금월)'!$D$7:$AH$231,31,0)","v":752},{"$f":"VLOOKUP(B155&D155,'[1]점검현황(금월)'!$D$7:$AH$231,17,0)","v":321},{"$f":"VLOOKUP(B155&D155,'[1]점검현황(금월)'!$D$7:$AH$231,18,0)","v":"11:40:00"},{"$f":"VLOOKUP(B155&D155,'[1]점검현황(금월)'!$D$7:$AH$231,23,0)","v":"."}]
[null,"산학원",8,504,{"$f":"VLOOKUP(B156&D156,'[1]점검현황(금월)'!$D$7:$AH$231,2,0)","v":"대학원지식정보안학과"},{"$f":"VLOOKUP(B156&D156,'[1]점검현황(금월)'!$D$7:$AH$231,3,0)","v":"XU106K"},{"$f":"VLOOKUP(B156&D156,'[1]점검현황(금월)'!$D$2:$AH$231,15,0)","v":0},{"$f":"VLOOKUP(B156&D156,'[1]점검현황(금월)'!$D$2:$AH$231,21,0)","v":"·"},{"$f":"VLOOKUP(B156&D156,'[1]점검현황(금월)'!$D$7:$AH$231,24,0)","v":"2013-09-10"},{"$f":"VLOOKUP(B156&D156,'[1]점검현황(금월)'!$D$7:$AH$231,19,0)","v":321},{"$f":"VLOOKUP(B156&D156,'[1]점검현황(금월)'!$D$7:$AH$231,20,0)","v":"09:00:00"},{"$f":"VLOOKUP(B156&D156,'[1]점검현황(금월)'!$D$7:$AH$231,31,0)","v":1486},{"$f":"VLOOKUP(B156&D156,'[1]점검현황(금월)'!$D$7:$AH$231,17,0)","v":321},{"$f":"VLOOKUP(B156&D156,'[1]점검현황(금월)'!$D$7:$AH$231,18,0)","v":"11:50:00"},{"$f":"VLOOKUP(B156&D156,'[1]점검현황(금월)'!$D$7:$AH$231,23,0)","v":"."}]
[null,"산학원",9,505,{"$f":"VLOOKUP(B157&D157,'[1]점검현황(금월)'!$D$7:$AH$231,2,0)","v":"대학원지식정보안학과"},{"$f":"VLOOKUP(B157&D157,'[1]점검현황(금월)'!$D$7:$AH$231,3,0)","v":"XU106K"},{"$f":"VLOOKUP(B157&D157,'[1]점검현황(금월)'!$D$2:$AH$231,15,0)","v":0},{"$f":"VLOOKUP(B157&D157,'[1]점검현황(금월)'!$D$2:$AH$231,21,0)","v":"·"},{"$f":"VLOOKUP(B157&D157,'[1]점검현황(금월)'!$D$7:$AH$231,24,0)","v":"2012-07-14"},{"$f":"VLOOKUP(B157&D157,'[1]점검현황(금월)'!$D$7:$AH$231,19,0)","v":321},{"$f":"VLOOKUP(B157&D157,'[1]점검현황(금월)'!$D$7:$AH$231,20,0)","v":"09:10:00"},{"$f":"VLOOKUP(B157&D157,'[1]점검현황(금월)'!$D$7:$AH$231,31,0)","v":984},{"$f":"VLOOKUP(B157&D157,'[1]점검현황(금월)'!$D$7:$AH$231,17,0)","v":321},{"$f":"VLOOKUP(B157&D157,'[1]점검현황(금월)'!$D$7:$AH$231,18,0)","v":"12:00:00"},{"$f":"VLOOKUP(B157&D157,'[1]점검현황(금월)'!$D$7:$AH$231,23,0)","v":"."}]
[null,"산학원",10,713,{"$f":"VLOOKUP(B158&D158,'[1]점검현황(금월)'!$D$7:$AH$231,2,0)","v":"회의실"},{"$f":"VLOOKUP(B158&D158,'[1]점검현황(금월)'!$D$7:$AH$231,3,0)","v":"XT15KS"},{"$f":"VLOOKUP(B158&D158,'[1]점검현황(금월)'!$D$2:$AH$231,15,0)","v":0},{"$f":"VLOOKUP(B158&D158,'[1]점검현황(금월)'!$D$2:$AH$231,21,0)","v":"·"},{"$f":"VLOOKUP(B158&D158,'[1]점검현황(금월)'!$D$7:$AH$231,24,0)","v":"2013-01-30"},{"$f":"VLOOKUP(B158&D158,'[1]점검현황(금월)'!$D$7:$AH$231,19,0)","v":321},{"$f":"VLOOKUP(B158&D158,'[1]점검현황(금월)'!$D$7:$AH$231,20,0)","v":"09:20:00"},{"$f":"VLOOKUP(B158&D158,'[1]점검현황(금월)'!$D$7:$AH$231,31,0)","v":1340},{"$f":"VLOOKUP(B158&D158,'[1]점검현황(금월)'!$D$7:$AH$231,17,0)","v":321},{"$f":"VLOOKUP(B158&D158,'[1]점검현황(금월)'!$D$7:$AH$231,18,0)","v":"13:00:00"},{"$f":"VLOOKUP(B158&D158,'[1]점검현황(금월)'!$D$7:$AH$231,23,0)","v":"."}]
[null,"산학원",11,825,{"$f":"VLOOKUP(B159&D159,'[1]점검현황(금월)'!$D$7:$AH$231,2,0)","v":"전공 - 건축"},{"$f":"VLOOKUP(B159&D159,'[1]점검현황(금월)'!$D$7:$AH$231,3,0)","v":"XU100K"},{"$f":"VLOOKUP(B159&D159,'[1]점검현황(금월)'!$D$2:$AH$231,15,0)","v":"구"},{"$f":"VLOOKUP(B159&D159,'[1]점검현황(금월)'!$D$2:$AH$231,21,0)","v":"2012-01-18"},{"$f":"VLOOKUP(B159&D159,'[1]점검현황(금월)'!$D$7:$AH$231,24,0)","v":"·"},{"$f":"VLOOKUP(B159&D159,'[1]점검현황(금월)'!$D$7:$AH$231,19,0)","v":321},{"$f":"VLOOKUP(B159&D159,'[1]점검현황(금월)'!$D$7:$AH$231,20,0)","v":"09:30:00"},{"$f":"VLOOKUP(B159&D159,'[1]점검현황(금월)'!$D$7:$AH$231,31,0)","v":636},{"$f":"VLOOKUP(B159&D159,'[1]점검현황(금월)'!$D$7:$AH$231,17,0)","v":321},{"$f":"VLOOKUP(B159&D159,'[1]점검현황(금월)'!$D$7:$AH$231,18,0)","v":"13:10:00"},{"$f":"VLOOKUP(B159&D159,'[1]점검현황(금월)'!$D$7:$AH$231,23,0)","v":"."}]
[null,"산학원",12,827,{"$f":"VLOOKUP(B160&D160,'[1]점검현황(금월)'!$D$7:$AH$231,2,0)","v":"전공 - 건축"},{"$f":"VLOOKUP(B160&D160,'[1]점검현황(금월)'!$D$7:$AH$231,3,0)","v":"XU100K"},{"$f":"VLOOKUP(B160&D160,'[1]점검현황(금월)'!$D$2:$AH$231,15,0)","v":0},{"$f":"VLOOKUP(B160&D160,'[1]점검현황(금월)'!$D$2:$AH$231,21,0)","v":"·"},{"$f":"VLOOKUP(B160&D160,'[1]점검현황(금월)'!$D$7:$AH$231,24,0)","v":"·"},{"$f":"VLOOKUP(B160&D160,'[1]점검현황(금월)'!$D$7:$AH$231,19,0)","v":321},{"$f":"VLOOKUP(B160&D160,'[1]점검현황(금월)'!$D$7:$AH$231,20,0)","v":"09:40:00"},{"$f":"VLOOKUP(B160&D160,'[1]점검현황(금월)'!$D$7:$AH$231,31,0)","v":992},{"$f":"VLOOKUP(B160&D160,'[1]점검현황(금월)'!$D$7:$AH$231,17,0)","v":321},{"$f":"VLOOKUP(B160&D160,'[1]점검현황(금월)'!$D$7:$AH$231,18,0)","v":"13:20:00"},{"$f":"VLOOKUP(B160&D160,'[1]점검현황(금월)'!$D$7:$AH$231,23,0)","v":"."}]
["학군단","학군단",1,"1강의",{"$f":"VLOOKUP(B161&D161,'[1]점검현황(금월)'!$D$7:$AH$231,2,0)","v":"멀티미디어"},{"$f":"VLOOKUP(B161&D161,'[1]점검현황(금월)'!$D$7:$AH$231,3,0)","v":"XT35K"},{"$f":"VLOOKUP(B161&D161,'[1]점검현황(금월)'!$D$2:$AH$231,15,0)","v":"구"},{"$f":"VLOOKUP(B161&D161,'[1]점검현황(금월)'!$D$2:$AH$231,21,0)","v":"2013-02-22"},{"$f":"VLOOKUP(B161&D161,'[1]점검현황(금월)'!$D$7:$AH$231,24,0)","v":"2015-03-28"},{"$f":"VLOOKUP(B161&D161,'[1]점검현황(금월)'!$D$7:$AH$231,19,0)","v":328},{"$f":"VLOOKUP(B161&D161,'[1]점검현황(금월)'!$D$7:$AH$231,20,0)","v":"09:50:00"},{"$f":"VLOOKUP(B161&D161,'[1]점검현황(금월)'!$D$7:$AH$231,31,0)","v":756},{"$f":"VLOOKUP(B161&D161,'[1]점검현황(금월)'!$D$7:$AH$231,17,0)","v":323},{"$f":"VLOOKUP(B161&D161,'[1]점검현황(금월)'!$D$7:$AH$231,18,0)","v":"13:30:00"},{"$f":"VLOOKUP(B161&D161,'[1]점검현황(금월)'!$D$7:$AH$231,23,0)","v":"28"}]
[null,"학군단",2,"2강의",{"$f":"VLOOKUP(B162&D162,'[1]점검현황(금월)'!$D$7:$AH$231,2,0)","v":"멀티미디어"},{"$f":"VLOOKUP(B162&D162,'[1]점검현황(금월)'!$D$7:$AH$231,3,0)","v":"XT35K"},{"$f":"VLOOKUP(B162&D162,'[1]점검현황(금월)'!$D$2:$AH$231,15,0)","v":"구"},{"$f":"VLOOKUP(B162&D162,'[1]점검현황(금월)'!$D$2:$AH$231,21,0)","v":"2014-01-07"},{"$f":"VLOOKUP(B162&D162,'[1]점검현황(금월)'!$D$7:$AH$231,24,0)","v":"2013-01-28"},{"$f":"VLOOKUP(B162&D162,'[1]점검현황(금월)'!$D$7:$AH$231,19,0)","v":323},{"$f":"VLOOKUP(B162&D162,'[1]점검현황(금월)'!$D$7:$AH$231,20,0)","v":"10:00:00"},{"$f":"VLOOKUP(B162&D162,'[1]점검현황(금월)'!$D$7:$AH$231,31,0)","v":220},{"$f":"VLOOKUP(B162&D162,'[1]점검현황(금월)'!$D$7:$AH$231,17,0)","v":323},{"$f":"VLOOKUP(B162&D162,'[1]점검현황(금월)'!$D$7:$AH$231,18,0)","v":"13:40:00"},{"$f":"VLOOKUP(B162&D162,'[1]점검현황(금월)'!$D$7:$AH$231,23,0)","v":"."}]
["전산원","전산원",1,101,{"$f":"VLOOKUP(B163&D163,'[1]점검현황(금월)'!$D$7:$AH$231,2,0)","v":"강당"},{"$f":"VLOOKUP(B163&D163,'[1]점검현황(금월)'!$D$7:$AH$231,3,0)","v":"VX510"},{"$f":"VLOOKUP(B163&D163,'[1]점검현황(금월)'!$D$2:$AH$231,15,0)","v":"자체"},{"$f":"VLOOKUP(B163&D163,'[1]점검현황(금월)'!$D$2:$AH$231,21,0)","v":"·"},{"$f":"VLOOKUP(B163&D163,'[1]점검현황(금월)'!$D$7:$AH$231,24,0)","v":"2013-08-22"},{"$f":"VLOOKUP(B163&D163,'[1]점검현황(금월)'!$D$7:$AH$231,19,0)","v":323},{"$f":"VLOOKUP(B163&D163,'[1]점검현황(금월)'!$D$7:$AH$231,20,0)","v":"17:30:00"},{"$f":"VLOOKUP(B163&D163,'[1]점검현황(금월)'!$D$7:$AH$231,31,0)","v":82},{"$f":"VLOOKUP(B163&D163,'[1]점검현황(금월)'!$D$7:$AH$231,17,0)","v":323},{"$f":"VLOOKUP(B163&D163,'[1]점검현황(금월)'!$D$7:$AH$231,18,0)","v":"08:30:00"},{"$f":"VLOOKUP(B163&D163,'[1]점검현황(금월)'!$D$7:$AH$231,23,0)","v":"9"}]
[null,"전산원",2,509,{"$f":"VLOOKUP(B164&D164,'[1]점검현황(금월)'!$D$7:$AH$231,2,0)","v":"PC실"},{"$f":"VLOOKUP(B164&D164,'[1]점검현황(금월)'!$D$7:$AH$231,3,0)","v":"XU106K"},{"$f":"VLOOKUP(B164&D164,'[1]점검현황(금월)'!$D$2:$AH$231,15,0)","v":"구"},{"$f":"VLOOKUP(B164&D164,'[1]점검현황(금월)'!$D$2:$AH$231,21,0)","v":"2012-09-25"},{"$f":"VLOOKUP(B164&D164,'[1]점검현황(금월)'!$D$7:$AH$231,24,0)","v":"2015-03-28"},{"$f":"VLOOKUP(B164&D164,'[1]점검현황(금월)'!$D$7:$AH$231,19,0)","v":328},{"$f":"VLOOKUP(B164&D164,'[1]점검현황(금월)'!$D$7:$AH$231,20,0)","v":"10:20:00"},{"$f":"VLOOKUP(B164&D164,'[1]점검현황(금월)'!$D$7:$AH$231,31,0)","v":294},{"$f":"VLOOKUP(B164&D164,'[1]점검현황(금월)'!$D$7:$AH$231,17,0)","v":323},{"$f":"VLOOKUP(B164&D164,'[1]점검현황(금월)'!$D$7:$AH$231,18,0)","v":"08:40:00"},{"$f":"VLOOKUP(B164&D164,'[1]점검현황(금월)'!$D$7:$AH$231,23,0)","v":"19,26,28"}]
[null,"전산원",3,510,{"$f":"VLOOKUP(B165&D165,'[1]점검현황(금월)'!$D$7:$AH$231,2,0)","v":"PC실"},{"$f":"VLOOKUP(B165&D165,'[1]점검현황(금월)'!$D$7:$AH$231,3,0)","v":"XU106K"},{"$f":"VLOOKUP(B165&D165,'[1]점검현황(금월)'!$D$2:$AH$231,15,0)","v":"구"},{"$f":"VLOOKUP(B165&D165,'[1]점검현황(금월)'!$D$2:$AH$231,21,0)","v":"2014-03-21"},{"$f":"VLOOKUP(B165&D165,'[1]점검현황(금월)'!$D$7:$AH$231,24,0)","v":"2015-03-28"},{"$f":"VLOOKUP(B165&D165,'[1]점검현황(금월)'!$D$7:$AH$231,19,0)","v":328},{"$f":"VLOOKUP(B165&D165,'[1]점검현황(금월)'!$D$7:$AH$231,20,0)","v":"11:10:00"},{"$f":"VLOOKUP(B165&D165,'[1]점검현황(금월)'!$D$7:$AH$231,31,0)","v":324},{"$f":"VLOOKUP(B165&D165,'[1]점검현황(금월)'!$D$7:$AH$231,17,0)","v":323},{"$f":"VLOOKUP(B165&D165,'[1]점검현황(금월)'!$D$7:$AH$231,18,0)","v":"08:50:00"},{"$f":"VLOOKUP(B165&D165,'[1]점검현황(금월)'!$D$7:$AH$231,23,0)","v":"5,9,10,11,28"}]
[null,"전산원",4,514,{"$f":"VLOOKUP(B166&D166,'[1]점검현황(금월)'!$D$7:$AH$231,2,0)","v":"PC실"},{"$f":"VLOOKUP(B166&D166,'[1]점검현황(금월)'!$D$7:$AH$231,3,0)","v":"XU106K"},{"$f":"VLOOKUP(B166&D166,'[1]점검현황(금월)'!$D$2:$AH$231,15,0)","v":"구"},{"$f":"VLOOKUP(B166&D166,'[1]점검현황(금월)'!$D$2:$AH$231,21,0)","v":"2011-07-08"},{"$f":"VLOOKUP(B166&D166,'[1]점검현황(금월)'!$D$7:$AH$231,24,0)","v":"2013-01-28"},{"$f":"VLOOKUP(B166&D166,'[1]점검현황(금월)'!$D$7:$AH$231,19,0)","v":323},{"$f":"VLOOKUP(B166&D166,'[1]점검현황(금월)'!$D$7:$AH$231,20,0)","v":"13:18:00"},{"$f":"VLOOKUP(B166&D166,'[1]점검현황(금월)'!$D$7:$AH$231,31,0)","v":226},{"$f":"VLOOKUP(B166&D166,'[1]점검현황(금월)'!$D$7:$AH$231,17,0)","v":323},{"$f":"VLOOKUP(B166&D166,'[1]점검현황(금월)'!$D$7:$AH$231,18,0)","v":"19:00:00"},{"$f":"VLOOKUP(B166&D166,'[1]점검현황(금월)'!$D$7:$AH$231,23,0)","v":"11"}]
["종합관","종합관",1,101,{"$f":"VLOOKUP(B167&D167,'[1]점검현황(금월)'!$D$7:$AH$231,2,0)","v":"대강당"},{"$f":"VLOOKUP(B167&D167,'[1]점검현황(금월)'!$D$7:$AH$231,3,0)","v":"EX16KE"},{"$f":"VLOOKUP(B167&D167,'[1]점검현황(금월)'!$D$2:$AH$231,15,0)","v":"e-ST"},{"$f":"VLOOKUP(B167&D167,'[1]점검현황(금월)'!$D$2:$AH$231,21,0)","v":"2014-05-08"},{"$f":"VLOOKUP(B167&D167,'[1]점검현황(금월)'!$D$7:$AH$231,24,0)","v":"·"},{"$f":"VLOOKUP(B167&D167,'[1]점검현황(금월)'!$D$7:$AH$231,19,0)","v":324},{"$f":"VLOOKUP(B167&D167,'[1]점검현황(금월)'!$D$7:$AH$231,20,0)","v":"10:50:00"},{"$f":"VLOOKUP(B167&D167,'[1]점검현황(금월)'!$D$7:$AH$231,31,0)","v":530},{"$f":"VLOOKUP(B167&D167,'[1]점검현황(금월)'!$D$7:$AH$231,17,0)","v":324},{"$f":"VLOOKUP(B167&D167,'[1]점검현황(금월)'!$D$7:$AH$231,18,0)","v":"19:10:00"},{"$f":"VLOOKUP(B167&D167,'[1]점검현황(금월)'!$D$7:$AH$231,23,0)","v":"4"}]
[null,"종합관",2,102,{"$f":"VLOOKUP(B168&D168,'[1]점검현황(금월)'!$D$7:$AH$231,2,0)","v":"계단식 "},{"$f":"VLOOKUP(B168&D168,'[1]점검현황(금월)'!$D$7:$AH$231,3,0)","v":"XM5000"},{"$f":"VLOOKUP(B168&D168,'[1]점검현황(금월)'!$D$2:$AH$231,15,0)","v":"e-ST"},{"$f":"VLOOKUP(B168&D168,'[1]점검현황(금월)'!$D$2:$AH$231,21,0)","v":"2014-05-08"},{"$f":"VLOOKUP(B168&D168,'[1]점검현황(금월)'!$D$7:$AH$231,24,0)","v":"2014-05-24"},{"$f":"VLOOKUP(B168&D168,'[1]점검현황(금월)'!$D$7:$AH$231,19,0)","v":324},{"$f":"VLOOKUP(B168&D168,'[1]점검현황(금월)'!$D$7:$AH$231,20,0)","v":"11:00:00"},{"$f":"VLOOKUP(B168&D168,'[1]점검현황(금월)'!$D$7:$AH$231,31,0)","v":1025},{"$f":"VLOOKUP(B168&D168,'[1]점검현황(금월)'!$D$7:$AH$231,17,0)","v":324},{"$f":"VLOOKUP(B168&D168,'[1]점검현황(금월)'!$D$7:$AH$231,18,0)","v":"19:20:00"},{"$f":"VLOOKUP(B168&D168,'[1]점검현황(금월)'!$D$7:$AH$231,23,0)","v":"."}]
[null,"종합관",3,104,{"$f":"VLOOKUP(B169&D169,'[1]점검현황(금월)'!$D$7:$AH$231,2,0)","v":"계단식 "},{"$f":"VLOOKUP(B169&D169,'[1]점검현황(금월)'!$D$7:$AH$231,3,0)","v":"XM5000"},{"$f":"VLOOKUP(B169&D169,'[1]점검현황(금월)'!$D$2:$AH$231,15,0)","v":"e-ST"},{"$f":"VLOOKUP(B169&D169,'[1]점검현황(금월)'!$D$2:$AH$231,21,0)","v":"2014-10-17"},{"$f":"VLOOKUP(B169&D169,'[1]점검현황(금월)'!$D$7:$AH$231,24,0)","v":"2014-05-24"},{"$f":"VLOOKUP(B169&D169,'[1]점검현황(금월)'!$D$7:$AH$231,19,0)","v":324},{"$f":"VLOOKUP(B169&D169,'[1]점검현황(금월)'!$D$7:$AH$231,20,0)","v":"10:40:00"},{"$f":"VLOOKUP(B169&D169,'[1]점검현황(금월)'!$D$7:$AH$231,31,0)","v":1854},{"$f":"VLOOKUP(B169&D169,'[1]점검현황(금월)'!$D$7:$AH$231,17,0)","v":324},{"$f":"VLOOKUP(B169&D169,'[1]점검현황(금월)'!$D$7:$AH$231,18,0)","v":"08:30:00"},{"$f":"VLOOKUP(B169&D169,'[1]점검현황(금월)'!$D$7:$AH$231,23,0)","v":"9,19"}]
[null,"종합관",4,105,{"$f":"VLOOKUP(B170&D170,'[1]점검현황(금월)'!$D$7:$AH$231,2,0)","v":"계단식 "},{"$f":"VLOOKUP(B170&D170,'[1]점검현황(금월)'!$D$7:$AH$231,3,0)","v":"XM5000"},{"$f":"VLOOKUP(B170&D170,'[1]점검현황(금월)'!$D$2:$AH$231,15,0)","v":"e-ST"},{"$f":"VLOOKUP(B170&D170,'[1]점검현황(금월)'!$D$2:$AH$231,21,0)","v":"2014-07-08"},{"$f":"VLOOKUP(B170&D170,'[1]점검현황(금월)'!$D$7:$AH$231,24,0)","v":"2015-03-26"},{"$f":"VLOOKUP(B170&D170,'[1]점검현황(금월)'!$D$7:$AH$231,19,0)","v":326},{"$f":"VLOOKUP(B170&D170,'[1]점검현황(금월)'!$D$7:$AH$231,20,0)","v":"17:30:00"},{"$f":"VLOOKUP(B170&D170,'[1]점검현황(금월)'!$D$7:$AH$231,31,0)","v":2023},{"$f":"VLOOKUP(B170&D170,'[1]점검현황(금월)'!$D$7:$AH$231,17,0)","v":324},{"$f":"VLOOKUP(B170&D170,'[1]점검현황(금월)'!$D$7:$AH$231,18,0)","v":"08:40:00"},{"$f":"VLOOKUP(B170&D170,'[1]점검현황(금월)'!$D$7:$AH$231,23,0)","v":"2,11,12,18,19,20,26(2)"}]
[null,"종합관",5,"202-2",{"$f":"VLOOKUP(B171&D171,'[1]점검현황(금월)'!$D$7:$AH$231,2,0)","v":"법전원"},{"$f":"VLOOKUP(B171&D171,'[1]점검현황(금월)'!$D$7:$AH$231,3,0)","v":"XT35K"},{"$f":"VLOOKUP(B171&D171,'[1]점검현황(금월)'!$D$2:$AH$231,15,0)","v":"자체"},{"$f":"VLOOKUP(B171&D171,'[1]점검현황(금월)'!$D$2:$AH$231,21,0)","v":"·"},{"$f":"VLOOKUP(B171&D171,'[1]점검현황(금월)'!$D$7:$AH$231,24,0)","v":"·"},{"$f":"VLOOKUP(B171&D171,'[1]점검현황(금월)'!$D$7:$AH$231,19,0)","v":324},{"$f":"VLOOKUP(B171&D171,'[1]점검현황(금월)'!$D$7:$AH$231,20,0)","v":"11:30:00"},{"$f":"VLOOKUP(B171&D171,'[1]점검현황(금월)'!$D$7:$AH$231,31,0)","v":42},{"$f":"VLOOKUP(B171&D171,'[1]점검현황(금월)'!$D$7:$AH$231,17,0)","v":324},{"$f":"VLOOKUP(B171&D171,'[1]점검현황(금월)'!$D$7:$AH$231,18,0)","v":"08:50:00"},{"$f":"VLOOKUP(B171&D171,'[1]점검현황(금월)'!$D$7:$AH$231,23,0)","v":"."}]
[null,"종합관",6,301,{"$f":"VLOOKUP(B172&D172,'[1]점검현황(금월)'!$D$7:$AH$231,2,0)","v":"법전원"},{"$f":"VLOOKUP(B172&D172,'[1]점검현황(금월)'!$D$7:$AH$231,3,0)","v":"XU106K / XU106K"},{"$f":"VLOOKUP(B172&D172,'[1]점검현황(금월)'!$D$2:$AH$231,15,0)","v":"e-ST"},{"$f":"VLOOKUP(B172&D172,'[1]점검현황(금월)'!$D$2:$AH$231,21,0)","v":"·"},{"$f":"VLOOKUP(B172&D172,'[1]점검현황(금월)'!$D$7:$AH$231,24,0)","v":"·"},{"$f":"VLOOKUP(B172&D172,'[1]점검현황(금월)'!$D$7:$AH$231,19,0)","v":324},{"$f":"VLOOKUP(B172&D172,'[1]점검현황(금월)'!$D$7:$AH$231,20,0)","v":"11:40:00"},{"$f":"VLOOKUP(B172&D172,'[1]점검현황(금월)'!$D$7:$AH$231,31,0)","v":"1693/107"},{"$f":"VLOOKUP(B172&D172,'[1]점검현황(금월)'!$D$7:$AH$231,17,0)","v":324},{"$f":"VLOOKUP(B172&D172,'[1]점검현황(금월)'!$D$7:$AH$231,18,0)","v":"19:00:00"},{"$f":"VLOOKUP(B172&D172,'[1]점검현황(금월)'!$D$7:$AH$231,23,0)","v":"."}]
[null,"종합관",7,315,{"$f":"VLOOKUP(B173&D173,'[1]점검현황(금월)'!$D$7:$AH$231,2,0)","v":"법전원"},{"$f":"VLOOKUP(B173&D173,'[1]점검현황(금월)'!$D$7:$AH$231,3,0)","v":"XU105K"},{"$f":"VLOOKUP(B173&D173,'[1]점검현황(금월)'!$D$2:$AH$231,15,0)","v":"구"},{"$f":"VLOOKUP(B173&D173,'[1]점검현황(금월)'!$D$2:$AH$231,21,0)","v":"·"},{"$f":"VLOOKUP(B173&D173,'[1]점검현황(금월)'!$D$7:$AH$231,24,0)","v":"·"},{"$f":"VLOOKUP(B173&D173,'[1]점검현황(금월)'!$D$7:$AH$231,19,0)","v":325},{"$f":"VLOOKUP(B173&D173,'[1]점검현황(금월)'!$D$7:$AH$231,20,0)","v":"11:50:00"},{"$f":"VLOOKUP(B173&D173,'[1]점검현황(금월)'!$D$7:$AH$231,31,0)","v":1082},{"$f":"VLOOKUP(B173&D173,'[1]점검현황(금월)'!$D$7:$AH$231,17,0)","v":325},{"$f":"VLOOKUP(B173&D173,'[1]점검현황(금월)'!$D$7:$AH$231,18,0)","v":"19:10:00"},{"$f":"VLOOKUP(B173&D173,'[1]점검현황(금월)'!$D$7:$AH$231,23,0)","v":"."}]
[null,"종합관",8,401,{"$f":"VLOOKUP(B174&D174,'[1]점검현황(금월)'!$D$7:$AH$231,2,0)","v":"법전원"},{"$f":"VLOOKUP(B174&D174,'[1]점검현황(금월)'!$D$7:$AH$231,3,0)","v":"XU106K"},{"$f":"VLOOKUP(B174&D174,'[1]점검현황(금월)'!$D$2:$AH$231,15,0)","v":"e-ST"},{"$f":"VLOOKUP(B174&D174,'[1]점검현황(금월)'!$D$2:$AH$231,21,0)","v":"·"},{"$f":"VLOOKUP(B174&D174,'[1]점검현황(금월)'!$D$7:$AH$231,24,0)","v":"·"},{"$f":"VLOOKUP(B174&D174,'[1]점검현황(금월)'!$D$7:$AH$231,19,0)","v":325},{"$f":"VLOOKUP(B174&D174,'[1]점검현황(금월)'!$D$7:$AH$231,20,0)","v":"12:00:00"},{"$f":"VLOOKUP(B174&D174,'[1]점검현황(금월)'!$D$7:$AH$231,31,0)","v":1408},{"$f":"VLOOKUP(B174&D174,'[1]점검현황(금월)'!$D$7:$AH$231,17,0)","v":325},{"$f":"VLOOKUP(B174&D174,'[1]점검현황(금월)'!$D$7:$AH$231,18,0)","v":"19:20:00"},{"$f":"VLOOKUP(B174&D174,'[1]점검현황(금월)'!$D$7:$AH$231,23,0)","v":"."}]
[null,"종합관",9,412,{"$f":"VLOOKUP(B175&D175,'[1]점검현황(금월)'!$D$7:$AH$231,2,0)","v":"법전원"},{"$f":"VLOOKUP(B175&D175,'[1]점검현황(금월)'!$D$7:$AH$231,3,0)","v":"XU100K"},{"$f":"VLOOKUP(B175&D175,'[1]점검현황(금월)'!$D$2:$AH$231,15,0)","v":"구"},{"$f":"VLOOKUP(B175&D175,'[1]점검현황(금월)'!$D$2:$AH$231,21,0)","v":"·"},{"$f":"VLOOKUP(B175&D175,'[1]점검현황(금월)'!$D$7:$AH$231,24,0)","v":"·"},{"$f":"VLOOKUP(B175&D175,'[1]점검현황(금월)'!$D$7:$AH$231,19,0)","v":325},{"$f":"VLOOKUP(B175&D175,'[1]점검현황(금월)'!$D$7:$AH$231,20,0)","v":"13:00:00"},{"$f":"VLOOKUP(B175&D175,'[1]점검현황(금월)'!$D$7:$AH$231,31,0)","v":113},{"$f":"VLOOKUP(B175&D175,'[1]점검현황(금월)'!$D$7:$AH$231,17,0)","v":325},{"$f":"VLOOKUP(B175&D175,'[1]점검현황(금월)'!$D$7:$AH$231,18,0)","v":"08:30:00"},{"$f":"VLOOKUP(B175&D175,'[1]점검현황(금월)'!$D$7:$AH$231,23,0)","v":"."}]
[null,"종합관",10,413,{"$f":"VLOOKUP(B176&D176,'[1]점검현황(금월)'!$D$7:$AH$231,2,0)","v":"법전원"},{"$f":"VLOOKUP(B176&D176,'[1]점검현황(금월)'!$D$7:$AH$231,3,0)","v":"XU105K"},{"$f":"VLOOKUP(B176&D176,'[1]점검현황(금월)'!$D$2:$AH$231,15,0)","v":"구"},{"$f":"VLOOKUP(B176&D176,'[1]점검현황(금월)'!$D$2:$AH$231,21,0)","v":"·"},{"$f":"VLOOKUP(B176&D176,'[1]점검현황(금월)'!$D$7:$AH$231,24,0)","v":"·"},{"$f":"VLOOKUP(B176&D176,'[1]점검현황(금월)'!$D$7:$AH$231,19,0)","v":325},{"$f":"VLOOKUP(B176&D176,'[1]점검현황(금월)'!$D$7:$AH$231,20,0)","v":"13:10:00"},{"$f":"VLOOKUP(B176&D176,'[1]점검현황(금월)'!$D$7:$AH$231,31,0)","v":1500},{"$f":"VLOOKUP(B176&D176,'[1]점검현황(금월)'!$D$7:$AH$231,17,0)","v":325},{"$f":"VLOOKUP(B176&D176,'[1]점검현황(금월)'!$D$7:$AH$231,18,0)","v":"08:40:00"},{"$f":"VLOOKUP(B176&D176,'[1]점검현황(금월)'!$D$7:$AH$231,23,0)","v":"."}]
[null,"종합관",11,501,{"$f":"VLOOKUP(B177&D177,'[1]점검현황(금월)'!$D$7:$AH$231,2,0)","v":"법전원"},{"$f":"VLOOKUP(B177&D177,'[1]점검현황(금월)'!$D$7:$AH$231,3,0)","v":"XU106K / XU106K"},{"$f":"VLOOKUP(B177&D177,'[1]점검현황(금월)'!$D$2:$AH$231,15,0)","v":"e-ST"},{"$f":"VLOOKUP(B177&D177,'[1]점검현황(금월)'!$D$2:$AH$231,21,0)","v":"2015-03-27"},{"$f":"VLOOKUP(B177&D177,'[1]점검현황(금월)'!$D$7:$AH$231,24,0)","v":"·"},{"$f":"VLOOKUP(B177&D177,'[1]점검현황(금월)'!$D$7:$AH$231,19,0)","v":325},{"$f":"VLOOKUP(B177&D177,'[1]점검현황(금월)'!$D$7:$AH$231,20,0)","v":"13:20:00"},{"$f":"VLOOKUP(B177&D177,'[1]점검현황(금월)'!$D$7:$AH$231,31,0)","v":"1932/324"},{"$f":"VLOOKUP(B177&D177,'[1]점검현황(금월)'!$D$7:$AH$231,17,0)","v":325},{"$f":"VLOOKUP(B177&D177,'[1]점검현황(금월)'!$D$7:$AH$231,18,0)","v":"08:50:00"},{"$f":"VLOOKUP(B177&D177,'[1]점검현황(금월)'!$D$7:$AH$231,23,0)","v":"24,25"}]
[null,"종합관",12,502,{"$f":"VLOOKUP(B178&D178,'[1]점검현황(금월)'!$D$7:$AH$231,2,0)","v":"자동녹화"},{"$f":"VLOOKUP(B178&D178,'[1]점검현황(금월)'!$D$7:$AH$231,3,0)","v":"XU106K / XU106K"},{"$f":"VLOOKUP(B178&D178,'[1]점검현황(금월)'!$D$2:$AH$231,15,0)","v":"e-ST"},{"$f":"VLOOKUP(B178&D178,'[1]점검현황(금월)'!$D$2:$AH$231,21,0)","v":"2014-02-13 / ·"},{"$f":"VLOOKUP(B178&D178,'[1]점검현황(금월)'!$D$7:$AH$231,24,0)","v":"2014-05-17"},{"$f":"VLOOKUP(B178&D178,'[1]점검현황(금월)'!$D$7:$AH$231,19,0)","v":326},{"$f":"VLOOKUP(B178&D178,'[1]점검현황(금월)'!$D$7:$AH$231,20,0)","v":"09:30:00"},{"$f":"VLOOKUP(B178&D178,'[1]점검현황(금월)'!$D$7:$AH$231,31,0)","v":"802/2001"},{"$f":"VLOOKUP(B178&D178,'[1]점검현황(금월)'!$D$7:$AH$231,17,0)","v":325},{"$f":"VLOOKUP(B178&D178,'[1]점검현황(금월)'!$D$7:$AH$231,18,0)","v":"19:00:00"},{"$f":"VLOOKUP(B178&D178,'[1]점검현황(금월)'!$D$7:$AH$231,23,0)","v":"4,11,26"}]
[null,"종합관",13,503,{"$f":"VLOOKUP(B179&D179,'[1]점검현황(금월)'!$D$7:$AH$231,2,0)","v":"자동녹화"},{"$f":"VLOOKUP(B179&D179,'[1]점검현황(금월)'!$D$7:$AH$231,3,0)","v":"XU106K / XU106K"},{"$f":"VLOOKUP(B179&D179,'[1]점검현황(금월)'!$D$2:$AH$231,15,0)","v":"e-ST"},{"$f":"VLOOKUP(B179&D179,'[1]점검현황(금월)'!$D$2:$AH$231,21,0)","v":"14-04-11/14-04-11"},{"$f":"VLOOKUP(B179&D179,'[1]점검현황(금월)'!$D$7:$AH$231,24,0)","v":"14-07-12 / 14-07-12"},{"$f":"VLOOKUP(B179&D179,'[1]점검현황(금월)'!$D$7:$AH$231,19,0)","v":326},{"$f":"VLOOKUP(B179&D179,'[1]점검현황(금월)'!$D$7:$AH$231,20,0)","v":"13:40:00"},{"$f":"VLOOKUP(B179&D179,'[1]점검현황(금월)'!$D$7:$AH$231,31,0)","v":"822/267"},{"$f":"VLOOKUP(B179&D179,'[1]점검현황(금월)'!$D$7:$AH$231,17,0)","v":326},{"$f":"VLOOKUP(B179&D179,'[1]점검현황(금월)'!$D$7:$AH$231,18,0)","v":"19:10:00"},{"$f":"VLOOKUP(B179&D179,'[1]점검현황(금월)'!$D$7:$AH$231,23,0)","v":"2,4"}]
[null,"종합관",14,504,{"$f":"VLOOKUP(B180&D180,'[1]점검현황(금월)'!$D$7:$AH$231,2,0)","v":"법전원"},{"$f":"VLOOKUP(B180&D180,'[1]점검현황(금월)'!$D$7:$AH$231,3,0)","v":"XU106K"},{"$f":"VLOOKUP(B180&D180,'[1]점검현황(금월)'!$D$2:$AH$231,15,0)","v":"e-ST"},{"$f":"VLOOKUP(B180&D180,'[1]점검현황(금월)'!$D$2:$AH$231,21,0)","v":"·"},{"$f":"VLOOKUP(B180&D180,'[1]점검현황(금월)'!$D$7:$AH$231,24,0)","v":"·"},{"$f":"VLOOKUP(B180&D180,'[1]점검현황(금월)'!$D$7:$AH$231,19,0)","v":326},{"$f":"VLOOKUP(B180&D180,'[1]점검현황(금월)'!$D$7:$AH$231,20,0)","v":"16:30:00"},{"$f":"VLOOKUP(B180&D180,'[1]점검현황(금월)'!$D$7:$AH$231,31,0)","v":2669},{"$f":"VLOOKUP(B180&D180,'[1]점검현황(금월)'!$D$7:$AH$231,17,0)","v":326},{"$f":"VLOOKUP(B180&D180,'[1]점검현황(금월)'!$D$7:$AH$231,18,0)","v":"19:20:00"},{"$f":"VLOOKUP(B180&D180,'[1]점검현황(금월)'!$D$7:$AH$231,23,0)","v":"10,17"}]
[null,"종합관",15,506,{"$f":"VLOOKUP(B181&D181,'[1]점검현황(금월)'!$D$7:$AH$231,2,0)","v":"법전원"},{"$f":"VLOOKUP(B181&D181,'[1]점검현황(금월)'!$D$7:$AH$231,3,0)","v":"XU106K"},{"$f":"VLOOKUP(B181&D181,'[1]점검현황(금월)'!$D$2:$AH$231,15,0)","v":"e-ST"},{"$f":"VLOOKUP(B181&D181,'[1]점검현황(금월)'!$D$2:$AH$231,21,0)","v":"2011-04-07"},{"$f":"VLOOKUP(B181&D181,'[1]점검현황(금월)'!$D$7:$AH$231,24,0)","v":"·"},{"$f":"VLOOKUP(B181&D181,'[1]점검현황(금월)'!$D$7:$AH$231,19,0)","v":326},{"$f":"VLOOKUP(B181&D181,'[1]점검현황(금월)'!$D$7:$AH$231,20,0)","v":"14:00:00"},{"$f":"VLOOKUP(B181&D181,'[1]점검현황(금월)'!$D$7:$AH$231,31,0)","v":2192},{"$f":"VLOOKUP(B181&D181,'[1]점검현황(금월)'!$D$7:$AH$231,17,0)","v":326},{"$f":"VLOOKUP(B181&D181,'[1]점검현황(금월)'!$D$7:$AH$231,18,0)","v":"08:30:00"},{"$f":"VLOOKUP(B181&D181,'[1]점검현황(금월)'!$D$7:$AH$231,23,0)","v":"."}]
[null,"종합관",16,507,{"$f":"VLOOKUP(B182&D182,'[1]점검현황(금월)'!$D$7:$AH$231,2,0)","v":"자동녹화"},{"$f":"VLOOKUP(B182&D182,'[1]점검현황(금월)'!$D$7:$AH$231,3,0)","v":"XU106K"},{"$f":"VLOOKUP(B182&D182,'[1]점검현황(금월)'!$D$2:$AH$231,15,0)","v":"e-ST"},{"$f":"VLOOKUP(B182&D182,'[1]점검현황(금월)'!$D$2:$AH$231,21,0)","v":"2015-02-28"},{"$f":"VLOOKUP(B182&D182,'[1]점검현황(금월)'!$D$7:$AH$231,24,0)","v":"2014-05-17"},{"$f":"VLOOKUP(B182&D182,'[1]점검현황(금월)'!$D$7:$AH$231,19,0)","v":326},{"$f":"VLOOKUP(B182&D182,'[1]점검현황(금월)'!$D$7:$AH$231,20,0)","v":"19:30:00"},{"$f":"VLOOKUP(B182&D182,'[1]점검현황(금월)'!$D$7:$AH$231,31,0)","v":1634},{"$f":"VLOOKUP(B182&D182,'[1]점검현황(금월)'!$D$7:$AH$231,17,0)","v":326},{"$f":"VLOOKUP(B182&D182,'[1]점검현황(금월)'!$D$7:$AH$231,18,0)","v":"08:40:00"},{"$f":"VLOOKUP(B182&D182,'[1]점검현황(금월)'!$D$7:$AH$231,23,0)","v":"."}]
[null,"종합관",17,508,{"$f":"VLOOKUP(B183&D183,'[1]점검현황(금월)'!$D$7:$AH$231,2,0)","v":"자동녹화"},{"$f":"VLOOKUP(B183&D183,'[1]점검현황(금월)'!$D$7:$AH$231,3,0)","v":"XU106K"},{"$f":"VLOOKUP(B183&D183,'[1]점검현황(금월)'!$D$2:$AH$231,15,0)","v":"e-ST"},{"$f":"VLOOKUP(B183&D183,'[1]점검현황(금월)'!$D$2:$AH$231,21,0)","v":"2014-03-03"},{"$f":"VLOOKUP(B183&D183,'[1]점검현황(금월)'!$D$7:$AH$231,24,0)","v":"2014-01-27"},{"$f":"VLOOKUP(B183&D183,'[1]점검현황(금월)'!$D$7:$AH$231,19,0)","v":326},{"$f":"VLOOKUP(B183&D183,'[1]점검현황(금월)'!$D$7:$AH$231,20,0)","v":"08:40:00"},{"$f":"VLOOKUP(B183&D183,'[1]점검현황(금월)'!$D$7:$AH$231,31,0)","v":921},{"$f":"VLOOKUP(B183&D183,'[1]점검현황(금월)'!$D$7:$AH$231,17,0)","v":326},{"$f":"VLOOKUP(B183&D183,'[1]점검현황(금월)'!$D$7:$AH$231,18,0)","v":"08:50:00"},{"$f":"VLOOKUP(B183&D183,'[1]점검현황(금월)'!$D$7:$AH$231,23,0)","v":"19"}]
[null,"종합관",18,509,{"$f":"VLOOKUP(B184&D184,'[1]점검현황(금월)'!$D$7:$AH$231,2,0)","v":"법전원"},{"$f":"VLOOKUP(B184&D184,'[1]점검현황(금월)'!$D$7:$AH$231,3,0)","v":"XU106K"},{"$f":"VLOOKUP(B184&D184,'[1]점검현황(금월)'!$D$2:$AH$231,15,0)","v":"e-ST"},{"$f":"VLOOKUP(B184&D184,'[1]점검현황(금월)'!$D$2:$AH$231,21,0)","v":"2015-02-28"},{"$f":"VLOOKUP(B184&D184,'[1]점검현황(금월)'!$D$7:$AH$231,24,0)","v":"2012-09-11"},{"$f":"VLOOKUP(B184&D184,'[1]점검현황(금월)'!$D$7:$AH$231,19,0)","v":326},{"$f":"VLOOKUP(B184&D184,'[1]점검현황(금월)'!$D$7:$AH$231,20,0)","v":"08:50:00"},{"$f":"VLOOKUP(B184&D184,'[1]점검현황(금월)'!$D$7:$AH$231,31,0)","v":2632},{"$f":"VLOOKUP(B184&D184,'[1]점검현황(금월)'!$D$7:$AH$231,17,0)","v":326},{"$f":"VLOOKUP(B184&D184,'[1]점검현황(금월)'!$D$7:$AH$231,18,0)","v":"19:00:00"},{"$f":"VLOOKUP(B184&D184,'[1]점검현황(금월)'!$D$7:$AH$231,23,0)","v":"2"}]
[null,"종합관",19,510,{"$f":"VLOOKUP(B185&D185,'[1]점검현황(금월)'!$D$7:$AH$231,2,0)","v":"법전원 세미나실"},{"$f":"VLOOKUP(B185&D185,'[1]점검현황(금월)'!$D$7:$AH$231,3,0)","v":"XU106K"},{"$f":"VLOOKUP(B185&D185,'[1]점검현황(금월)'!$D$2:$AH$231,15,0)","v":"e-ST"},{"$f":"VLOOKUP(B185&D185,'[1]점검현황(금월)'!$D$2:$AH$231,21,0)","v":"·"},{"$f":"VLOOKUP(B185&D185,'[1]점검현황(금월)'!$D$7:$AH$231,24,0)","v":"2012-04-28"},{"$f":"VLOOKUP(B185&D185,'[1]점검현황(금월)'!$D$7:$AH$231,19,0)","v":327},{"$f":"VLOOKUP(B185&D185,'[1]점검현황(금월)'!$D$7:$AH$231,20,0)","v":"19:00:00"},{"$f":"VLOOKUP(B185&D185,'[1]점검현황(금월)'!$D$7:$AH$231,31,0)","v":1598},{"$f":"VLOOKUP(B185&D185,'[1]점검현황(금월)'!$D$7:$AH$231,17,0)","v":327},{"$f":"VLOOKUP(B185&D185,'[1]점검현황(금월)'!$D$7:$AH$231,18,0)","v":"19:10:00"},{"$f":"VLOOKUP(B185&D185,'[1]점검현황(금월)'!$D$7:$AH$231,23,0)","v":"."}]
[null,"종합관",20,601,{"$f":"VLOOKUP(B186&D186,'[1]점검현황(금월)'!$D$7:$AH$231,2,0)","v":"법전원"},{"$f":"VLOOKUP(B186&D186,'[1]점검현황(금월)'!$D$7:$AH$231,3,0)","v":"XT35K"},{"$f":"VLOOKUP(B186&D186,'[1]점검현황(금월)'!$D$2:$AH$231,15,0)","v":"자체"},{"$f":"VLOOKUP(B186&D186,'[1]점검현황(금월)'!$D$2:$AH$231,21,0)","v":"·"},{"$f":"VLOOKUP(B186&D186,'[1]점검현황(금월)'!$D$7:$AH$231,24,0)","v":"·"},{"$f":"VLOOKUP(B186&D186,'[1]점검현황(금월)'!$D$7:$AH$231,19,0)","v":327},{"$f":"VLOOKUP(B186&D186,'[1]점검현황(금월)'!$D$7:$AH$231,20,0)","v":"19:10:00"},{"$f":"VLOOKUP(B186&D186,'[1]점검현황(금월)'!$D$7:$AH$231,31,0)","v":104},{"$f":"VLOOKUP(B186&D186,'[1]점검현황(금월)'!$D$7:$AH$231,17,0)","v":327},{"$f":"VLOOKUP(B186&D186,'[1]점검현황(금월)'!$D$7:$AH$231,18,0)","v":"19:20:00"},{"$f":"VLOOKUP(B186&D186,'[1]점검현황(금월)'!$D$7:$AH$231,23,0)","v":"."}]
[null,"종합관",21,612,{"$f":"VLOOKUP(B187&D187,'[1]점검현황(금월)'!$D$7:$AH$231,2,0)","v":"멀티미디어 "},{"$f":"VLOOKUP(B187&D187,'[1]점검현황(금월)'!$D$7:$AH$231,3,0)","v":"XU106K"},{"$f":"VLOOKUP(B187&D187,'[1]점검현황(금월)'!$D$2:$AH$231,15,0)","v":"e-ST"},{"$f":"VLOOKUP(B187&D187,'[1]점검현황(금월)'!$D$2:$AH$231,21,0)","v":"2014-04-16"},{"$f":"VLOOKUP(B187&D187,'[1]점검현황(금월)'!$D$7:$AH$231,24,0)","v":"2014-04-21"},{"$f":"VLOOKUP(B187&D187,'[1]점검현황(금월)'!$D$7:$AH$231,19,0)","v":327},{"$f":"VLOOKUP(B187&D187,'[1]점검현황(금월)'!$D$7:$AH$231,20,0)","v":"19:40:00"},{"$f":"VLOOKUP(B187&D187,'[1]점검현황(금월)'!$D$7:$AH$231,31,0)","v":831},{"$f":"VLOOKUP(B187&D187,'[1]점검현황(금월)'!$D$7:$AH$231,17,0)","v":327},{"$f":"VLOOKUP(B187&D187,'[1]점검현황(금월)'!$D$7:$AH$231,18,0)","v":"08:30:00"},{"$f":"VLOOKUP(B187&D187,'[1]점검현황(금월)'!$D$7:$AH$231,23,0)","v":"19"}]
[null,"종합관",22,613,{"$f":"VLOOKUP(B188&D188,'[1]점검현황(금월)'!$D$7:$AH$231,2,0)","v":"멀티미디어 "},{"$f":"VLOOKUP(B188&D188,'[1]점검현황(금월)'!$D$7:$AH$231,3,0)","v":"XU106K"},{"$f":"VLOOKUP(B188&D188,'[1]점검현황(금월)'!$D$2:$AH$231,15,0)","v":"e-ST"},{"$f":"VLOOKUP(B188&D188,'[1]점검현황(금월)'!$D$2:$AH$231,21,0)","v":"2014-03-06"},{"$f":"VLOOKUP(B188&D188,'[1]점검현황(금월)'!$D$7:$AH$231,24,0)","v":"2014-02-13"},{"$f":"VLOOKUP(B188&D188,'[1]점검현황(금월)'!$D$7:$AH$231,19,0)","v":327},{"$f":"VLOOKUP(B188&D188,'[1]점검현황(금월)'!$D$7:$AH$231,20,0)","v":"08:30:00"},{"$f":"VLOOKUP(B188&D188,'[1]점검현황(금월)'!$D$7:$AH$231,31,0)","v":2050},{"$f":"VLOOKUP(B188&D188,'[1]점검현황(금월)'!$D$7:$AH$231,17,0)","v":327},{"$f":"VLOOKUP(B188&D188,'[1]점검현황(금월)'!$D$7:$AH$231,18,0)","v":"08:40:00"},{"$f":"VLOOKUP(B188&D188,'[1]점검현황(금월)'!$D$7:$AH$231,23,0)","v":"17"}]
[null,"종합관",23,704,{"$f":"VLOOKUP(B189&D189,'[1]점검현황(금월)'!$D$7:$AH$231,2,0)","v":"교육대학원"},{"$f":"VLOOKUP(B189&D189,'[1]점검현황(금월)'!$D$7:$AH$231,3,0)","v":"XU106K"},{"$f":"VLOOKUP(B189&D189,'[1]점검현황(금월)'!$D$2:$AH$231,15,0)","v":"자체"},{"$f":"VLOOKUP(B189&D189,'[1]점검현황(금월)'!$D$2:$AH$231,21,0)","v":"·"},{"$f":"VLOOKUP(B189&D189,'[1]점검현황(금월)'!$D$7:$AH$231,24,0)","v":"·"},{"$f":"VLOOKUP(B189&D189,'[1]점검현황(금월)'!$D$7:$AH$231,19,0)","v":327},{"$f":"VLOOKUP(B189&D189,'[1]점검현황(금월)'!$D$7:$AH$231,20,0)","v":"08:40:00"},{"$f":"VLOOKUP(B189&D189,'[1]점검현황(금월)'!$D$7:$AH$231,31,0)","v":611},{"$f":"VLOOKUP(B189&D189,'[1]점검현황(금월)'!$D$7:$AH$231,17,0)","v":327},{"$f":"VLOOKUP(B189&D189,'[1]점검현황(금월)'!$D$7:$AH$231,18,0)","v":"08:50:00"},{"$f":"VLOOKUP(B189&D189,'[1]점검현황(금월)'!$D$7:$AH$231,23,0)","v":"."}]
[null,"종합관",24,705,{"$f":"VLOOKUP(B190&D190,'[1]점검현황(금월)'!$D$7:$AH$231,2,0)","v":"교육대학원수업행동"},{"$f":"VLOOKUP(B190&D190,'[1]점검현황(금월)'!$D$7:$AH$231,3,0)","v":"XU350K"},{"$f":"VLOOKUP(B190&D190,'[1]점검현황(금월)'!$D$2:$AH$231,15,0)","v":"e-ST"},{"$f":"VLOOKUP(B190&D190,'[1]점검현황(금월)'!$D$2:$AH$231,21,0)","v":"·"},{"$f":"VLOOKUP(B190&D190,'[1]점검현황(금월)'!$D$7:$AH$231,24,0)","v":"·"},{"$f":"VLOOKUP(B190&D190,'[1]점검현황(금월)'!$D$7:$AH$231,19,0)","v":327},{"$f":"VLOOKUP(B190&D190,'[1]점검현황(금월)'!$D$7:$AH$231,20,0)","v":"08:50:00"},{"$f":"VLOOKUP(B190&D190,'[1]점검현황(금월)'!$D$7:$AH$231,31,0)","v":1620},{"$f":"VLOOKUP(B190&D190,'[1]점검현황(금월)'!$D$7:$AH$231,17,0)","v":327},{"$f":"VLOOKUP(B190&D190,'[1]점검현황(금월)'!$D$7:$AH$231,18,0)","v":"19:00:00"},{"$f":"VLOOKUP(B190&D190,'[1]점검현황(금월)'!$D$7:$AH$231,23,0)","v":"20"}]
[null,"종합관",25,706,{"$f":"VLOOKUP(B191&D191,'[1]점검현황(금월)'!$D$7:$AH$231,2,0)","v":"교육대자동녹화"},{"$f":"VLOOKUP(B191&D191,'[1]점검현황(금월)'!$D$7:$AH$231,3,0)","v":"XU350K"},{"$f":"VLOOKUP(B191&D191,'[1]점검현황(금월)'!$D$2:$AH$231,15,0)","v":"e-ST"},{"$f":"VLOOKUP(B191&D191,'[1]점검현황(금월)'!$D$2:$AH$231,21,0)","v":"·"},{"$f":"VLOOKUP(B191&D191,'[1]점검현황(금월)'!$D$7:$AH$231,24,0)","v":"·"},{"$f":"VLOOKUP(B191&D191,'[1]점검현황(금월)'!$D$7:$AH$231,19,0)","v":328},{"$f":"VLOOKUP(B191&D191,'[1]점검현황(금월)'!$D$7:$AH$231,20,0)","v":"19:00:00"},{"$f":"VLOOKUP(B191&D191,'[1]점검현황(금월)'!$D$7:$AH$231,31,0)","v":1394},{"$f":"VLOOKUP(B191&D191,'[1]점검현황(금월)'!$D$7:$AH$231,17,0)","v":328},{"$f":"VLOOKUP(B191&D191,'[1]점검현황(금월)'!$D$7:$AH$231,18,0)","v":"19:10:00"},{"$f":"VLOOKUP(B191&D191,'[1]점검현황(금월)'!$D$7:$AH$231,23,0)","v":"."}]
[null,"종합관",26,707,{"$f":"VLOOKUP(B192&D192,'[1]점검현황(금월)'!$D$7:$AH$231,2,0)","v":"교육대학원  PC실"},{"$f":"VLOOKUP(B192&D192,'[1]점검현황(금월)'!$D$7:$AH$231,3,0)","v":"XU106K"},{"$f":"VLOOKUP(B192&D192,'[1]점검현황(금월)'!$D$2:$AH$231,15,0)","v":"e-ST"},{"$f":"VLOOKUP(B192&D192,'[1]점검현황(금월)'!$D$2:$AH$231,21,0)","v":"1900-01-14"},{"$f":"VLOOKUP(B192&D192,'[1]점검현황(금월)'!$D$7:$AH$231,24,0)","v":"·"},{"$f":"VLOOKUP(B192&D192,'[1]점검현황(금월)'!$D$7:$AH$231,19,0)","v":328},{"$f":"VLOOKUP(B192&D192,'[1]점검현황(금월)'!$D$7:$AH$231,20,0)","v":"12:41:00"},{"$f":"VLOOKUP(B192&D192,'[1]점검현황(금월)'!$D$7:$AH$231,31,0)","v":868},{"$f":"VLOOKUP(B192&D192,'[1]점검현황(금월)'!$D$7:$AH$231,17,0)","v":328},{"$f":"VLOOKUP(B192&D192,'[1]점검현황(금월)'!$D$7:$AH$231,18,0)","v":"19:20:00"},{"$f":"VLOOKUP(B192&D192,'[1]점검현황(금월)'!$D$7:$AH$231,23,0)","v":"10"}]
[null,"종합관",27,712,{"$f":"VLOOKUP(B193&D193,'[1]점검현황(금월)'!$D$7:$AH$231,2,0)","v":"교육대자동녹화"},{"$f":"VLOOKUP(B193&D193,'[1]점검현황(금월)'!$D$7:$AH$231,3,0)","v":"XU106K"},{"$f":"VLOOKUP(B193&D193,'[1]점검현황(금월)'!$D$2:$AH$231,15,0)","v":"e-ST"},{"$f":"VLOOKUP(B193&D193,'[1]점검현황(금월)'!$D$2:$AH$231,21,0)","v":"·"},{"$f":"VLOOKUP(B193&D193,'[1]점검현황(금월)'!$D$7:$AH$231,24,0)","v":"·"},{"$f":"VLOOKUP(B193&D193,'[1]점검현황(금월)'!$D$7:$AH$231,19,0)","v":328},{"$f":"VLOOKUP(B193&D193,'[1]점검현황(금월)'!$D$7:$AH$231,20,0)","v":"19:20:00"},{"$f":"VLOOKUP(B193&D193,'[1]점검현황(금월)'!$D$7:$AH$231,31,0)","v":576},{"$f":"VLOOKUP(B193&D193,'[1]점검현황(금월)'!$D$7:$AH$231,17,0)","v":328},{"$f":"VLOOKUP(B193&D193,'[1]점검현황(금월)'!$D$7:$AH$231,18,0)","v":"09:00:00"},{"$f":"VLOOKUP(B193&D193,'[1]점검현황(금월)'!$D$7:$AH$231,23,0)","v":"."}]
[null,"종합관",28,713,{"$f":"VLOOKUP(B194&D194,'[1]점검현황(금월)'!$D$7:$AH$231,2,0)","v":"교육대자동녹화"},{"$f":"VLOOKUP(B194&D194,'[1]점검현황(금월)'!$D$7:$AH$231,3,0)","v":"XU350K"},{"$f":"VLOOKUP(B194&D194,'[1]점검현황(금월)'!$D$2:$AH$231,15,0)","v":"e-ST"},{"$f":"VLOOKUP(B194&D194,'[1]점검현황(금월)'!$D$2:$AH$231,21,0)","v":"·"},{"$f":"VLOOKUP(B194&D194,'[1]점검현황(금월)'!$D$7:$AH$231,24,0)","v":"·"},{"$f":"VLOOKUP(B194&D194,'[1]점검현황(금월)'!$D$7:$AH$231,19,0)","v":328},{"$f":"VLOOKUP(B194&D194,'[1]점검현황(금월)'!$D$7:$AH$231,20,0)","v":"08:30:00"},{"$f":"VLOOKUP(B194&D194,'[1]점검현황(금월)'!$D$7:$AH$231,31,0)","v":413},{"$f":"VLOOKUP(B194&D194,'[1]점검현황(금월)'!$D$7:$AH$231,17,0)","v":328},{"$f":"VLOOKUP(B194&D194,'[1]점검현황(금월)'!$D$7:$AH$231,18,0)","v":"09:10:00"},{"$f":"VLOOKUP(B194&D194,'[1]점검현황(금월)'!$D$7:$AH$231,23,0)","v":"."}]
[null,"종합관",29,802,{"$f":"VLOOKUP(B195&D195,'[1]점검현황(금월)'!$D$7:$AH$231,2,0)","v":"교육대학원 "},{"$f":"VLOOKUP(B195&D195,'[1]점검현황(금월)'!$D$7:$AH$231,3,0)","v":"XU106K"},{"$f":"VLOOKUP(B195&D195,'[1]점검현황(금월)'!$D$2:$AH$231,15,0)","v":"자체"},{"$f":"VLOOKUP(B195&D195,'[1]점검현황(금월)'!$D$2:$AH$231,21,0)","v":"·"},{"$f":"VLOOKUP(B195&D195,'[1]점검현황(금월)'!$D$7:$AH$231,24,0)","v":"·"},{"$f":"VLOOKUP(B195&D195,'[1]점검현황(금월)'!$D$7:$AH$231,19,0)","v":328},{"$f":"VLOOKUP(B195&D195,'[1]점검현황(금월)'!$D$7:$AH$231,20,0)","v":"09:10:00"},{"$f":"VLOOKUP(B195&D195,'[1]점검현황(금월)'!$D$7:$AH$231,31,0)","v":1276},{"$f":"VLOOKUP(B195&D195,'[1]점검현황(금월)'!$D$7:$AH$231,17,0)","v":328},{"$f":"VLOOKUP(B195&D195,'[1]점검현황(금월)'!$D$7:$AH$231,18,0)","v":"09:20:00"},{"$f":"VLOOKUP(B195&D195,'[1]점검현황(금월)'!$D$7:$AH$231,23,0)","v":"."}]
[null,"종합관",30,803,{"$f":"VLOOKUP(B196&D196,'[1]점검현황(금월)'!$D$7:$AH$231,2,0)","v":"교육대학원 "},{"$f":"VLOOKUP(B196&D196,'[1]점검현황(금월)'!$D$7:$AH$231,3,0)","v":"XU106K"},{"$f":"VLOOKUP(B196&D196,'[1]점검현황(금월)'!$D$2:$AH$231,15,0)","v":"자체"},{"$f":"VLOOKUP(B196&D196,'[1]점검현황(금월)'!$D$2:$AH$231,21,0)","v":"·"},{"$f":"VLOOKUP(B196&D196,'[1]점검현황(금월)'!$D$7:$AH$231,24,0)","v":"·"},{"$f":"VLOOKUP(B196&D196,'[1]점검현황(금월)'!$D$7:$AH$231,19,0)","v":328},{"$f":"VLOOKUP(B196&D196,'[1]점검현황(금월)'!$D$7:$AH$231,20,0)","v":"09:30:00"},{"$f":"VLOOKUP(B196&D196,'[1]점검현황(금월)'!$D$7:$AH$231,31,0)","v":1394},{"$f":"VLOOKUP(B196&D196,'[1]점검현황(금월)'!$D$7:$AH$231,17,0)","v":328},{"$f":"VLOOKUP(B196&D196,'[1]점검현황(금월)'!$D$7:$AH$231,18,0)","v":"09:30:00"},{"$f":"VLOOKUP(B196&D196,'[1]점검현황(금월)'!$D$7:$AH$231,23,0)","v":"."}]
[null,"종합관",31,804,{"$f":"VLOOKUP(B197&D197,'[1]점검현황(금월)'!$D$7:$AH$231,2,0)","v":"교육대학원 "},{"$f":"VLOOKUP(B197&D197,'[1]점검현황(금월)'!$D$7:$AH$231,3,0)","v":"XU106K"},{"$f":"VLOOKUP(B197&D197,'[1]점검현황(금월)'!$D$2:$AH$231,15,0)","v":"e-ST"},{"$f":"VLOOKUP(B197&D197,'[1]점검현황(금월)'!$D$2:$AH$231,21,0)","v":"·"},{"$f":"VLOOKUP(B197&D197,'[1]점검현황(금월)'!$D$7:$AH$231,24,0)","v":"·"},{"$f":"VLOOKUP(B197&D197,'[1]점검현황(금월)'!$D$7:$AH$231,19,0)","v":328},{"$f":"VLOOKUP(B197&D197,'[1]점검현황(금월)'!$D$7:$AH$231,20,0)","v":"09:50:00"},{"$f":"VLOOKUP(B197&D197,'[1]점검현황(금월)'!$D$7:$AH$231,31,0)","v":914},{"$f":"VLOOKUP(B197&D197,'[1]점검현황(금월)'!$D$7:$AH$231,17,0)","v":328},{"$f":"VLOOKUP(B197&D197,'[1]점검현황(금월)'!$D$7:$AH$231,18,0)","v":"09:40:00"},{"$f":"VLOOKUP(B197&D197,'[1]점검현황(금월)'!$D$7:$AH$231,23,0)","v":"."}]
[null,"종합관",32,805,{"$f":"VLOOKUP(B198&D198,'[1]점검현황(금월)'!$D$7:$AH$231,2,0)","v":"교육대학원 "},{"$f":"VLOOKUP(B198&D198,'[1]점검현황(금월)'!$D$7:$AH$231,3,0)","v":"XU106K"},{"$f":"VLOOKUP(B198&D198,'[1]점검현황(금월)'!$D$2:$AH$231,15,0)","v":"e-ST"},{"$f":"VLOOKUP(B198&D198,'[1]점검현황(금월)'!$D$2:$AH$231,21,0)","v":"·"},{"$f":"VLOOKUP(B198&D198,'[1]점검현황(금월)'!$D$7:$AH$231,24,0)","v":"·"},{"$f":"VLOOKUP(B198&D198,'[1]점검현황(금월)'!$D$7:$AH$231,19,0)","v":328},{"$f":"VLOOKUP(B198&D198,'[1]점검현황(금월)'!$D$7:$AH$231,20,0)","v":"10:10:00"},{"$f":"VLOOKUP(B198&D198,'[1]점검현황(금월)'!$D$7:$AH$231,31,0)","v":393},{"$f":"VLOOKUP(B198&D198,'[1]점검현황(금월)'!$D$7:$AH$231,17,0)","v":328},{"$f":"VLOOKUP(B198&D198,'[1]점검현황(금월)'!$D$7:$AH$231,18,0)","v":"09:50:00"},{"$f":"VLOOKUP(B198&D198,'[1]점검현황(금월)'!$D$7:$AH$231,23,0)","v":"."}]
[null,"종합관",33,806,{"$f":"VLOOKUP(B199&D199,'[1]점검현황(금월)'!$D$7:$AH$231,2,0)","v":"교육대학원 "},{"$f":"VLOOKUP(B199&D199,'[1]점검현황(금월)'!$D$7:$AH$231,3,0)","v":"XU105K"},{"$f":"VLOOKUP(B199&D199,'[1]점검현황(금월)'!$D$2:$AH$231,15,0)","v":"e-ST"},{"$f":"VLOOKUP(B199&D199,'[1]점검현황(금월)'!$D$2:$AH$231,21,0)","v":"·"},{"$f":"VLOOKUP(B199&D199,'[1]점검현황(금월)'!$D$7:$AH$231,24,0)","v":"·"},{"$f":"VLOOKUP(B199&D199,'[1]점검현황(금월)'!$D$7:$AH$231,19,0)","v":328},{"$f":"VLOOKUP(B199&D199,'[1]점검현황(금월)'!$D$7:$AH$231,20,0)","v":"10:30:00"},{"$f":"VLOOKUP(B199&D199,'[1]점검현황(금월)'!$D$7:$AH$231,31,0)","v":163},{"$f":"VLOOKUP(B199&D199,'[1]점검현황(금월)'!$D$7:$AH$231,17,0)","v":328},{"$f":"VLOOKUP(B199&D199,'[1]점검현황(금월)'!$D$7:$AH$231,18,0)","v":"10:00:00"},{"$f":"VLOOKUP(B199&D199,'[1]점검현황(금월)'!$D$7:$AH$231,23,0)","v":"."}]
[null,"종합관",34,808,{"$f":"VLOOKUP(B200&D200,'[1]점검현황(금월)'!$D$7:$AH$231,2,0)","v":"교육대학원 "},{"$f":"VLOOKUP(B200&D200,'[1]점검현황(금월)'!$D$7:$AH$231,3,0)","v":"XU106K"},{"$f":"VLOOKUP(B200&D200,'[1]점검현황(금월)'!$D$2:$AH$231,15,0)","v":"자체"},{"$f":"VLOOKUP(B200&D200,'[1]점검현황(금월)'!$D$2:$AH$231,21,0)","v":"·"},{"$f":"VLOOKUP(B200&D200,'[1]점검현황(금월)'!$D$7:$AH$231,24,0)","v":"·"},{"$f":"VLOOKUP(B200&D200,'[1]점검현황(금월)'!$D$7:$AH$231,19,0)","v":328},{"$f":"VLOOKUP(B200&D200,'[1]점검현황(금월)'!$D$7:$AH$231,20,0)","v":"13:58:00"},{"$f":"VLOOKUP(B200&D200,'[1]점검현황(금월)'!$D$7:$AH$231,31,0)","v":781},{"$f":"VLOOKUP(B200&D200,'[1]점검현황(금월)'!$D$7:$AH$231,17,0)","v":328},{"$f":"VLOOKUP(B200&D200,'[1]점검현황(금월)'!$D$7:$AH$231,18,0)","v":"10:10:00"},{"$f":"VLOOKUP(B200&D200,'[1]점검현황(금월)'!$D$7:$AH$231,23,0)","v":"12"}]
[null,"종합관",35,809,{"$f":"VLOOKUP(B201&D201,'[1]점검현황(금월)'!$D$7:$AH$231,2,0)","v":"교육대학원 "},{"$f":"VLOOKUP(B201&D201,'[1]점검현황(금월)'!$D$7:$AH$231,3,0)","v":"XU106K"},{"$f":"VLOOKUP(B201&D201,'[1]점검현황(금월)'!$D$2:$AH$231,15,0)","v":"자체"},{"$f":"VLOOKUP(B201&D201,'[1]점검현황(금월)'!$D$2:$AH$231,21,0)","v":"·"},{"$f":"VLOOKUP(B201&D201,'[1]점검현황(금월)'!$D$7:$AH$231,24,0)","v":"·"},{"$f":"VLOOKUP(B201&D201,'[1]점검현황(금월)'!$D$7:$AH$231,19,0)","v":328},{"$f":"VLOOKUP(B201&D201,'[1]점검현황(금월)'!$D$7:$AH$231,20,0)","v":"11:10:00"},{"$f":"VLOOKUP(B201&D201,'[1]점검현황(금월)'!$D$7:$AH$231,31,0)","v":515},{"$f":"VLOOKUP(B201&D201,'[1]점검현황(금월)'!$D$7:$AH$231,17,0)","v":328},{"$f":"VLOOKUP(B201&D201,'[1]점검현황(금월)'!$D$7:$AH$231,18,0)","v":"10:20:00"},{"$f":"VLOOKUP(B201&D201,'[1]점검현황(금월)'!$D$7:$AH$231,23,0)","v":"."}]
[null,"종합관",36,810,{"$f":"VLOOKUP(B202&D202,'[1]점검현황(금월)'!$D$7:$AH$231,2,0)","v":"교육대자동녹화"},{"$f":"VLOOKUP(B202&D202,'[1]점검현황(금월)'!$D$7:$AH$231,3,0)","v":"XU350K"},{"$f":"VLOOKUP(B202&D202,'[1]점검현황(금월)'!$D$2:$AH$231,15,0)","v":"e-ST"},{"$f":"VLOOKUP(B202&D202,'[1]점검현황(금월)'!$D$2:$AH$231,21,0)","v":"·"},{"$f":"VLOOKUP(B202&D202,'[1]점검현황(금월)'!$D$7:$AH$231,24,0)","v":"·"},{"$f":"VLOOKUP(B202&D202,'[1]점검현황(금월)'!$D$7:$AH$231,19,0)","v":328},{"$f":"VLOOKUP(B202&D202,'[1]점검현황(금월)'!$D$7:$AH$231,20,0)","v":"11:30:00"},{"$f":"VLOOKUP(B202&D202,'[1]점검현황(금월)'!$D$7:$AH$231,31,0)","v":603},{"$f":"VLOOKUP(B202&D202,'[1]점검현황(금월)'!$D$7:$AH$231,17,0)","v":328},{"$f":"VLOOKUP(B202&D202,'[1]점검현황(금월)'!$D$7:$AH$231,18,0)","v":"10:30:00"},{"$f":"VLOOKUP(B202&D202,'[1]점검현황(금월)'!$D$7:$AH$231,23,0)","v":"."}]
[null,"종합관",37,811,{"$f":"VLOOKUP(B203&D203,'[1]점검현황(금월)'!$D$7:$AH$231,2,0)","v":"교육대자동녹화"},{"$f":"VLOOKUP(B203&D203,'[1]점검현황(금월)'!$D$7:$AH$231,3,0)","v":"XU106K"},{"$f":"VLOOKUP(B203&D203,'[1]점검현황(금월)'!$D$2:$AH$231,15,0)","v":"e-ST"},{"$f":"VLOOKUP(B203&D203,'[1]점검현황(금월)'!$D$2:$AH$231,21,0)","v":"·"},{"$f":"VLOOKUP(B203&D203,'[1]점검현황(금월)'!$D$7:$AH$231,24,0)","v":"·"},{"$f":"VLOOKUP(B203&D203,'[1]점검현황(금월)'!$D$7:$AH$231,19,0)","v":328},{"$f":"VLOOKUP(B203&D203,'[1]점검현황(금월)'!$D$7:$AH$231,20,0)","v":"11:50:00"},{"$f":"VLOOKUP(B203&D203,'[1]점검현황(금월)'!$D$7:$AH$231,31,0)","v":1301},{"$f":"VLOOKUP(B203&D203,'[1]점검현황(금월)'!$D$7:$AH$231,17,0)","v":328},{"$f":"VLOOKUP(B203&D203,'[1]점검현황(금월)'!$D$7:$AH$231,18,0)","v":"10:40:00"},{"$f":"VLOOKUP(B203&D203,'[1]점검현황(금월)'!$D$7:$AH$231,23,0)","v":"."}]
[null,"종합관",38,812,{"$f":"VLOOKUP(B204&D204,'[1]점검현황(금월)'!$D$7:$AH$231,2,0)","v":"교육대자동녹화"},{"$f":"VLOOKUP(B204&D204,'[1]점검현황(금월)'!$D$7:$AH$231,3,0)","v":"XU105K"},{"$f":"VLOOKUP(B204&D204,'[1]점검현황(금월)'!$D$2:$AH$231,15,0)","v":"자체"},{"$f":"VLOOKUP(B204&D204,'[1]점검현황(금월)'!$D$2:$AH$231,21,0)","v":"1901-06-10"},{"$f":"VLOOKUP(B204&D204,'[1]점검현황(금월)'!$D$7:$AH$231,24,0)","v":"·"},{"$f":"VLOOKUP(B204&D204,'[1]점검현황(금월)'!$D$7:$AH$231,19,0)","v":328},{"$f":"VLOOKUP(B204&D204,'[1]점검현황(금월)'!$D$7:$AH$231,20,0)","v":"13:10:00"},{"$f":"VLOOKUP(B204&D204,'[1]점검현황(금월)'!$D$7:$AH$231,31,0)","v":1432},{"$f":"VLOOKUP(B204&D204,'[1]점검현황(금월)'!$D$7:$AH$231,17,0)","v":328},{"$f":"VLOOKUP(B204&D204,'[1]점검현황(금월)'!$D$7:$AH$231,18,0)","v":"10:50:00"},{"$f":"VLOOKUP(B204&D204,'[1]점검현황(금월)'!$D$7:$AH$231,23,0)","v":"."}]
[null,"종합관",39,1002,{"$f":"VLOOKUP(B205&D205,'[1]점검현황(금월)'!$D$7:$AH$231,2,0)","v":"공공정책대학원"},{"$f":"VLOOKUP(B205&D205,'[1]점검현황(금월)'!$D$7:$AH$231,3,0)","v":"XU106K"},{"$f":"VLOOKUP(B205&D205,'[1]점검현황(금월)'!$D$2:$AH$231,15,0)","v":"e-ST"},{"$f":"VLOOKUP(B205&D205,'[1]점검현황(금월)'!$D$2:$AH$231,21,0)","v":"·"},{"$f":"VLOOKUP(B205&D205,'[1]점검현황(금월)'!$D$7:$AH$231,24,0)","v":"·"},{"$f":"VLOOKUP(B205&D205,'[1]점검현황(금월)'!$D$7:$AH$231,19,0)","v":328},{"$f":"VLOOKUP(B205&D205,'[1]점검현황(금월)'!$D$7:$AH$231,20,0)","v":"13:30:00"},{"$f":"VLOOKUP(B205&D205,'[1]점검현황(금월)'!$D$7:$AH$231,31,0)","v":321},{"$f":"VLOOKUP(B205&D205,'[1]점검현황(금월)'!$D$7:$AH$231,17,0)","v":328},{"$f":"VLOOKUP(B205&D205,'[1]점검현황(금월)'!$D$7:$AH$231,18,0)","v":"11:00:00"},{"$f":"VLOOKUP(B205&D205,'[1]점검현황(금월)'!$D$7:$AH$231,23,0)","v":"2"}]
[null,"종합관",40,1003,{"$f":"VLOOKUP(B206&D206,'[1]점검현황(금월)'!$D$7:$AH$231,2,0)","v":"공공정책대학원"},{"$f":"VLOOKUP(B206&D206,'[1]점검현황(금월)'!$D$7:$AH$231,3,0)","v":"XU106K"},{"$f":"VLOOKUP(B206&D206,'[1]점검현황(금월)'!$D$2:$AH$231,15,0)","v":"e-ST"},{"$f":"VLOOKUP(B206&D206,'[1]점검현황(금월)'!$D$2:$AH$231,21,0)","v":"·"},{"$f":"VLOOKUP(B206&D206,'[1]점검현황(금월)'!$D$7:$AH$231,24,0)","v":"·"},{"$f":"VLOOKUP(B206&D206,'[1]점검현황(금월)'!$D$7:$AH$231,19,0)","v":328},{"$f":"VLOOKUP(B206&D206,'[1]점검현황(금월)'!$D$7:$AH$231,20,0)","v":"13:50:00"},{"$f":"VLOOKUP(B206&D206,'[1]점검현황(금월)'!$D$7:$AH$231,31,0)","v":2001},{"$f":"VLOOKUP(B206&D206,'[1]점검현황(금월)'!$D$7:$AH$231,17,0)","v":328},{"$f":"VLOOKUP(B206&D206,'[1]점검현황(금월)'!$D$7:$AH$231,18,0)","v":"11:10:00"},{"$f":"VLOOKUP(B206&D206,'[1]점검현황(금월)'!$D$7:$AH$231,23,0)","v":"."}]
[null,"종합관",41,1004,{"$f":"VLOOKUP(B207&D207,'[1]점검현황(금월)'!$D$7:$AH$231,2,0)","v":"공공정책대학원"},{"$f":"VLOOKUP(B207&D207,'[1]점검현황(금월)'!$D$7:$AH$231,3,0)","v":"XU106K"},{"$f":"VLOOKUP(B207&D207,'[1]점검현황(금월)'!$D$2:$AH$231,15,0)","v":"e-ST"},{"$f":"VLOOKUP(B207&D207,'[1]점검현황(금월)'!$D$2:$AH$231,21,0)","v":"·"},{"$f":"VLOOKUP(B207&D207,'[1]점검현황(금월)'!$D$7:$AH$231,24,0)","v":"·"},{"$f":"VLOOKUP(B207&D207,'[1]점검현황(금월)'!$D$7:$AH$231,19,0)","v":328},{"$f":"VLOOKUP(B207&D207,'[1]점검현황(금월)'!$D$7:$AH$231,20,0)","v":"15:10:00"},{"$f":"VLOOKUP(B207&D207,'[1]점검현황(금월)'!$D$7:$AH$231,31,0)","v":1073},{"$f":"VLOOKUP(B207&D207,'[1]점검현황(금월)'!$D$7:$AH$231,17,0)","v":328},{"$f":"VLOOKUP(B207&D207,'[1]점검현황(금월)'!$D$7:$AH$231,18,0)","v":"11:20:00"},{"$f":"VLOOKUP(B207&D207,'[1]점검현황(금월)'!$D$7:$AH$231,23,0)","v":"."}]
[null,"종합관",42,1005,{"$f":"VLOOKUP(B208&D208,'[1]점검현황(금월)'!$D$7:$AH$231,2,0)","v":"공공정책대학원"},{"$f":"VLOOKUP(B208&D208,'[1]점검현황(금월)'!$D$7:$AH$231,3,0)","v":"XU106K"},{"$f":"VLOOKUP(B208&D208,'[1]점검현황(금월)'!$D$2:$AH$231,15,0)","v":"e-ST"},{"$f":"VLOOKUP(B208&D208,'[1]점검현황(금월)'!$D$2:$AH$231,21,0)","v":"·"},{"$f":"VLOOKUP(B208&D208,'[1]점검현황(금월)'!$D$7:$AH$231,24,0)","v":"·"},{"$f":"VLOOKUP(B208&D208,'[1]점검현황(금월)'!$D$7:$AH$231,19,0)","v":328},{"$f":"VLOOKUP(B208&D208,'[1]점검현황(금월)'!$D$7:$AH$231,20,0)","v":"15:30:00"},{"$f":"VLOOKUP(B208&D208,'[1]점검현황(금월)'!$D$7:$AH$231,31,0)","v":841},{"$f":"VLOOKUP(B208&D208,'[1]점검현황(금월)'!$D$7:$AH$231,17,0)","v":328},{"$f":"VLOOKUP(B208&D208,'[1]점검현황(금월)'!$D$7:$AH$231,18,0)","v":"11:30:00"},{"$f":"VLOOKUP(B208&D208,'[1]점검현황(금월)'!$D$7:$AH$231,23,0)","v":"."}]
[null,"종합관",43,1007,{"$f":"VLOOKUP(B209&D209,'[1]점검현황(금월)'!$D$7:$AH$231,2,0)","v":"공공정책대학원"},{"$f":"VLOOKUP(B209&D209,'[1]점검현황(금월)'!$D$7:$AH$231,3,0)","v":"XU106K"},{"$f":"VLOOKUP(B209&D209,'[1]점검현황(금월)'!$D$2:$AH$231,15,0)","v":"e-ST"},{"$f":"VLOOKUP(B209&D209,'[1]점검현황(금월)'!$D$2:$AH$231,21,0)","v":"·"},{"$f":"VLOOKUP(B209&D209,'[1]점검현황(금월)'!$D$7:$AH$231,24,0)","v":"·"},{"$f":"VLOOKUP(B209&D209,'[1]점검현황(금월)'!$D$7:$AH$231,19,0)","v":328},{"$f":"VLOOKUP(B209&D209,'[1]점검현황(금월)'!$D$7:$AH$231,20,0)","v":"15:50:00"},{"$f":"VLOOKUP(B209&D209,'[1]점검현황(금월)'!$D$7:$AH$231,31,0)","v":618},{"$f":"VLOOKUP(B209&D209,'[1]점검현황(금월)'!$D$7:$AH$231,17,0)","v":328},{"$f":"VLOOKUP(B209&D209,'[1]점검현황(금월)'!$D$7:$AH$231,18,0)","v":"11:40:00"},{"$f":"VLOOKUP(B209&D209,'[1]점검현황(금월)'!$D$7:$AH$231,23,0)","v":"."}]
[null,"종합관",44,1008,{"$f":"VLOOKUP(B210&D210,'[1]점검현황(금월)'!$D$7:$AH$231,2,0)","v":"공공정책대학원"},{"$f":"VLOOKUP(B210&D210,'[1]점검현황(금월)'!$D$7:$AH$231,3,0)","v":"XU106K"},{"$f":"VLOOKUP(B210&D210,'[1]점검현황(금월)'!$D$2:$AH$231,15,0)","v":"e-ST"},{"$f":"VLOOKUP(B210&D210,'[1]점검현황(금월)'!$D$2:$AH$231,21,0)","v":"·"},{"$f":"VLOOKUP(B210&D210,'[1]점검현황(금월)'!$D$7:$AH$231,24,0)","v":"·"},{"$f":"VLOOKUP(B210&D210,'[1]점검현황(금월)'!$D$7:$AH$231,19,0)","v":328},{"$f":"VLOOKUP(B210&D210,'[1]점검현황(금월)'!$D$7:$AH$231,20,0)","v":"16:10:00"},{"$f":"VLOOKUP(B210&D210,'[1]점검현황(금월)'!$D$7:$AH$231,31,0)","v":380},{"$f":"VLOOKUP(B210&D210,'[1]점검현황(금월)'!$D$7:$AH$231,17,0)","v":328},{"$f":"VLOOKUP(B210&D210,'[1]점검현황(금월)'!$D$7:$AH$231,18,0)","v":"11:50:00"},{"$f":"VLOOKUP(B210&D210,'[1]점검현황(금월)'!$D$7:$AH$231,23,0)","v":"."}]
[null,"종합관",45,1009,{"$f":"VLOOKUP(B211&D211,'[1]점검현황(금월)'!$D$7:$AH$231,2,0)","v":"공공정책대학원"},{"$f":"VLOOKUP(B211&D211,'[1]점검현황(금월)'!$D$7:$AH$231,3,0)","v":"XU106K"},{"$f":"VLOOKUP(B211&D211,'[1]점검현황(금월)'!$D$2:$AH$231,15,0)","v":"e-ST"},{"$f":"VLOOKUP(B211&D211,'[1]점검현황(금월)'!$D$2:$AH$231,21,0)","v":"·"},{"$f":"VLOOKUP(B211&D211,'[1]점검현황(금월)'!$D$7:$AH$231,24,0)","v":"·"},{"$f":"VLOOKUP(B211&D211,'[1]점검현황(금월)'!$D$7:$AH$231,19,0)","v":328},{"$f":"VLOOKUP(B211&D211,'[1]점검현황(금월)'!$D$7:$AH$231,20,0)","v":"16:30:00"},{"$f":"VLOOKUP(B211&D211,'[1]점검현황(금월)'!$D$7:$AH$231,31,0)","v":451},{"$f":"VLOOKUP(B211&D211,'[1]점검현황(금월)'!$D$7:$AH$231,17,0)","v":328},{"$f":"VLOOKUP(B211&D211,'[1]점검현황(금월)'!$D$7:$AH$231,18,0)","v":"12:00:00"},{"$f":"VLOOKUP(B211&D211,'[1]점검현황(금월)'!$D$7:$AH$231,23,0)","v":"."}]
["약학관","약학관",1,105,{"$f":"VLOOKUP(B212&D212,'[1]점검현황(금월)'!$D$7:$AH$231,2,0)","v":"약학대"},{"$f":"VLOOKUP(B212&D212,'[1]점검현황(금월)'!$D$7:$AH$231,3,0)","v":"XU106K"},{"$f":"VLOOKUP(B212&D212,'[1]점검현황(금월)'!$D$2:$AH$231,15,0)","v":"e-ST"},{"$f":"VLOOKUP(B212&D212,'[1]점검현황(금월)'!$D$2:$AH$231,21,0)","v":"2012-08-20"},{"$f":"VLOOKUP(B212&D212,'[1]점검현황(금월)'!$D$7:$AH$231,24,0)","v":"·"},{"$f":"VLOOKUP(B212&D212,'[1]점검현황(금월)'!$D$7:$AH$231,19,0)","v":228},{"$f":"VLOOKUP(B212&D212,'[1]점검현황(금월)'!$D$7:$AH$231,20,0)","v":"14:23:00"},{"$f":"VLOOKUP(B212&D212,'[1]점검현황(금월)'!$D$7:$AH$231,31,0)","v":1806},{"$f":"VLOOKUP(B212&D212,'[1]점검현황(금월)'!$D$7:$AH$231,17,0)","v":330},{"$f":"VLOOKUP(B212&D212,'[1]점검현황(금월)'!$D$7:$AH$231,18,0)","v":"13:00:00"},{"$f":"VLOOKUP(B212&D212,'[1]점검현황(금월)'!$D$7:$AH$231,23,0)","v":"."}]
[null,"약학관",2,106,{"$f":"VLOOKUP(B213&D213,'[1]점검현황(금월)'!$D$7:$AH$231,2,0)","v":"약학대"},{"$f":"VLOOKUP(B213&D213,'[1]점검현황(금월)'!$D$7:$AH$231,3,0)","v":"XU350K"},{"$f":"VLOOKUP(B213&D213,'[1]점검현황(금월)'!$D$2:$AH$231,15,0)","v":"e-ST"},{"$f":"VLOOKUP(B213&D213,'[1]점검현황(금월)'!$D$2:$AH$231,21,0)","v":"·"},{"$f":"VLOOKUP(B213&D213,'[1]점검현황(금월)'!$D$7:$AH$231,24,0)","v":"·"},{"$f":"VLOOKUP(B213&D213,'[1]점검현황(금월)'!$D$7:$AH$231,19,0)","v":228},{"$f":"VLOOKUP(B213&D213,'[1]점검현황(금월)'!$D$7:$AH$231,20,0)","v":"09:10:00"},{"$f":"VLOOKUP(B213&D213,'[1]점검현황(금월)'!$D$7:$AH$231,31,0)","v":434},{"$f":"VLOOKUP(B213&D213,'[1]점검현황(금월)'!$D$7:$AH$231,17,0)","v":330},{"$f":"VLOOKUP(B213&D213,'[1]점검현황(금월)'!$D$7:$AH$231,18,0)","v":"13:10:00"},{"$f":"VLOOKUP(B213&D213,'[1]점검현황(금월)'!$D$7:$AH$231,23,0)","v":"."}]
[null,"약학관",3,317,{"$f":"VLOOKUP(B214&D214,'[1]점검현황(금월)'!$D$7:$AH$231,2,0)","v":"약학대"},{"$f":"VLOOKUP(B214&D214,'[1]점검현황(금월)'!$D$7:$AH$231,3,0)","v":"XU350K"},{"$f":"VLOOKUP(B214&D214,'[1]점검현황(금월)'!$D$2:$AH$231,15,0)","v":"e-ST"},{"$f":"VLOOKUP(B214&D214,'[1]점검현황(금월)'!$D$2:$AH$231,21,0)","v":"·"},{"$f":"VLOOKUP(B214&D214,'[1]점검현황(금월)'!$D$7:$AH$231,24,0)","v":"·"},{"$f":"VLOOKUP(B214&D214,'[1]점검현황(금월)'!$D$7:$AH$231,19,0)","v":228},{"$f":"VLOOKUP(B214&D214,'[1]점검현황(금월)'!$D$7:$AH$231,20,0)","v":"14:40:00"},{"$f":"VLOOKUP(B214&D214,'[1]점검현황(금월)'!$D$7:$AH$231,31,0)","v":2027},{"$f":"VLOOKUP(B214&D214,'[1]점검현황(금월)'!$D$7:$AH$231,17,0)","v":330},{"$f":"VLOOKUP(B214&D214,'[1]점검현황(금월)'!$D$7:$AH$231,18,0)","v":"13:20:00"},{"$f":"VLOOKUP(B214&D214,'[1]점검현황(금월)'!$D$7:$AH$231,23,0)","v":"."}]
["도서관","도서관",1,101,{"$f":"VLOOKUP(B215&D215,'[1]점검현황(금월)'!$D$7:$AH$231,2,0)","v":"소강당"},{"$f":"VLOOKUP(B215&D215,'[1]점검현황(금월)'!$D$7:$AH$231,3,0)","v":"VX-600"},{"$f":"VLOOKUP(B215&D215,'[1]점검현황(금월)'!$D$2:$AH$231,15,0)","v":"구"},{"$f":"VLOOKUP(B215&D215,'[1]점검현황(금월)'!$D$2:$AH$231,21,0)","v":"2012-09-21"},{"$f":"VLOOKUP(B215&D215,'[1]점검현황(금월)'!$D$7:$AH$231,24,0)","v":"·"},{"$f":"VLOOKUP(B215&D215,'[1]점검현황(금월)'!$D$7:$AH$231,19,0)","v":228},{"$f":"VLOOKUP(B215&D215,'[1]점검현황(금월)'!$D$7:$AH$231,20,0)","v":"09:30:00"},{"$f":"VLOOKUP(B215&D215,'[1]점검현황(금월)'!$D$7:$AH$231,31,0)","v":28},{"$f":"VLOOKUP(B215&D215,'[1]점검현황(금월)'!$D$7:$AH$231,17,0)","v":330},{"$f":"VLOOKUP(B215&D215,'[1]점검현황(금월)'!$D$7:$AH$231,18,0)","v":"13:30:00"},{"$f":"VLOOKUP(B215&D215,'[1]점검현황(금월)'!$D$7:$AH$231,23,0)","v":"."}]
["캠퍼스           플라자","캠퍼스플라자",1,302,{"$f":"VLOOKUP(B216&D216,'[1]점검현황(금월)'!$D$7:$AH$231,2,0)","v":"평생교육원"},{"$f":"VLOOKUP(B216&D216,'[1]점검현황(금월)'!$D$7:$AH$231,3,0)","v":"XT15KU"},{"$f":"VLOOKUP(B216&D216,'[1]점검현황(금월)'!$D$2:$AH$231,15,0)","v":"구"},{"$f":"VLOOKUP(B216&D216,'[1]점검현황(금월)'!$D$2:$AH$231,21,0)","v":"·"},{"$f":"VLOOKUP(B216&D216,'[1]점검현황(금월)'!$D$7:$AH$231,24,0)","v":"·"},{"$f":"VLOOKUP(B216&D216,'[1]점검현황(금월)'!$D$7:$AH$231,19,0)","v":228},{"$f":"VLOOKUP(B216&D216,'[1]점검현황(금월)'!$D$7:$AH$231,20,0)","v":"09:40:00"},{"$f":"VLOOKUP(B216&D216,'[1]점검현황(금월)'!$D$7:$AH$231,31,0)","v":1864},{"$f":"VLOOKUP(B216&D216,'[1]점검현황(금월)'!$D$7:$AH$231,17,0)","v":330},{"$f":"VLOOKUP(B216&D216,'[1]점검현황(금월)'!$D$7:$AH$231,18,0)","v":"13:40:00"},{"$f":"VLOOKUP(B216&D216,'[1]점검현황(금월)'!$D$7:$AH$231,23,0)","v":"."}]
[null,"캠퍼스플라자",2,304,{"$f":"VLOOKUP(B217&D217,'[1]점검현황(금월)'!$D$7:$AH$231,2,0)","v":"평생교육원"},{"$f":"VLOOKUP(B217&D217,'[1]점검현황(금월)'!$D$7:$AH$231,3,0)","v":"XU300K"},{"$f":"VLOOKUP(B217&D217,'[1]점검현황(금월)'!$D$2:$AH$231,15,0)","v":"구"},{"$f":"VLOOKUP(B217&D217,'[1]점검현황(금월)'!$D$2:$AH$231,21,0)","v":"·"},{"$f":"VLOOKUP(B217&D217,'[1]점검현황(금월)'!$D$7:$AH$231,24,0)","v":"·"},{"$f":"VLOOKUP(B217&D217,'[1]점검현황(금월)'!$D$7:$AH$231,19,0)","v":309},{"$f":"VLOOKUP(B217&D217,'[1]점검현황(금월)'!$D$7:$AH$231,20,0)","v":"17:41:00"},{"$f":"VLOOKUP(B217&D217,'[1]점검현황(금월)'!$D$7:$AH$231,31,0)","v":2502},{"$f":"VLOOKUP(B217&D217,'[1]점검현황(금월)'!$D$7:$AH$231,17,0)","v":330},{"$f":"VLOOKUP(B217&D217,'[1]점검현황(금월)'!$D$7:$AH$231,18,0)","v":"13:50:00"},{"$f":"VLOOKUP(B217&D217,'[1]점검현황(금월)'!$D$7:$AH$231,23,0)","v":"2,9"}]
[null,"캠퍼스플라자",3,305,{"$f":"VLOOKUP(B218&D218,'[1]점검현황(금월)'!$D$7:$AH$231,2,0)","v":"평생교육원"},{"$f":"VLOOKUP(B218&D218,'[1]점검현황(금월)'!$D$7:$AH$231,3,0)","v":"XU300K"},{"$f":"VLOOKUP(B218&D218,'[1]점검현황(금월)'!$D$2:$AH$231,15,0)","v":"구"},{"$f":"VLOOKUP(B218&D218,'[1]점검현황(금월)'!$D$2:$AH$231,21,0)","v":"·"},{"$f":"VLOOKUP(B218&D218,'[1]점검현황(금월)'!$D$7:$AH$231,24,0)","v":"·"},{"$f":"VLOOKUP(B218&D218,'[1]점검현황(금월)'!$D$7:$AH$231,19,0)","v":228},{"$f":"VLOOKUP(B218&D218,'[1]점검현황(금월)'!$D$7:$AH$231,20,0)","v":"10:00:00"},{"$f":"VLOOKUP(B218&D218,'[1]점검현황(금월)'!$D$7:$AH$231,31,0)","v":2782},{"$f":"VLOOKUP(B218&D218,'[1]점검현황(금월)'!$D$7:$AH$231,17,0)","v":331},{"$f":"VLOOKUP(B218&D218,'[1]점검현황(금월)'!$D$7:$AH$231,18,0)","v":"14:00:00"},{"$f":"VLOOKUP(B218&D218,'[1]점검현황(금월)'!$D$7:$AH$231,23,0)","v":"."}]
[null,"캠퍼스플라자",4,306,{"$f":"VLOOKUP(B219&D219,'[1]점검현황(금월)'!$D$7:$AH$231,2,0)","v":"평생교육원"},{"$f":"VLOOKUP(B219&D219,'[1]점검현황(금월)'!$D$7:$AH$231,3,0)","v":"pt-vx410z"},{"$f":"VLOOKUP(B219&D219,'[1]점검현황(금월)'!$D$2:$AH$231,15,0)","v":"e-ST"},{"$f":"VLOOKUP(B219&D219,'[1]점검현황(금월)'!$D$2:$AH$231,21,0)","v":"·"},{"$f":"VLOOKUP(B219&D219,'[1]점검현황(금월)'!$D$7:$AH$231,24,0)","v":"·"},{"$f":"VLOOKUP(B219&D219,'[1]점검현황(금월)'!$D$7:$AH$231,19,0)","v":228},{"$f":"VLOOKUP(B219&D219,'[1]점검현황(금월)'!$D$7:$AH$231,20,0)","v":"10:10:00"},{"$f":"VLOOKUP(B219&D219,'[1]점검현황(금월)'!$D$7:$AH$231,31,0)","v":462},{"$f":"VLOOKUP(B219&D219,'[1]점검현황(금월)'!$D$7:$AH$231,17,0)","v":331},{"$f":"VLOOKUP(B219&D219,'[1]점검현황(금월)'!$D$7:$AH$231,18,0)","v":"14:10:00"},{"$f":"VLOOKUP(B219&D219,'[1]점검현황(금월)'!$D$7:$AH$231,23,0)","v":"."}]
[null,"캠퍼스플라자",5,307,{"$f":"VLOOKUP(B220&D220,'[1]점검현황(금월)'!$D$7:$AH$231,2,0)","v":"평생교육원"},{"$f":"VLOOKUP(B220&D220,'[1]점검현황(금월)'!$D$7:$AH$231,3,0)","v":"XU300K"},{"$f":"VLOOKUP(B220&D220,'[1]점검현황(금월)'!$D$2:$AH$231,15,0)","v":"구"},{"$f":"VLOOKUP(B220&D220,'[1]점검현황(금월)'!$D$2:$AH$231,21,0)","v":"·"},{"$f":"VLOOKUP(B220&D220,'[1]점검현황(금월)'!$D$7:$AH$231,24,0)","v":"·"},{"$f":"VLOOKUP(B220&D220,'[1]점검현황(금월)'!$D$7:$AH$231,19,0)","v":228},{"$f":"VLOOKUP(B220&D220,'[1]점검현황(금월)'!$D$7:$AH$231,20,0)","v":"10:20:00"},{"$f":"VLOOKUP(B220&D220,'[1]점검현황(금월)'!$D$7:$AH$231,31,0)","v":2804},{"$f":"VLOOKUP(B220&D220,'[1]점검현황(금월)'!$D$7:$AH$231,17,0)","v":331},{"$f":"VLOOKUP(B220&D220,'[1]점검현황(금월)'!$D$7:$AH$231,18,0)","v":"14:20:00"},{"$f":"VLOOKUP(B220&D220,'[1]점검현황(금월)'!$D$7:$AH$231,23,0)","v":"."}]
[null,"캠퍼스플라자",6,308,{"$f":"VLOOKUP(B221&D221,'[1]점검현황(금월)'!$D$7:$AH$231,2,0)","v":"평생교육원"},{"$f":"VLOOKUP(B221&D221,'[1]점검현황(금월)'!$D$7:$AH$231,3,0)","v":"XU300K"},{"$f":"VLOOKUP(B221&D221,'[1]점검현황(금월)'!$D$2:$AH$231,15,0)","v":"구"},{"$f":"VLOOKUP(B221&D221,'[1]점검현황(금월)'!$D$2:$AH$231,21,0)","v":"·"},{"$f":"VLOOKUP(B221&D221,'[1]점검현황(금월)'!$D$7:$AH$231,24,0)","v":"·"},{"$f":"VLOOKUP(B221&D221,'[1]점검현황(금월)'!$D$7:$AH$231,19,0)","v":228},{"$f":"VLOOKUP(B221&D221,'[1]점검현황(금월)'!$D$7:$AH$231,20,0)","v":"10:20:00"},{"$f":"VLOOKUP(B221&D221,'[1]점검현황(금월)'!$D$7:$AH$231,31,0)","v":1639},{"$f":"VLOOKUP(B221&D221,'[1]점검현황(금월)'!$D$7:$AH$231,17,0)","v":331},{"$f":"VLOOKUP(B221&D221,'[1]점검현황(금월)'!$D$7:$AH$231,18,0)","v":"14:30:00"},{"$f":"VLOOKUP(B221&D221,'[1]점검현황(금월)'!$D$7:$AH$231,23,0)","v":"."}]
[null,"캠퍼스플라자",7,501,{"$f":"VLOOKUP(B222&D222,'[1]점검현황(금월)'!$D$7:$AH$231,2,0)","v":"아주심리센터"},{"$f":"VLOOKUP(B222&D222,'[1]점검현황(금월)'!$D$7:$AH$231,3,0)","v":"VX400"},{"$f":"VLOOKUP(B222&D222,'[1]점검현황(금월)'!$D$2:$AH$231,15,0)","v":"구"},{"$f":"VLOOKUP(B222&D222,'[1]점검현황(금월)'!$D$2:$AH$231,21,0)","v":"·"},{"$f":"VLOOKUP(B222&D222,'[1]점검현황(금월)'!$D$7:$AH$231,24,0)","v":"·"},{"$f":"VLOOKUP(B222&D222,'[1]점검현황(금월)'!$D$7:$AH$231,19,0)","v":228},{"$f":"VLOOKUP(B222&D222,'[1]점검현황(금월)'!$D$7:$AH$231,20,0)","v":"10:40:00"},{"$f":"VLOOKUP(B222&D222,'[1]점검현황(금월)'!$D$7:$AH$231,31,0)","v":248},{"$f":"VLOOKUP(B222&D222,'[1]점검현황(금월)'!$D$7:$AH$231,17,0)","v":331},{"$f":"VLOOKUP(B222&D222,'[1]점검현황(금월)'!$D$7:$AH$231,18,0)","v":"14:40:00"},{"$f":"VLOOKUP(B222&D222,'[1]점검현황(금월)'!$D$7:$AH$231,23,0)","v":"."}]
["종합                        설계동","종합설계동",1,101,{"$f":"VLOOKUP(B223&D223,'[1]점검현황(금월)'!$D$7:$AH$231,2,0)","v":"정 통 컴"},{"$f":"VLOOKUP(B223&D223,'[1]점검현황(금월)'!$D$7:$AH$231,3,0)","v":"XM5000"},{"$f":"VLOOKUP(B223&D223,'[1]점검현황(금월)'!$D$2:$AH$231,15,0)","v":"e-ST"},{"$f":"VLOOKUP(B223&D223,'[1]점검현황(금월)'!$D$2:$AH$231,21,0)","v":"·"},{"$f":"VLOOKUP(B223&D223,'[1]점검현황(금월)'!$D$7:$AH$231,24,0)","v":"·"},{"$f":"VLOOKUP(B223&D223,'[1]점검현황(금월)'!$D$7:$AH$231,19,0)","v":302},{"$f":"VLOOKUP(B223&D223,'[1]점검현황(금월)'!$D$7:$AH$231,20,0)","v":"10:50:00"},{"$f":"VLOOKUP(B223&D223,'[1]점검현황(금월)'!$D$7:$AH$231,31,0)","v":956},{"$f":"VLOOKUP(B223&D223,'[1]점검현황(금월)'!$D$7:$AH$231,17,0)","v":331},{"$f":"VLOOKUP(B223&D223,'[1]점검현황(금월)'!$D$7:$AH$231,18,0)","v":"09:00:00"},{"$f":"VLOOKUP(B223&D223,'[1]점검현황(금월)'!$D$7:$AH$231,23,0)","v":"2(2)"}]
[null,"종합설계동",2,103,{"$f":"VLOOKUP(B224&D224,'[1]점검현황(금월)'!$D$7:$AH$231,2,0)","v":"산업정보"},{"$f":"VLOOKUP(B224&D224,'[1]점검현황(금월)'!$D$7:$AH$231,3,0)","v":"VX400 / VX400 / 샤프"},{"$f":"VLOOKUP(B224&D224,'[1]점검현황(금월)'!$D$2:$AH$231,15,0)","v":"자체"},{"$f":"VLOOKUP(B224&D224,'[1]점검현황(금월)'!$D$2:$AH$231,21,0)","v":"·"},{"$f":"VLOOKUP(B224&D224,'[1]점검현황(금월)'!$D$7:$AH$231,24,0)","v":"·"},{"$f":"VLOOKUP(B224&D224,'[1]점검현황(금월)'!$D$7:$AH$231,19,0)","v":228},{"$f":"VLOOKUP(B224&D224,'[1]점검현황(금월)'!$D$7:$AH$231,20,0)","v":"11:00:00"},{"$f":"VLOOKUP(B224&D224,'[1]점검현황(금월)'!$D$7:$AH$231,31,0)","v":"371/2/54"},{"$f":"VLOOKUP(B224&D224,'[1]점검현황(금월)'!$D$7:$AH$231,17,0)","v":331},{"$f":"VLOOKUP(B224&D224,'[1]점검현황(금월)'!$D$7:$AH$231,18,0)","v":"09:10:00"},{"$f":"VLOOKUP(B224&D224,'[1]점검현황(금월)'!$D$7:$AH$231,23,0)","v":"."}]
[null,"종합설계동",3,106,{"$f":"VLOOKUP(B225&D225,'[1]점검현황(금월)'!$D$7:$AH$231,2,0)","v":"환경공학"},{"$f":"VLOOKUP(B225&D225,'[1]점검현황(금월)'!$D$7:$AH$231,3,0)","v":"XU300K / XU300K / XU300K"},{"$f":"VLOOKUP(B225&D225,'[1]점검현황(금월)'!$D$2:$AH$231,15,0)","v":"e-ST"},{"$f":"VLOOKUP(B225&D225,'[1]점검현황(금월)'!$D$2:$AH$231,21,0)","v":"·"},{"$f":"VLOOKUP(B225&D225,'[1]점검현황(금월)'!$D$7:$AH$231,24,0)","v":"·"},{"$f":"VLOOKUP(B225&D225,'[1]점검현황(금월)'!$D$7:$AH$231,19,0)","v":228},{"$f":"VLOOKUP(B225&D225,'[1]점검현황(금월)'!$D$7:$AH$231,20,0)","v":"11:20:00"},{"$f":"VLOOKUP(B225&D225,'[1]점검현황(금월)'!$D$7:$AH$231,31,0)","v":445},{"$f":"VLOOKUP(B225&D225,'[1]점검현황(금월)'!$D$7:$AH$231,17,0)","v":331},{"$f":"VLOOKUP(B225&D225,'[1]점검현황(금월)'!$D$7:$AH$231,18,0)","v":"09:20:00"},{"$f":"VLOOKUP(B225&D225,'[1]점검현황(금월)'!$D$7:$AH$231,23,0)","v":"."}]
[null,"종합설계동",4,108,{"$f":"VLOOKUP(B226&D226,'[1]점검현황(금월)'!$D$7:$AH$231,2,0)","v":"정 통 컴"},{"$f":"VLOOKUP(B226&D226,'[1]점검현황(금월)'!$D$7:$AH$231,3,0)","v":"XU100K"},{"$f":"VLOOKUP(B226&D226,'[1]점검현황(금월)'!$D$2:$AH$231,15,0)","v":"구"},{"$f":"VLOOKUP(B226&D226,'[1]점검현황(금월)'!$D$2:$AH$231,21,0)","v":"2012-08-30"},{"$f":"VLOOKUP(B226&D226,'[1]점검현황(금월)'!$D$7:$AH$231,24,0)","v":"·"},{"$f":"VLOOKUP(B226&D226,'[1]점검현황(금월)'!$D$7:$AH$231,19,0)","v":228},{"$f":"VLOOKUP(B226&D226,'[1]점검현황(금월)'!$D$7:$AH$231,20,0)","v":"11:30:00"},{"$f":"VLOOKUP(B226&D226,'[1]점검현황(금월)'!$D$7:$AH$231,31,0)","v":437},{"$f":"VLOOKUP(B226&D226,'[1]점검현황(금월)'!$D$7:$AH$231,17,0)","v":331},{"$f":"VLOOKUP(B226&D226,'[1]점검현황(금월)'!$D$7:$AH$231,18,0)","v":"09:30:00"},{"$f":"VLOOKUP(B226&D226,'[1]점검현황(금월)'!$D$7:$AH$231,23,0)","v":"."}]
[null,"종합설계동",5,109,{"$f":"VLOOKUP(B227&D227,'[1]점검현황(금월)'!$D$7:$AH$231,2,0)","v":"전자공학 (PC실)"},{"$f":"VLOOKUP(B227&D227,'[1]점검현황(금월)'!$D$7:$AH$234,3,0)","v":"XU106K"},{"$f":"VLOOKUP(B227&D227,'[1]점검현황(금월)'!$D$2:$AH$234,15,0)","v":"구"},{"$f":"VLOOKUP(B227&D227,'[1]점검현황(금월)'!$D$2:$AH$234,21,0)","v":"·"},{"$f":"VLOOKUP(B227&D227,'[1]점검현황(금월)'!$D$7:$AH$234,24,0)","v":"·"},{"$f":"VLOOKUP(B227&D227,'[1]점검현황(금월)'!$D$7:$AH$234,19,0)","v":228},{"$f":"VLOOKUP(B227&D227,'[1]점검현황(금월)'!$D$7:$AH$234,20,0)","v":"11:40:00"},{"$f":"VLOOKUP(B227&D227,'[1]점검현황(금월)'!$D$7:$AH$231,31,0)","v":721},{"$f":"VLOOKUP(B227&D227,'[1]점검현황(금월)'!$D$7:$AH$234,17,0)","v":331},{"$f":"VLOOKUP(B227&D227,'[1]점검현황(금월)'!$D$7:$AH$234,18,0)","v":"09:40:00"},{"$f":"VLOOKUP(B227&D227,'[1]점검현황(금월)'!$D$7:$AH$231,23,0)","v":"."}]
["화공실험동","화공실험동",1,101,{"$f":"VLOOKUP(B228&D228,'[1]점검현황(금월)'!$D$7:$AH$234,2,0)","v":"PC실"},{"$f":"VLOOKUP(B228&D228,'[1]점검현황(금월)'!$D$7:$AH$234,3,0)","v":"SHARP"},{"$f":"VLOOKUP(B228&D228,'[1]점검현황(금월)'!$D$2:$AH$234,15,0)","v":"자체"},{"$f":"VLOOKUP(B228&D228,'[1]점검현황(금월)'!$D$2:$AH$234,21,0)","v":"·"},{"$f":"VLOOKUP(B228&D228,'[1]점검현황(금월)'!$D$7:$AH$234,24,0)","v":"·"},{"$f":"VLOOKUP(B228&D228,'[1]점검현황(금월)'!$D$7:$AH$234,19,0)","v":228},{"$f":"VLOOKUP(B228&D228,'[1]점검현황(금월)'!$D$7:$AH$234,20,0)","v":"11:50:00"},{"$f":"VLOOKUP(B228&D228,'[1]점검현황(금월)'!$D$7:$AH$232,31,0)","v":225},{"$f":"VLOOKUP(B228&D228,'[1]점검현황(금월)'!$D$7:$AH$234,17,0)","v":331},{"$f":"VLOOKUP(B228&D228,'[1]점검현황(금월)'!$D$7:$AH$234,18,0)","v":"09:50:00"},"."]
[null,"화공실험동",2,102,{"$f":"VLOOKUP(B229&D229,'[1]점검현황(금월)'!$D$7:$AH$234,2,0)","v":"실험실"},{"$f":"VLOOKUP(B229&D229,'[1]점검현황(금월)'!$D$7:$AH$234,3,0)","v":"EX500E"},{"$f":"VLOOKUP(B229&D229,'[1]점검현황(금월)'!$D$2:$AH$234,15,0)","v":"자체"},{"$f":"VLOOKUP(B229&D229,'[1]점검현황(금월)'!$D$2:$AH$234,21,0)","v":"·"},{"$f":"VLOOKUP(B229&D229,'[1]점검현황(금월)'!$D$7:$AH$234,24,0)","v":"·"},{"$f":"VLOOKUP(B229&D229,'[1]점검현황(금월)'!$D$7:$AH$234,19,0)","v":228},{"$f":"VLOOKUP(B229&D229,'[1]점검현황(금월)'!$D$7:$AH$234,20,0)","v":"12:00:00"},{"$f":"VLOOKUP(B229&D229,'[1]점검현황(금월)'!$D$7:$AH$233,31,0)","v":193},{"$f":"VLOOKUP(B229&D229,'[1]점검현황(금월)'!$D$7:$AH$234,17,0)","v":331},{"$f":"VLOOKUP(B229&D229,'[1]점검현황(금월)'!$D$7:$AH$234,18,0)","v":"10:00:00"},"."]
[null,"화공실험동",3,105,{"$f":"VLOOKUP(B230&D230,'[1]점검현황(금월)'!$D$7:$AH$234,2,0)","v":"실험실"},{"$f":"VLOOKUP(B230&D230,'[1]점검현황(금월)'!$D$7:$AH$234,3,0)","v":"XU106K"},{"$f":"VLOOKUP(B230&D230,'[1]점검현황(금월)'!$D$2:$AH$234,15,0)","v":"자체"},{"$f":"VLOOKUP(B230&D230,'[1]점검현황(금월)'!$D$2:$AH$234,21,0)","v":"·"},{"$f":"VLOOKUP(B230&D230,'[1]점검현황(금월)'!$D$7:$AH$234,24,0)","v":"·"},{"$f":"VLOOKUP(B230&D230,'[1]점검현황(금월)'!$D$7:$AH$234,19,0)","v":228},{"$f":"VLOOKUP(B230&D230,'[1]점검현황(금월)'!$D$7:$AH$234,20,0)","v":"12:10:00"},{"$f":"VLOOKUP(B230&D230,'[1]점검현황(금월)'!$D$7:$AH$234,31,0)","v":241},{"$f":"VLOOKUP(B230&D230,'[1]점검현황(금월)'!$D$7:$AH$234,17,0)","v":331},{"$f":"VLOOKUP(B230&D230,'[1]점검현황(금월)'!$D$7:$AH$234,18,0)","v":"10:10:00"},"."]
[]
[null,null,"※ 강의실 점검 내용"]
[null,null,"▶ 프로젝터 점검\n - 필터 크리닝 / 램프 사용시간 확인 / 램프 밝기 및 오염여부를 확인"]
[null,null,"▶ 스크린 점검\n - 동작 유무 확인(스크린Up, Down) / 낙서등의 오염 상태 육안으로 확인 / 손상 여부 확인"]
[null,null,"▶ PC점검\n -윈도우 보안 업데이트 확인 / 바이러스 검사 / PC하드웨어 점검(PC본체 및 모니터) / OS 및 프로그램 이상유무 확인"]
[null,null,"▶ 마이크 점검\n - 작동 여부 및 마이크 상태 확인 / 선 접지 확인 / 교탁 마이크 단자 및 거치대 확인"]
[null,null,"자동녹화"]
[null,null,"▶ 자동녹화 점검\n - e-motion 매니져 작동확인, e-motion 센서 작동 확인, 1:5 분배기 작동 확인, 자동녹화 프로그램 영상 및 음향 녹화, 카메라 및 모니터 정상 출력 확인"]