{"text_format":"2","workbook":"xlsx","n_sheets":1,"sheets":["점검계획"],"not_rendered":{"charts":0,"images":0,"macros":0,"external_links":1,"defined_names":0,"comments":0,"pivot_tables":0},"unopened":[],"bounds":{"document_bytes":16777216,"sheet_cells":100000,"run_cost":"one","rows_first":2000,"rows_last":500,"rows_between":2000,"halvings":0,"cell_chars":16384,"cell_head_chars":4096},"cells_cut":0,"cells_raw":0,"read":"whole","date_system":"1900"}

{"sheet":"점검계획","index":0,"n_rows":242,"n_cols":15,"rows_kept":242,"cut":false,"hidden":false,"merged":[[235,2,235,12],[239,2,239,13],[241,2,241,13],[243,3,243,7],[244,3,244,9],[169,0,214,0],[215,0,217,0],[219,0,225,0],[226,0,230,0],[231,0,233,0],[237,2,237,13],[83,0,106,0],[117,0,120,0],[121,0,149,0],[163,0,164,0],[236,2,236,13],[107,0,116,0],[150,0,162,0],[165,0,168,0],[0,0,0,14],[1,14,2,14],[30,0,53,0],[54,0,82,0],[3,0,29,0],[1,0,2,0],[1,1,1,8],[1,9,1,11],[1,12,2,13],[2,9,2,10],[242,3,242,7],[238,2,238,13]]}
["2015년 멀티미디어미디어 강의실 점검(6월) 및 계획(7월)"]
["건물","강의실 정보",{"$nulls":7},"램프사용시간",null,null,"점검예정일",null,"방문수리"]
[null,"건물","번호","강의실","구분","프로젝터","교탁","램프교체","정밀크리닝","최종확인일",null,"사용시간"]
["다산관","다산관",1,"B105",{"$f":"VLOOKUP(B4&D4,'[1]점검현황(금월)'!$D$7:$AH$234,2,0)","v":"멀티미디어"},{"$f":"VLOOKUP(B4&D4,'[1]점검현황(금월)'!$D$7:$AH$234,3,0)","v":"EX600"},{"$f":"VLOOKUP(B4&D4,'[1]점검현황(금월)'!$D$2:$AH$234,15,0)","v":"구"},{"$f":"VLOOKUP(B4&D4,'[1]점검현황(금월)'!$D$2:$AH$234,21,0)","v":"2014-04-07"},{"$f":"VLOOKUP(B4&D4,'[1]점검현황(금월)'!$D$7:$AH$234,24,0)","v":"2015-04-09"},{"$f":"VLOOKUP(B4&D4,'[1]점검현황(금월)'!$D$7:$AH$234,19,0)","v":605},{"$f":"VLOOKUP(B4&D4,'[1]점검현황(전월)'!$D$7:$AH$233,20,0)","v":"12:05:00"},{"$f":"VLOOKUP(B4&D4,'[1]점검현황(금월)'!$D$7:$AH$234,31,0)","v":1152},701,{"$f":"VLOOKUP(B4&D4,'[1]점검현황(전월)'!$D$7:$AH$233,18,0)","v":"08:30:00"},{"$f":"VLOOKUP(B4&D4,'[1]점검현황(금월)'!$D$7:$AH$234,23,0)","v":"5,"}]
[null,{"$f":"B4","v":"다산관"},2,"B106",{"$f":"VLOOKUP(B5&D5,'[1]점검현황(금월)'!$D$7:$AH$234,2,0)","v":"경영대"},{"$f":"VLOOKUP(B5&D5,'[1]점검현황(금월)'!$D$7:$AH$234,3,0)","v":"EX600"},{"$f":"VLOOKUP(B5&D5,'[1]점검현황(금월)'!$D$2:$AH$234,15,0)","v":"신"},{"$f":"VLOOKUP(B5&D5,'[1]점검현황(금월)'!$D$2:$AH$234,21,0)","v":"2014-03-04"},{"$f":"VLOOKUP(B5&D5,'[1]점검현황(금월)'!$D$7:$AH$234,24,0)","v":"2013-03-05"},{"$f":"VLOOKUP(B5&D5,'[1]점검현황(금월)'!$D$7:$AH$234,19,0)","v":601},{"$f":"VLOOKUP(B5&D5,'[1]점검현황(전월)'!$D$7:$AH$233,20,0)","v":"11:53:00"},{"$f":"VLOOKUP(B5&D5,'[1]점검현황(금월)'!$D$7:$AH$234,31,0)","v":1250},701,{"$f":"VLOOKUP(B5&D5,'[1]점검현황(전월)'!$D$7:$AH$233,18,0)","v":"08:40:00"},{"$f":"VLOOKUP(B5&D5,'[1]점검현황(금월)'!$D$7:$AH$234,23,0)","v":"."}]
[null,{"$f":"B5","v":"다산관"},3,"B107",{"$f":"VLOOKUP(B6&D6,'[1]점검현황(금월)'!$D$7:$AH$234,2,0)","v":"자동녹화"},{"$f":"VLOOKUP(B6&D6,'[1]점검현황(금월)'!$D$7:$AH$234,3,0)","v":"XT35K"},{"$f":"VLOOKUP(B6&D6,'[1]점검현황(금월)'!$D$2:$AH$234,15,0)","v":"e-ST"},{"$f":"VLOOKUP(B6&D6,'[1]점검현황(금월)'!$D$2:$AH$234,21,0)","v":"2015-04-15"},{"$f":"VLOOKUP(B6&D6,'[1]점검현황(금월)'!$D$7:$AH$234,24,0)","v":"2015-05-06"},{"$f":"VLOOKUP(B6&D6,'[1]점검현황(금월)'!$D$7:$AH$234,19,0)","v":601},{"$f":"VLOOKUP(B6&D6,'[1]점검현황(전월)'!$D$7:$AH$233,20,0)","v":"17:00:00"},{"$f":"VLOOKUP(B6&D6,'[1]점검현황(금월)'!$D$7:$AH$234,31,0)","v":490},701,{"$f":"VLOOKUP(B6&D6,'[1]점검현황(전월)'!$D$7:$AH$233,18,0)","v":"08:50:00"},{"$f":"VLOOKUP(B6&D6,'[1]점검현황(금월)'!$D$7:$AH$234,23,0)","v":"."}]
[null,"다산관",4,"B108",{"$f":"VLOOKUP(B7&D7,'[1]점검현황(금월)'!$D$7:$AH$234,2,0)","v":"E-biz"},{"$f":"VLOOKUP(B7&D7,'[1]점검현황(금월)'!$D$7:$AH$234,3,0)","v":"EX600"},{"$f":"VLOOKUP(B7&D7,'[1]점검현황(금월)'!$D$2:$AH$234,15,0)","v":"구"},{"$f":"VLOOKUP(B7&D7,'[1]점검현황(금월)'!$D$2:$AH$234,21,0)","v":"2013-10-17"},{"$f":"VLOOKUP(B7&D7,'[1]점검현황(금월)'!$D$7:$AH$234,24,0)","v":"2013-03-05"},{"$f":"VLOOKUP(B7&D7,'[1]점검현황(금월)'!$D$7:$AH$234,19,0)","v":601},{"$f":"VLOOKUP(B7&D7,'[1]점검현황(전월)'!$D$7:$AH$233,20,0)","v":"13:20:00"},{"$f":"VLOOKUP(B7&D7,'[1]점검현황(금월)'!$D$7:$AH$234,31,0)","v":1079},701,{"$f":"VLOOKUP(B7&D7,'[1]점검현황(전월)'!$D$7:$AH$233,18,0)","v":"19:00:00"},{"$f":"VLOOKUP(B7&D7,'[1]점검현황(금월)'!$D$7:$AH$234,23,0)","v":"."}]
[null,"다산관",5,"B109",{"$f":"VLOOKUP(B8&D8,'[1]점검현황(금월)'!$D$7:$AH$234,2,0)","v":"멀티미디어"},{"$f":"VLOOKUP(B8&D8,'[1]점검현황(금월)'!$D$7:$AH$234,3,0)","v":"XU106K"},{"$f":"VLOOKUP(B8&D8,'[1]점검현황(금월)'!$D$2:$AH$234,15,0)","v":"구"},{"$f":"VLOOKUP(B8&D8,'[1]점검현황(금월)'!$D$2:$AH$234,21,0)","v":"2014-04-17"},{"$f":"VLOOKUP(B8&D8,'[1]점검현황(금월)'!$D$7:$AH$234,24,0)","v":"2015-05-28"},{"$f":"VLOOKUP(B8&D8,'[1]점검현황(금월)'!$D$7:$AH$234,19,0)","v":601},{"$f":"VLOOKUP(B8&D8,'[1]점검현황(전월)'!$D$7:$AH$233,20,0)","v":"19:10:00"},{"$f":"VLOOKUP(B8&D8,'[1]점검현황(금월)'!$D$7:$AH$234,31,0)","v":257},701,{"$f":"VLOOKUP(B8&D8,'[1]점검현황(전월)'!$D$7:$AH$233,18,0)","v":"19:10:00"},{"$f":"VLOOKUP(B8&D8,'[1]점검현황(금월)'!$D$7:$AH$234,23,0)","v":"."}]
[null,"다산관",6,"B112",{"$f":"VLOOKUP(B9&D9,'[1]점검현황(금월)'!$D$7:$AH$234,2,0)","v":"대학원"},{"$f":"VLOOKUP(B9&D9,'[1]점검현황(금월)'!$D$7:$AH$234,3,0)","v":"XKB101K"},{"$f":"VLOOKUP(B9&D9,'[1]점검현황(금월)'!$D$2:$AH$234,15,0)","v":"구"},{"$f":"VLOOKUP(B9&D9,'[1]점검현황(금월)'!$D$2:$AH$234,21,0)","v":"·"},{"$f":"VLOOKUP(B9&D9,'[1]점검현황(금월)'!$D$7:$AH$234,24,0)","v":"·"},{"$f":"VLOOKUP(B9&D9,'[1]점검현황(금월)'!$D$7:$AH$234,19,0)","v":601},{"$f":"VLOOKUP(B9&D9,'[1]점검현황(전월)'!$D$7:$AH$233,20,0)","v":"19:30:00"},{"$f":"VLOOKUP(B9&D9,'[1]점검현황(금월)'!$D$7:$AH$234,31,0)","v":1685},701,{"$f":"VLOOKUP(B9&D9,'[1]점검현황(전월)'!$D$7:$AH$233,18,0)","v":"19:20:00"},{"$f":"VLOOKUP(B9&D9,'[1]점검현황(금월)'!$D$7:$AH$234,23,0)","v":"."}]
[null,{"$f":"B8","v":"다산관"},7,"B115",{"$f":"VLOOKUP(B10&D10,'[1]점검현황(금월)'!$D$7:$AH$234,2,0)","v":"대학원"},{"$f":"VLOOKUP(B10&D10,'[1]점검현황(금월)'!$D$7:$AH$234,3,0)","v":"XT15KA"},{"$f":"VLOOKUP(B10&D10,'[1]점검현황(금월)'!$D$2:$AH$234,15,0)","v":"구"},{"$f":"VLOOKUP(B10&D10,'[1]점검현황(금월)'!$D$2:$AH$234,21,0)","v":"2014-03-07"},{"$f":"VLOOKUP(B10&D10,'[1]점검현황(금월)'!$D$7:$AH$234,24,0)","v":"2013-02-13"},{"$f":"VLOOKUP(B10&D10,'[1]점검현황(금월)'!$D$7:$AH$234,19,0)","v":601},{"$f":"VLOOKUP(B10&D10,'[1]점검현황(전월)'!$D$7:$AH$233,20,0)","v":"08:30:00"},{"$f":"VLOOKUP(B10&D10,'[1]점검현황(금월)'!$D$7:$AH$234,31,0)","v":175},702,{"$f":"VLOOKUP(B10&D10,'[1]점검현황(전월)'!$D$7:$AH$233,18,0)","v":"08:30:00"},{"$f":"VLOOKUP(B10&D10,'[1]점검현황(금월)'!$D$7:$AH$234,23,0)","v":"."}]
[null,"다산관",8,"B121",{"$f":"VLOOKUP(B11&D11,'[1]점검현황(금월)'!$D$7:$AH$234,2,0)","v":"대강당"},{"$f":"VLOOKUP(B11&D11,'[1]점검현황(금월)'!$D$7:$AH$234,3,0)","v":"XF40"},{"$f":"VLOOKUP(B11&D11,'[1]점검현황(금월)'!$D$2:$AH$234,15,0)","v":"신"},{"$f":"VLOOKUP(B11&D11,'[1]점검현황(금월)'!$D$2:$AH$234,21,0)","v":"2014-04-07"},{"$f":"VLOOKUP(B11&D11,'[1]점검현황(금월)'!$D$7:$AH$234,24,0)","v":"·"},{"$f":"VLOOKUP(B11&D11,'[1]점검현황(금월)'!$D$7:$AH$234,19,0)","v":603},{"$f":"VLOOKUP(B11&D11,'[1]점검현황(전월)'!$D$7:$AH$233,20,0)","v":"17:10:00"},{"$f":"VLOOKUP(B11&D11,'[1]점검현황(금월)'!$D$7:$AH$234,31,0)","v":150},702,{"$f":"VLOOKUP(B11&D11,'[1]점검현황(전월)'!$D$7:$AH$233,18,0)","v":"08:40:00"},{"$f":"VLOOKUP(B11&D11,'[1]점검현황(금월)'!$D$7:$AH$234,23,0)","v":"3,"}]
[null,"다산관",9,105,{"$f":"VLOOKUP(B12&D12,'[1]점검현황(금월)'!$D$7:$AH$234,2,0)","v":"멀티미디어"},{"$f":"VLOOKUP(B12&D12,'[1]점검현황(금월)'!$D$7:$AH$234,3,0)","v":"XU106K"},{"$f":"VLOOKUP(B12&D12,'[1]점검현황(금월)'!$D$2:$AH$234,15,0)","v":"구"},{"$f":"VLOOKUP(B12&D12,'[1]점검현황(금월)'!$D$2:$AH$234,21,0)","v":"2015-02-28"},{"$f":"VLOOKUP(B12&D12,'[1]점검현황(금월)'!$D$7:$AH$234,24,0)","v":"2012-12-22"},{"$f":"VLOOKUP(B12&D12,'[1]점검현황(금월)'!$D$7:$AH$234,19,0)","v":602},{"$f":"VLOOKUP(B12&D12,'[1]점검현황(전월)'!$D$7:$AH$233,20,0)","v":"08:50:00"},{"$f":"VLOOKUP(B12&D12,'[1]점검현황(금월)'!$D$7:$AH$234,31,0)","v":1648},702,{"$f":"VLOOKUP(B12&D12,'[1]점검현황(전월)'!$D$7:$AH$233,18,0)","v":"08:50:00"},{"$f":"VLOOKUP(B12&D12,'[1]점검현황(금월)'!$D$7:$AH$234,23,0)","v":"."}]
[null,"다산관",10,106,{"$f":"VLOOKUP(B13&D13,'[1]점검현황(금월)'!$D$7:$AH$234,2,0)","v":"불어불문"},{"$f":"VLOOKUP(B13&D13,'[1]점검현황(금월)'!$D$7:$AH$234,3,0)","v":"XU106K"},{"$f":"VLOOKUP(B13&D13,'[1]점검현황(금월)'!$D$2:$AH$234,15,0)","v":"구"},{"$f":"VLOOKUP(B13&D13,'[1]점검현황(금월)'!$D$2:$AH$234,21,0)","v":"2015-04-24"},{"$f":"VLOOKUP(B13&D13,'[1]점검현황(금월)'!$D$7:$AH$234,24,0)","v":"·"},{"$f":"VLOOKUP(B13&D13,'[1]점검현황(금월)'!$D$7:$AH$234,19,0)","v":602},{"$f":"VLOOKUP(B13&D13,'[1]점검현황(전월)'!$D$7:$AH$233,20,0)","v":"19:00:00"},{"$f":"VLOOKUP(B13&D13,'[1]점검현황(금월)'!$D$7:$AH$234,31,0)","v":193},702,{"$f":"VLOOKUP(B13&D13,'[1]점검현황(전월)'!$D$7:$AH$233,18,0)","v":"19:00:00"},{"$f":"VLOOKUP(B13&D13,'[1]점검현황(금월)'!$D$7:$AH$234,23,0)","v":"."}]
[null,"다산관",11,107,{"$f":"VLOOKUP(B14&D14,'[1]점검현황(금월)'!$D$7:$AH$234,2,0)","v":"국어국문"},{"$f":"VLOOKUP(B14&D14,'[1]점검현황(금월)'!$D$7:$AH$234,3,0)","v":"XU106K"},{"$f":"VLOOKUP(B14&D14,'[1]점검현황(금월)'!$D$2:$AH$234,15,0)","v":"구"},{"$f":"VLOOKUP(B14&D14,'[1]점검현황(금월)'!$D$2:$AH$234,21,0)","v":"2014-07-10"},{"$f":"VLOOKUP(B14&D14,'[1]점검현황(금월)'!$D$7:$AH$234,24,0)","v":"·"},{"$f":"VLOOKUP(B14&D14,'[1]점검현황(금월)'!$D$7:$AH$234,19,0)","v":602},{"$f":"VLOOKUP(B14&D14,'[1]점검현황(전월)'!$D$7:$AH$233,20,0)","v":"19:10:00"},{"$f":"VLOOKUP(B14&D14,'[1]점검현황(금월)'!$D$7:$AH$234,31,0)","v":969},702,{"$f":"VLOOKUP(B14&D14,'[1]점검현황(전월)'!$D$7:$AH$233,18,0)","v":"19:10:00"},{"$f":"VLOOKUP(B14&D14,'[1]점검현황(금월)'!$D$7:$AH$234,23,0)","v":"."}]
[null,"다산관",12,108,{"$f":"VLOOKUP(B15&D15,'[1]점검현황(금월)'!$D$7:$AH$234,2,0)","v":"사학과"},{"$f":"VLOOKUP(B15&D15,'[1]점검현황(금월)'!$D$7:$AH$234,3,0)","v":"XU106K"},{"$f":"VLOOKUP(B15&D15,'[1]점검현황(금월)'!$D$2:$AH$234,15,0)","v":"구"},{"$f":"VLOOKUP(B15&D15,'[1]점검현황(금월)'!$D$2:$AH$234,21,0)","v":"2013-10-14"},{"$f":"VLOOKUP(B15&D15,'[1]점검현황(금월)'!$D$7:$AH$234,24,0)","v":"·"},{"$f":"VLOOKUP(B15&D15,'[1]점검현황(금월)'!$D$7:$AH$234,19,0)","v":602},{"$f":"VLOOKUP(B15&D15,'[1]점검현황(전월)'!$D$7:$AH$233,20,0)","v":"19:20:00"},{"$f":"VLOOKUP(B15&D15,'[1]점검현황(금월)'!$D$7:$AH$234,31,0)","v":377},702,{"$f":"VLOOKUP(B15&D15,'[1]점검현황(전월)'!$D$7:$AH$233,18,0)","v":"19:20:00"},{"$f":"VLOOKUP(B15&D15,'[1]점검현황(금월)'!$D$7:$AH$234,23,0)","v":"."}]
[null,"다산관",13,109,{"$f":"VLOOKUP(B16&D16,'[1]점검현황(금월)'!$D$7:$AH$234,2,0)","v":"멀티미디어"},{"$f":"VLOOKUP(B16&D16,'[1]점검현황(금월)'!$D$7:$AH$234,3,0)","v":"XU106K"},{"$f":"VLOOKUP(B16&D16,'[1]점검현황(금월)'!$D$2:$AH$234,15,0)","v":"구"},{"$f":"VLOOKUP(B16&D16,'[1]점검현황(금월)'!$D$2:$AH$234,21,0)","v":"2015-02-28"},{"$f":"VLOOKUP(B16&D16,'[1]점검현황(금월)'!$D$7:$AH$234,24,0)","v":"2015-04-09"},{"$f":"VLOOKUP(B16&D16,'[1]점검현황(금월)'!$D$7:$AH$234,19,0)","v":602},{"$f":"VLOOKUP(B16&D16,'[1]점검현황(전월)'!$D$7:$AH$233,20,0)","v":"19:30:00"},{"$f":"VLOOKUP(B16&D16,'[1]점검현황(금월)'!$D$7:$AH$234,31,0)","v":1099},703,{"$f":"VLOOKUP(B16&D16,'[1]점검현황(전월)'!$D$7:$AH$233,18,0)","v":"08:30:00"},{"$f":"VLOOKUP(B16&D16,'[1]점검현황(금월)'!$D$7:$AH$234,23,0)","v":"."}]
[null,"다산관",14,110,{"$f":"VLOOKUP(B17&D17,'[1]점검현황(금월)'!$D$7:$AH$234,2,0)","v":"교무팀-멀티강의실 대학원"},{"$f":"VLOOKUP(B17&D17,'[1]점검현황(금월)'!$D$7:$AH$234,3,0)","v":"XU106K"},{"$f":"VLOOKUP(B17&D17,'[1]점검현황(금월)'!$D$2:$AH$234,15,0)","v":"구"},{"$f":"VLOOKUP(B17&D17,'[1]점검현황(금월)'!$D$2:$AH$234,21,0)","v":"2015-05-07"},{"$f":"VLOOKUP(B17&D17,'[1]점검현황(금월)'!$D$7:$AH$234,24,0)","v":"2013-02-13"},{"$f":"VLOOKUP(B17&D17,'[1]점검현황(금월)'!$D$7:$AH$234,19,0)","v":602},{"$f":"VLOOKUP(B17&D17,'[1]점검현황(전월)'!$D$7:$AH$233,20,0)","v":"08:40:00"},{"$f":"VLOOKUP(B17&D17,'[1]점검현황(금월)'!$D$7:$AH$234,31,0)","v":110},703,{"$f":"VLOOKUP(B17&D17,'[1]점검현황(전월)'!$D$7:$AH$233,18,0)","v":"08:40:00"},{"$f":"VLOOKUP(B17&D17,'[1]점검현황(금월)'!$D$7:$AH$234,23,0)","v":"."}]
[null,"다산관",15,111,{"$f":"VLOOKUP(B18&D18,'[1]점검현황(금월)'!$D$7:$AH$234,2,0)","v":"자동녹화"},{"$f":"VLOOKUP(B18&D18,'[1]점검현황(금월)'!$D$7:$AH$234,3,0)","v":"EX600"},{"$f":"VLOOKUP(B18&D18,'[1]점검현황(금월)'!$D$2:$AH$234,15,0)","v":"e-ST"},{"$f":"VLOOKUP(B18&D18,'[1]점검현황(금월)'!$D$2:$AH$234,21,0)","v":"2014-04-07"},{"$f":"VLOOKUP(B18&D18,'[1]점검현황(금월)'!$D$7:$AH$234,24,0)","v":"2013-10-22"},{"$f":"VLOOKUP(B18&D18,'[1]점검현황(금월)'!$D$7:$AH$234,19,0)","v":609},{"$f":"VLOOKUP(B18&D18,'[1]점검현황(전월)'!$D$7:$AH$233,20,0)","v":"08:50:00"},{"$f":"VLOOKUP(B18&D18,'[1]점검현황(금월)'!$D$7:$AH$234,31,0)","v":1133},703,{"$f":"VLOOKUP(B18&D18,'[1]점검현황(전월)'!$D$7:$AH$233,18,0)","v":"08:50:00"},{"$f":"VLOOKUP(B18&D18,'[1]점검현황(금월)'!$D$7:$AH$234,23,0)","v":"8,9"}]
[null,"다산관",16,115,{"$f":"VLOOKUP(B19&D19,'[1]점검현황(금월)'!$D$7:$AH$234,2,0)","v":"멀티미디어"},{"$f":"VLOOKUP(B19&D19,'[1]점검현황(금월)'!$D$7:$AH$234,3,0)","v":"XU106K"},{"$f":"VLOOKUP(B19&D19,'[1]점검현황(금월)'!$D$2:$AH$234,15,0)","v":"구"},{"$f":"VLOOKUP(B19&D19,'[1]점검현황(금월)'!$D$2:$AH$234,21,0)","v":"2014-04-11"},{"$f":"VLOOKUP(B19&D19,'[1]점검현황(금월)'!$D$7:$AH$234,24,0)","v":"2015-06-19"},{"$f":"VLOOKUP(B19&D19,'[1]점검현황(금월)'!$D$7:$AH$234,19,0)","v":619},{"$f":"VLOOKUP(B19&D19,'[1]점검현황(전월)'!$D$7:$AH$233,20,0)","v":"17:42:00"},{"$f":"VLOOKUP(B19&D19,'[1]점검현황(금월)'!$D$7:$AH$234,31,0)","v":1741},703,{"$f":"VLOOKUP(B19&D19,'[1]점검현황(전월)'!$D$7:$AH$233,18,0)","v":"19:00:00"},{"$f":"VLOOKUP(B19&D19,'[1]점검현황(금월)'!$D$7:$AH$234,23,0)","v":"19,"}]
[null,"다산관",17,"205A",{"$f":"VLOOKUP(B20&D20,'[1]점검현황(금월)'!$D$7:$AH$234,2,0)","v":"인문대 (PC실)"},{"$f":"VLOOKUP(B20&D20,'[1]점검현황(금월)'!$D$7:$AH$234,3,0)","v":"EX500"},{"$f":"VLOOKUP(B20&D20,'[1]점검현황(금월)'!$D$2:$AH$234,15,0)","v":"e-ST"},{"$f":"VLOOKUP(B20&D20,'[1]점검현황(금월)'!$D$2:$AH$234,21,0)","v":"·"},{"$f":"VLOOKUP(B20&D20,'[1]점검현황(금월)'!$D$7:$AH$234,24,0)","v":"·"},{"$f":"VLOOKUP(B20&D20,'[1]점검현황(금월)'!$D$7:$AH$234,19,0)","v":603},{"$f":"VLOOKUP(B20&D20,'[1]점검현황(전월)'!$D$7:$AH$233,20,0)","v":"19:10:00"},{"$f":"VLOOKUP(B20&D20,'[1]점검현황(금월)'!$D$7:$AH$234,31,0)","v":1533},703,{"$f":"VLOOKUP(B20&D20,'[1]점검현황(전월)'!$D$7:$AH$233,18,0)","v":"19:10:00"},{"$f":"VLOOKUP(B20&D20,'[1]점검현황(금월)'!$D$7:$AH$234,23,0)","v":"."}]
[null,"다산관",18,"205B",{"$f":"VLOOKUP(B21&D21,'[1]점검현황(금월)'!$D$7:$AH$234,2,0)","v":"인문대 (자동녹화)"},{"$f":"VLOOKUP(B21&D21,'[1]점검현황(금월)'!$D$7:$AH$234,3,0)","v":"XT35K"},{"$f":"VLOOKUP(B21&D21,'[1]점검현황(금월)'!$D$2:$AH$234,15,0)","v":"e-ST"},{"$f":"VLOOKUP(B21&D21,'[1]점검현황(금월)'!$D$2:$AH$234,21,0)","v":"2013-11-06"},{"$f":"VLOOKUP(B21&D21,'[1]점검현황(금월)'!$D$7:$AH$234,24,0)","v":"·"},{"$f":"VLOOKUP(B21&D21,'[1]점검현황(금월)'!$D$7:$AH$234,19,0)","v":603},{"$f":"VLOOKUP(B21&D21,'[1]점검현황(전월)'!$D$7:$AH$233,20,0)","v":"12:41:00"},{"$f":"VLOOKUP(B21&D21,'[1]점검현황(금월)'!$D$7:$AH$234,31,0)","v":387},703,{"$f":"VLOOKUP(B21&D21,'[1]점검현황(전월)'!$D$7:$AH$233,18,0)","v":"19:20:00"},{"$f":"VLOOKUP(B21&D21,'[1]점검현황(금월)'!$D$7:$AH$234,23,0)","v":"1,2(2)"}]
[null,"다산관",19,307,{"$f":"VLOOKUP(B22&D22,'[1]점검현황(금월)'!$D$7:$AH$234,2,0)","v":"경영대(PC실)"},{"$f":"VLOOKUP(B22&D22,'[1]점검현황(금월)'!$D$7:$AH$234,3,0)","v":"EX510"},{"$f":"VLOOKUP(B22&D22,'[1]점검현황(금월)'!$D$2:$AH$234,15,0)","v":"구"},{"$f":"VLOOKUP(B22&D22,'[1]점검현황(금월)'!$D$2:$AH$234,21,0)","v":"00:00:00"},{"$f":"VLOOKUP(B22&D22,'[1]점검현황(금월)'!$D$7:$AH$234,24,0)","v":"00:00:00"},{"$f":"VLOOKUP(B22&D22,'[1]점검현황(금월)'!$D$7:$AH$234,19,0)","v":603},{"$f":"VLOOKUP(B22&D22,'[1]점검현황(전월)'!$D$7:$AH$233,20,0)","v":"19:30:00"},{"$f":"VLOOKUP(B22&D22,'[1]점검현황(금월)'!$D$7:$AH$234,31,0)","v":311},704,{"$f":"VLOOKUP(B22&D22,'[1]점검현황(전월)'!$D$7:$AH$233,18,0)","v":"19:30:00"},{"$f":"VLOOKUP(B22&D22,'[1]점검현황(금월)'!$D$7:$AH$234,23,0)","v":"."}]
[null,{"$f":"B21","v":"다산관"},20,308,{"$f":"VLOOKUP(B23&D23,'[1]점검현황(금월)'!$D$7:$AH$234,2,0)","v":"경영대 (PC실)"},{"$f":"VLOOKUP(B23&D23,'[1]점검현황(금월)'!$D$7:$AH$234,3,0)","v":"VX510"},{"$f":"VLOOKUP(B23&D23,'[1]점검현황(금월)'!$D$2:$AH$234,15,0)","v":"e-ST"},{"$f":"VLOOKUP(B23&D23,'[1]점검현황(금월)'!$D$2:$AH$234,21,0)","v":"2013-05-16"},{"$f":"VLOOKUP(B23&D23,'[1]점검현황(금월)'!$D$7:$AH$234,24,0)","v":"·"},{"$f":"VLOOKUP(B23&D23,'[1]점검현황(금월)'!$D$7:$AH$234,19,0)","v":603},{"$f":"VLOOKUP(B23&D23,'[1]점검현황(전월)'!$D$7:$AH$233,20,0)","v":"08:30:00"},{"$f":"VLOOKUP(B23&D23,'[1]점검현황(금월)'!$D$7:$AH$234,31,0)","v":407},704,{"$f":"VLOOKUP(B23&D23,'[1]점검현황(전월)'!$D$7:$AH$233,18,0)","v":"08:30:00"},{"$f":"VLOOKUP(B23&D23,'[1]점검현황(금월)'!$D$7:$AH$234,23,0)","v":"."}]
[null,"다산관",21,309,{"$f":"VLOOKUP(B24&D24,'[1]점검현황(금월)'!$D$7:$AH$234,2,0)","v":"경영대대학원"},{"$f":"VLOOKUP(B24&D24,'[1]점검현황(금월)'!$D$7:$AH$234,3,0)","v":"EX500E"},{"$f":"VLOOKUP(B24&D24,'[1]점검현황(금월)'!$D$2:$AH$234,15,0)","v":"e-ST"},{"$f":"VLOOKUP(B24&D24,'[1]점검현황(금월)'!$D$2:$AH$234,21,0)","v":"·"},{"$f":"VLOOKUP(B24&D24,'[1]점검현황(금월)'!$D$7:$AH$234,24,0)","v":"·"},{"$f":"VLOOKUP(B24&D24,'[1]점검현황(금월)'!$D$7:$AH$234,19,0)","v":603},{"$f":"VLOOKUP(B24&D24,'[1]점검현황(전월)'!$D$7:$AH$233,20,0)","v":"08:40:00"},{"$f":"VLOOKUP(B24&D24,'[1]점검현황(금월)'!$D$7:$AH$234,31,0)","v":1234},704,{"$f":"VLOOKUP(B24&D24,'[1]점검현황(전월)'!$D$7:$AH$233,18,0)","v":"08:40:00"},{"$f":"VLOOKUP(B24&D24,'[1]점검현황(금월)'!$D$7:$AH$234,23,0)","v":"2,"}]
[null,"다산관",22,310,{"$f":"VLOOKUP(B25&D25,'[1]점검현황(금월)'!$D$7:$AH$234,2,0)","v":"경영대대학원"},{"$f":"VLOOKUP(B25&D25,'[1]점검현황(금월)'!$D$7:$AH$234,3,0)","v":"VX410/VX410"},{"$f":"VLOOKUP(B25&D25,'[1]점검현황(금월)'!$D$2:$AH$234,15,0)","v":"e-ST"},{"$f":"VLOOKUP(B25&D25,'[1]점검현황(금월)'!$D$2:$AH$234,21,0)","v":"2013-04-15/2013-08-06"},{"$f":"VLOOKUP(B25&D25,'[1]점검현황(금월)'!$D$7:$AH$234,24,0)","v":"·"},{"$f":"VLOOKUP(B25&D25,'[1]점검현황(금월)'!$D$7:$AH$234,19,0)","v":604},{"$f":"VLOOKUP(B25&D25,'[1]점검현황(전월)'!$D$7:$AH$233,20,0)","v":"08:50:00"},{"$f":"VLOOKUP(B25&D25,'[1]점검현황(금월)'!$D$7:$AH$234,31,0)","v":"141/261"},704,{"$f":"VLOOKUP(B25&D25,'[1]점검현황(전월)'!$D$7:$AH$233,18,0)","v":"08:50:00"},{"$f":"VLOOKUP(B25&D25,'[1]점검현황(금월)'!$D$7:$AH$234,23,0)","v":"."}]
[null,"다산관",23,311,{"$f":"VLOOKUP(B26&D26,'[1]점검현황(금월)'!$D$7:$AH$234,2,0)","v":"경영대대학원"},{"$f":"VLOOKUP(B26&D26,'[1]점검현황(금월)'!$D$7:$AH$234,3,0)","v":"VX410/VX400"},{"$f":"VLOOKUP(B26&D26,'[1]점검현황(금월)'!$D$2:$AH$234,15,0)","v":"e-ST"},{"$f":"VLOOKUP(B26&D26,'[1]점검현황(금월)'!$D$2:$AH$234,21,0)","v":"2015-05-14/   ·"},{"$f":"VLOOKUP(B26&D26,'[1]점검현황(금월)'!$D$7:$AH$234,24,0)","v":"·"},{"$f":"VLOOKUP(B26&D26,'[1]점검현황(금월)'!$D$7:$AH$234,19,0)","v":604},{"$f":"VLOOKUP(B26&D26,'[1]점검현황(전월)'!$D$7:$AH$233,20,0)","v":"19:00:00"},{"$f":"VLOOKUP(B26&D26,'[1]점검현황(금월)'!$D$7:$AH$234,31,0)","v":"130/14"},704,{"$f":"VLOOKUP(B26&D26,'[1]점검현황(전월)'!$D$7:$AH$233,18,0)","v":"19:00:00"},{"$f":"VLOOKUP(B26&D26,'[1]점검현황(금월)'!$D$7:$AH$234,23,0)","v":"."}]
[null,"다산관",24,406,{"$f":"VLOOKUP(B27&D27,'[1]점검현황(금월)'!$D$7:$AH$234,2,0)","v":"경영대대학원"},{"$f":"VLOOKUP(B27&D27,'[1]점검현황(금월)'!$D$7:$AH$234,3,0)","v":"XU106K"},{"$f":"VLOOKUP(B27&D27,'[1]점검현황(금월)'!$D$2:$AH$234,15,0)","v":"e-ST"},{"$f":"VLOOKUP(B27&D27,'[1]점검현황(금월)'!$D$2:$AH$234,21,0)","v":"·"},{"$f":"VLOOKUP(B27&D27,'[1]점검현황(금월)'!$D$7:$AH$234,24,0)","v":"·"},{"$f":"VLOOKUP(B27&D27,'[1]점검현황(금월)'!$D$7:$AH$234,19,0)","v":604},{"$f":"VLOOKUP(B27&D27,'[1]점검현황(전월)'!$D$7:$AH$233,20,0)","v":"19:10:00"},{"$f":"VLOOKUP(B27&D27,'[1]점검현황(금월)'!$D$7:$AH$234,31,0)","v":650},704,{"$f":"VLOOKUP(B27&D27,'[1]점검현황(전월)'!$D$7:$AH$233,18,0)","v":"19:10:00"},{"$f":"VLOOKUP(B27&D27,'[1]점검현황(금월)'!$D$7:$AH$234,23,0)","v":"."}]
[null,"다산관",25,505,{"$f":"VLOOKUP(B28&D28,'[1]점검현황(금월)'!$D$7:$AH$234,2,0)","v":"대학원"},{"$f":"VLOOKUP(B28&D28,'[1]점검현황(금월)'!$D$7:$AH$234,3,0)","v":"XU301K"},{"$f":"VLOOKUP(B28&D28,'[1]점검현황(금월)'!$D$2:$AH$234,15,0)","v":"구"},{"$f":"VLOOKUP(B28&D28,'[1]점검현황(금월)'!$D$2:$AH$234,21,0)","v":"2011-03-29"},{"$f":"VLOOKUP(B28&D28,'[1]점검현황(금월)'!$D$7:$AH$234,24,0)","v":"2015-04-09"},{"$f":"VLOOKUP(B28&D28,'[1]점검현황(금월)'!$D$7:$AH$234,19,0)","v":604},{"$f":"VLOOKUP(B28&D28,'[1]점검현황(전월)'!$D$7:$AH$233,20,0)","v":"19:20:00"},{"$f":"VLOOKUP(B28&D28,'[1]점검현황(금월)'!$D$7:$AH$234,31,0)","v":3207},704,{"$f":"VLOOKUP(B28&D28,'[1]점검현황(전월)'!$D$7:$AH$233,18,0)","v":"19:20:00"},{"$f":"VLOOKUP(B28&D28,'[1]점검현황(금월)'!$D$7:$AH$234,23,0)","v":"."}]
[null,"다산관",26,506,{"$f":"VLOOKUP(B29&D29,'[1]점검현황(금월)'!$D$7:$AH$234,2,0)","v":"멀티미디어"},{"$f":"VLOOKUP(B29&D29,'[1]점검현황(금월)'!$D$7:$AH$234,3,0)","v":"VX106K"},{"$f":"VLOOKUP(B29&D29,'[1]점검현황(금월)'!$D$2:$AH$234,15,0)","v":"구"},{"$f":"VLOOKUP(B29&D29,'[1]점검현황(금월)'!$D$2:$AH$234,21,0)","v":"2014-03-03"},{"$f":"VLOOKUP(B29&D29,'[1]점검현황(금월)'!$D$7:$AH$234,24,0)","v":"2015-06-29"},{"$f":"VLOOKUP(B29&D29,'[1]점검현황(금월)'!$D$7:$AH$234,19,0)","v":629},{"$f":"VLOOKUP(B29&D29,'[1]점검현황(전월)'!$D$7:$AH$233,20,0)","v":"08:30:00"},{"$f":"VLOOKUP(B29&D29,'[1]점검현황(금월)'!$D$7:$AH$234,31,0)","v":1235},704,{"$f":"VLOOKUP(B29&D29,'[1]점검현황(전월)'!$D$7:$AH$233,18,0)","v":"09:00:00"},{"$f":"VLOOKUP(B29&D29,'[1]점검현황(금월)'!$D$7:$AH$234,23,0)","v":"4,29"}]
[null,"다산관",27,507,{"$f":"VLOOKUP(B30&D30,'[1]점검현황(금월)'!$D$7:$AH$234,2,0)","v":"자동녹화"},{"$f":"VLOOKUP(B30&D30,'[1]점검현황(금월)'!$D$7:$AH$234,3,0)","v":"XT35K"},{"$f":"VLOOKUP(B30&D30,'[1]점검현황(금월)'!$D$2:$AH$234,15,0)","v":"e-ST"},{"$f":"VLOOKUP(B30&D30,'[1]점검현황(금월)'!$D$2:$AH$234,21,0)","v":"2014-04-07"},{"$f":"VLOOKUP(B30&D30,'[1]점검현황(금월)'!$D$7:$AH$234,24,0)","v":"2014-04-29"},{"$f":"VLOOKUP(B30&D30,'[1]점검현황(금월)'!$D$7:$AH$234,19,0)","v":629},{"$f":"VLOOKUP(B30&D30,'[1]점검현황(전월)'!$D$7:$AH$233,20,0)","v":"08:40:00"},{"$f":"VLOOKUP(B30&D30,'[1]점검현황(금월)'!$D$7:$AH$234,31,0)","v":1309},704,{"$f":"VLOOKUP(B30&D30,'[1]점검현황(전월)'!$D$7:$AH$233,18,0)","v":"09:10:00"},{"$f":"VLOOKUP(B30&D30,'[1]점검현황(금월)'!$D$7:$AH$234,23,0)","v":"1,29"}]
["율곡관","율곡관",1,150,{"$f":"VLOOKUP(B31&D31,'[1]점검현황(금월)'!$D$7:$AH$234,2,0)","v":"대강당"},{"$f":"VLOOKUP(B31&D31,'[1]점검현황(금월)'!$D$7:$AH$234,3,0)","v":"XF47"},{"$f":"VLOOKUP(B31&D31,'[1]점검현황(금월)'!$D$2:$AH$234,15,0)","v":"구"},{"$f":"VLOOKUP(B31&D31,'[1]점검현황(금월)'!$D$2:$AH$234,21,0)","v":"2013-05-24"},{"$f":"VLOOKUP(B31&D31,'[1]점검현황(금월)'!$D$7:$AH$234,24,0)","v":"·"},{"$f":"VLOOKUP(B31&D31,'[1]점검현황(금월)'!$D$7:$AH$234,19,0)","v":618},{"$f":"VLOOKUP(B31&D31,'[1]점검현황(전월)'!$D$7:$AH$233,20,0)","v":"13:30:00"},{"$f":"VLOOKUP(B31&D31,'[1]점검현황(금월)'!$D$7:$AH$234,31,0)","v":"176/176/176/176"},704,{"$f":"VLOOKUP(B31&D31,'[1]점검현황(전월)'!$D$7:$AH$233,18,0)","v":"09:20:00"},{"$f":"VLOOKUP(B31&D31,'[1]점검현황(금월)'!$D$7:$AH$234,23,0)","v":"11,18"}]
[null,"율곡관",2,151,{"$f":"VLOOKUP(B32&D32,'[1]점검현황(금월)'!$D$7:$AH$234,2,0)","v":"영상회의실"},{"$f":"VLOOKUP(B32&D32,'[1]점검현황(금월)'!$D$7:$AH$234,3,0)","v":"EX500"},{"$f":"VLOOKUP(B32&D32,'[1]점검현황(금월)'!$D$2:$AH$234,15,0)","v":"자체"},{"$f":"VLOOKUP(B32&D32,'[1]점검현황(금월)'!$D$2:$AH$234,21,0)","v":"2013-07-22"},{"$f":"VLOOKUP(B32&D32,'[1]점검현황(금월)'!$D$7:$AH$234,24,0)","v":"2013-02-28"},{"$f":"VLOOKUP(B32&D32,'[1]점검현황(금월)'!$D$7:$AH$234,19,0)","v":605},{"$f":"VLOOKUP(B32&D32,'[1]점검현황(전월)'!$D$7:$AH$233,20,0)","v":"18:20:00"},{"$f":"VLOOKUP(B32&D32,'[1]점검현황(금월)'!$D$7:$AH$234,31,0)","v":1339},704,{"$f":"VLOOKUP(B32&D32,'[1]점검현황(전월)'!$D$7:$AH$233,18,0)","v":"09:30:00"},{"$f":"VLOOKUP(B32&D32,'[1]점검현황(금월)'!$D$7:$AH$234,23,0)","v":"."}]
[null,"율곡관",3,153,{"$f":"VLOOKUP(B33&D33,'[1]점검현황(금월)'!$D$7:$AH$234,2,0)","v":"글로벌라운지 국제협력팀"},{"$f":"VLOOKUP(B33&D33,'[1]점검현황(금월)'!$D$7:$AH$234,3,0)","v":"XU106K"},{"$f":"VLOOKUP(B33&D33,'[1]점검현황(금월)'!$D$2:$AH$234,15,0)","v":"e-ST"},{"$f":"VLOOKUP(B33&D33,'[1]점검현황(금월)'!$D$2:$AH$234,21,0)","v":"2011-04-18"},{"$f":"VLOOKUP(B33&D33,'[1]점검현황(금월)'!$D$7:$AH$234,24,0)","v":"2012-08-31"},{"$f":"VLOOKUP(B33&D33,'[1]점검현황(금월)'!$D$7:$AH$234,19,0)","v":605},{"$f":"VLOOKUP(B33&D33,'[1]점검현황(전월)'!$D$7:$AH$233,20,0)","v":"14:10:00"},{"$f":"VLOOKUP(B33&D33,'[1]점검현황(금월)'!$D$7:$AH$234,31,0)","v":912},704,{"$f":"VLOOKUP(B33&D33,'[1]점검현황(전월)'!$D$7:$AH$233,18,0)","v":"09:40:00"},{"$f":"VLOOKUP(B33&D33,'[1]점검현황(금월)'!$D$7:$AH$234,23,0)","v":"."}]
[null,"율곡관",4,154,{"$f":"VLOOKUP(B34&D34,'[1]점검현황(금월)'!$D$7:$AH$234,2,0)","v":"멀티미디어 국제대학원"},{"$f":"VLOOKUP(B34&D34,'[1]점검현황(금월)'!$D$7:$AH$234,3,0)","v":"XT35K"},{"$f":"VLOOKUP(B34&D34,'[1]점검현황(금월)'!$D$2:$AH$234,15,0)","v":"e-ST"},{"$f":"VLOOKUP(B34&D34,'[1]점검현황(금월)'!$D$2:$AH$234,21,0)","v":"2014-05-09"},{"$f":"VLOOKUP(B34&D34,'[1]점검현황(금월)'!$D$7:$AH$234,24,0)","v":"2014-05-09"},{"$f":"VLOOKUP(B34&D34,'[1]점검현황(금월)'!$D$7:$AH$234,19,0)","v":605},{"$f":"VLOOKUP(B34&D34,'[1]점검현황(전월)'!$D$7:$AH$233,20,0)","v":"14:30:00"},{"$f":"VLOOKUP(B34&D34,'[1]점검현황(금월)'!$D$7:$AH$234,31,0)","v":1313},704,{"$f":"VLOOKUP(B34&D34,'[1]점검현황(전월)'!$D$7:$AH$233,18,0)","v":"09:50:00"},{"$f":"VLOOKUP(B34&D34,'[1]점검현황(금월)'!$D$7:$AH$234,23,0)","v":"."}]
[null,"율곡관",5,157,{"$f":"VLOOKUP(B35&D35,'[1]점검현황(금월)'!$D$7:$AH$234,2,0)","v":"사회대 (PC실)"},{"$f":"VLOOKUP(B35&D35,'[1]점검현황(금월)'!$D$7:$AH$234,3,0)","v":"XU106K"},{"$f":"VLOOKUP(B35&D35,'[1]점검현황(금월)'!$D$2:$AH$234,15,0)","v":"e-ST"},{"$f":"VLOOKUP(B35&D35,'[1]점검현황(금월)'!$D$2:$AH$234,21,0)","v":"·"},{"$f":"VLOOKUP(B35&D35,'[1]점검현황(금월)'!$D$7:$AH$234,24,0)","v":"2015-04-16"},{"$f":"VLOOKUP(B35&D35,'[1]점검현황(금월)'!$D$7:$AH$234,19,0)","v":605},{"$f":"VLOOKUP(B35&D35,'[1]점검현황(전월)'!$D$7:$AH$233,20,0)","v":"09:00:00"},{"$f":"VLOOKUP(B35&D35,'[1]점검현황(금월)'!$D$7:$AH$234,31,0)","v":994},704,{"$f":"VLOOKUP(B35&D35,'[1]점검현황(전월)'!$D$7:$AH$233,18,0)","v":"10:00:00"},{"$f":"VLOOKUP(B35&D35,'[1]점검현황(금월)'!$D$7:$AH$234,23,0)","v":"."}]
[null,"율곡관",6,204,{"$f":"VLOOKUP(B36&D36,'[1]점검현황(금월)'!$D$7:$AH$234,2,0)","v":"제1회의실"},{"$f":"VLOOKUP(B36&D36,'[1]점검현황(금월)'!$D$7:$AH$234,3,0)","v":"XM100K"},{"$f":"VLOOKUP(B36&D36,'[1]점검현황(금월)'!$D$2:$AH$234,15,0)","v":"자체"},{"$f":"VLOOKUP(B36&D36,'[1]점검현황(금월)'!$D$2:$AH$234,21,0)","v":"2013-09-03"},{"$f":"VLOOKUP(B36&D36,'[1]점검현황(금월)'!$D$7:$AH$234,24,0)","v":"2013-06-28"},{"$f":"VLOOKUP(B36&D36,'[1]점검현황(금월)'!$D$7:$AH$234,19,0)","v":624},{"$f":"VLOOKUP(B36&D36,'[1]점검현황(전월)'!$D$7:$AH$233,20,0)","v":"11:50:00"},{"$f":"VLOOKUP(B36&D36,'[1]점검현황(금월)'!$D$7:$AH$234,31,0)","v":531},704,{"$f":"VLOOKUP(B36&D36,'[1]점검현황(전월)'!$D$7:$AH$233,18,0)","v":"10:10:00"},{"$f":"VLOOKUP(B36&D36,'[1]점검현황(금월)'!$D$7:$AH$234,23,0)","v":"24,"}]
[null,"율곡관",7,252,{"$f":"VLOOKUP(B37&D37,'[1]점검현황(금월)'!$D$7:$AH$234,2,0)","v":"정치외교"},{"$f":"VLOOKUP(B37&D37,'[1]점검현황(금월)'!$D$7:$AH$234,3,0)","v":"VX400"},{"$f":"VLOOKUP(B37&D37,'[1]점검현황(금월)'!$D$2:$AH$234,15,0)","v":"e-ST"},{"$f":"VLOOKUP(B37&D37,'[1]점검현황(금월)'!$D$2:$AH$234,21,0)","v":"2013-11-24"},{"$f":"VLOOKUP(B37&D37,'[1]점검현황(금월)'!$D$7:$AH$234,24,0)","v":"·"},{"$f":"VLOOKUP(B37&D37,'[1]점검현황(금월)'!$D$7:$AH$234,19,0)","v":605},{"$f":"VLOOKUP(B37&D37,'[1]점검현황(전월)'!$D$7:$AH$233,20,0)","v":"09:20:00"},{"$f":"VLOOKUP(B37&D37,'[1]점검현황(금월)'!$D$7:$AH$234,31,0)","v":632},704,{"$f":"VLOOKUP(B37&D37,'[1]점검현황(전월)'!$D$7:$AH$233,18,0)","v":"10:20:00"},{"$f":"VLOOKUP(B37&D37,'[1]점검현황(금월)'!$D$7:$AH$234,23,0)","v":"."}]
[null,"율곡관",8,253,{"$f":"VLOOKUP(B38&D38,'[1]점검현황(금월)'!$D$7:$AH$234,2,0)","v":"멀티미디어"},{"$f":"VLOOKUP(B38&D38,'[1]점검현황(금월)'!$D$7:$AH$234,3,0)","v":"XU106K"},{"$f":"VLOOKUP(B38&D38,'[1]점검현황(금월)'!$D$2:$AH$234,15,0)","v":"구"},{"$f":"VLOOKUP(B38&D38,'[1]점검현황(금월)'!$D$2:$AH$234,21,0)","v":"2014-04-12"},{"$f":"VLOOKUP(B38&D38,'[1]점검현황(금월)'!$D$7:$AH$234,24,0)","v":"2015-06-18"},{"$f":"VLOOKUP(B38&D38,'[1]점검현황(금월)'!$D$7:$AH$234,19,0)","v":611},{"$f":"VLOOKUP(B38&D38,'[1]점검현황(전월)'!$D$7:$AH$233,20,0)","v":"09:30:00"},{"$f":"VLOOKUP(B38&D38,'[1]점검현황(금월)'!$D$7:$AH$234,31,0)","v":1140},704,{"$f":"VLOOKUP(B38&D38,'[1]점검현황(전월)'!$D$7:$AH$233,18,0)","v":"10:30:00"},{"$f":"VLOOKUP(B38&D38,'[1]점검현황(금월)'!$D$7:$AH$234,23,0)","v":"11,"}]
[null,"율곡관",9,254,{"$f":"VLOOKUP(B39&D39,'[1]점검현황(금월)'!$D$7:$AH$234,2,0)","v":"자동녹화"},{"$f":"VLOOKUP(B39&D39,'[1]점검현황(금월)'!$D$7:$AH$234,3,0)","v":"XU106K"},{"$f":"VLOOKUP(B39&D39,'[1]점검현황(금월)'!$D$2:$AH$234,15,0)","v":"e-ST"},{"$f":"VLOOKUP(B39&D39,'[1]점검현황(금월)'!$D$2:$AH$234,21,0)","v":"2014-04-11"},{"$f":"VLOOKUP(B39&D39,'[1]점검현황(금월)'!$D$7:$AH$234,24,0)","v":"2013-04-19"},{"$f":"VLOOKUP(B39&D39,'[1]점검현황(금월)'!$D$7:$AH$234,19,0)","v":608},{"$f":"VLOOKUP(B39&D39,'[1]점검현황(전월)'!$D$7:$AH$233,20,0)","v":"09:40:00"},{"$f":"VLOOKUP(B39&D39,'[1]점검현황(금월)'!$D$7:$AH$234,31,0)","v":1178},704,{"$f":"VLOOKUP(B39&D39,'[1]점검현황(전월)'!$D$7:$AH$233,18,0)","v":"10:40:00"},{"$f":"VLOOKUP(B39&D39,'[1]점검현황(금월)'!$D$7:$AH$234,23,0)","v":"."}]
[null,"율곡관",10,255,{"$f":"VLOOKUP(B40&D40,'[1]점검현황(금월)'!$D$7:$AH$234,2,0)","v":"행정학"},{"$f":"VLOOKUP(B40&D40,'[1]점검현황(금월)'!$D$7:$AH$234,3,0)","v":"EX500E"},{"$f":"VLOOKUP(B40&D40,'[1]점검현황(금월)'!$D$2:$AH$234,15,0)","v":"e-ST"},{"$f":"VLOOKUP(B40&D40,'[1]점검현황(금월)'!$D$2:$AH$234,21,0)","v":"2013-11-24"},{"$f":"VLOOKUP(B40&D40,'[1]점검현황(금월)'!$D$7:$AH$234,24,0)","v":"·"},{"$f":"VLOOKUP(B40&D40,'[1]점검현황(금월)'!$D$7:$AH$234,19,0)","v":608},{"$f":"VLOOKUP(B40&D40,'[1]점검현황(전월)'!$D$7:$AH$233,20,0)","v":"09:50:00"},{"$f":"VLOOKUP(B40&D40,'[1]점검현황(금월)'!$D$7:$AH$234,31,0)","v":1406},704,{"$f":"VLOOKUP(B40&D40,'[1]점검현황(전월)'!$D$7:$AH$233,18,0)","v":"10:50:00"},{"$f":"VLOOKUP(B40&D40,'[1]점검현황(금월)'!$D$7:$AH$234,23,0)","v":"."}]
[null,"율곡관",11,256,{"$f":"VLOOKUP(B41&D41,'[1]점검현황(금월)'!$D$7:$AH$234,2,0)","v":"심리학"},{"$f":"VLOOKUP(B41&D41,'[1]점검현황(금월)'!$D$7:$AH$234,3,0)","v":"EX500E"},{"$f":"VLOOKUP(B41&D41,'[1]점검현황(금월)'!$D$2:$AH$234,15,0)","v":"e-ST"},{"$f":"VLOOKUP(B41&D41,'[1]점검현황(금월)'!$D$2:$AH$234,21,0)","v":"2013-11-24"},{"$f":"VLOOKUP(B41&D41,'[1]점검현황(금월)'!$D$7:$AH$234,24,0)","v":"·"},{"$f":"VLOOKUP(B41&D41,'[1]점검현황(금월)'!$D$7:$AH$234,19,0)","v":608},{"$f":"VLOOKUP(B41&D41,'[1]점검현황(전월)'!$D$7:$AH$233,20,0)","v":"10:25:00"},{"$f":"VLOOKUP(B41&D41,'[1]점검현황(금월)'!$D$7:$AH$234,31,0)","v":1720},704,{"$f":"VLOOKUP(B41&D41,'[1]점검현황(전월)'!$D$7:$AH$233,18,0)","v":"11:00:00"},{"$f":"VLOOKUP(B41&D41,'[1]점검현황(금월)'!$D$7:$AH$234,23,0)","v":"."}]
[null,"율곡관",12,257,{"$f":"VLOOKUP(B42&D42,'[1]점검현황(금월)'!$D$7:$AH$234,2,0)","v":"사회학"},{"$f":"VLOOKUP(B42&D42,'[1]점검현황(금월)'!$D$7:$AH$234,3,0)","v":"EX500E"},{"$f":"VLOOKUP(B42&D42,'[1]점검현황(금월)'!$D$2:$AH$234,15,0)","v":"e-ST"},{"$f":"VLOOKUP(B42&D42,'[1]점검현황(금월)'!$D$2:$AH$234,21,0)","v":"2015-06-18"},{"$f":"VLOOKUP(B42&D42,'[1]점검현황(금월)'!$D$7:$AH$234,24,0)","v":"·"},{"$f":"VLOOKUP(B42&D42,'[1]점검현황(금월)'!$D$7:$AH$234,19,0)","v":610},{"$f":"VLOOKUP(B42&D42,'[1]점검현황(전월)'!$D$7:$AH$233,20,0)","v":"10:10:00"},{"$f":"VLOOKUP(B42&D42,'[1]점검현황(금월)'!$D$7:$AH$234,31,0)","v":1717},706,{"$f":"VLOOKUP(B42&D42,'[1]점검현황(전월)'!$D$7:$AH$233,18,0)","v":"11:10:00"},{"$f":"VLOOKUP(B42&D42,'[1]점검현황(금월)'!$D$7:$AH$234,23,0)","v":"10,"}]
[null,"율곡관",13,258,{"$f":"VLOOKUP(B43&D43,'[1]점검현황(금월)'!$D$7:$AH$234,2,0)","v":"멀티미디어"},{"$f":"VLOOKUP(B43&D43,'[1]점검현황(금월)'!$D$7:$AH$234,3,0)","v":"XU106K"},{"$f":"VLOOKUP(B43&D43,'[1]점검현황(금월)'!$D$2:$AH$234,15,0)","v":"구"},{"$f":"VLOOKUP(B43&D43,'[1]점검현황(금월)'!$D$2:$AH$234,21,0)","v":"2014-04-12"},{"$f":"VLOOKUP(B43&D43,'[1]점검현황(금월)'!$D$7:$AH$234,24,0)","v":"2015-05-28"},{"$f":"VLOOKUP(B43&D43,'[1]점검현황(금월)'!$D$7:$AH$234,19,0)","v":608},{"$f":"VLOOKUP(B43&D43,'[1]점검현황(전월)'!$D$7:$AH$233,20,0)","v":"10:20:00"},{"$f":"VLOOKUP(B43&D43,'[1]점검현황(금월)'!$D$7:$AH$234,31,0)","v":1107},706,{"$f":"VLOOKUP(B43&D43,'[1]점검현황(전월)'!$D$7:$AH$233,18,0)","v":"11:20:00"},{"$f":"VLOOKUP(B43&D43,'[1]점검현황(금월)'!$D$7:$AH$234,23,0)","v":"."}]
[null,"율곡관",14,259,{"$f":"VLOOKUP(B44&D44,'[1]점검현황(금월)'!$D$7:$AH$234,2,0)","v":"멀티미디어"},{"$f":"VLOOKUP(B44&D44,'[1]점검현황(금월)'!$D$7:$AH$234,3,0)","v":"VX510EA"},{"$f":"VLOOKUP(B44&D44,'[1]점검현황(금월)'!$D$2:$AH$234,15,0)","v":"구"},{"$f":"VLOOKUP(B44&D44,'[1]점검현황(금월)'!$D$2:$AH$234,21,0)","v":"2014-04-12"},{"$f":"VLOOKUP(B44&D44,'[1]점검현황(금월)'!$D$7:$AH$234,24,0)","v":"2013-01-21"},{"$f":"VLOOKUP(B44&D44,'[1]점검현황(금월)'!$D$7:$AH$234,19,0)","v":608},{"$f":"VLOOKUP(B44&D44,'[1]점검현황(전월)'!$D$7:$AH$233,20,0)","v":"10:30:00"},{"$f":"VLOOKUP(B44&D44,'[1]점검현황(금월)'!$D$7:$AH$234,31,0)","v":40},706,{"$f":"VLOOKUP(B44&D44,'[1]점검현황(전월)'!$D$7:$AH$233,18,0)","v":"11:30:00"},{"$f":"VLOOKUP(B44&D44,'[1]점검현황(금월)'!$D$7:$AH$234,23,0)","v":"."}]
[null,"율곡관",15,260,{"$f":"VLOOKUP(B45&D45,'[1]점검현황(금월)'!$D$7:$AH$234,2,0)","v":"자동녹화"},{"$f":"VLOOKUP(B45&D45,'[1]점검현황(금월)'!$D$7:$AH$234,3,0)","v":"XU106K"},{"$f":"VLOOKUP(B45&D45,'[1]점검현황(금월)'!$D$2:$AH$234,15,0)","v":"e-ST"},{"$f":"VLOOKUP(B45&D45,'[1]점검현황(금월)'!$D$2:$AH$234,21,0)","v":"2014-04-12"},{"$f":"VLOOKUP(B45&D45,'[1]점검현황(금월)'!$D$7:$AH$234,24,0)","v":"2014-11-21"},{"$f":"VLOOKUP(B45&D45,'[1]점검현황(금월)'!$D$7:$AH$234,19,0)","v":608},{"$f":"VLOOKUP(B45&D45,'[1]점검현황(전월)'!$D$7:$AH$233,20,0)","v":"10:15:00"},{"$f":"VLOOKUP(B45&D45,'[1]점검현황(금월)'!$D$7:$AH$234,31,0)","v":1241},706,{"$f":"VLOOKUP(B45&D45,'[1]점검현황(전월)'!$D$7:$AH$233,18,0)","v":"11:40:00"},{"$f":"VLOOKUP(B45&D45,'[1]점검현황(금월)'!$D$7:$AH$234,23,0)","v":"."}]
[null,"율곡관",16,261,{"$f":"VLOOKUP(B46&D46,'[1]점검현황(금월)'!$D$7:$AH$234,2,0)","v":"자동녹화"},{"$f":"VLOOKUP(B46&D46,'[1]점검현황(금월)'!$D$7:$AH$234,3,0)","v":"VK460"},{"$f":"VLOOKUP(B46&D46,'[1]점검현황(금월)'!$D$2:$AH$234,15,0)","v":"e-ST"},{"$f":"VLOOKUP(B46&D46,'[1]점검현황(금월)'!$D$2:$AH$234,21,0)","v":"2015-03-09"},{"$f":"VLOOKUP(B46&D46,'[1]점검현황(금월)'!$D$7:$AH$234,24,0)","v":"2013-02-28"},{"$f":"VLOOKUP(B46&D46,'[1]점검현황(금월)'!$D$7:$AH$234,19,0)","v":609},{"$f":"VLOOKUP(B46&D46,'[1]점검현황(전월)'!$D$7:$AH$233,20,0)","v":"13:50:00"},{"$f":"VLOOKUP(B46&D46,'[1]점검현황(금월)'!$D$7:$AH$234,31,0)","v":812},706,{"$f":"VLOOKUP(B46&D46,'[1]점검현황(전월)'!$D$7:$AH$233,18,0)","v":"11:50:00"},{"$f":"VLOOKUP(B46&D46,'[1]점검현황(금월)'!$D$7:$AH$234,23,0)","v":"."}]
[null,"율곡관",17,262,{"$f":"VLOOKUP(B47&D47,'[1]점검현황(금월)'!$D$7:$AH$234,2,0)","v":"멀티미디어"},{"$f":"VLOOKUP(B47&D47,'[1]점검현황(금월)'!$D$7:$AH$234,3,0)","v":"VX510EA"},{"$f":"VLOOKUP(B47&D47,'[1]점검현황(금월)'!$D$2:$AH$234,15,0)","v":"구"},{"$f":"VLOOKUP(B47&D47,'[1]점검현황(금월)'!$D$2:$AH$234,21,0)","v":"2015-04-28"},{"$f":"VLOOKUP(B47&D47,'[1]점검현황(금월)'!$D$7:$AH$234,24,0)","v":"2014-04-29"},{"$f":"VLOOKUP(B47&D47,'[1]점검현황(금월)'!$D$7:$AH$234,19,0)","v":609},{"$f":"VLOOKUP(B47&D47,'[1]점검현황(전월)'!$D$7:$AH$233,20,0)","v":"11:00:00"},{"$f":"VLOOKUP(B47&D47,'[1]점검현황(금월)'!$D$7:$AH$234,31,0)","v":1113},706,{"$f":"VLOOKUP(B47&D47,'[1]점검현황(전월)'!$D$7:$AH$233,18,0)","v":"12:00:00"},{"$f":"VLOOKUP(B47&D47,'[1]점검현황(금월)'!$D$7:$AH$234,23,0)","v":"."}]
[null,"율곡관",18,354,{"$f":"VLOOKUP(B48&D48,'[1]점검현황(금월)'!$D$7:$AH$234,2,0)","v":"대학원"},{"$f":"VLOOKUP(B48&D48,'[1]점검현황(금월)'!$D$7:$AH$234,3,0)","v":"XT15KA"},{"$f":"VLOOKUP(B48&D48,'[1]점검현황(금월)'!$D$2:$AH$234,15,0)","v":"구"},{"$f":"VLOOKUP(B48&D48,'[1]점검현황(금월)'!$D$2:$AH$234,21,0)","v":"2012-10-11"},{"$f":"VLOOKUP(B48&D48,'[1]점검현황(금월)'!$D$7:$AH$234,24,0)","v":"2013-07-15"},{"$f":"VLOOKUP(B48&D48,'[1]점검현황(금월)'!$D$7:$AH$234,19,0)","v":609},{"$f":"VLOOKUP(B48&D48,'[1]점검현황(전월)'!$D$7:$AH$233,20,0)","v":"15:37:00"},{"$f":"VLOOKUP(B48&D48,'[1]점검현황(금월)'!$D$7:$AH$234,31,0)","v":219},707,{"$f":"VLOOKUP(B48&D48,'[1]점검현황(전월)'!$D$7:$AH$233,18,0)","v":"13:00:00"},{"$f":"VLOOKUP(B48&D48,'[1]점검현황(금월)'!$D$7:$AH$234,23,0)","v":"9,"}]
[null,"율곡관",19,356,{"$f":"VLOOKUP(B49&D49,'[1]점검현황(금월)'!$D$7:$AH$234,2,0)","v":"경제학"},{"$f":"VLOOKUP(B49&D49,'[1]점검현황(금월)'!$D$7:$AH$234,3,0)","v":"EX500E"},{"$f":"VLOOKUP(B49&D49,'[1]점검현황(금월)'!$D$2:$AH$234,15,0)","v":"e-ST"},{"$f":"VLOOKUP(B49&D49,'[1]점검현황(금월)'!$D$2:$AH$234,21,0)","v":"2013-10-21"},{"$f":"VLOOKUP(B49&D49,'[1]점검현황(금월)'!$D$7:$AH$234,24,0)","v":"·"},{"$f":"VLOOKUP(B49&D49,'[1]점검현황(금월)'!$D$7:$AH$234,19,0)","v":609},{"$f":"VLOOKUP(B49&D49,'[1]점검현황(전월)'!$D$7:$AH$233,20,0)","v":"11:20:00"},{"$f":"VLOOKUP(B49&D49,'[1]점검현황(금월)'!$D$7:$AH$234,31,0)","v":413},707,{"$f":"VLOOKUP(B49&D49,'[1]점검현황(전월)'!$D$7:$AH$233,18,0)","v":"13:10:00"},{"$f":"VLOOKUP(B49&D49,'[1]점검현황(금월)'!$D$7:$AH$234,23,0)","v":"."}]
[null,"율곡관",20,357,{"$f":"VLOOKUP(B50&D50,'[1]점검현황(금월)'!$D$7:$AH$234,2,0)","v":"대학원"},{"$f":"VLOOKUP(B50&D50,'[1]점검현황(금월)'!$D$7:$AH$234,3,0)","v":"XT16K"},{"$f":"VLOOKUP(B50&D50,'[1]점검현황(금월)'!$D$2:$AH$234,15,0)","v":"구"},{"$f":"VLOOKUP(B50&D50,'[1]점검현황(금월)'!$D$2:$AH$234,21,0)","v":"·"},{"$f":"VLOOKUP(B50&D50,'[1]점검현황(금월)'!$D$7:$AH$234,24,0)","v":"2013-04-29"},{"$f":"VLOOKUP(B50&D50,'[1]점검현황(금월)'!$D$7:$AH$234,19,0)","v":609},{"$f":"VLOOKUP(B50&D50,'[1]점검현황(전월)'!$D$7:$AH$233,20,0)","v":"11:30:00"},{"$f":"VLOOKUP(B50&D50,'[1]점검현황(금월)'!$D$7:$AH$234,31,0)","v":1142},707,{"$f":"VLOOKUP(B50&D50,'[1]점검현황(전월)'!$D$7:$AH$233,18,0)","v":"13:20:00"},{"$f":"VLOOKUP(B50&D50,'[1]점검현황(금월)'!$D$7:$AH$234,23,0)","v":"."}]
[null,"율곡관",21,358,{"$f":"VLOOKUP(B51&D51,'[1]점검현황(금월)'!$D$7:$AH$234,2,0)","v":"awe"},{"$f":"VLOOKUP(B51&D51,'[1]점검현황(금월)'!$D$7:$AH$234,3,0)","v":"XT35K"},{"$f":"VLOOKUP(B51&D51,'[1]점검현황(금월)'!$D$2:$AH$234,15,0)","v":"e-ST"},{"$f":"VLOOKUP(B51&D51,'[1]점검현황(금월)'!$D$2:$AH$234,21,0)","v":"2015-03-20/2014-03-07"},{"$f":"VLOOKUP(B51&D51,'[1]점검현황(금월)'!$D$7:$AH$234,24,0)","v":"2013-1022"},{"$f":"VLOOKUP(B51&D51,'[1]점검현황(금월)'!$D$7:$AH$234,19,0)","v":609},{"$f":"VLOOKUP(B51&D51,'[1]점검현황(전월)'!$D$7:$AH$233,20,0)","v":"13:20:00"},{"$f":"VLOOKUP(B51&D51,'[1]점검현황(금월)'!$D$7:$AH$234,31,0)","v":"2002/426"},707,{"$f":"VLOOKUP(B51&D51,'[1]점검현황(전월)'!$D$7:$AH$233,18,0)","v":"13:30:00"},{"$f":"VLOOKUP(B51&D51,'[1]점검현황(금월)'!$D$7:$AH$234,23,0)","v":"8,"}]
[null,"율곡관",22,359,{"$f":"VLOOKUP(B52&D52,'[1]점검현황(금월)'!$D$7:$AH$234,2,0)","v":"멀티미디어"},{"$f":"VLOOKUP(B52&D52,'[1]점검현황(금월)'!$D$7:$AH$234,3,0)","v":"VX510EA"},{"$f":"VLOOKUP(B52&D52,'[1]점검현황(금월)'!$D$2:$AH$234,15,0)","v":"e-ST"},{"$f":"VLOOKUP(B52&D52,'[1]점검현황(금월)'!$D$2:$AH$234,21,0)","v":"2014-05-14"},{"$f":"VLOOKUP(B52&D52,'[1]점검현황(금월)'!$D$7:$AH$234,24,0)","v":"2013-03-26"},{"$f":"VLOOKUP(B52&D52,'[1]점검현황(금월)'!$D$7:$AH$234,19,0)","v":609},{"$f":"VLOOKUP(B52&D52,'[1]점검현황(전월)'!$D$7:$AH$233,20,0)","v":"14:47:00"},{"$f":"VLOOKUP(B52&D52,'[1]점검현황(금월)'!$D$7:$AH$234,31,0)","v":0},707,{"$f":"VLOOKUP(B52&D52,'[1]점검현황(전월)'!$D$7:$AH$233,18,0)","v":"13:40:00"},{"$f":"VLOOKUP(B52&D52,'[1]점검현황(금월)'!$D$7:$AH$234,23,0)","v":"4,"}]
[null,"율곡관",23,425,{"$f":"VLOOKUP(B53&D53,'[1]점검현황(금월)'!$D$7:$AH$234,2,0)","v":"대학원"},{"$f":"VLOOKUP(B53&D53,'[1]점검현황(금월)'!$D$7:$AH$234,3,0)","v":"XT35K"},{"$f":"VLOOKUP(B53&D53,'[1]점검현황(금월)'!$D$2:$AH$234,15,0)","v":"구"},{"$f":"VLOOKUP(B53&D53,'[1]점검현황(금월)'!$D$2:$AH$234,21,0)","v":"2013-04-09"},{"$f":"VLOOKUP(B53&D53,'[1]점검현황(금월)'!$D$7:$AH$234,24,0)","v":"2013-09-10"},{"$f":"VLOOKUP(B53&D53,'[1]점검현황(금월)'!$D$7:$AH$234,19,0)","v":610},{"$f":"VLOOKUP(B53&D53,'[1]점검현황(전월)'!$D$7:$AH$233,20,0)","v":"12:00:00"},{"$f":"VLOOKUP(B53&D53,'[1]점검현황(금월)'!$D$7:$AH$234,31,0)","v":1028},707,{"$f":"VLOOKUP(B53&D53,'[1]점검현황(전월)'!$D$7:$AH$233,18,0)","v":"08:30:00"},{"$f":"VLOOKUP(B53&D53,'[1]점검현황(금월)'!$D$7:$AH$234,23,0)","v":"."}]
[null,"율곡관",24,427,{"$f":"VLOOKUP(B54&D54,'[1]점검현황(금월)'!$D$7:$AH$234,2,0)","v":"대학원"},{"$f":"VLOOKUP(B54&D54,'[1]점검현황(금월)'!$D$7:$AH$234,3,0)","v":"XU106K"},{"$f":"VLOOKUP(B54&D54,'[1]점검현황(금월)'!$D$2:$AH$234,15,0)","v":"구"},{"$f":"VLOOKUP(B54&D54,'[1]점검현황(금월)'!$D$2:$AH$234,21,0)","v":"2013-02-21"},{"$f":"VLOOKUP(B54&D54,'[1]점검현황(금월)'!$D$7:$AH$234,24,0)","v":"2012-11-23"},{"$f":"VLOOKUP(B54&D54,'[1]점검현황(금월)'!$D$7:$AH$234,19,0)","v":610},{"$f":"VLOOKUP(B54&D54,'[1]점검현황(전월)'!$D$7:$AH$233,20,0)","v":"13:00:00"},{"$f":"VLOOKUP(B54&D54,'[1]점검현황(금월)'!$D$7:$AH$234,31,0)","v":"프로젝터 없음"},null,null,{"$f":"VLOOKUP(B54&D54,'[1]점검현황(금월)'!$D$7:$AH$234,23,0)","v":"."}]
["성호관","성호관",1,"소극장",{"$f":"VLOOKUP(B55&D55,'[1]점검현황(금월)'!$D$7:$AH$234,2,0)","v":"소극장 135호"},{"$f":"VLOOKUP(B55&D55,'[1]점검현황(금월)'!$D$7:$AH$234,3,0)","v":"EX16KE"},{"$f":"VLOOKUP(B55&D55,'[1]점검현황(금월)'!$D$2:$AH$234,15,0)","v":"e-ST"},{"$f":"VLOOKUP(B55&D55,'[1]점검현황(금월)'!$D$2:$AH$234,21,0)","v":"2014-04-15"},{"$f":"VLOOKUP(B55&D55,'[1]점검현황(금월)'!$D$7:$AH$234,24,0)","v":"·"},{"$f":"VLOOKUP(B55&D55,'[1]점검현황(금월)'!$D$7:$AH$234,19,0)","v":610},{"$f":"VLOOKUP(B55&D55,'[1]점검현황(전월)'!$D$7:$AH$233,20,0)","v":"13:10:00"},{"$f":"VLOOKUP(B55&D55,'[1]점검현황(금월)'!$D$7:$AH$234,31,0)","v":"463/674/440/672"},708,{"$f":"VLOOKUP(B55&D55,'[1]점검현황(전월)'!$D$7:$AH$233,18,0)","v":"08:50:00"},{"$f":"VLOOKUP(B55&D55,'[1]점검현황(금월)'!$D$7:$AH$234,23,0)","v":"4,"}]
[null,"성호관",2,103,{"$f":"VLOOKUP(B56&D56,'[1]점검현황(금월)'!$D$7:$AH$234,2,0)","v":"인문대 (PC실)"},{"$f":"VLOOKUP(B56&D56,'[1]점검현황(금월)'!$D$7:$AH$234,3,0)","v":"XT35K"},{"$f":"VLOOKUP(B56&D56,'[1]점검현황(금월)'!$D$2:$AH$234,15,0)","v":"e-ST"},{"$f":"VLOOKUP(B56&D56,'[1]점검현황(금월)'!$D$2:$AH$234,21,0)","v":"2014-12-19"},{"$f":"VLOOKUP(B56&D56,'[1]점검현황(금월)'!$D$7:$AH$234,24,0)","v":"2014-12-19"},{"$f":"VLOOKUP(B56&D56,'[1]점검현황(금월)'!$D$7:$AH$234,19,0)","v":610},{"$f":"VLOOKUP(B56&D56,'[1]점검현황(전월)'!$D$7:$AH$233,20,0)","v":"13:20:00"},{"$f":"VLOOKUP(B56&D56,'[1]점검현황(금월)'!$D$7:$AH$234,31,0)","v":579},708,{"$f":"VLOOKUP(B56&D56,'[1]점검현황(전월)'!$D$7:$AH$233,18,0)","v":"19:00:00"},{"$f":"VLOOKUP(B56&D56,'[1]점검현황(금월)'!$D$7:$AH$234,23,0)","v":"."}]
[null,"성호관",3,104,{"$f":"VLOOKUP(B57&D57,'[1]점검현황(금월)'!$D$7:$AH$234,2,0)","v":"멀티미디어"},{"$f":"VLOOKUP(B57&D57,'[1]점검현황(금월)'!$D$7:$AH$234,3,0)","v":"XU106K"},{"$f":"VLOOKUP(B57&D57,'[1]점검현황(금월)'!$D$2:$AH$234,15,0)","v":"e-ST"},{"$f":"VLOOKUP(B57&D57,'[1]점검현황(금월)'!$D$2:$AH$234,21,0)","v":"2013-11-28"},{"$f":"VLOOKUP(B57&D57,'[1]점검현황(금월)'!$D$7:$AH$234,24,0)","v":"2013-02-25"},{"$f":"VLOOKUP(B57&D57,'[1]점검현황(금월)'!$D$7:$AH$234,19,0)","v":610},{"$f":"VLOOKUP(B57&D57,'[1]점검현황(전월)'!$D$7:$AH$233,20,0)","v":"12:10:00"},{"$f":"VLOOKUP(B57&D57,'[1]점검현황(금월)'!$D$7:$AH$234,31,0)","v":1515},708,{"$f":"VLOOKUP(B57&D57,'[1]점검현황(전월)'!$D$7:$AH$233,18,0)","v":"19:10:00"},{"$f":"VLOOKUP(B57&D57,'[1]점검현황(금월)'!$D$7:$AH$234,23,0)","v":"9,"}]
[null,"성호관",4,105,{"$f":"VLOOKUP(B58&D58,'[1]점검현황(금월)'!$D$7:$AH$234,2,0)","v":"자동녹화"},{"$f":"VLOOKUP(B58&D58,'[1]점검현황(금월)'!$D$7:$AH$234,3,0)","v":"VX410Z"},{"$f":"VLOOKUP(B58&D58,'[1]점검현황(금월)'!$D$2:$AH$234,15,0)","v":"e-ST"},{"$f":"VLOOKUP(B58&D58,'[1]점검현황(금월)'!$D$2:$AH$234,21,0)","v":"2014-04-12"},{"$f":"VLOOKUP(B58&D58,'[1]점검현황(금월)'!$D$7:$AH$234,24,0)","v":"2014-11-22"},{"$f":"VLOOKUP(B58&D58,'[1]점검현황(금월)'!$D$7:$AH$234,19,0)","v":610},{"$f":"VLOOKUP(B58&D58,'[1]점검현황(전월)'!$D$7:$AH$233,20,0)","v":"11:40:00"},{"$f":"VLOOKUP(B58&D58,'[1]점검현황(금월)'!$D$7:$AH$234,31,0)","v":415},708,{"$f":"VLOOKUP(B58&D58,'[1]점검현황(전월)'!$D$7:$AH$233,18,0)","v":"19:20:00"},{"$f":"VLOOKUP(B58&D58,'[1]점검현황(금월)'!$D$7:$AH$234,23,0)","v":"."}]
[null,"성호관",5,131,{"$f":"VLOOKUP(B59&D59,'[1]점검현황(금월)'!$D$7:$AH$234,2,0)","v":"멀티미디어"},{"$f":"VLOOKUP(B59&D59,'[1]점검현황(금월)'!$D$7:$AH$234,3,0)","v":"XU105K"},{"$f":"VLOOKUP(B59&D59,'[1]점검현황(금월)'!$D$2:$AH$234,15,0)","v":"ST"},{"$f":"VLOOKUP(B59&D59,'[1]점검현황(금월)'!$D$2:$AH$234,21,0)","v":"2013-10-16"},{"$f":"VLOOKUP(B59&D59,'[1]점검현황(금월)'!$D$7:$AH$234,24,0)","v":"2015-04-24"},{"$f":"VLOOKUP(B59&D59,'[1]점검현황(금월)'!$D$7:$AH$234,19,0)","v":610},{"$f":"VLOOKUP(B59&D59,'[1]점검현황(전월)'!$D$7:$AH$233,20,0)","v":"10:35:00"},{"$f":"VLOOKUP(B59&D59,'[1]점검현황(금월)'!$D$7:$AH$234,31,0)","v":925},708,{"$f":"VLOOKUP(B59&D59,'[1]점검현황(전월)'!$D$7:$AH$233,18,0)","v":"08:30:00"},{"$f":"VLOOKUP(B59&D59,'[1]점검현황(금월)'!$D$7:$AH$234,23,0)","v":"8,"}]
[null,"성호관",6,132,{"$f":"VLOOKUP(B60&D60,'[1]점검현황(금월)'!$D$7:$AH$234,2,0)","v":"멀티미디어"},{"$f":"VLOOKUP(B60&D60,'[1]점검현황(금월)'!$D$7:$AH$234,3,0)","v":"XU106K"},{"$f":"VLOOKUP(B60&D60,'[1]점검현황(금월)'!$D$2:$AH$234,15,0)","v":"e-ST"},{"$f":"VLOOKUP(B60&D60,'[1]점검현황(금월)'!$D$2:$AH$234,21,0)","v":"2013-02-21"},{"$f":"VLOOKUP(B60&D60,'[1]점검현황(금월)'!$D$7:$AH$234,24,0)","v":"2013-09-10"},{"$f":"VLOOKUP(B60&D60,'[1]점검현황(금월)'!$D$7:$AH$234,19,0)","v":611},{"$f":"VLOOKUP(B60&D60,'[1]점검현황(전월)'!$D$7:$AH$233,20,0)","v":"19:30:00"},{"$f":"VLOOKUP(B60&D60,'[1]점검현황(금월)'!$D$7:$AH$234,31,0)","v":569},708,{"$f":"VLOOKUP(B60&D60,'[1]점검현황(전월)'!$D$7:$AH$233,18,0)","v":"08:40:00"},{"$f":"VLOOKUP(B60&D60,'[1]점검현황(금월)'!$D$7:$AH$234,23,0)","v":"."}]
[null,"성호관",7,133,{"$f":"VLOOKUP(B61&D61,'[1]점검현황(금월)'!$D$7:$AH$234,2,0)","v":"멀티미디어"},{"$f":"VLOOKUP(B61&D61,'[1]점검현황(금월)'!$D$7:$AH$234,3,0)","v":"VX410Z"},{"$f":"VLOOKUP(B61&D61,'[1]점검현황(금월)'!$D$2:$AH$234,15,0)","v":"e-ST"},{"$f":"VLOOKUP(B61&D61,'[1]점검현황(금월)'!$D$2:$AH$234,21,0)","v":"2014-07-12"},{"$f":"VLOOKUP(B61&D61,'[1]점검현황(금월)'!$D$7:$AH$234,24,0)","v":"2014-07-12"},{"$f":"VLOOKUP(B61&D61,'[1]점검현황(금월)'!$D$7:$AH$234,19,0)","v":611},{"$f":"VLOOKUP(B61&D61,'[1]점검현황(전월)'!$D$7:$AH$233,20,0)","v":"08:30:00"},{"$f":"VLOOKUP(B61&D61,'[1]점검현황(금월)'!$D$7:$AH$234,31,0)","v":356},709,{"$f":"VLOOKUP(B61&D61,'[1]점검현황(전월)'!$D$7:$AH$233,18,0)","v":"08:50:00"},{"$f":"VLOOKUP(B61&D61,'[1]점검현황(금월)'!$D$7:$AH$234,23,0)","v":"."}]
[null,"성호관",8,201,{"$f":"VLOOKUP(B62&D62,'[1]점검현황(금월)'!$D$7:$AH$234,2,0)","v":"멀티미디어"},{"$f":"VLOOKUP(B62&D62,'[1]점검현황(금월)'!$D$7:$AH$234,3,0)","v":"XU106K"},{"$f":"VLOOKUP(B62&D62,'[1]점검현황(금월)'!$D$2:$AH$234,15,0)","v":"e-ST"},{"$f":"VLOOKUP(B62&D62,'[1]점검현황(금월)'!$D$2:$AH$234,21,0)","v":"2014-04-12"},{"$f":"VLOOKUP(B62&D62,'[1]점검현황(금월)'!$D$7:$AH$234,24,0)","v":"2013-06-28"},{"$f":"VLOOKUP(B62&D62,'[1]점검현황(금월)'!$D$7:$AH$234,19,0)","v":611},{"$f":"VLOOKUP(B62&D62,'[1]점검현황(전월)'!$D$7:$AH$233,20,0)","v":"08:40:00"},{"$f":"VLOOKUP(B62&D62,'[1]점검현황(금월)'!$D$7:$AH$234,31,0)","v":1352},709,{"$f":"VLOOKUP(B62&D62,'[1]점검현황(전월)'!$D$7:$AH$233,18,0)","v":"19:00:00"},{"$f":"VLOOKUP(B62&D62,'[1]점검현황(금월)'!$D$7:$AH$234,23,0)","v":"10,"}]
[null,"성호관",9,"201-1",{"$f":"VLOOKUP(B63&D63,'[1]점검현황(금월)'!$D$7:$AH$234,2,0)","v":"자동녹화"},{"$f":"VLOOKUP(B63&D63,'[1]점검현황(금월)'!$D$7:$AH$234,3,0)","v":"XU106K"},{"$f":"VLOOKUP(B63&D63,'[1]점검현황(금월)'!$D$2:$AH$234,15,0)","v":"구"},{"$f":"VLOOKUP(B63&D63,'[1]점검현황(금월)'!$D$2:$AH$234,21,0)","v":"2015-06-13"},{"$f":"VLOOKUP(B63&D63,'[1]점검현황(금월)'!$D$7:$AH$234,24,0)","v":"2015-04-11"},{"$f":"VLOOKUP(B63&D63,'[1]점검현황(금월)'!$D$7:$AH$234,19,0)","v":613},{"$f":"VLOOKUP(B63&D63,'[1]점검현황(전월)'!$D$7:$AH$233,20,0)","v":"18:50:00"},{"$f":"VLOOKUP(B63&D63,'[1]점검현황(금월)'!$D$7:$AH$234,31,0)","v":0},709,{"$f":"VLOOKUP(B63&D63,'[1]점검현황(전월)'!$D$7:$AH$233,18,0)","v":"19:10:00"},{"$f":"VLOOKUP(B63&D63,'[1]점검현황(금월)'!$D$7:$AH$234,23,0)","v":"13,"}]
[null,"성호관",10,202,{"$f":"VLOOKUP(B64&D64,'[1]점검현황(금월)'!$D$7:$AH$234,2,0)","v":"멀티미디어"},{"$f":"VLOOKUP(B64&D64,'[1]점검현황(금월)'!$D$7:$AH$234,3,0)","v":"VX410Z"},{"$f":"VLOOKUP(B64&D64,'[1]점검현황(금월)'!$D$2:$AH$234,15,0)","v":"e-ST"},{"$f":"VLOOKUP(B64&D64,'[1]점검현황(금월)'!$D$2:$AH$234,21,0)","v":"2013-11-25"},{"$f":"VLOOKUP(B64&D64,'[1]점검현황(금월)'!$D$7:$AH$234,24,0)","v":"2014-11-22"},{"$f":"VLOOKUP(B64&D64,'[1]점검현황(금월)'!$D$7:$AH$234,19,0)","v":630},{"$f":"VLOOKUP(B64&D64,'[1]점검현황(전월)'!$D$7:$AH$233,20,0)","v":"19:00:00"},{"$f":"VLOOKUP(B64&D64,'[1]점검현황(금월)'!$D$7:$AH$234,31,0)","v":219},709,{"$f":"VLOOKUP(B64&D64,'[1]점검현황(전월)'!$D$7:$AH$233,18,0)","v":"19:20:00"},{"$f":"VLOOKUP(B64&D64,'[1]점검현황(금월)'!$D$7:$AH$234,23,0)","v":"30,"}]
[null,"성호관",11,203,{"$f":"VLOOKUP(B65&D65,'[1]점검현황(금월)'!$D$7:$AH$234,2,0)","v":"자동녹화"},{"$f":"VLOOKUP(B65&D65,'[1]점검현황(금월)'!$D$7:$AH$234,3,0)","v":"XU105K"},{"$f":"VLOOKUP(B65&D65,'[1]점검현황(금월)'!$D$2:$AH$234,15,0)","v":"ST"},{"$f":"VLOOKUP(B65&D65,'[1]점검현황(금월)'!$D$2:$AH$234,21,0)","v":"2014-01-17"},{"$f":"VLOOKUP(B65&D65,'[1]점검현황(금월)'!$D$7:$AH$234,24,0)","v":"2014-11-22"},{"$f":"VLOOKUP(B65&D65,'[1]점검현황(금월)'!$D$7:$AH$234,19,0)","v":611},{"$f":"VLOOKUP(B65&D65,'[1]점검현황(전월)'!$D$7:$AH$233,20,0)","v":"17:22:00"},{"$f":"VLOOKUP(B65&D65,'[1]점검현황(금월)'!$D$7:$AH$234,31,0)","v":924},709,{"$f":"VLOOKUP(B65&D65,'[1]점검현황(전월)'!$D$7:$AH$233,18,0)","v":"08:30:00"},{"$f":"VLOOKUP(B65&D65,'[1]점검현황(금월)'!$D$7:$AH$234,23,0)","v":"1,"}]
[null,"성호관",12,204,{"$f":"VLOOKUP(B66&D66,'[1]점검현황(금월)'!$D$7:$AH$234,2,0)","v":"자동녹화"},{"$f":"VLOOKUP(B66&D66,'[1]점검현황(금월)'!$D$7:$AH$234,3,0)","v":"XU106K"},{"$f":"VLOOKUP(B66&D66,'[1]점검현황(금월)'!$D$2:$AH$234,15,0)","v":"e-ST"},{"$f":"VLOOKUP(B66&D66,'[1]점검현황(금월)'!$D$2:$AH$234,21,0)","v":"2013-02-21"},{"$f":"VLOOKUP(B66&D66,'[1]점검현황(금월)'!$D$7:$AH$234,24,0)","v":"2014-02-13"},{"$f":"VLOOKUP(B66&D66,'[1]점검현황(금월)'!$D$7:$AH$234,19,0)","v":611},{"$f":"VLOOKUP(B66&D66,'[1]점검현황(전월)'!$D$7:$AH$233,20,0)","v":"19:20:00"},{"$f":"VLOOKUP(B66&D66,'[1]점검현황(금월)'!$D$7:$AH$234,31,0)","v":735},709,{"$f":"VLOOKUP(B66&D66,'[1]점검현황(전월)'!$D$7:$AH$233,18,0)","v":"08:40:00"},{"$f":"VLOOKUP(B66&D66,'[1]점검현황(금월)'!$D$7:$AH$234,23,0)","v":"."}]
[null,"성호관",13,205,{"$f":"VLOOKUP(B67&D67,'[1]점검현황(금월)'!$D$7:$AH$234,2,0)","v":"자동녹화"},{"$f":"VLOOKUP(B67&D67,'[1]점검현황(금월)'!$D$7:$AH$234,3,0)","v":"XU106K"},{"$f":"VLOOKUP(B67&D67,'[1]점검현황(금월)'!$D$2:$AH$234,15,0)","v":"e-ST"},{"$f":"VLOOKUP(B67&D67,'[1]점검현황(금월)'!$D$2:$AH$234,21,0)","v":"2014-07-08"},{"$f":"VLOOKUP(B67&D67,'[1]점검현황(금월)'!$D$7:$AH$234,24,0)","v":"2013-08-17"},{"$f":"VLOOKUP(B67&D67,'[1]점검현황(금월)'!$D$7:$AH$234,19,0)","v":612},{"$f":"VLOOKUP(B67&D67,'[1]점검현황(전월)'!$D$7:$AH$233,20,0)","v":"08:30:00"},{"$f":"VLOOKUP(B67&D67,'[1]점검현황(금월)'!$D$7:$AH$234,31,0)","v":606},710,{"$f":"VLOOKUP(B67&D67,'[1]점검현황(전월)'!$D$7:$AH$233,18,0)","v":"08:50:00"},{"$f":"VLOOKUP(B67&D67,'[1]점검현황(금월)'!$D$7:$AH$234,23,0)","v":"."}]
[null,"성호관",14,232,{"$f":"VLOOKUP(B68&D68,'[1]점검현황(금월)'!$D$7:$AH$234,2,0)","v":"멀티미디어"},{"$f":"VLOOKUP(B68&D68,'[1]점검현황(금월)'!$D$7:$AH$234,3,0)","v":"VX410Z"},{"$f":"VLOOKUP(B68&D68,'[1]점검현황(금월)'!$D$2:$AH$234,15,0)","v":"e-ST"},{"$f":"VLOOKUP(B68&D68,'[1]점검현황(금월)'!$D$2:$AH$234,21,0)","v":"2014-05-09"},{"$f":"VLOOKUP(B68&D68,'[1]점검현황(금월)'!$D$7:$AH$234,24,0)","v":"2013-02-25"},{"$f":"VLOOKUP(B68&D68,'[1]점검현황(금월)'!$D$7:$AH$234,19,0)","v":612},{"$f":"VLOOKUP(B68&D68,'[1]점검현황(전월)'!$D$7:$AH$233,20,0)","v":"14:50:00"},{"$f":"VLOOKUP(B68&D68,'[1]점검현황(금월)'!$D$7:$AH$234,31,0)","v":313},710,{"$f":"VLOOKUP(B68&D68,'[1]점검현황(전월)'!$D$7:$AH$233,18,0)","v":"19:00:00"},{"$f":"VLOOKUP(B68&D68,'[1]점검현황(금월)'!$D$7:$AH$234,23,0)","v":"."}]
[null,"성호관",15,233,{"$f":"VLOOKUP(B69&D69,'[1]점검현황(금월)'!$D$7:$AH$234,2,0)","v":"멀티미디어"},{"$f":"VLOOKUP(B69&D69,'[1]점검현황(금월)'!$D$7:$AH$234,3,0)","v":"XU106K"},{"$f":"VLOOKUP(B69&D69,'[1]점검현황(금월)'!$D$2:$AH$234,15,0)","v":"구"},{"$f":"VLOOKUP(B69&D69,'[1]점검현황(금월)'!$D$2:$AH$234,21,0)","v":"2014-05-01"},{"$f":"VLOOKUP(B69&D69,'[1]점검현황(금월)'!$D$7:$AH$234,24,0)","v":"2013-10-30"},{"$f":"VLOOKUP(B69&D69,'[1]점검현황(금월)'!$D$7:$AH$234,19,0)","v":612},{"$f":"VLOOKUP(B69&D69,'[1]점검현황(전월)'!$D$7:$AH$233,20,0)","v":"08:50:00"},{"$f":"VLOOKUP(B69&D69,'[1]점검현황(금월)'!$D$7:$AH$234,31,0)","v":1020},710,{"$f":"VLOOKUP(B69&D69,'[1]점검현황(전월)'!$D$7:$AH$233,18,0)","v":"19:10:00"},{"$f":"VLOOKUP(B69&D69,'[1]점검현황(금월)'!$D$7:$AH$234,23,0)","v":"10,"}]
[null,"성호관",16,234,{"$f":"VLOOKUP(B70&D70,'[1]점검현황(금월)'!$D$7:$AH$234,2,0)","v":"멀티미디어"},{"$f":"VLOOKUP(B70&D70,'[1]점검현황(금월)'!$D$7:$AH$234,3,0)","v":"XU106K"},{"$f":"VLOOKUP(B70&D70,'[1]점검현황(금월)'!$D$2:$AH$234,15,0)","v":"구"},{"$f":"VLOOKUP(B70&D70,'[1]점검현황(금월)'!$D$2:$AH$234,21,0)","v":"2015-06-13"},{"$f":"VLOOKUP(B70&D70,'[1]점검현황(금월)'!$D$7:$AH$234,24,0)","v":"2013-08-17"},{"$f":"VLOOKUP(B70&D70,'[1]점검현황(금월)'!$D$7:$AH$234,19,0)","v":613},{"$f":"VLOOKUP(B70&D70,'[1]점검현황(전월)'!$D$7:$AH$233,20,0)","v":"19:00:00"},{"$f":"VLOOKUP(B70&D70,'[1]점검현황(금월)'!$D$7:$AH$234,31,0)","v":0},710,{"$f":"VLOOKUP(B70&D70,'[1]점검현황(전월)'!$D$7:$AH$233,18,0)","v":"19:20:00"},{"$f":"VLOOKUP(B70&D70,'[1]점검현황(금월)'!$D$7:$AH$234,23,0)","v":"13,"}]
[null,"성호관",17,235,{"$f":"VLOOKUP(B71&D71,'[1]점검현황(금월)'!$D$7:$AH$234,2,0)","v":"멀티미디어"},{"$f":"VLOOKUP(B71&D71,'[1]점검현황(금월)'!$D$7:$AH$234,3,0)","v":"XU106K"},{"$f":"VLOOKUP(B71&D71,'[1]점검현황(금월)'!$D$2:$AH$234,15,0)","v":"구"},{"$f":"VLOOKUP(B71&D71,'[1]점검현황(금월)'!$D$2:$AH$234,21,0)","v":"2013-12-07"},{"$f":"VLOOKUP(B71&D71,'[1]점검현황(금월)'!$D$7:$AH$234,24,0)","v":"2014-12-10"},{"$f":"VLOOKUP(B71&D71,'[1]점검현황(금월)'!$D$7:$AH$234,19,0)","v":619},{"$f":"VLOOKUP(B71&D71,'[1]점검현황(전월)'!$D$7:$AH$233,20,0)","v":"13:05:00"},{"$f":"VLOOKUP(B71&D71,'[1]점검현황(금월)'!$D$7:$AH$234,31,0)","v":964},710,{"$f":"VLOOKUP(B71&D71,'[1]점검현황(전월)'!$D$7:$AH$233,18,0)","v":"08:30:00"},{"$f":"VLOOKUP(B71&D71,'[1]점검현황(금월)'!$D$7:$AH$234,23,0)","v":"19,"}]
[null,"성호관",18,236,{"$f":"VLOOKUP(B72&D72,'[1]점검현황(금월)'!$D$7:$AH$234,2,0)","v":"멀티미디어"},{"$f":"VLOOKUP(B72&D72,'[1]점검현황(금월)'!$D$7:$AH$234,3,0)","v":"XU106K"},{"$f":"VLOOKUP(B72&D72,'[1]점검현황(금월)'!$D$2:$AH$234,15,0)","v":"구"},{"$f":"VLOOKUP(B72&D72,'[1]점검현황(금월)'!$D$2:$AH$234,21,0)","v":"2013-11-27"},{"$f":"VLOOKUP(B72&D72,'[1]점검현황(금월)'!$D$7:$AH$234,24,0)","v":"2014-07-12"},{"$f":"VLOOKUP(B72&D72,'[1]점검현황(금월)'!$D$7:$AH$234,19,0)","v":612},{"$f":"VLOOKUP(B72&D72,'[1]점검현황(전월)'!$D$7:$AH$233,20,0)","v":"19:20:00"},{"$f":"VLOOKUP(B72&D72,'[1]점검현황(금월)'!$D$7:$AH$234,31,0)","v":1377},710,{"$f":"VLOOKUP(B72&D72,'[1]점검현황(전월)'!$D$7:$AH$233,18,0)","v":"08:40:00"},{"$f":"VLOOKUP(B72&D72,'[1]점검현황(금월)'!$D$7:$AH$234,23,0)","v":"."}]
[null,"성호관",19,237,{"$f":"VLOOKUP(B73&D73,'[1]점검현황(금월)'!$D$7:$AH$234,2,0)","v":"멀티미디어"},{"$f":"VLOOKUP(B73&D73,'[1]점검현황(금월)'!$D$7:$AH$234,3,0)","v":"VX410Z"},{"$f":"VLOOKUP(B73&D73,'[1]점검현황(금월)'!$D$2:$AH$234,15,0)","v":"e-ST"},{"$f":"VLOOKUP(B73&D73,'[1]점검현황(금월)'!$D$2:$AH$234,21,0)","v":"2013-09-09"},{"$f":"VLOOKUP(B73&D73,'[1]점검현황(금월)'!$D$7:$AH$234,24,0)","v":"2013-11-26"},{"$f":"VLOOKUP(B73&D73,'[1]점검현황(금월)'!$D$7:$AH$234,19,0)","v":612},{"$f":"VLOOKUP(B73&D73,'[1]점검현황(전월)'!$D$7:$AH$233,20,0)","v":"08:30:00"},{"$f":"VLOOKUP(B73&D73,'[1]점검현황(금월)'!$D$7:$AH$234,31,0)","v":327},711,{"$f":"VLOOKUP(B73&D73,'[1]점검현황(전월)'!$D$7:$AH$233,18,0)","v":"08:50:00"},{"$f":"VLOOKUP(B73&D73,'[1]점검현황(금월)'!$D$7:$AH$234,23,0)","v":"."}]
[null,"성호관",21,303,{"$f":"VLOOKUP(B74&D74,'[1]점검현황(금월)'!$D$7:$AH$234,2,0)","v":"교수학습지원센터"},{"$f":"VLOOKUP(B74&D74,'[1]점검현황(금월)'!$D$7:$AH$234,3,0)","v":"XU106K"},{"$f":"VLOOKUP(B74&D74,'[1]점검현황(금월)'!$D$2:$AH$234,15,0)","v":"e-ST"},{"$f":"VLOOKUP(B74&D74,'[1]점검현황(금월)'!$D$2:$AH$234,21,0)","v":"."},{"$f":"VLOOKUP(B74&D74,'[1]점검현황(금월)'!$D$7:$AH$234,24,0)","v":"."},{"$f":"VLOOKUP(B74&D74,'[1]점검현황(금월)'!$D$7:$AH$234,19,0)","v":613},{"$f":"VLOOKUP(B74&D74,'[1]점검현황(전월)'!$D$7:$AH$233,20,0)","v":"15:56:00"},{"$f":"VLOOKUP(B74&D74,'[1]점검현황(금월)'!$D$7:$AH$234,31,0)","v":2038},711,{"$f":"VLOOKUP(B74&D74,'[1]점검현황(전월)'!$D$7:$AH$233,18,0)","v":"09:50:00"},{"$f":"VLOOKUP(B74&D74,'[1]점검현황(금월)'!$D$7:$AH$234,23,0)","v":"."}]
[null,"성호관",22,304,{"$f":"VLOOKUP(B75&D75,'[1]점검현황(금월)'!$D$7:$AH$234,2,0)","v":"멀티미디어"},{"$f":"VLOOKUP(B75&D75,'[1]점검현황(금월)'!$D$7:$AH$234,3,0)","v":"VX510EA"},{"$f":"VLOOKUP(B75&D75,'[1]점검현황(금월)'!$D$2:$AH$234,15,0)","v":"e-ST"},{"$f":"VLOOKUP(B75&D75,'[1]점검현황(금월)'!$D$2:$AH$234,21,0)","v":"2014-04-10"},{"$f":"VLOOKUP(B75&D75,'[1]점검현황(금월)'!$D$7:$AH$234,24,0)","v":"2012-11-08"},{"$f":"VLOOKUP(B75&D75,'[1]점검현황(금월)'!$D$7:$AH$234,19,0)","v":613},{"$f":"VLOOKUP(B75&D75,'[1]점검현황(전월)'!$D$7:$AH$233,20,0)","v":"13:47:00"},{"$f":"VLOOKUP(B75&D75,'[1]점검현황(금월)'!$D$7:$AH$234,31,0)","v":304},711,{"$f":"VLOOKUP(B75&D75,'[1]점검현황(전월)'!$D$7:$AH$233,18,0)","v":"19:10:00"},{"$f":"VLOOKUP(B75&D75,'[1]점검현황(금월)'!$D$7:$AH$234,23,0)","v":"2,"}]
[null,"성호관",23,305,{"$f":"VLOOKUP(B76&D76,'[1]점검현황(금월)'!$D$7:$AH$234,2,0)","v":"자동녹화"},{"$f":"VLOOKUP(B76&D76,'[1]점검현황(금월)'!$D$7:$AH$234,3,0)","v":"VX410Z"},{"$f":"VLOOKUP(B76&D76,'[1]점검현황(금월)'!$D$2:$AH$234,15,0)","v":"ST"},{"$f":"VLOOKUP(B76&D76,'[1]점검현황(금월)'!$D$2:$AH$234,21,0)","v":"2014-05-14"},{"$f":"VLOOKUP(B76&D76,'[1]점검현황(금월)'!$D$7:$AH$234,24,0)","v":"2013-05-31"},{"$f":"VLOOKUP(B76&D76,'[1]점검현황(금월)'!$D$7:$AH$234,19,0)","v":613},{"$f":"VLOOKUP(B76&D76,'[1]점검현황(전월)'!$D$7:$AH$233,20,0)","v":"19:00:00"},{"$f":"VLOOKUP(B76&D76,'[1]점검현황(금월)'!$D$7:$AH$234,31,0)","v":492},711,{"$f":"VLOOKUP(B76&D76,'[1]점검현황(전월)'!$D$7:$AH$233,18,0)","v":"19:20:00"},{"$f":"VLOOKUP(B76&D76,'[1]점검현황(금월)'!$D$7:$AH$234,23,0)","v":"."}]
[null,"성호관",24,306,{"$f":"VLOOKUP(B77&D77,'[1]점검현황(금월)'!$D$7:$AH$234,2,0)","v":"멀티미디어"},{"$f":"VLOOKUP(B77&D77,'[1]점검현황(금월)'!$D$7:$AH$234,3,0)","v":"VX600"},{"$f":"VLOOKUP(B77&D77,'[1]점검현황(금월)'!$D$2:$AH$234,15,0)","v":"e-ST"},{"$f":"VLOOKUP(B77&D77,'[1]점검현황(금월)'!$D$2:$AH$234,21,0)","v":"2014-04-07"},{"$f":"VLOOKUP(B77&D77,'[1]점검현황(금월)'!$D$7:$AH$234,24,0)","v":"2013-06-27"},{"$f":"VLOOKUP(B77&D77,'[1]점검현황(금월)'!$D$7:$AH$234,19,0)","v":625},{"$f":"VLOOKUP(B77&D77,'[1]점검현황(전월)'!$D$7:$AH$233,20,0)","v":"13:04:00"},{"$f":"VLOOKUP(B77&D77,'[1]점검현황(금월)'!$D$7:$AH$234,31,0)","v":449},711,{"$f":"VLOOKUP(B77&D77,'[1]점검현황(전월)'!$D$7:$AH$233,18,0)","v":"08:30:00"},{"$f":"VLOOKUP(B77&D77,'[1]점검현황(금월)'!$D$7:$AH$234,23,0)","v":"2,25"}]
[null,"성호관",25,331,{"$f":"VLOOKUP(B78&D78,'[1]점검현황(금월)'!$D$7:$AH$234,2,0)","v":"스튜디오"},{"$f":"VLOOKUP(B78&D78,'[1]점검현황(금월)'!$D$7:$AH$234,3,0)","v":"ㅡ"},{"$f":"VLOOKUP(B78&D78,'[1]점검현황(금월)'!$D$2:$AH$234,15,0)","v":0},{"$f":"VLOOKUP(B78&D78,'[1]점검현황(금월)'!$D$2:$AH$234,21,0)","v":"2012-09-21"},{"$f":"VLOOKUP(B78&D78,'[1]점검현황(금월)'!$D$7:$AH$234,24,0)","v":"2012-10-20"},{"$f":"VLOOKUP(B78&D78,'[1]점검현황(금월)'!$D$7:$AH$234,19,0)","v":613},{"$f":"VLOOKUP(B78&D78,'[1]점검현황(전월)'!$D$7:$AH$233,20,0)","v":"19:20:00"},{"$f":"VLOOKUP(B78&D78,'[1]점검현황(금월)'!$D$7:$AH$234,31,0)","v":"프로젝터 없음"},null,null,{"$f":"VLOOKUP(B78&D78,'[1]점검현황(금월)'!$D$7:$AH$234,23,0)","v":"."}]
[null,"성호관",26,332,{"$f":"VLOOKUP(B79&D79,'[1]점검현황(금월)'!$D$7:$AH$234,2,0)","v":"멀티미디어"},{"$f":"VLOOKUP(B79&D79,'[1]점검현황(금월)'!$D$7:$AH$234,3,0)","v":"XU106K"},{"$f":"VLOOKUP(B79&D79,'[1]점검현황(금월)'!$D$2:$AH$234,15,0)","v":"구"},{"$f":"VLOOKUP(B79&D79,'[1]점검현황(금월)'!$D$2:$AH$234,21,0)","v":"2013-02-21"},{"$f":"VLOOKUP(B79&D79,'[1]점검현황(금월)'!$D$7:$AH$234,24,0)","v":"2015-06-10"},{"$f":"VLOOKUP(B79&D79,'[1]점검현황(금월)'!$D$7:$AH$234,19,0)","v":613},{"$f":"VLOOKUP(B79&D79,'[1]점검현황(전월)'!$D$7:$AH$233,20,0)","v":613},{"$f":"VLOOKUP(B79&D79,'[1]점검현황(금월)'!$D$7:$AH$234,31,0)","v":2105},711,{"$f":"VLOOKUP(B79&D79,'[1]점검현황(전월)'!$D$7:$AH$233,18,0)","v":"08:50:00"},{"$f":"VLOOKUP(B79&D79,'[1]점검현황(금월)'!$D$7:$AH$234,23,0)","v":"2,10(2)"}]
[null,"성호관",27,333,{"$f":"VLOOKUP(B80&D80,'[1]점검현황(금월)'!$D$7:$AH$234,2,0)","v":"멀티미디어"},{"$f":"VLOOKUP(B80&D80,'[1]점검현황(금월)'!$D$7:$AH$234,3,0)","v":"XU106K"},{"$f":"VLOOKUP(B80&D80,'[1]점검현황(금월)'!$D$2:$AH$234,15,0)","v":"신"},{"$f":"VLOOKUP(B80&D80,'[1]점검현황(금월)'!$D$2:$AH$234,21,0)","v":"2014-04-12"},{"$f":"VLOOKUP(B80&D80,'[1]점검현황(금월)'!$D$7:$AH$234,24,0)","v":"2013-10-22"},{"$f":"VLOOKUP(B80&D80,'[1]점검현황(금월)'!$D$7:$AH$234,19,0)","v":613},{"$f":"VLOOKUP(B80&D80,'[1]점검현황(전월)'!$D$7:$AH$233,20,0)","v":"08:40:00"},{"$f":"VLOOKUP(B80&D80,'[1]점검현황(금월)'!$D$7:$AH$234,31,0)","v":1361},711,{"$f":"VLOOKUP(B80&D80,'[1]점검현황(전월)'!$D$7:$AH$233,18,0)","v":"19:00:00"},{"$f":"VLOOKUP(B80&D80,'[1]점검현황(금월)'!$D$7:$AH$234,23,0)","v":"."}]
[null,"성호관",28,334,{"$f":"VLOOKUP(B81&D81,'[1]점검현황(금월)'!$D$7:$AH$234,2,0)","v":"멀티미디어"},{"$f":"VLOOKUP(B81&D81,'[1]점검현황(금월)'!$D$7:$AH$234,3,0)","v":"VX410Z"},{"$f":"VLOOKUP(B81&D81,'[1]점검현황(금월)'!$D$2:$AH$234,15,0)","v":"e-ST"},{"$f":"VLOOKUP(B81&D81,'[1]점검현황(금월)'!$D$2:$AH$234,21,0)","v":"2014-05-20"},{"$f":"VLOOKUP(B81&D81,'[1]점검현황(금월)'!$D$7:$AH$234,24,0)","v":"2012-12-12"},{"$f":"VLOOKUP(B81&D81,'[1]점검현황(금월)'!$D$7:$AH$234,19,0)","v":613},{"$f":"VLOOKUP(B81&D81,'[1]점검현황(전월)'!$D$7:$AH$233,20,0)","v":"17:21:00"},{"$f":"VLOOKUP(B81&D81,'[1]점검현황(금월)'!$D$7:$AH$234,31,0)","v":246},711,{"$f":"VLOOKUP(B81&D81,'[1]점검현황(전월)'!$D$7:$AH$233,18,0)","v":"19:10:00"},{"$f":"VLOOKUP(B81&D81,'[1]점검현황(금월)'!$D$7:$AH$234,23,0)","v":"."}]
[null,"성호관",29,337,{"$f":"VLOOKUP(B82&D82,'[1]점검현황(금월)'!$D$7:$AH$234,2,0)","v":"물리학과"},{"$f":"VLOOKUP(B82&D82,'[1]점검현황(금월)'!$D$7:$AH$234,3,0)","v":"VX510EA"},{"$f":"VLOOKUP(B82&D82,'[1]점검현황(금월)'!$D$2:$AH$234,15,0)","v":"구"},{"$f":"VLOOKUP(B82&D82,'[1]점검현황(금월)'!$D$2:$AH$234,21,0)","v":"2013-08-01"},{"$f":"VLOOKUP(B82&D82,'[1]점검현황(금월)'!$D$7:$AH$234,24,0)","v":"·"},{"$f":"VLOOKUP(B82&D82,'[1]점검현황(금월)'!$D$7:$AH$234,19,0)","v":613},{"$f":"VLOOKUP(B82&D82,'[1]점검현황(전월)'!$D$7:$AH$233,20,0)","v":"19:00:00"},{"$f":"VLOOKUP(B82&D82,'[1]점검현황(금월)'!$D$7:$AH$234,31,0)","v":445},711,{"$f":"VLOOKUP(B82&D82,'[1]점검현황(전월)'!$D$7:$AH$233,18,0)","v":"19:20:00"},{"$f":"VLOOKUP(B82&D82,'[1]점검현황(금월)'!$D$7:$AH$234,23,0)","v":"."}]
[null,"성호관",30,339,{"$f":"VLOOKUP(B83&D83,'[1]점검현황(금월)'!$D$7:$AH$234,2,0)","v":"대학원"},{"$f":"VLOOKUP(B83&D83,'[1]점검현황(금월)'!$D$7:$AH$234,3,0)","v":"XU106K"},{"$f":"VLOOKUP(B83&D83,'[1]점검현황(금월)'!$D$2:$AH$234,15,0)","v":"구"},{"$f":"VLOOKUP(B83&D83,'[1]점검현황(금월)'!$D$2:$AH$234,21,0)","v":"·"},{"$f":"VLOOKUP(B83&D83,'[1]점검현황(금월)'!$D$7:$AH$234,24,0)","v":"·"},{"$f":"VLOOKUP(B83&D83,'[1]점검현황(금월)'!$D$7:$AH$234,19,0)","v":613},{"$f":"VLOOKUP(B83&D83,'[1]점검현황(전월)'!$D$7:$AH$233,20,0)","v":"19:10:00"},{"$f":"VLOOKUP(B83&D83,'[1]점검현황(금월)'!$D$7:$AH$234,31,0)","v":571},711,{"$f":"VLOOKUP(B83&D83,'[1]점검현황(전월)'!$D$7:$AH$233,18,0)","v":"09:00:00"},{"$f":"VLOOKUP(B83&D83,'[1]점검현황(금월)'!$D$7:$AH$234,23,0)","v":"."}]
["원천관","원천관",1,107,{"$f":"VLOOKUP(B84&D84,'[1]점검현황(금월)'!$D$7:$AH$234,2,0)","v":"전자공학"},{"$f":"VLOOKUP(B84&D84,'[1]점검현황(금월)'!$D$7:$AH$234,3,0)","v":"XT35K"},{"$f":"VLOOKUP(B84&D84,'[1]점검현황(금월)'!$D$2:$AH$234,15,0)","v":"자체"},{"$f":"VLOOKUP(B84&D84,'[1]점검현황(금월)'!$D$2:$AH$234,21,0)","v":"2013-08-14"},{"$f":"VLOOKUP(B84&D84,'[1]점검현황(금월)'!$D$7:$AH$234,24,0)","v":"·"},{"$f":"VLOOKUP(B84&D84,'[1]점검현황(금월)'!$D$7:$AH$234,19,0)","v":613},{"$f":"VLOOKUP(B84&D84,'[1]점검현황(전월)'!$D$7:$AH$233,20,0)","v":"19:20:00"},{"$f":"VLOOKUP(B84&D84,'[1]점검현황(금월)'!$D$7:$AH$234,31,0)","v":150},711,{"$f":"VLOOKUP(B84&D84,'[1]점검현황(전월)'!$D$7:$AH$233,18,0)","v":"09:10:00"},{"$f":"VLOOKUP(B84&D84,'[1]점검현황(금월)'!$D$7:$AH$234,23,0)","v":"."}]
[null,"원천관",2,228,{"$f":"VLOOKUP(B85&D85,'[1]점검현황(금월)'!$D$7:$AH$234,2,0)","v":"전자공학"},{"$f":"VLOOKUP(B85&D85,'[1]점검현황(금월)'!$D$7:$AH$234,3,0)","v":"XU106K"},{"$f":"VLOOKUP(B85&D85,'[1]점검현황(금월)'!$D$2:$AH$234,15,0)","v":0},{"$f":"VLOOKUP(B85&D85,'[1]점검현황(금월)'!$D$2:$AH$234,21,0)","v":"00:00:00"},{"$f":"VLOOKUP(B85&D85,'[1]점검현황(금월)'!$D$7:$AH$234,24,0)","v":"00:00:00"},{"$f":"VLOOKUP(B85&D85,'[1]점검현황(금월)'!$D$7:$AH$234,19,0)","v":613},{"$f":"VLOOKUP(B85&D85,'[1]점검현황(전월)'!$D$7:$AH$233,20,0)","v":"20:20:00"},{"$f":"VLOOKUP(B85&D85,'[1]점검현황(금월)'!$D$7:$AH$234,31,0)","v":609},711,{"$f":"VLOOKUP(B85&D85,'[1]점검현황(전월)'!$D$7:$AH$233,18,0)","v":"10:10:00"},{"$f":"VLOOKUP(B85&D85,'[1]점검현황(금월)'!$D$7:$AH$234,23,0)","v":"."}]
[null,"원천관",3,237,{"$f":"VLOOKUP(B86&D86,'[1]점검현황(금월)'!$D$7:$AH$234,2,0)","v":"생명과학"},{"$f":"VLOOKUP(B86&D86,'[1]점검현황(금월)'!$D$7:$AH$234,3,0)","v":"XT15KA"},{"$f":"VLOOKUP(B86&D86,'[1]점검현황(금월)'!$D$2:$AH$234,15,0)","v":"구"},{"$f":"VLOOKUP(B86&D86,'[1]점검현황(금월)'!$D$2:$AH$234,21,0)","v":"2015-06-09"},{"$f":"VLOOKUP(B86&D86,'[1]점검현황(금월)'!$D$7:$AH$234,24,0)","v":"2015-05-18"},{"$f":"VLOOKUP(B86&D86,'[1]점검현황(금월)'!$D$7:$AH$234,19,0)","v":613},{"$f":"VLOOKUP(B86&D86,'[1]점검현황(전월)'!$D$7:$AH$233,20,0)","v":"08:30:00"},{"$f":"VLOOKUP(B86&D86,'[1]점검현황(금월)'!$D$7:$AH$234,31,0)","v":0},711,{"$f":"VLOOKUP(B86&D86,'[1]점검현황(전월)'!$D$7:$AH$233,18,0)","v":"09:20:00"},{"$f":"VLOOKUP(B86&D86,'[1]점검현황(금월)'!$D$7:$AH$234,23,0)","v":"."}]
[null,"원천관",4,242,{"$f":"VLOOKUP(B87&D87,'[1]점검현황(금월)'!$D$7:$AH$234,2,0)","v":"대학원"},{"$f":"VLOOKUP(B87&D87,'[1]점검현황(금월)'!$D$7:$AH$234,3,0)","v":"XU301K"},{"$f":"VLOOKUP(B87&D87,'[1]점검현황(금월)'!$D$2:$AH$234,15,0)","v":"구"},{"$f":"VLOOKUP(B87&D87,'[1]점검현황(금월)'!$D$2:$AH$234,21,0)","v":"·"},{"$f":"VLOOKUP(B87&D87,'[1]점검현황(금월)'!$D$7:$AH$234,24,0)","v":"·"},{"$f":"VLOOKUP(B87&D87,'[1]점검현황(금월)'!$D$7:$AH$234,19,0)","v":613},{"$f":"VLOOKUP(B87&D87,'[1]점검현황(전월)'!$D$7:$AH$233,20,0)","v":"08:40:00"},{"$f":"VLOOKUP(B87&D87,'[1]점검현황(금월)'!$D$7:$AH$234,31,0)","v":295},711,{"$f":"VLOOKUP(B87&D87,'[1]점검현황(전월)'!$D$7:$AH$233,18,0)","v":"09:30:00"},{"$f":"VLOOKUP(B87&D87,'[1]점검현황(금월)'!$D$7:$AH$234,23,0)","v":"."}]
[null,"원천관",5,243,{"$f":"VLOOKUP(B88&D88,'[1]점검현황(금월)'!$D$7:$AH$234,2,0)","v":"대학원"},{"$f":"VLOOKUP(B88&D88,'[1]점검현황(금월)'!$D$7:$AH$234,3,0)","v":"XU301K"},{"$f":"VLOOKUP(B88&D88,'[1]점검현황(금월)'!$D$2:$AH$234,15,0)","v":"구"},{"$f":"VLOOKUP(B88&D88,'[1]점검현황(금월)'!$D$2:$AH$234,21,0)","v":"2015-05-12"},{"$f":"VLOOKUP(B88&D88,'[1]점검현황(금월)'!$D$7:$AH$234,24,0)","v":"·"},{"$f":"VLOOKUP(B88&D88,'[1]점검현황(금월)'!$D$7:$AH$234,19,0)","v":613},{"$f":"VLOOKUP(B88&D88,'[1]점검현황(전월)'!$D$7:$AH$233,20,0)","v":"08:50:00"},{"$f":"VLOOKUP(B88&D88,'[1]점검현황(금월)'!$D$7:$AH$234,31,0)","v":2398},711,{"$f":"VLOOKUP(B88&D88,'[1]점검현황(전월)'!$D$7:$AH$233,18,0)","v":"09:40:00"},{"$f":"VLOOKUP(B88&D88,'[1]점검현황(금월)'!$D$7:$AH$234,23,0)","v":"."}]
[null,"원천관",6,251,{"$f":"VLOOKUP(B89&D89,'[1]점검현황(금월)'!$D$7:$AH$234,2,0)","v":"강당"},{"$f":"VLOOKUP(B89&D89,'[1]점검현황(금월)'!$D$7:$AH$234,3,0)","v":"DVM-O70M"},{"$f":"VLOOKUP(B89&D89,'[1]점검현황(금월)'!$D$2:$AH$234,15,0)","v":"e-ST"},{"$f":"VLOOKUP(B89&D89,'[1]점검현황(금월)'!$D$2:$AH$234,21,0)","v":"·"},{"$f":"VLOOKUP(B89&D89,'[1]점검현황(금월)'!$D$7:$AH$234,24,0)","v":"·"},{"$f":"VLOOKUP(B89&D89,'[1]점검현황(금월)'!$D$7:$AH$234,19,0)","v":613},{"$f":"VLOOKUP(B89&D89,'[1]점검현황(전월)'!$D$7:$AH$233,20,0)","v":"19:29:00"},{"$f":"VLOOKUP(B89&D89,'[1]점검현황(금월)'!$D$7:$AH$234,31,0)","v":"4332/1331/1332/4331"},711,{"$f":"VLOOKUP(B89&D89,'[1]점검현황(전월)'!$D$7:$AH$233,18,0)","v":"09:50:00"},{"$f":"VLOOKUP(B89&D89,'[1]점검현황(금월)'!$D$7:$AH$234,23,0)","v":"."}]
[null,"원천관",7,317,{"$f":"VLOOKUP(B90&D90,'[1]점검현황(금월)'!$D$7:$AH$234,2,0)","v":"전자공학"},{"$f":"VLOOKUP(B90&D90,'[1]점검현황(금월)'!$D$7:$AH$234,3,0)","v":"XU106K"},{"$f":"VLOOKUP(B90&D90,'[1]점검현황(금월)'!$D$2:$AH$234,15,0)","v":"e-ST"},{"$f":"VLOOKUP(B90&D90,'[1]점검현황(금월)'!$D$2:$AH$234,21,0)","v":"·"},{"$f":"VLOOKUP(B90&D90,'[1]점검현황(금월)'!$D$7:$AH$234,24,0)","v":"·"},{"$f":"VLOOKUP(B90&D90,'[1]점검현황(금월)'!$D$7:$AH$234,19,0)","v":613},{"$f":"VLOOKUP(B90&D90,'[1]점검현황(전월)'!$D$7:$AH$233,20,0)","v":"19:10:00"},{"$f":"VLOOKUP(B90&D90,'[1]점검현황(금월)'!$D$7:$AH$234,31,0)","v":2316},711,{"$f":"VLOOKUP(B90&D90,'[1]점검현황(전월)'!$D$7:$AH$233,18,0)","v":"10:00:00"},{"$f":"VLOOKUP(B90&D90,'[1]점검현황(금월)'!$D$7:$AH$234,23,0)","v":"."}]
[null,"원천관",8,318,{"$f":"VLOOKUP(B91&D91,'[1]점검현황(금월)'!$D$7:$AH$234,2,0)","v":"전자공학"},{"$f":"VLOOKUP(B91&D91,'[1]점검현황(금월)'!$D$7:$AH$234,3,0)","v":"XU105K"},{"$f":"VLOOKUP(B91&D91,'[1]점검현황(금월)'!$D$2:$AH$234,15,0)","v":"e-ST"},{"$f":"VLOOKUP(B91&D91,'[1]점검현황(금월)'!$D$2:$AH$234,21,0)","v":"2010-12-27"},{"$f":"VLOOKUP(B91&D91,'[1]점검현황(금월)'!$D$7:$AH$234,24,0)","v":"2015-06-18"},{"$f":"VLOOKUP(B91&D91,'[1]점검현황(금월)'!$D$7:$AH$234,19,0)","v":613},{"$f":"VLOOKUP(B91&D91,'[1]점검현황(전월)'!$D$7:$AH$233,20,0)","v":"19:20:00"},{"$f":"VLOOKUP(B91&D91,'[1]점검현황(금월)'!$D$7:$AH$234,31,0)","v":712},711,{"$f":"VLOOKUP(B91&D91,'[1]점검현황(전월)'!$D$7:$AH$233,18,0)","v":"10:10:00"},{"$f":"VLOOKUP(B91&D91,'[1]점검현황(금월)'!$D$7:$AH$234,23,0)","v":"8,"}]
[null,"원천관",9,333,{"$f":"VLOOKUP(B92&D92,'[1]점검현황(금월)'!$D$7:$AH$234,2,0)","v":"전자공학"},{"$f":"VLOOKUP(B92&D92,'[1]점검현황(금월)'!$D$7:$AH$234,3,0)","v":"XU105K"},{"$f":"VLOOKUP(B92&D92,'[1]점검현황(금월)'!$D$2:$AH$234,15,0)","v":"자체"},{"$f":"VLOOKUP(B92&D92,'[1]점검현황(금월)'!$D$2:$AH$234,21,0)","v":"00:00:00"},{"$f":"VLOOKUP(B92&D92,'[1]점검현황(금월)'!$D$7:$AH$234,24,0)","v":"00:00:00"},{"$f":"VLOOKUP(B92&D92,'[1]점검현황(금월)'!$D$7:$AH$234,19,0)","v":613},{"$f":"VLOOKUP(B92&D92,'[1]점검현황(전월)'!$D$7:$AH$233,20,0)","v":"20:20:00"},{"$f":"VLOOKUP(B92&D92,'[1]점검현황(금월)'!$D$7:$AH$234,31,0)","v":555},711,{"$f":"VLOOKUP(B92&D92,'[1]점검현황(전월)'!$D$7:$AH$233,18,0)","v":"11:10:00"},{"$f":"VLOOKUP(B92&D92,'[1]점검현황(금월)'!$D$7:$AH$234,23,0)","v":"."}]
[null,"원천관",10,334,{"$f":"VLOOKUP(B93&D93,'[1]점검현황(금월)'!$D$7:$AH$234,2,0)","v":"전자공학"},{"$f":"VLOOKUP(B93&D93,'[1]점검현황(금월)'!$D$7:$AH$234,3,0)","v":"XU106K"},{"$f":"VLOOKUP(B93&D93,'[1]점검현황(금월)'!$D$2:$AH$234,15,0)","v":"자체"},{"$f":"VLOOKUP(B93&D93,'[1]점검현황(금월)'!$D$2:$AH$234,21,0)","v":"·"},{"$f":"VLOOKUP(B93&D93,'[1]점검현황(금월)'!$D$7:$AH$234,24,0)","v":"2014-11-19"},{"$f":"VLOOKUP(B93&D93,'[1]점검현황(금월)'!$D$7:$AH$234,19,0)","v":613},{"$f":"VLOOKUP(B93&D93,'[1]점검현황(전월)'!$D$7:$AH$233,20,0)","v":"09:00:00"},{"$f":"VLOOKUP(B93&D93,'[1]점검현황(금월)'!$D$7:$AH$234,31,0)","v":1245},711,{"$f":"VLOOKUP(B93&D93,'[1]점검현황(전월)'!$D$7:$AH$233,18,0)","v":"10:20:00"},{"$f":"VLOOKUP(B93&D93,'[1]점검현황(금월)'!$D$7:$AH$234,23,0)","v":"3,"}]
[null,"원천관",11,340,{"$f":"VLOOKUP(B94&D94,'[1]점검현황(금월)'!$D$7:$AH$234,2,0)","v":"전자공학"},{"$f":"VLOOKUP(B94&D94,'[1]점검현황(금월)'!$D$7:$AH$234,3,0)","v":"XM100L"},{"$f":"VLOOKUP(B94&D94,'[1]점검현황(금월)'!$D$2:$AH$234,15,0)","v":"자체"},{"$f":"VLOOKUP(B94&D94,'[1]점검현황(금월)'!$D$2:$AH$234,21,0)","v":"2015-06-10"},{"$f":"VLOOKUP(B94&D94,'[1]점검현황(금월)'!$D$7:$AH$234,24,0)","v":"·"},{"$f":"VLOOKUP(B94&D94,'[1]점검현황(금월)'!$D$7:$AH$234,19,0)","v":615},{"$f":"VLOOKUP(B94&D94,'[1]점검현황(전월)'!$D$7:$AH$233,20,0)","v":"09:05:00"},{"$f":"VLOOKUP(B94&D94,'[1]점검현황(금월)'!$D$7:$AH$234,31,0)","v":6},713,{"$f":"VLOOKUP(B94&D94,'[1]점검현황(전월)'!$D$7:$AH$233,18,0)","v":"10:30:00"},{"$f":"VLOOKUP(B94&D94,'[1]점검현황(금월)'!$D$7:$AH$234,23,0)","v":"10,"}]
[null,"원천관",12,502,{"$f":"VLOOKUP(B95&D95,'[1]점검현황(금월)'!$D$7:$AH$234,2,0)","v":"물리학과"},{"$f":"VLOOKUP(B95&D95,'[1]점검현황(금월)'!$D$7:$AH$234,3,0)","v":"XU106K"},{"$f":"VLOOKUP(B95&D95,'[1]점검현황(금월)'!$D$2:$AH$234,15,0)","v":"자체"},{"$f":"VLOOKUP(B95&D95,'[1]점검현황(금월)'!$D$2:$AH$234,21,0)","v":"·"},{"$f":"VLOOKUP(B95&D95,'[1]점검현황(금월)'!$D$7:$AH$234,24,0)","v":"·"},{"$f":"VLOOKUP(B95&D95,'[1]점검현황(금월)'!$D$7:$AH$234,19,0)","v":615},{"$f":"VLOOKUP(B95&D95,'[1]점검현황(전월)'!$D$7:$AH$233,20,0)","v":"09:10:00"},{"$f":"VLOOKUP(B95&D95,'[1]점검현황(금월)'!$D$7:$AH$234,31,0)","v":161},713,{"$f":"VLOOKUP(B95&D95,'[1]점검현황(전월)'!$D$7:$AH$233,18,0)","v":"10:40:00"},{"$f":"VLOOKUP(B95&D95,'[1]점검현황(금월)'!$D$7:$AH$234,23,0)","v":"."}]
[null,"원천관",13,503,{"$f":"VLOOKUP(B96&D96,'[1]점검현황(금월)'!$D$7:$AH$234,2,0)","v":"물리학과"},{"$f":"VLOOKUP(B96&D96,'[1]점검현황(금월)'!$D$7:$AH$234,3,0)","v":"XU106K"},{"$f":"VLOOKUP(B96&D96,'[1]점검현황(금월)'!$D$2:$AH$234,15,0)","v":"자체"},{"$f":"VLOOKUP(B96&D96,'[1]점검현황(금월)'!$D$2:$AH$234,21,0)","v":"·"},{"$f":"VLOOKUP(B96&D96,'[1]점검현황(금월)'!$D$7:$AH$234,24,0)","v":"·"},{"$f":"VLOOKUP(B96&D96,'[1]점검현황(금월)'!$D$7:$AH$234,19,0)","v":615},{"$f":"VLOOKUP(B96&D96,'[1]점검현황(전월)'!$D$7:$AH$233,20,0)","v":"09:15:00"},{"$f":"VLOOKUP(B96&D96,'[1]점검현황(금월)'!$D$7:$AH$234,31,0)","v":470},713,{"$f":"VLOOKUP(B96&D96,'[1]점검현황(전월)'!$D$7:$AH$233,18,0)","v":"10:50:00"},{"$f":"VLOOKUP(B96&D96,'[1]점검현황(금월)'!$D$7:$AH$234,23,0)","v":"."}]
[null,"원천관",14,504,{"$f":"VLOOKUP(B97&D97,'[1]점검현황(금월)'!$D$7:$AH$234,2,0)","v":"물리학과"},{"$f":"VLOOKUP(B97&D97,'[1]점검현황(금월)'!$D$7:$AH$234,3,0)","v":"XU106K"},{"$f":"VLOOKUP(B97&D97,'[1]점검현황(금월)'!$D$2:$AH$234,15,0)","v":"자체"},{"$f":"VLOOKUP(B97&D97,'[1]점검현황(금월)'!$D$2:$AH$234,21,0)","v":"·"},{"$f":"VLOOKUP(B97&D97,'[1]점검현황(금월)'!$D$7:$AH$234,24,0)","v":"·"},{"$f":"VLOOKUP(B97&D97,'[1]점검현황(금월)'!$D$7:$AH$234,19,0)","v":615},{"$f":"VLOOKUP(B97&D97,'[1]점검현황(전월)'!$D$7:$AH$233,20,0)","v":"09:20:00"},{"$f":"VLOOKUP(B97&D97,'[1]점검현황(금월)'!$D$7:$AH$234,31,0)","v":220},713,{"$f":"VLOOKUP(B97&D97,'[1]점검현황(전월)'!$D$7:$AH$233,18,0)","v":"11:00:00"},{"$f":"VLOOKUP(B97&D97,'[1]점검현황(금월)'!$D$7:$AH$234,23,0)","v":"."}]
[null,"원천관",15,505,{"$f":"VLOOKUP(B98&D98,'[1]점검현황(금월)'!$D$7:$AH$234,2,0)","v":"물리학과"},{"$f":"VLOOKUP(B98&D98,'[1]점검현황(금월)'!$D$7:$AH$234,3,0)","v":"XU106K"},{"$f":"VLOOKUP(B98&D98,'[1]점검현황(금월)'!$D$2:$AH$234,15,0)","v":"자체"},{"$f":"VLOOKUP(B98&D98,'[1]점검현황(금월)'!$D$2:$AH$234,21,0)","v":"·"},{"$f":"VLOOKUP(B98&D98,'[1]점검현황(금월)'!$D$7:$AH$234,24,0)","v":"·"},{"$f":"VLOOKUP(B98&D98,'[1]점검현황(금월)'!$D$7:$AH$234,19,0)","v":615},{"$f":"VLOOKUP(B98&D98,'[1]점검현황(전월)'!$D$7:$AH$233,20,0)","v":"09:25:00"},{"$f":"VLOOKUP(B98&D98,'[1]점검현황(금월)'!$D$7:$AH$234,31,0)","v":302},713,{"$f":"VLOOKUP(B98&D98,'[1]점검현황(전월)'!$D$7:$AH$233,18,0)","v":"11:10:00"},{"$f":"VLOOKUP(B98&D98,'[1]점검현황(금월)'!$D$7:$AH$234,23,0)","v":"."}]
[null,"원천관",16,506,{"$f":"VLOOKUP(B99&D99,'[1]점검현황(금월)'!$D$7:$AH$234,2,0)","v":"물리학과"},{"$f":"VLOOKUP(B99&D99,'[1]점검현황(금월)'!$D$7:$AH$234,3,0)","v":"XU106K"},{"$f":"VLOOKUP(B99&D99,'[1]점검현황(금월)'!$D$2:$AH$234,15,0)","v":"자체"},{"$f":"VLOOKUP(B99&D99,'[1]점검현황(금월)'!$D$2:$AH$234,21,0)","v":"·"},{"$f":"VLOOKUP(B99&D99,'[1]점검현황(금월)'!$D$7:$AH$234,24,0)","v":"·"},{"$f":"VLOOKUP(B99&D99,'[1]점검현황(금월)'!$D$7:$AH$234,19,0)","v":615},{"$f":"VLOOKUP(B99&D99,'[1]점검현황(전월)'!$D$7:$AH$233,20,0)","v":"09:30:00"},{"$f":"VLOOKUP(B99&D99,'[1]점검현황(금월)'!$D$7:$AH$234,31,0)","v":594},713,{"$f":"VLOOKUP(B99&D99,'[1]점검현황(전월)'!$D$7:$AH$233,18,0)","v":"11:20:00"},{"$f":"VLOOKUP(B99&D99,'[1]점검현황(금월)'!$D$7:$AH$234,23,0)","v":"."}]
[null,"원천관",17,507,{"$f":"VLOOKUP(B100&D100,'[1]점검현황(금월)'!$D$7:$AH$234,2,0)","v":"화학과"},{"$f":"VLOOKUP(B100&D100,'[1]점검현황(금월)'!$D$7:$AH$234,3,0)","v":"XU106K"},{"$f":"VLOOKUP(B100&D100,'[1]점검현황(금월)'!$D$2:$AH$234,15,0)","v":"구"},{"$f":"VLOOKUP(B100&D100,'[1]점검현황(금월)'!$D$2:$AH$234,21,0)","v":"2012-09-21"},{"$f":"VLOOKUP(B100&D100,'[1]점검현황(금월)'!$D$7:$AH$234,24,0)","v":"·"},{"$f":"VLOOKUP(B100&D100,'[1]점검현황(금월)'!$D$7:$AH$234,19,0)","v":615},{"$f":"VLOOKUP(B100&D100,'[1]점검현황(전월)'!$D$7:$AH$233,20,0)","v":"09:35:00"},{"$f":"VLOOKUP(B100&D100,'[1]점검현황(금월)'!$D$7:$AH$234,31,0)","v":1357},713,{"$f":"VLOOKUP(B100&D100,'[1]점검현황(전월)'!$D$7:$AH$233,18,0)","v":"11:30:00"},{"$f":"VLOOKUP(B100&D100,'[1]점검현황(금월)'!$D$7:$AH$234,23,0)","v":"."}]
[null,"원천관",18,508,{"$f":"VLOOKUP(B101&D101,'[1]점검현황(금월)'!$D$7:$AH$234,2,0)","v":"전자공학"},{"$f":"VLOOKUP(B101&D101,'[1]점검현황(금월)'!$D$7:$AH$234,3,0)","v":"XU106K"},{"$f":"VLOOKUP(B101&D101,'[1]점검현황(금월)'!$D$2:$AH$234,15,0)","v":"e-ST"},{"$f":"VLOOKUP(B101&D101,'[1]점검현황(금월)'!$D$2:$AH$234,21,0)","v":"2014-07-10"},{"$f":"VLOOKUP(B101&D101,'[1]점검현황(금월)'!$D$7:$AH$234,24,0)","v":"·"},{"$f":"VLOOKUP(B101&D101,'[1]점검현황(금월)'!$D$7:$AH$234,19,0)","v":516},{"$f":"VLOOKUP(B101&D101,'[1]점검현황(전월)'!$D$7:$AH$233,20,0)","v":"09:40:00"},{"$f":"VLOOKUP(B101&D101,'[1]점검현황(금월)'!$D$7:$AH$234,31,0)","v":389},714,{"$f":"VLOOKUP(B101&D101,'[1]점검현황(전월)'!$D$7:$AH$233,18,0)","v":"11:40:00"},{"$f":"VLOOKUP(B101&D101,'[1]점검현황(금월)'!$D$7:$AH$234,23,0)","v":"."}]
[null,"원천관",19,509,{"$f":"VLOOKUP(B102&D102,'[1]점검현황(금월)'!$D$7:$AH$234,2,0)","v":"전자공학"},{"$f":"VLOOKUP(B102&D102,'[1]점검현황(금월)'!$D$7:$AH$234,3,0)","v":"XU106K"},{"$f":"VLOOKUP(B102&D102,'[1]점검현황(금월)'!$D$2:$AH$234,15,0)","v":"e-ST"},{"$f":"VLOOKUP(B102&D102,'[1]점검현황(금월)'!$D$2:$AH$234,21,0)","v":"2011-09-08"},{"$f":"VLOOKUP(B102&D102,'[1]점검현황(금월)'!$D$7:$AH$234,24,0)","v":"·"},{"$f":"VLOOKUP(B102&D102,'[1]점검현황(금월)'!$D$7:$AH$234,19,0)","v":516},{"$f":"VLOOKUP(B102&D102,'[1]점검현황(전월)'!$D$7:$AH$233,20,0)","v":"17:35:00"},{"$f":"VLOOKUP(B102&D102,'[1]점검현황(금월)'!$D$7:$AH$234,31,0)","v":564},714,{"$f":"VLOOKUP(B102&D102,'[1]점검현황(전월)'!$D$7:$AH$233,18,0)","v":"11:50:00"},{"$f":"VLOOKUP(B102&D102,'[1]점검현황(금월)'!$D$7:$AH$234,23,0)","v":"."}]
[null,"원천관",20,"534-2",{"$f":"VLOOKUP(B103&D103,'[1]점검현황(금월)'!$D$7:$AH$234,2,0)","v":"생명과학"},{"$f":"VLOOKUP(B103&D103,'[1]점검현황(금월)'!$D$7:$AH$234,3,0)","v":"XU106K"},{"$f":"VLOOKUP(B103&D103,'[1]점검현황(금월)'!$D$2:$AH$234,15,0)","v":"구"},{"$f":"VLOOKUP(B103&D103,'[1]점검현황(금월)'!$D$2:$AH$234,21,0)","v":"2015-05-29"},{"$f":"VLOOKUP(B103&D103,'[1]점검현황(금월)'!$D$7:$AH$234,24,0)","v":"·"},{"$f":"VLOOKUP(B103&D103,'[1]점검현황(금월)'!$D$7:$AH$234,19,0)","v":516},{"$f":"VLOOKUP(B103&D103,'[1]점검현황(전월)'!$D$7:$AH$233,20,0)","v":"09:50:00"},{"$f":"VLOOKUP(B103&D103,'[1]점검현황(금월)'!$D$7:$AH$234,31,0)","v":43},714,{"$f":"VLOOKUP(B103&D103,'[1]점검현황(전월)'!$D$7:$AH$233,18,0)","v":"12:00:00"},{"$f":"VLOOKUP(B103&D103,'[1]점검현황(금월)'!$D$7:$AH$234,23,0)","v":"."}]
[null,"원천관",21,535,{"$f":"VLOOKUP(B104&D104,'[1]점검현황(금월)'!$D$7:$AH$234,2,0)","v":"전자공학"},{"$f":"VLOOKUP(B104&D104,'[1]점검현황(금월)'!$D$7:$AH$234,3,0)","v":"XM150K / XM150K"},{"$f":"VLOOKUP(B104&D104,'[1]점검현황(금월)'!$D$2:$AH$234,15,0)","v":"e-ST"},{"$f":"VLOOKUP(B104&D104,'[1]점검현황(금월)'!$D$2:$AH$234,21,0)","v":"2015-05-29/2013-01-04"},{"$f":"VLOOKUP(B104&D104,'[1]점검현황(금월)'!$D$7:$AH$234,24,0)","v":"·"},{"$f":"VLOOKUP(B104&D104,'[1]점검현황(금월)'!$D$7:$AH$234,19,0)","v":516},{"$f":"VLOOKUP(B104&D104,'[1]점검현황(전월)'!$D$7:$AH$233,20,0)","v":"10:00:00"},{"$f":"VLOOKUP(B104&D104,'[1]점검현황(금월)'!$D$7:$AH$234,31,0)","v":"865/60"},714,{"$f":"VLOOKUP(B104&D104,'[1]점검현황(전월)'!$D$7:$AH$233,18,0)","v":"13:00:00"},{"$f":"VLOOKUP(B104&D104,'[1]점검현황(금월)'!$D$7:$AH$234,23,0)","v":"."}]
[null,"원천관",22,537,{"$f":"VLOOKUP(B105&D105,'[1]점검현황(금월)'!$D$7:$AH$234,2,0)","v":"전자공학"},{"$f":"VLOOKUP(B105&D105,'[1]점검현황(금월)'!$D$7:$AH$234,3,0)","v":"VX410Z"},{"$f":"VLOOKUP(B105&D105,'[1]점검현황(금월)'!$D$2:$AH$234,15,0)","v":"자체"},{"$f":"VLOOKUP(B105&D105,'[1]점검현황(금월)'!$D$2:$AH$234,21,0)","v":"2015-04-15"},{"$f":"VLOOKUP(B105&D105,'[1]점검현황(금월)'!$D$7:$AH$234,24,0)","v":"·"},{"$f":"VLOOKUP(B105&D105,'[1]점검현황(금월)'!$D$7:$AH$234,19,0)","v":516},{"$f":"VLOOKUP(B105&D105,'[1]점검현황(전월)'!$D$7:$AH$233,20,0)","v":"10:10:00"},{"$f":"VLOOKUP(B105&D105,'[1]점검현황(금월)'!$D$7:$AH$234,31,0)","v":27},714,{"$f":"VLOOKUP(B105&D105,'[1]점검현황(전월)'!$D$7:$AH$233,18,0)","v":"13:10:00"},{"$f":"VLOOKUP(B105&D105,'[1]점검현황(금월)'!$D$7:$AH$234,23,0)","v":"."}]
[null,"원천관",23,539,{"$f":"VLOOKUP(B106&D106,'[1]점검현황(금월)'!$D$7:$AH$234,2,0)","v":"전자공학"},{"$f":"VLOOKUP(B106&D106,'[1]점검현황(금월)'!$D$7:$AH$234,3,0)","v":"XU100K"},{"$f":"VLOOKUP(B106&D106,'[1]점검현황(금월)'!$D$2:$AH$234,15,0)","v":"자체"},{"$f":"VLOOKUP(B106&D106,'[1]점검현황(금월)'!$D$2:$AH$234,21,0)","v":"·"},{"$f":"VLOOKUP(B106&D106,'[1]점검현황(금월)'!$D$7:$AH$234,24,0)","v":"·"},{"$f":"VLOOKUP(B106&D106,'[1]점검현황(금월)'!$D$7:$AH$234,19,0)","v":516},{"$f":"VLOOKUP(B106&D106,'[1]점검현황(전월)'!$D$7:$AH$233,20,0)","v":"10:20:00"},{"$f":"VLOOKUP(B106&D106,'[1]점검현황(금월)'!$D$7:$AH$234,31,0)","v":500},714,{"$f":"VLOOKUP(B106&D106,'[1]점검현황(전월)'!$D$7:$AH$233,18,0)","v":"13:20:00"},{"$f":"VLOOKUP(B106&D106,'[1]점검현황(금월)'!$D$7:$AH$234,23,0)","v":"."}]
[null,"원천관",24,540,{"$f":"VLOOKUP(B107&D107,'[1]점검현황(금월)'!$D$7:$AH$234,2,0)","v":"PC실"},{"$f":"VLOOKUP(B107&D107,'[1]점검현황(금월)'!$D$7:$AH$234,3,0)","v":"XU106K"},{"$f":"VLOOKUP(B107&D107,'[1]점검현황(금월)'!$D$2:$AH$234,15,0)","v":"구"},{"$f":"VLOOKUP(B107&D107,'[1]점검현황(금월)'!$D$2:$AH$234,21,0)","v":"2013-02-22"},{"$f":"VLOOKUP(B107&D107,'[1]점검현황(금월)'!$D$7:$AH$234,24,0)","v":"2013-04-29"},{"$f":"VLOOKUP(B107&D107,'[1]점검현황(금월)'!$D$7:$AH$234,19,0)","v":516},{"$f":"VLOOKUP(B107&D107,'[1]점검현황(전월)'!$D$7:$AH$233,20,0)","v":"18:00:00"},{"$f":"VLOOKUP(B107&D107,'[1]점검현황(금월)'!$D$7:$AH$234,31,0)","v":1452},714,{"$f":"VLOOKUP(B107&D107,'[1]점검현황(전월)'!$D$7:$AH$233,18,0)","v":"13:30:00"},{"$f":"VLOOKUP(B107&D107,'[1]점검현황(금월)'!$D$7:$AH$234,23,0)","v":"."}]
["서관","서관",1,107,{"$f":"VLOOKUP(B108&D108,'[1]점검현황(금월)'!$D$7:$AH$234,2,0)","v":"멀티미디어"},{"$f":"VLOOKUP(B108&D108,'[1]점검현황(금월)'!$D$7:$AH$234,3,0)","v":"XT35K"},{"$f":"VLOOKUP(B108&D108,'[1]점검현황(금월)'!$D$2:$AH$234,15,0)","v":"e-ST"},{"$f":"VLOOKUP(B108&D108,'[1]점검현황(금월)'!$D$2:$AH$234,21,0)","v":"2015-02-28"},{"$f":"VLOOKUP(B108&D108,'[1]점검현황(금월)'!$D$7:$AH$234,24,0)","v":"2013-12-21"},{"$f":"VLOOKUP(B108&D108,'[1]점검현황(금월)'!$D$7:$AH$234,19,0)","v":627},{"$f":"VLOOKUP(B108&D108,'[1]점검현황(전월)'!$D$7:$AH$233,20,0)","v":"10:40:00"},{"$f":"VLOOKUP(B108&D108,'[1]점검현황(금월)'!$D$7:$AH$234,31,0)","v":1532},715,{"$f":"VLOOKUP(B108&D108,'[1]점검현황(전월)'!$D$7:$AH$233,18,0)","v":"13:40:00"},{"$f":"VLOOKUP(B108&D108,'[1]점검현황(금월)'!$D$7:$AH$234,23,0)","v":"27,"}]
[null,"서관",2,135,{"$f":"VLOOKUP(B109&D109,'[1]점검현황(금월)'!$D$7:$AH$234,2,0)","v":"기계공학전공강의실"},{"$f":"VLOOKUP(B109&D109,'[1]점검현황(금월)'!$D$7:$AH$234,3,0)","v":"XT35K"},{"$f":"VLOOKUP(B109&D109,'[1]점검현황(금월)'!$D$2:$AH$234,15,0)","v":"e-ST"},{"$f":"VLOOKUP(B109&D109,'[1]점검현황(금월)'!$D$2:$AH$234,21,0)","v":"2014-03-07"},{"$f":"VLOOKUP(B109&D109,'[1]점검현황(금월)'!$D$7:$AH$234,24,0)","v":"2014-03-07"},{"$f":"VLOOKUP(B109&D109,'[1]점검현황(금월)'!$D$7:$AH$234,19,0)","v":617},{"$f":"VLOOKUP(B109&D109,'[1]점검현황(전월)'!$D$7:$AH$233,20,0)","v":"10:50:00"},{"$f":"VLOOKUP(B109&D109,'[1]점검현황(금월)'!$D$7:$AH$234,31,0)","v":557},715,{"$f":"VLOOKUP(B109&D109,'[1]점검현황(전월)'!$D$7:$AH$233,18,0)","v":"08:30:00"},{"$f":"VLOOKUP(B109&D109,'[1]점검현황(금월)'!$D$7:$AH$234,23,0)","v":"."}]
[null,"서관",3,239,{"$f":"VLOOKUP(B110&D110,'[1]점검현황(금월)'!$D$7:$AH$234,2,0)","v":"환경공학"},{"$f":"VLOOKUP(B110&D110,'[1]점검현황(금월)'!$D$7:$AH$234,3,0)","v":"XU106K"},{"$f":"VLOOKUP(B110&D110,'[1]점검현황(금월)'!$D$2:$AH$234,15,0)","v":"구"},{"$f":"VLOOKUP(B110&D110,'[1]점검현황(금월)'!$D$2:$AH$234,21,0)","v":"2013-03-13"},{"$f":"VLOOKUP(B110&D110,'[1]점검현황(금월)'!$D$7:$AH$234,24,0)","v":"2012-07-14"},{"$f":"VLOOKUP(B110&D110,'[1]점검현황(금월)'!$D$7:$AH$234,19,0)","v":617},{"$f":"VLOOKUP(B110&D110,'[1]점검현황(전월)'!$D$7:$AH$233,20,0)","v":"11:00:00"},{"$f":"VLOOKUP(B110&D110,'[1]점검현황(금월)'!$D$7:$AH$234,31,0)","v":1323},715,{"$f":"VLOOKUP(B110&D110,'[1]점검현황(전월)'!$D$7:$AH$233,18,0)","v":"08:40:00"},{"$f":"VLOOKUP(B110&D110,'[1]점검현황(금월)'!$D$7:$AH$234,23,0)","v":"."}]
[null,"서관",4,302,{"$f":"VLOOKUP(B111&D111,'[1]점검현황(금월)'!$D$7:$AH$234,2,0)","v":"대학원"},{"$f":"VLOOKUP(B111&D111,'[1]점검현황(금월)'!$D$7:$AH$234,3,0)","v":"XU106K"},{"$f":"VLOOKUP(B111&D111,'[1]점검현황(금월)'!$D$2:$AH$234,15,0)","v":"구"},{"$f":"VLOOKUP(B111&D111,'[1]점검현황(금월)'!$D$2:$AH$234,21,0)","v":"·"},{"$f":"VLOOKUP(B111&D111,'[1]점검현황(금월)'!$D$7:$AH$234,24,0)","v":"2015-05-18"},{"$f":"VLOOKUP(B111&D111,'[1]점검현황(금월)'!$D$7:$AH$234,19,0)","v":617},{"$f":"VLOOKUP(B111&D111,'[1]점검현황(전월)'!$D$7:$AH$233,20,0)","v":"11:10:00"},{"$f":"VLOOKUP(B111&D111,'[1]점검현황(금월)'!$D$7:$AH$234,31,0)","v":2178},715,{"$f":"VLOOKUP(B111&D111,'[1]점검현황(전월)'!$D$7:$AH$233,18,0)","v":"08:50:00"},{"$f":"VLOOKUP(B111&D111,'[1]점검현황(금월)'!$D$7:$AH$234,23,0)","v":"."}]
[null,"서관",5,303,{"$f":"VLOOKUP(B112&D112,'[1]점검현황(금월)'!$D$7:$AH$234,2,0)","v":"화학공학"},{"$f":"VLOOKUP(B112&D112,'[1]점검현황(금월)'!$D$7:$AH$234,3,0)","v":"XT35K"},{"$f":"VLOOKUP(B112&D112,'[1]점검현황(금월)'!$D$2:$AH$234,15,0)","v":"구"},{"$f":"VLOOKUP(B112&D112,'[1]점검현황(금월)'!$D$2:$AH$234,21,0)","v":"2014-04-21"},{"$f":"VLOOKUP(B112&D112,'[1]점검현황(금월)'!$D$7:$AH$234,24,0)","v":"·"},{"$f":"VLOOKUP(B112&D112,'[1]점검현황(금월)'!$D$7:$AH$234,19,0)","v":629},{"$f":"VLOOKUP(B112&D112,'[1]점검현황(전월)'!$D$7:$AH$233,20,0)","v":"11:20:00"},{"$f":"VLOOKUP(B112&D112,'[1]점검현황(금월)'!$D$7:$AH$234,31,0)","v":222},715,{"$f":"VLOOKUP(B112&D112,'[1]점검현황(전월)'!$D$7:$AH$233,18,0)","v":"19:00:00"},{"$f":"VLOOKUP(B112&D112,'[1]점검현황(금월)'!$D$7:$AH$234,23,0)","v":"29,"}]
[null,"서관",6,307,{"$f":"VLOOKUP(B113&D113,'[1]점검현황(금월)'!$D$7:$AH$234,2,0)","v":"기계공학"},{"$f":"VLOOKUP(B113&D113,'[1]점검현황(금월)'!$D$7:$AH$234,3,0)","v":"XU106K"},{"$f":"VLOOKUP(B113&D113,'[1]점검현황(금월)'!$D$2:$AH$234,15,0)","v":"e-ST"},{"$f":"VLOOKUP(B113&D113,'[1]점검현황(금월)'!$D$2:$AH$234,21,0)","v":"·"},{"$f":"VLOOKUP(B113&D113,'[1]점검현황(금월)'!$D$7:$AH$234,24,0)","v":"·"},{"$f":"VLOOKUP(B113&D113,'[1]점검현황(금월)'!$D$7:$AH$234,19,0)","v":617},{"$f":"VLOOKUP(B113&D113,'[1]점검현황(전월)'!$D$7:$AH$233,20,0)","v":"11:30:00"},{"$f":"VLOOKUP(B113&D113,'[1]점검현황(금월)'!$D$7:$AH$234,31,0)","v":2024},715,{"$f":"VLOOKUP(B113&D113,'[1]점검현황(전월)'!$D$7:$AH$233,18,0)","v":"19:10:00"},{"$f":"VLOOKUP(B113&D113,'[1]점검현황(금월)'!$D$7:$AH$234,23,0)","v":"17,"}]
[null,"서관",7,331,{"$f":"VLOOKUP(B114&D114,'[1]점검현황(금월)'!$D$7:$AH$234,2,0)","v":"멀티미디어"},{"$f":"VLOOKUP(B114&D114,'[1]점검현황(금월)'!$D$7:$AH$234,3,0)","v":"XU106K"},{"$f":"VLOOKUP(B114&D114,'[1]점검현황(금월)'!$D$2:$AH$234,15,0)","v":"e-ST"},{"$f":"VLOOKUP(B114&D114,'[1]점검현황(금월)'!$D$2:$AH$234,21,0)","v":"2015-05-15"},{"$f":"VLOOKUP(B114&D114,'[1]점검현황(금월)'!$D$7:$AH$234,24,0)","v":"2014-07-12"},{"$f":"VLOOKUP(B114&D114,'[1]점검현황(금월)'!$D$7:$AH$234,19,0)","v":625},{"$f":"VLOOKUP(B114&D114,'[1]점검현황(전월)'!$D$7:$AH$233,20,0)","v":"17:41:00"},{"$f":"VLOOKUP(B114&D114,'[1]점검현황(금월)'!$D$7:$AH$234,31,0)","v":80},715,{"$f":"VLOOKUP(B114&D114,'[1]점검현황(전월)'!$D$7:$AH$233,18,0)","v":"19:20:00"},{"$f":"VLOOKUP(B114&D114,'[1]점검현황(금월)'!$D$7:$AH$234,23,0)","v":"25,"}]
[null,"서관",8,332,{"$f":"VLOOKUP(B115&D115,'[1]점검현황(금월)'!$D$7:$AH$234,2,0)","v":"응 화 생"},{"$f":"VLOOKUP(B115&D115,'[1]점검현황(금월)'!$D$7:$AH$234,3,0)","v":"XU350K"},{"$f":"VLOOKUP(B115&D115,'[1]점검현황(금월)'!$D$2:$AH$234,15,0)","v":"구"},{"$f":"VLOOKUP(B115&D115,'[1]점검현황(금월)'!$D$2:$AH$234,21,0)","v":"·"},{"$f":"VLOOKUP(B115&D115,'[1]점검현황(금월)'!$D$7:$AH$234,24,0)","v":"·"},{"$f":"VLOOKUP(B115&D115,'[1]점검현황(금월)'!$D$7:$AH$234,19,0)","v":618},{"$f":"VLOOKUP(B115&D115,'[1]점검현황(전월)'!$D$7:$AH$233,20,0)","v":"11:50:00"},{"$f":"VLOOKUP(B115&D115,'[1]점검현황(금월)'!$D$7:$AH$234,31,0)","v":950},716,{"$f":"VLOOKUP(B115&D115,'[1]점검현황(전월)'!$D$7:$AH$233,18,0)","v":"08:30:00"},{"$f":"VLOOKUP(B115&D115,'[1]점검현황(금월)'!$D$7:$AH$234,23,0)","v":"."}]
[null,"서관",9,334,{"$f":"VLOOKUP(B116&D116,'[1]점검현황(금월)'!$D$7:$AH$234,2,0)","v":"멀티미디어"},{"$f":"VLOOKUP(B116&D116,'[1]점검현황(금월)'!$D$7:$AH$234,3,0)","v":"XT15KA"},{"$f":"VLOOKUP(B116&D116,'[1]점검현황(금월)'!$D$2:$AH$234,15,0)","v":"구"},{"$f":"VLOOKUP(B116&D116,'[1]점검현황(금월)'!$D$2:$AH$234,21,0)","v":"2014-03-20"},{"$f":"VLOOKUP(B116&D116,'[1]점검현황(금월)'!$D$7:$AH$234,24,0)","v":"2015-05-18"},{"$f":"VLOOKUP(B116&D116,'[1]점검현황(금월)'!$D$7:$AH$234,19,0)","v":618},{"$f":"VLOOKUP(B116&D116,'[1]점검현황(전월)'!$D$7:$AH$233,20,0)","v":"12:00:00"},{"$f":"VLOOKUP(B116&D116,'[1]점검현황(금월)'!$D$7:$AH$234,31,0)","v":1050},716,{"$f":"VLOOKUP(B116&D116,'[1]점검현황(전월)'!$D$7:$AH$233,18,0)","v":"08:40:00"},{"$f":"VLOOKUP(B116&D116,'[1]점검현황(금월)'!$D$7:$AH$234,23,0)","v":"."}]
[null,"서관",10,337,{"$f":"VLOOKUP(B117&D117,'[1]점검현황(금월)'!$D$7:$AH$234,2,0)","v":"환경공학"},{"$f":"VLOOKUP(B117&D117,'[1]점검현황(금월)'!$D$7:$AH$234,3,0)","v":"LG"},{"$f":"VLOOKUP(B117&D117,'[1]점검현황(금월)'!$D$2:$AH$234,15,0)","v":0},{"$f":"VLOOKUP(B117&D117,'[1]점검현황(금월)'!$D$2:$AH$234,21,0)","v":"00:00:00"},{"$f":"VLOOKUP(B117&D117,'[1]점검현황(금월)'!$D$7:$AH$234,24,0)","v":"00:00:00"},{"$f":"VLOOKUP(B117&D117,'[1]점검현황(금월)'!$D$7:$AH$234,19,0)","v":618},{"$f":"VLOOKUP(B117&D117,'[1]점검현황(전월)'!$D$7:$AH$233,20,0)","v":"13:00:00"},{"$f":"VLOOKUP(B117&D117,'[1]점검현황(금월)'!$D$7:$AH$234,31,0)","v":413},716,{"$f":"VLOOKUP(B117&D117,'[1]점검현황(전월)'!$D$7:$AH$233,18,0)","v":"09:40:00"},{"$f":"VLOOKUP(B117&D117,'[1]점검현황(금월)'!$D$7:$AH$234,23,0)","v":"."}]
["동관","동관",1,"104-1",{"$f":"VLOOKUP(B118&D118,'[1]점검현황(금월)'!$D$7:$AH$234,2,0)","v":"기계공학"},{"$f":"VLOOKUP(B118&D118,'[1]점검현황(금월)'!$D$7:$AH$234,3,0)","v":"XU106K"},{"$f":"VLOOKUP(B118&D118,'[1]점검현황(금월)'!$D$2:$AH$234,15,0)","v":"e-ST"},{"$f":"VLOOKUP(B118&D118,'[1]점검현황(금월)'!$D$2:$AH$234,21,0)","v":"·"},{"$f":"VLOOKUP(B118&D118,'[1]점검현황(금월)'!$D$7:$AH$234,24,0)","v":"·"},{"$f":"VLOOKUP(B118&D118,'[1]점검현황(금월)'!$D$7:$AH$234,19,0)","v":618},{"$f":"VLOOKUP(B118&D118,'[1]점검현황(전월)'!$D$7:$AH$233,20,0)","v":"13:00:00"},{"$f":"VLOOKUP(B118&D118,'[1]점검현황(금월)'!$D$7:$AH$234,31,0)","v":1247},716,{"$f":"VLOOKUP(B118&D118,'[1]점검현황(전월)'!$D$7:$AH$233,18,0)","v":"08:50:00"},{"$f":"VLOOKUP(B118&D118,'[1]점검현황(금월)'!$D$7:$AH$234,23,0)","v":"."}]
[null,"동관",2,"104-2",{"$f":"VLOOKUP(B119&D119,'[1]점검현황(금월)'!$D$7:$AH$234,2,0)","v":"기계공학"},{"$f":"VLOOKUP(B119&D119,'[1]점검현황(금월)'!$D$7:$AH$234,3,0)","v":"ㅡ"},{"$f":"VLOOKUP(B119&D119,'[1]점검현황(금월)'!$D$2:$AH$234,15,0)","v":0},{"$f":"VLOOKUP(B119&D119,'[1]점검현황(금월)'!$D$2:$AH$234,21,0)","v":"·"},{"$f":"VLOOKUP(B119&D119,'[1]점검현황(금월)'!$D$7:$AH$234,24,0)","v":"·"},{"$f":"VLOOKUP(B119&D119,'[1]점검현황(금월)'!$D$7:$AH$234,19,0)","v":618},{"$f":"VLOOKUP(B119&D119,'[1]점검현황(전월)'!$D$7:$AH$233,20,0)","v":"13:10:00"},{"$f":"VLOOKUP(B119&D119,'[1]점검현황(금월)'!$D$7:$AH$234,31,0)","v":"."},null,null,{"$f":"VLOOKUP(B119&D119,'[1]점검현황(금월)'!$D$7:$AH$234,23,0)","v":"."}]
[null,"동관",3,"104-3",{"$f":"VLOOKUP(B120&D120,'[1]점검현황(금월)'!$D$7:$AH$234,2,0)","v":"기계공학"},{"$f":"VLOOKUP(B120&D120,'[1]점검현황(금월)'!$D$7:$AH$234,3,0)","v":"XU106K"},{"$f":"VLOOKUP(B120&D120,'[1]점검현황(금월)'!$D$2:$AH$234,15,0)","v":"e-ST"},{"$f":"VLOOKUP(B120&D120,'[1]점검현황(금월)'!$D$2:$AH$234,21,0)","v":"·"},{"$f":"VLOOKUP(B120&D120,'[1]점검현황(금월)'!$D$7:$AH$234,24,0)","v":"·"},{"$f":"VLOOKUP(B120&D120,'[1]점검현황(금월)'!$D$7:$AH$234,19,0)","v":618},{"$f":"VLOOKUP(B120&D120,'[1]점검현황(전월)'!$D$7:$AH$233,20,0)","v":"13:20:00"},{"$f":"VLOOKUP(B120&D120,'[1]점검현황(금월)'!$D$7:$AH$234,31,0)","v":762},716,{"$f":"VLOOKUP(B120&D120,'[1]점검현황(전월)'!$D$7:$AH$233,18,0)","v":"19:10:00"},{"$f":"VLOOKUP(B120&D120,'[1]점검현황(금월)'!$D$7:$AH$234,23,0)","v":"."}]
[null,"동관",4,331,{"$f":"VLOOKUP(B121&D121,'[1]점검현황(금월)'!$D$7:$AH$234,2,0)","v":"기계공학"},{"$f":"VLOOKUP(B121&D121,'[1]점검현황(금월)'!$D$7:$AH$234,3,0)","v":"VX400"},{"$f":"VLOOKUP(B121&D121,'[1]점검현황(금월)'!$D$2:$AH$234,15,0)","v":"e-ST"},{"$f":"VLOOKUP(B121&D121,'[1]점검현황(금월)'!$D$2:$AH$234,21,0)","v":"·"},{"$f":"VLOOKUP(B121&D121,'[1]점검현황(금월)'!$D$7:$AH$234,24,0)","v":"·"},{"$f":"VLOOKUP(B121&D121,'[1]점검현황(금월)'!$D$7:$AH$234,19,0)","v":618},{"$f":"VLOOKUP(B121&D121,'[1]점검현황(전월)'!$D$7:$AH$233,20,0)","v":"13:30:00"},{"$f":"VLOOKUP(B121&D121,'[1]점검현황(금월)'!$D$7:$AH$234,31,0)","v":1593},716,{"$f":"VLOOKUP(B121&D121,'[1]점검현황(전월)'!$D$7:$AH$233,18,0)","v":"19:20:00"},{"$f":"VLOOKUP(B121&D121,'[1]점검현황(금월)'!$D$7:$AH$234,23,0)","v":"."}]
["팔달관","팔달관",1,107,{"$f":"VLOOKUP(B122&D122,'[1]점검현황(금월)'!$D$7:$AH$234,2,0)","v":"자동녹화"},{"$f":"VLOOKUP(B122&D122,'[1]점검현황(금월)'!$D$7:$AH$234,3,0)","v":"XT35K"},{"$f":"VLOOKUP(B122&D122,'[1]점검현황(금월)'!$D$2:$AH$234,15,0)","v":"e-ST"},{"$f":"VLOOKUP(B122&D122,'[1]점검현황(금월)'!$D$2:$AH$234,21,0)","v":"2015-05-08"},{"$f":"VLOOKUP(B122&D122,'[1]점검현황(금월)'!$D$7:$AH$234,24,0)","v":"2015-05-14"},{"$f":"VLOOKUP(B122&D122,'[1]점검현황(금월)'!$D$7:$AH$234,19,0)","v":619},{"$f":"VLOOKUP(B122&D122,'[1]점검현황(전월)'!$D$7:$AH$233,20,0)","v":"13:40:00"},{"$f":"VLOOKUP(B122&D122,'[1]점검현황(금월)'!$D$7:$AH$234,31,0)","v":191},717,{"$f":"VLOOKUP(B122&D122,'[1]점검현황(전월)'!$D$7:$AH$233,18,0)","v":"08:30:00"},{"$f":"VLOOKUP(B122&D122,'[1]점검현황(금월)'!$D$7:$AH$234,23,0)","v":"."}]
[null,"팔달관",2,108,{"$f":"VLOOKUP(B123&D123,'[1]점검현황(금월)'!$D$7:$AH$234,2,0)","v":"멀티미디어"},{"$f":"VLOOKUP(B123&D123,'[1]점검현황(금월)'!$D$7:$AH$234,3,0)","v":"XT35K"},{"$f":"VLOOKUP(B123&D123,'[1]점검현황(금월)'!$D$2:$AH$234,15,0)","v":"e-ST"},{"$f":"VLOOKUP(B123&D123,'[1]점검현황(금월)'!$D$2:$AH$234,21,0)","v":"2015-06-12"},{"$f":"VLOOKUP(B123&D123,'[1]점검현황(금월)'!$D$7:$AH$234,24,0)","v":"2014-10-31"},{"$f":"VLOOKUP(B123&D123,'[1]점검현황(금월)'!$D$7:$AH$234,19,0)","v":625},{"$f":"VLOOKUP(B123&D123,'[1]점검현황(전월)'!$D$7:$AH$233,20,0)","v":"17:28:00"},{"$f":"VLOOKUP(B123&D123,'[1]점검현황(금월)'!$D$7:$AH$234,31,0)","v":12},717,{"$f":"VLOOKUP(B123&D123,'[1]점검현황(전월)'!$D$7:$AH$233,18,0)","v":"08:40:00"},{"$f":"VLOOKUP(B123&D123,'[1]점검현황(금월)'!$D$7:$AH$234,23,0)","v":"8,12,25"}]
[null,"팔달관",3,110,{"$f":"VLOOKUP(B124&D124,'[1]점검현황(금월)'!$D$7:$AH$234,2,0)","v":"자동녹화"},{"$f":"VLOOKUP(B124&D124,'[1]점검현황(금월)'!$D$7:$AH$234,3,0)","v":"VX600EA"},{"$f":"VLOOKUP(B124&D124,'[1]점검현황(금월)'!$D$2:$AH$234,15,0)","v":"e-ST"},{"$f":"VLOOKUP(B124&D124,'[1]점검현황(금월)'!$D$2:$AH$234,21,0)","v":"2014-04-07"},{"$f":"VLOOKUP(B124&D124,'[1]점검현황(금월)'!$D$7:$AH$234,24,0)","v":"2014-02-13"},{"$f":"VLOOKUP(B124&D124,'[1]점검현황(금월)'!$D$7:$AH$234,19,0)","v":619},{"$f":"VLOOKUP(B124&D124,'[1]점검현황(전월)'!$D$7:$AH$233,20,0)","v":"14:00:00"},{"$f":"VLOOKUP(B124&D124,'[1]점검현황(금월)'!$D$7:$AH$234,31,0)","v":0},717,{"$f":"VLOOKUP(B124&D124,'[1]점검현황(전월)'!$D$7:$AH$233,18,0)","v":"08:50:00"},{"$f":"VLOOKUP(B124&D124,'[1]점검현황(금월)'!$D$7:$AH$234,23,0)","v":"1,"}]
[null,"팔달관",4,111,{"$f":"VLOOKUP(B125&D125,'[1]점검현황(금월)'!$D$7:$AH$234,2,0)","v":"멀티미디어"},{"$f":"VLOOKUP(B125&D125,'[1]점검현황(금월)'!$D$7:$AH$234,3,0)","v":"XT35K"},{"$f":"VLOOKUP(B125&D125,'[1]점검현황(금월)'!$D$2:$AH$234,15,0)","v":"e-ST"},{"$f":"VLOOKUP(B125&D125,'[1]점검현황(금월)'!$D$2:$AH$234,21,0)","v":"2014-10-10"},{"$f":"VLOOKUP(B125&D125,'[1]점검현황(금월)'!$D$7:$AH$234,24,0)","v":"2014-10-10"},{"$f":"VLOOKUP(B125&D125,'[1]점검현황(금월)'!$D$7:$AH$234,19,0)","v":629},{"$f":"VLOOKUP(B125&D125,'[1]점검현황(전월)'!$D$7:$AH$233,20,0)","v":"11:30:00"},{"$f":"VLOOKUP(B125&D125,'[1]점검현황(금월)'!$D$7:$AH$234,31,0)","v":1542},717,{"$f":"VLOOKUP(B125&D125,'[1]점검현황(전월)'!$D$7:$AH$233,18,0)","v":"19:00:00"},{"$f":"VLOOKUP(B125&D125,'[1]점검현황(금월)'!$D$7:$AH$234,23,0)","v":"3,4(2),5,11,12,29"}]
[null,"팔달관",5,207,{"$f":"VLOOKUP(B126&D126,'[1]점검현황(금월)'!$D$7:$AH$234,2,0)","v":"신소재"},{"$f":"VLOOKUP(B126&D126,'[1]점검현황(금월)'!$D$7:$AH$234,3,0)","v":"XU106K"},{"$f":"VLOOKUP(B126&D126,'[1]점검현황(금월)'!$D$2:$AH$234,15,0)","v":"구"},{"$f":"VLOOKUP(B126&D126,'[1]점검현황(금월)'!$D$2:$AH$234,21,0)","v":"2015-05-13"},{"$f":"VLOOKUP(B126&D126,'[1]점검현황(금월)'!$D$7:$AH$234,24,0)","v":"·"},{"$f":"VLOOKUP(B126&D126,'[1]점검현황(금월)'!$D$7:$AH$234,19,0)","v":619},{"$f":"VLOOKUP(B126&D126,'[1]점검현황(전월)'!$D$7:$AH$233,20,0)","v":"08:40:00"},{"$f":"VLOOKUP(B126&D126,'[1]점검현황(금월)'!$D$7:$AH$234,31,0)","v":1},717,{"$f":"VLOOKUP(B126&D126,'[1]점검현황(전월)'!$D$7:$AH$233,18,0)","v":"19:10:00"},{"$f":"VLOOKUP(B126&D126,'[1]점검현황(금월)'!$D$7:$AH$234,23,0)","v":"."}]
[null,"팔달관",6,211,{"$f":"VLOOKUP(B127&D127,'[1]점검현황(금월)'!$D$7:$AH$234,2,0)","v":"교통시스템"},{"$f":"VLOOKUP(B127&D127,'[1]점검현황(금월)'!$D$7:$AH$234,3,0)","v":"XU106K"},{"$f":"VLOOKUP(B127&D127,'[1]점검현황(금월)'!$D$2:$AH$234,15,0)","v":"구"},{"$f":"VLOOKUP(B127&D127,'[1]점검현황(금월)'!$D$2:$AH$234,21,0)","v":"2013-03-13"},{"$f":"VLOOKUP(B127&D127,'[1]점검현황(금월)'!$D$7:$AH$234,24,0)","v":"2015-04-03"},{"$f":"VLOOKUP(B127&D127,'[1]점검현황(금월)'!$D$7:$AH$234,19,0)","v":619},{"$f":"VLOOKUP(B127&D127,'[1]점검현황(전월)'!$D$7:$AH$233,20,0)","v":"08:50:00"},{"$f":"VLOOKUP(B127&D127,'[1]점검현황(금월)'!$D$7:$AH$234,31,0)","v":311},717,{"$f":"VLOOKUP(B127&D127,'[1]점검현황(전월)'!$D$7:$AH$233,18,0)","v":"19:20:00"},{"$f":"VLOOKUP(B127&D127,'[1]점검현황(금월)'!$D$7:$AH$234,23,0)","v":"."}]
[null,"팔달관",7,307,{"$f":"VLOOKUP(B128&D128,'[1]점검현황(금월)'!$D$7:$AH$234,2,0)","v":"산업정보"},{"$f":"VLOOKUP(B128&D128,'[1]점검현황(금월)'!$D$7:$AH$234,3,0)","v":"XT35K"},{"$f":"VLOOKUP(B128&D128,'[1]점검현황(금월)'!$D$2:$AH$234,15,0)","v":"구"},{"$f":"VLOOKUP(B128&D128,'[1]점검현황(금월)'!$D$2:$AH$234,21,0)","v":"2015-05-08"},{"$f":"VLOOKUP(B128&D128,'[1]점검현황(금월)'!$D$7:$AH$234,24,0)","v":"2012-12-03"},{"$f":"VLOOKUP(B128&D128,'[1]점검현황(금월)'!$D$7:$AH$234,19,0)","v":619},{"$f":"VLOOKUP(B128&D128,'[1]점검현황(전월)'!$D$7:$AH$233,20,0)","v":"19:00:00"},{"$f":"VLOOKUP(B128&D128,'[1]점검현황(금월)'!$D$7:$AH$234,31,0)","v":295},717,{"$f":"VLOOKUP(B128&D128,'[1]점검현황(전월)'!$D$7:$AH$233,18,0)","v":"08:30:00"},{"$f":"VLOOKUP(B128&D128,'[1]점검현황(금월)'!$D$7:$AH$234,23,0)","v":"."}]
[null,"팔달관",8,308,{"$f":"VLOOKUP(B129&D129,'[1]점검현황(금월)'!$D$7:$AH$234,2,0)","v":"생명공학"},{"$f":"VLOOKUP(B129&D129,'[1]점검현황(금월)'!$D$7:$AH$234,3,0)","v":"XU106K"},{"$f":"VLOOKUP(B129&D129,'[1]점검현황(금월)'!$D$2:$AH$234,15,0)","v":"구"},{"$f":"VLOOKUP(B129&D129,'[1]점검현황(금월)'!$D$2:$AH$234,21,0)","v":"2014-11-07"},{"$f":"VLOOKUP(B129&D129,'[1]점검현황(금월)'!$D$7:$AH$234,24,0)","v":"2014-12-06"},{"$f":"VLOOKUP(B129&D129,'[1]점검현황(금월)'!$D$7:$AH$234,19,0)","v":620},{"$f":"VLOOKUP(B129&D129,'[1]점검현황(전월)'!$D$7:$AH$233,20,0)","v":"19:10:00"},{"$f":"VLOOKUP(B129&D129,'[1]점검현황(금월)'!$D$7:$AH$234,31,0)","v":807},718,{"$f":"VLOOKUP(B129&D129,'[1]점검현황(전월)'!$D$7:$AH$233,18,0)","v":"08:40:00"},{"$f":"VLOOKUP(B129&D129,'[1]점검현황(금월)'!$D$7:$AH$234,23,0)","v":"."}]
[null,"팔달관",9,309,{"$f":"VLOOKUP(B130&D130,'[1]점검현황(금월)'!$D$7:$AH$234,2,0)","v":"정 통 컴"},{"$f":"VLOOKUP(B130&D130,'[1]점검현황(금월)'!$D$7:$AH$234,3,0)","v":"XT35K"},{"$f":"VLOOKUP(B130&D130,'[1]점검현황(금월)'!$D$2:$AH$234,15,0)","v":"구"},{"$f":"VLOOKUP(B130&D130,'[1]점검현황(금월)'!$D$2:$AH$234,21,0)","v":"2010-04-01"},{"$f":"VLOOKUP(B130&D130,'[1]점검현황(금월)'!$D$7:$AH$234,24,0)","v":"2014-12-09"},{"$f":"VLOOKUP(B130&D130,'[1]점검현황(금월)'!$D$7:$AH$234,19,0)","v":620},{"$f":"VLOOKUP(B130&D130,'[1]점검현황(전월)'!$D$7:$AH$233,20,0)","v":"19:20:00"},{"$f":"VLOOKUP(B130&D130,'[1]점검현황(금월)'!$D$7:$AH$234,31,0)","v":0},718,{"$f":"VLOOKUP(B130&D130,'[1]점검현황(전월)'!$D$7:$AH$233,18,0)","v":"08:50:00"},{"$f":"VLOOKUP(B130&D130,'[1]점검현황(금월)'!$D$7:$AH$234,23,0)","v":"."}]
[null,"팔달관",10,310,{"$f":"VLOOKUP(B131&D131,'[1]점검현황(금월)'!$D$7:$AH$234,2,0)","v":"건설시스템"},{"$f":"VLOOKUP(B131&D131,'[1]점검현황(금월)'!$D$7:$AH$234,3,0)","v":"XU106K"},{"$f":"VLOOKUP(B131&D131,'[1]점검현황(금월)'!$D$2:$AH$234,15,0)","v":"구"},{"$f":"VLOOKUP(B131&D131,'[1]점검현황(금월)'!$D$2:$AH$234,21,0)","v":"2013-09-23"},{"$f":"VLOOKUP(B131&D131,'[1]점검현황(금월)'!$D$7:$AH$234,24,0)","v":"·"},{"$f":"VLOOKUP(B131&D131,'[1]점검현황(금월)'!$D$7:$AH$234,19,0)","v":620},{"$f":"VLOOKUP(B131&D131,'[1]점검현황(전월)'!$D$7:$AH$233,20,0)","v":"08:30:00"},{"$f":"VLOOKUP(B131&D131,'[1]점검현황(금월)'!$D$7:$AH$234,31,0)","v":1322},718,{"$f":"VLOOKUP(B131&D131,'[1]점검현황(전월)'!$D$7:$AH$233,18,0)","v":"19:00:00"},{"$f":"VLOOKUP(B131&D131,'[1]점검현황(금월)'!$D$7:$AH$234,23,0)","v":"."}]
[null,"팔달관",11,311,{"$f":"VLOOKUP(B132&D132,'[1]점검현황(금월)'!$D$7:$AH$234,2,0)","v":"수학과 LAB"},{"$f":"VLOOKUP(B132&D132,'[1]점검현황(금월)'!$D$7:$AH$234,3,0)","v":"XU105K"},{"$f":"VLOOKUP(B132&D132,'[1]점검현황(금월)'!$D$2:$AH$234,15,0)","v":"e-ST"},{"$f":"VLOOKUP(B132&D132,'[1]점검현황(금월)'!$D$2:$AH$234,21,0)","v":"·"},{"$f":"VLOOKUP(B132&D132,'[1]점검현황(금월)'!$D$7:$AH$234,24,0)","v":"·"},{"$f":"VLOOKUP(B132&D132,'[1]점검현황(금월)'!$D$7:$AH$234,19,0)","v":620},{"$f":"VLOOKUP(B132&D132,'[1]점검현황(전월)'!$D$7:$AH$233,20,0)","v":"18:42:00"},{"$f":"VLOOKUP(B132&D132,'[1]점검현황(금월)'!$D$7:$AH$234,31,0)","v":1198},718,{"$f":"VLOOKUP(B132&D132,'[1]점검현황(전월)'!$D$7:$AH$233,18,0)","v":"19:10:00"},{"$f":"VLOOKUP(B132&D132,'[1]점검현황(금월)'!$D$7:$AH$234,23,0)","v":"."}]
[null,"팔달관",12,318,{"$f":"VLOOKUP(B133&D133,'[1]점검현황(금월)'!$D$7:$AH$234,2,0)","v":"정 통 컴"},{"$f":"VLOOKUP(B133&D133,'[1]점검현황(금월)'!$D$7:$AH$234,3,0)","v":"XT35K"},{"$f":"VLOOKUP(B133&D133,'[1]점검현황(금월)'!$D$2:$AH$234,15,0)","v":"모든넷"},{"$f":"VLOOKUP(B133&D133,'[1]점검현황(금월)'!$D$2:$AH$234,21,0)","v":"2013-06-07"},{"$f":"VLOOKUP(B133&D133,'[1]점검현황(금월)'!$D$7:$AH$234,24,0)","v":"·"},{"$f":"VLOOKUP(B133&D133,'[1]점검현황(금월)'!$D$7:$AH$234,19,0)","v":623},{"$f":"VLOOKUP(B133&D133,'[1]점검현황(전월)'!$D$7:$AH$233,20,0)","v":"08:50:00"},{"$f":"VLOOKUP(B133&D133,'[1]점검현황(금월)'!$D$7:$AH$234,31,0)","v":1601},718,{"$f":"VLOOKUP(B133&D133,'[1]점검현황(전월)'!$D$7:$AH$233,18,0)","v":"19:20:00"},{"$f":"VLOOKUP(B133&D133,'[1]점검현황(금월)'!$D$7:$AH$234,23,0)","v":"23,"}]
[null,"팔달관",13,323,{"$f":"VLOOKUP(B134&D134,'[1]점검현황(금월)'!$D$7:$AH$234,2,0)","v":"산업공학과"},{"$f":"VLOOKUP(B134&D134,'[1]점검현황(금월)'!$D$7:$AH$234,3,0)","v":"EPSON EB1960"},{"$f":"VLOOKUP(B134&D134,'[1]점검현황(금월)'!$D$2:$AH$234,15,0)","v":0},{"$f":"VLOOKUP(B134&D134,'[1]점검현황(금월)'!$D$2:$AH$234,21,0)","v":"2015-04-16"},{"$f":"VLOOKUP(B134&D134,'[1]점검현황(금월)'!$D$7:$AH$234,24,0)","v":"00:00:00"},{"$f":"VLOOKUP(B134&D134,'[1]점검현황(금월)'!$D$7:$AH$234,19,0)","v":620},{"$f":"VLOOKUP(B134&D134,'[1]점검현황(전월)'!$D$7:$AH$233,20,0)","v":"10:50:00"},{"$f":"VLOOKUP(B134&D134,'[1]점검현황(금월)'!$D$7:$AH$234,31,0)","v":377},718,{"$f":"VLOOKUP(B134&D134,'[1]점검현황(전월)'!$D$7:$AH$233,18,0)","v":"13:00:00"},{"$f":"VLOOKUP(B134&D134,'[1]점검현황(금월)'!$D$7:$AH$234,23,0)","v":"."}]
[null,"팔달관",14,325,{"$f":"VLOOKUP(B135&D135,'[1]점검현황(금월)'!$D$7:$AH$234,2,0)","v":"정 통 컴"},{"$f":"VLOOKUP(B135&D135,'[1]점검현황(금월)'!$D$7:$AH$234,3,0)","v":"XT35K"},{"$f":"VLOOKUP(B135&D135,'[1]점검현황(금월)'!$D$2:$AH$234,15,0)","v":"e-ST"},{"$f":"VLOOKUP(B135&D135,'[1]점검현황(금월)'!$D$2:$AH$234,21,0)","v":"2013-06-07"},{"$f":"VLOOKUP(B135&D135,'[1]점검현황(금월)'!$D$7:$AH$234,24,0)","v":"·"},{"$f":"VLOOKUP(B135&D135,'[1]점검현황(금월)'!$D$7:$AH$234,19,0)","v":620},{"$f":"VLOOKUP(B135&D135,'[1]점검현황(전월)'!$D$7:$AH$233,20,0)","v":"14:05:00"},{"$f":"VLOOKUP(B135&D135,'[1]점검현황(금월)'!$D$7:$AH$234,31,0)","v":1477},718,{"$f":"VLOOKUP(B135&D135,'[1]점검현황(전월)'!$D$7:$AH$233,18,0)","v":"08:30:00"},{"$f":"VLOOKUP(B135&D135,'[1]점검현황(금월)'!$D$7:$AH$234,23,0)","v":"."}]
[null,"팔달관",15,328,{"$f":"VLOOKUP(B136&D136,'[1]점검현황(금월)'!$D$7:$AH$234,2,0)","v":"정 통 컴"},{"$f":"VLOOKUP(B136&D136,'[1]점검현황(금월)'!$D$7:$AH$234,3,0)","v":"XT35K"},{"$f":"VLOOKUP(B136&D136,'[1]점검현황(금월)'!$D$2:$AH$234,15,0)","v":"모든넷"},{"$f":"VLOOKUP(B136&D136,'[1]점검현황(금월)'!$D$2:$AH$234,21,0)","v":"2013-07-08"},{"$f":"VLOOKUP(B136&D136,'[1]점검현황(금월)'!$D$7:$AH$234,24,0)","v":"2015-04-03"},{"$f":"VLOOKUP(B136&D136,'[1]점검현황(금월)'!$D$7:$AH$234,19,0)","v":620},{"$f":"VLOOKUP(B136&D136,'[1]점검현황(전월)'!$D$7:$AH$233,20,0)","v":"15:55:00"},{"$f":"VLOOKUP(B136&D136,'[1]점검현황(금월)'!$D$7:$AH$234,31,0)","v":572},718,{"$f":"VLOOKUP(B136&D136,'[1]점검현황(전월)'!$D$7:$AH$233,18,0)","v":"08:40:00"},{"$f":"VLOOKUP(B136&D136,'[1]점검현황(금월)'!$D$7:$AH$234,23,0)","v":"19,"}]
[null,"팔달관",16,334,{"$f":"VLOOKUP(B137&D137,'[1]점검현황(금월)'!$D$7:$AH$234,2,0)","v":"정 통 컴"},{"$f":"VLOOKUP(B137&D137,'[1]점검현황(금월)'!$D$7:$AH$234,3,0)","v":"ㅡ"},{"$f":"VLOOKUP(B137&D137,'[1]점검현황(금월)'!$D$2:$AH$234,15,0)","v":"자체"},{"$f":"VLOOKUP(B137&D137,'[1]점검현황(금월)'!$D$2:$AH$234,21,0)","v":"·"},{"$f":"VLOOKUP(B137&D137,'[1]점검현황(금월)'!$D$7:$AH$234,24,0)","v":"·"},{"$f":"VLOOKUP(B137&D137,'[1]점검현황(금월)'!$D$7:$AH$234,19,0)","v":623},{"$f":"VLOOKUP(B137&D137,'[1]점검현황(전월)'!$D$7:$AH$233,20,0)","v":"19:20:00"},{"$f":"VLOOKUP(B137&D137,'[1]점검현황(금월)'!$D$7:$AH$234,31,0)","v":255},718,{"$f":"VLOOKUP(B137&D137,'[1]점검현황(전월)'!$D$7:$AH$233,18,0)","v":"08:50:00"},{"$f":"VLOOKUP(B137&D137,'[1]점검현황(금월)'!$D$7:$AH$234,23,0)","v":"23,"}]
[null,"팔달관",17,336,{"$f":"VLOOKUP(B138&D138,'[1]점검현황(금월)'!$D$7:$AH$234,2,0)","v":"정 통 컴"},{"$f":"VLOOKUP(B138&D138,'[1]점검현황(금월)'!$D$7:$AH$234,3,0)","v":"XT35K"},{"$f":"VLOOKUP(B138&D138,'[1]점검현황(금월)'!$D$2:$AH$234,15,0)","v":"자체"},{"$f":"VLOOKUP(B138&D138,'[1]점검현황(금월)'!$D$2:$AH$234,21,0)","v":"2013-06-07"},{"$f":"VLOOKUP(B138&D138,'[1]점검현황(금월)'!$D$7:$AH$234,24,0)","v":"·"},{"$f":"VLOOKUP(B138&D138,'[1]점검현황(금월)'!$D$7:$AH$234,19,0)","v":620},{"$f":"VLOOKUP(B138&D138,'[1]점검현황(전월)'!$D$7:$AH$233,20,0)","v":"08:30:00"},{"$f":"VLOOKUP(B138&D138,'[1]점검현황(금월)'!$D$7:$AH$234,31,0)","v":"철거"},null,null,{"$f":"VLOOKUP(B138&D138,'[1]점검현황(금월)'!$D$7:$AH$234,23,0)","v":"."}]
[null,"팔달관",18,407,{"$f":"VLOOKUP(B139&D139,'[1]점검현황(금월)'!$D$7:$AH$234,2,0)","v":"SW특성화대학원"},{"$f":"VLOOKUP(B139&D139,'[1]점검현황(금월)'!$D$7:$AH$234,3,0)","v":"EX600 / EX600 / EX600"},{"$f":"VLOOKUP(B139&D139,'[1]점검현황(금월)'!$D$2:$AH$234,15,0)","v":"e-ST"},{"$f":"VLOOKUP(B139&D139,'[1]점검현황(금월)'!$D$2:$AH$234,21,0)","v":"2011-04-14"},{"$f":"VLOOKUP(B139&D139,'[1]점검현황(금월)'!$D$7:$AH$234,24,0)","v":"2011-05-31"},{"$f":"VLOOKUP(B139&D139,'[1]점검현황(금월)'!$D$7:$AH$234,19,0)","v":620},{"$f":"VLOOKUP(B139&D139,'[1]점검현황(전월)'!$D$7:$AH$233,20,0)","v":"08:40:00"},{"$f":"VLOOKUP(B139&D139,'[1]점검현황(금월)'!$D$7:$AH$234,31,0)","v":"504/1179/844"},718,{"$f":"VLOOKUP(B139&D139,'[1]점검현황(전월)'!$D$7:$AH$233,18,0)","v":"19:10:00"},{"$f":"VLOOKUP(B139&D139,'[1]점검현황(금월)'!$D$7:$AH$234,23,0)","v":"."}]
[null,"팔달관",19,409,{"$f":"VLOOKUP(B140&D140,'[1]점검현황(금월)'!$D$7:$AH$234,2,0)","v":"SW특성화대학원"},{"$f":"VLOOKUP(B140&D140,'[1]점검현황(금월)'!$D$7:$AH$234,3,0)","v":"XU106K"},{"$f":"VLOOKUP(B140&D140,'[1]점검현황(금월)'!$D$2:$AH$234,15,0)","v":"신"},{"$f":"VLOOKUP(B140&D140,'[1]점검현황(금월)'!$D$2:$AH$234,21,0)","v":"2014-05-23"},{"$f":"VLOOKUP(B140&D140,'[1]점검현황(금월)'!$D$7:$AH$234,24,0)","v":"2015-05-13"},{"$f":"VLOOKUP(B140&D140,'[1]점검현황(금월)'!$D$7:$AH$234,19,0)","v":620},{"$f":"VLOOKUP(B140&D140,'[1]점검현황(전월)'!$D$7:$AH$233,20,0)","v":"08:50:00"},{"$f":"VLOOKUP(B140&D140,'[1]점검현황(금월)'!$D$7:$AH$234,31,0)","v":1051},718,{"$f":"VLOOKUP(B140&D140,'[1]점검현황(전월)'!$D$7:$AH$233,18,0)","v":"19:20:00"},{"$f":"VLOOKUP(B140&D140,'[1]점검현황(금월)'!$D$7:$AH$234,23,0)","v":"."}]
[null,"팔달관",20,410,{"$f":"VLOOKUP(B141&D141,'[1]점검현황(금월)'!$D$7:$AH$234,2,0)","v":"정 통 컴"},{"$f":"VLOOKUP(B141&D141,'[1]점검현황(금월)'!$D$7:$AH$234,3,0)","v":"XU106K"},{"$f":"VLOOKUP(B141&D141,'[1]점검현황(금월)'!$D$2:$AH$234,15,0)","v":"임"},{"$f":"VLOOKUP(B141&D141,'[1]점검현황(금월)'!$D$2:$AH$234,21,0)","v":"·"},{"$f":"VLOOKUP(B141&D141,'[1]점검현황(금월)'!$D$7:$AH$234,24,0)","v":"·"},{"$f":"VLOOKUP(B141&D141,'[1]점검현황(금월)'!$D$7:$AH$234,19,0)","v":620},{"$f":"VLOOKUP(B141&D141,'[1]점검현황(전월)'!$D$7:$AH$233,20,0)","v":"09:00:00"},{"$f":"VLOOKUP(B141&D141,'[1]점검현황(금월)'!$D$7:$AH$234,31,0)","v":1493},718,{"$f":"VLOOKUP(B141&D141,'[1]점검현황(전월)'!$D$7:$AH$233,18,0)","v":"09:00:00"},{"$f":"VLOOKUP(B141&D141,'[1]점검현황(금월)'!$D$7:$AH$234,23,0)","v":"."}]
[null,"팔달관",21,415,{"$f":"VLOOKUP(B142&D142,'[1]점검현황(금월)'!$D$7:$AH$234,2,0)","v":"교통시스템"},{"$f":"VLOOKUP(B142&D142,'[1]점검현황(금월)'!$D$7:$AH$234,3,0)","v":"XU100K"},{"$f":"VLOOKUP(B142&D142,'[1]점검현황(금월)'!$D$2:$AH$234,15,0)","v":"자체"},{"$f":"VLOOKUP(B142&D142,'[1]점검현황(금월)'!$D$2:$AH$234,21,0)","v":"·"},{"$f":"VLOOKUP(B142&D142,'[1]점검현황(금월)'!$D$7:$AH$234,24,0)","v":"·"},{"$f":"VLOOKUP(B142&D142,'[1]점검현황(금월)'!$D$7:$AH$234,19,0)","v":620},{"$f":"VLOOKUP(B142&D142,'[1]점검현황(전월)'!$D$7:$AH$233,20,0)","v":"09:10:00"},{"$f":"VLOOKUP(B142&D142,'[1]점검현황(금월)'!$D$7:$AH$234,31,0)","v":485},718,{"$f":"VLOOKUP(B142&D142,'[1]점검현황(전월)'!$D$7:$AH$233,18,0)","v":"09:10:00"},{"$f":"VLOOKUP(B142&D142,'[1]점검현황(금월)'!$D$7:$AH$234,23,0)","v":"."}]
[null,"팔달관",22,621,{"$f":"VLOOKUP(B143&D143,'[1]점검현황(금월)'!$D$7:$AH$234,2,0)","v":"수학과 LAB"},{"$f":"VLOOKUP(B143&D143,'[1]점검현황(금월)'!$D$7:$AH$234,3,0)","v":"EPSON EB-G5900"},{"$f":"VLOOKUP(B143&D143,'[1]점검현황(금월)'!$D$2:$AH$234,15,0)","v":"e-ST"},{"$f":"VLOOKUP(B143&D143,'[1]점검현황(금월)'!$D$2:$AH$234,21,0)","v":"·"},{"$f":"VLOOKUP(B143&D143,'[1]점검현황(금월)'!$D$7:$AH$234,24,0)","v":"·"},{"$f":"VLOOKUP(B143&D143,'[1]점검현황(금월)'!$D$7:$AH$234,19,0)","v":620},{"$f":"VLOOKUP(B143&D143,'[1]점검현황(전월)'!$D$7:$AH$233,20,0)","v":"19:00:00"},{"$f":"VLOOKUP(B143&D143,'[1]점검현황(금월)'!$D$7:$AH$234,31,0)","v":301},718,{"$f":"VLOOKUP(B143&D143,'[1]점검현황(전월)'!$D$7:$AH$233,18,0)","v":"09:20:00"},{"$f":"VLOOKUP(B143&D143,'[1]점검현황(금월)'!$D$7:$AH$234,23,0)","v":"."}]
[null,"팔달관",23,735,{"$f":"VLOOKUP(B144&D144,'[1]점검현황(금월)'!$D$7:$AH$234,2,0)","v":"대학원"},{"$f":"VLOOKUP(B144&D144,'[1]점검현황(금월)'!$D$7:$AH$234,3,0)","v":"XU106K"},{"$f":"VLOOKUP(B144&D144,'[1]점검현황(금월)'!$D$2:$AH$234,15,0)","v":"구"},{"$f":"VLOOKUP(B144&D144,'[1]점검현황(금월)'!$D$2:$AH$234,21,0)","v":"·"},{"$f":"VLOOKUP(B144&D144,'[1]점검현황(금월)'!$D$7:$AH$234,24,0)","v":"2013-04-27"},{"$f":"VLOOKUP(B144&D144,'[1]점검현황(금월)'!$D$7:$AH$234,19,0)","v":620},{"$f":"VLOOKUP(B144&D144,'[1]점검현황(전월)'!$D$7:$AH$233,20,0)","v":"19:10:00"},{"$f":"VLOOKUP(B144&D144,'[1]점검현황(금월)'!$D$7:$AH$234,31,0)","v":2189},718,{"$f":"VLOOKUP(B144&D144,'[1]점검현황(전월)'!$D$7:$AH$233,18,0)","v":"09:30:00"},{"$f":"VLOOKUP(B144&D144,'[1]점검현황(금월)'!$D$7:$AH$234,23,0)","v":"."}]
[null,"팔달관",24,1001,{"$f":"VLOOKUP(B145&D145,'[1]점검현황(금월)'!$D$7:$AH$234,2,0)","v":"대학원"},{"$f":"VLOOKUP(B145&D145,'[1]점검현황(금월)'!$D$7:$AH$234,3,0)","v":"XU106K"},{"$f":"VLOOKUP(B145&D145,'[1]점검현황(금월)'!$D$2:$AH$234,15,0)","v":"구"},{"$f":"VLOOKUP(B145&D145,'[1]점검현황(금월)'!$D$2:$AH$234,21,0)","v":"2013-05-03"},{"$f":"VLOOKUP(B145&D145,'[1]점검현황(금월)'!$D$7:$AH$234,24,0)","v":"2012-09-11"},{"$f":"VLOOKUP(B145&D145,'[1]점검현황(금월)'!$D$7:$AH$234,19,0)","v":620},{"$f":"VLOOKUP(B145&D145,'[1]점검현황(전월)'!$D$7:$AH$233,20,0)","v":"19:20:00"},{"$f":"VLOOKUP(B145&D145,'[1]점검현황(금월)'!$D$7:$AH$234,31,0)","v":1561},718,{"$f":"VLOOKUP(B145&D145,'[1]점검현황(전월)'!$D$7:$AH$233,18,0)","v":"09:40:00"},{"$f":"VLOOKUP(B145&D145,'[1]점검현황(금월)'!$D$7:$AH$234,23,0)","v":"."}]
[null,"팔달관",25,1002,{"$f":"VLOOKUP(B146&D146,'[1]점검현황(금월)'!$D$7:$AH$234,2,0)","v":"대학원"},{"$f":"VLOOKUP(B146&D146,'[1]점검현황(금월)'!$D$7:$AH$234,3,0)","v":"XU106K"},{"$f":"VLOOKUP(B146&D146,'[1]점검현황(금월)'!$D$2:$AH$234,15,0)","v":"구"},{"$f":"VLOOKUP(B146&D146,'[1]점검현황(금월)'!$D$2:$AH$234,21,0)","v":"2014-07-04"},{"$f":"VLOOKUP(B146&D146,'[1]점검현황(금월)'!$D$7:$AH$234,24,0)","v":"2013-06-24"},{"$f":"VLOOKUP(B146&D146,'[1]점검현황(금월)'!$D$7:$AH$234,19,0)","v":620},{"$f":"VLOOKUP(B146&D146,'[1]점검현황(전월)'!$D$7:$AH$233,20,0)","v":"08:30:00"},{"$f":"VLOOKUP(B146&D146,'[1]점검현황(금월)'!$D$7:$AH$234,31,0)","v":673},718,{"$f":"VLOOKUP(B146&D146,'[1]점검현황(전월)'!$D$7:$AH$233,18,0)","v":"09:50:00"},{"$f":"VLOOKUP(B146&D146,'[1]점검현황(금월)'!$D$7:$AH$234,23,0)","v":"."}]
[null,"팔달관",26,1003,{"$f":"VLOOKUP(B147&D147,'[1]점검현황(금월)'!$D$7:$AH$234,2,0)","v":"SW특성화대학원"},{"$f":"VLOOKUP(B147&D147,'[1]점검현황(금월)'!$D$7:$AH$234,3,0)","v":"XU106K"},{"$f":"VLOOKUP(B147&D147,'[1]점검현황(금월)'!$D$2:$AH$234,15,0)","v":"구"},{"$f":"VLOOKUP(B147&D147,'[1]점검현황(금월)'!$D$2:$AH$234,21,0)","v":"·"},{"$f":"VLOOKUP(B147&D147,'[1]점검현황(금월)'!$D$7:$AH$234,24,0)","v":"·"},{"$f":"VLOOKUP(B147&D147,'[1]점검현황(금월)'!$D$7:$AH$234,19,0)","v":620},{"$f":"VLOOKUP(B147&D147,'[1]점검현황(전월)'!$D$7:$AH$233,20,0)","v":"08:40:00"},{"$f":"VLOOKUP(B147&D147,'[1]점검현황(금월)'!$D$7:$AH$234,31,0)","v":1704},718,{"$f":"VLOOKUP(B147&D147,'[1]점검현황(전월)'!$D$7:$AH$233,18,0)","v":"10:00:00"},{"$f":"VLOOKUP(B147&D147,'[1]점검현황(금월)'!$D$7:$AH$234,23,0)","v":"."}]
[null,"팔달관",27,1020,{"$f":"VLOOKUP(B148&D148,'[1]점검현황(금월)'!$D$7:$AH$234,2,0)","v":"건설교통 (CAD실)"},{"$f":"VLOOKUP(B148&D148,'[1]점검현황(금월)'!$D$7:$AH$234,3,0)","v":"PT-VX400"},{"$f":"VLOOKUP(B148&D148,'[1]점검현황(금월)'!$D$2:$AH$234,15,0)","v":"구"},{"$f":"VLOOKUP(B148&D148,'[1]점검현황(금월)'!$D$2:$AH$234,21,0)","v":"2013-03-13"},{"$f":"VLOOKUP(B148&D148,'[1]점검현황(금월)'!$D$7:$AH$234,24,0)","v":"·"},{"$f":"VLOOKUP(B148&D148,'[1]점검현황(금월)'!$D$7:$AH$234,19,0)","v":620},{"$f":"VLOOKUP(B148&D148,'[1]점검현황(전월)'!$D$7:$AH$233,20,0)","v":"08:50:00"},{"$f":"VLOOKUP(B148&D148,'[1]점검현황(금월)'!$D$7:$AH$234,31,0)","v":391},718,{"$f":"VLOOKUP(B148&D148,'[1]점검현황(전월)'!$D$7:$AH$233,18,0)","v":"10:10:00"},{"$f":"VLOOKUP(B148&D148,'[1]점검현황(금월)'!$D$7:$AH$234,23,0)","v":"."}]
[null,"팔달관",28,1024,{"$f":"VLOOKUP(B149&D149,'[1]점검현황(금월)'!$D$7:$AH$234,2,0)","v":"토목공학 (CAD실)"},{"$f":"VLOOKUP(B149&D149,'[1]점검현황(금월)'!$D$7:$AH$234,3,0)","v":"XT15KA"},{"$f":"VLOOKUP(B149&D149,'[1]점검현황(금월)'!$D$2:$AH$234,15,0)","v":"구"},{"$f":"VLOOKUP(B149&D149,'[1]점검현황(금월)'!$D$2:$AH$234,21,0)","v":"·"},{"$f":"VLOOKUP(B149&D149,'[1]점검현황(금월)'!$D$7:$AH$234,24,0)","v":"·"},{"$f":"VLOOKUP(B149&D149,'[1]점검현황(금월)'!$D$7:$AH$234,19,0)","v":622},{"$f":"VLOOKUP(B149&D149,'[1]점검현황(전월)'!$D$7:$AH$233,20,0)","v":"19:00:00"},{"$f":"VLOOKUP(B149&D149,'[1]점검현황(금월)'!$D$7:$AH$234,31,0)","v":958},718,{"$f":"VLOOKUP(B149&D149,'[1]점검현황(전월)'!$D$7:$AH$233,18,0)","v":"10:20:00"},{"$f":"VLOOKUP(B149&D149,'[1]점검현황(금월)'!$D$7:$AH$234,23,0)","v":"."}]
[null,"팔달관",29,1025,{"$f":"VLOOKUP(B150&D150,'[1]점검현황(금월)'!$D$7:$AH$234,2,0)","v":"정 통 컴"},{"$f":"VLOOKUP(B150&D150,'[1]점검현황(금월)'!$D$7:$AH$234,3,0)","v":"XT35K"},{"$f":"VLOOKUP(B150&D150,'[1]점검현황(금월)'!$D$2:$AH$234,15,0)","v":"자체"},{"$f":"VLOOKUP(B150&D150,'[1]점검현황(금월)'!$D$2:$AH$234,21,0)","v":"2011-12-07"},{"$f":"VLOOKUP(B150&D150,'[1]점검현황(금월)'!$D$7:$AH$234,24,0)","v":"·"},{"$f":"VLOOKUP(B150&D150,'[1]점검현황(금월)'!$D$7:$AH$234,19,0)","v":622},{"$f":"VLOOKUP(B150&D150,'[1]점검현황(전월)'!$D$7:$AH$233,20,0)","v":"19:10:00"},{"$f":"VLOOKUP(B150&D150,'[1]점검현황(금월)'!$D$7:$AH$234,31,0)","v":1940},718,{"$f":"VLOOKUP(B150&D150,'[1]점검현황(전월)'!$D$7:$AH$233,18,0)","v":"10:30:00"},{"$f":"VLOOKUP(B150&D150,'[1]점검현황(금월)'!$D$7:$AH$234,23,0)","v":"."}]
["산학원","산학원",1,"B103",{"$f":"VLOOKUP(B151&D151,'[1]점검현황(금월)'!$D$7:$AH$234,2,0)","v":"미디어"},{"$f":"VLOOKUP(B151&D151,'[1]점검현황(금월)'!$D$7:$AH$234,3,0)","v":"EX500E / EX500E"},{"$f":"VLOOKUP(B151&D151,'[1]점검현황(금월)'!$D$2:$AH$234,15,0)","v":"e-ST"},{"$f":"VLOOKUP(B151&D151,'[1]점검현황(금월)'!$D$2:$AH$234,21,0)","v":"·"},{"$f":"VLOOKUP(B151&D151,'[1]점검현황(금월)'!$D$7:$AH$234,24,0)","v":"·"},{"$f":"VLOOKUP(B151&D151,'[1]점검현황(금월)'!$D$7:$AH$234,19,0)","v":622},{"$f":"VLOOKUP(B151&D151,'[1]점검현황(전월)'!$D$7:$AH$233,20,0)","v":"19:20:00"},{"$f":"VLOOKUP(B151&D151,'[1]점검현황(금월)'!$D$7:$AH$234,31,0)","v":"2114/2026"},720,{"$f":"VLOOKUP(B151&D151,'[1]점검현황(전월)'!$D$7:$AH$233,18,0)","v":"10:40:00"},{"$f":"VLOOKUP(B151&D151,'[1]점검현황(금월)'!$D$7:$AH$234,23,0)","v":"4,"}]
[null,"산학원",2,415,{"$f":"VLOOKUP(B152&D152,'[1]점검현황(금월)'!$D$7:$AH$234,2,0)","v":"미디어 (PC실)"},{"$f":"VLOOKUP(B152&D152,'[1]점검현황(금월)'!$D$7:$AH$234,3,0)","v":"XU106K"},{"$f":"VLOOKUP(B152&D152,'[1]점검현황(금월)'!$D$2:$AH$234,15,0)","v":"e-ST"},{"$f":"VLOOKUP(B152&D152,'[1]점검현황(금월)'!$D$2:$AH$234,21,0)","v":"·"},{"$f":"VLOOKUP(B152&D152,'[1]점검현황(금월)'!$D$7:$AH$234,24,0)","v":"·"},{"$f":"VLOOKUP(B152&D152,'[1]점검현황(금월)'!$D$7:$AH$234,19,0)","v":622},{"$f":"VLOOKUP(B152&D152,'[1]점검현황(전월)'!$D$7:$AH$233,20,0)","v":"08:30:00"},{"$f":"VLOOKUP(B152&D152,'[1]점검현황(금월)'!$D$7:$AH$234,31,0)","v":2196},720,{"$f":"VLOOKUP(B152&D152,'[1]점검현황(전월)'!$D$7:$AH$233,18,0)","v":"10:50:00"},{"$f":"VLOOKUP(B152&D152,'[1]점검현황(금월)'!$D$7:$AH$234,23,0)","v":"."}]
[null,"산학원",3,419,{"$f":"VLOOKUP(B153&D153,'[1]점검현황(금월)'!$D$7:$AH$234,2,0)","v":"미디어 (PC실)"},{"$f":"VLOOKUP(B153&D153,'[1]점검현황(금월)'!$D$7:$AH$234,3,0)","v":"EX500E"},{"$f":"VLOOKUP(B153&D153,'[1]점검현황(금월)'!$D$2:$AH$234,15,0)","v":"e-ST"},{"$f":"VLOOKUP(B153&D153,'[1]점검현황(금월)'!$D$2:$AH$234,21,0)","v":"·"},{"$f":"VLOOKUP(B153&D153,'[1]점검현황(금월)'!$D$7:$AH$234,24,0)","v":"·"},{"$f":"VLOOKUP(B153&D153,'[1]점검현황(금월)'!$D$7:$AH$234,19,0)","v":622},{"$f":"VLOOKUP(B153&D153,'[1]점검현황(전월)'!$D$7:$AH$233,20,0)","v":"08:40:00"},{"$f":"VLOOKUP(B153&D153,'[1]점검현황(금월)'!$D$7:$AH$234,31,0)","v":1363},720,{"$f":"VLOOKUP(B153&D153,'[1]점검현황(전월)'!$D$7:$AH$233,18,0)","v":"11:00:00"},{"$f":"VLOOKUP(B153&D153,'[1]점검현황(금월)'!$D$7:$AH$234,23,0)","v":"."}]
[null,"산학원",4,420,{"$f":"VLOOKUP(B154&D154,'[1]점검현황(금월)'!$D$7:$AH$234,2,0)","v":"미디어 (PC실)"},{"$f":"VLOOKUP(B154&D154,'[1]점검현황(금월)'!$D$7:$AH$234,3,0)","v":"EX500E"},{"$f":"VLOOKUP(B154&D154,'[1]점검현황(금월)'!$D$2:$AH$234,15,0)","v":"e-ST"},{"$f":"VLOOKUP(B154&D154,'[1]점검현황(금월)'!$D$2:$AH$234,21,0)","v":"2015-06-10"},{"$f":"VLOOKUP(B154&D154,'[1]점검현황(금월)'!$D$7:$AH$234,24,0)","v":"·"},{"$f":"VLOOKUP(B154&D154,'[1]점검현황(금월)'!$D$7:$AH$234,19,0)","v":622},{"$f":"VLOOKUP(B154&D154,'[1]점검현황(전월)'!$D$7:$AH$233,20,0)","v":"08:50:00"},{"$f":"VLOOKUP(B154&D154,'[1]점검현황(금월)'!$D$7:$AH$234,31,0)","v":28},720,{"$f":"VLOOKUP(B154&D154,'[1]점검현황(전월)'!$D$7:$AH$233,18,0)","v":"11:10:00"},{"$f":"VLOOKUP(B154&D154,'[1]점검현황(금월)'!$D$7:$AH$234,23,0)","v":"10,"}]
[null,"산학원",5,421,{"$f":"VLOOKUP(B155&D155,'[1]점검현황(금월)'!$D$7:$AH$234,2,0)","v":"미디어 (PC실)"},{"$f":"VLOOKUP(B155&D155,'[1]점검현황(금월)'!$D$7:$AH$234,3,0)","v":"XU106K"},{"$f":"VLOOKUP(B155&D155,'[1]점검현황(금월)'!$D$2:$AH$234,15,0)","v":"e-ST"},{"$f":"VLOOKUP(B155&D155,'[1]점검현황(금월)'!$D$2:$AH$234,21,0)","v":"2014-04-01"},{"$f":"VLOOKUP(B155&D155,'[1]점검현황(금월)'!$D$7:$AH$234,24,0)","v":"·"},{"$f":"VLOOKUP(B155&D155,'[1]점검현황(금월)'!$D$7:$AH$234,19,0)","v":622},{"$f":"VLOOKUP(B155&D155,'[1]점검현황(전월)'!$D$7:$AH$233,20,0)","v":"19:00:00"},{"$f":"VLOOKUP(B155&D155,'[1]점검현황(금월)'!$D$7:$AH$234,31,0)","v":1048},720,{"$f":"VLOOKUP(B155&D155,'[1]점검현황(전월)'!$D$7:$AH$233,18,0)","v":"11:20:00"},{"$f":"VLOOKUP(B155&D155,'[1]점검현황(금월)'!$D$7:$AH$234,23,0)","v":"."}]
[null,"산학원",6,422,{"$f":"VLOOKUP(B156&D156,'[1]점검현황(금월)'!$D$7:$AH$234,2,0)","v":"미디어"},{"$f":"VLOOKUP(B156&D156,'[1]점검현황(금월)'!$D$7:$AH$234,3,0)","v":"XU105K"},{"$f":"VLOOKUP(B156&D156,'[1]점검현황(금월)'!$D$2:$AH$234,15,0)","v":"구e-ST"},{"$f":"VLOOKUP(B156&D156,'[1]점검현황(금월)'!$D$2:$AH$234,21,0)","v":"2014-06-10"},{"$f":"VLOOKUP(B156&D156,'[1]점검현황(금월)'!$D$7:$AH$234,24,0)","v":"2012-07-28"},{"$f":"VLOOKUP(B156&D156,'[1]점검현황(금월)'!$D$7:$AH$234,19,0)","v":623},{"$f":"VLOOKUP(B156&D156,'[1]점검현황(전월)'!$D$7:$AH$233,20,0)","v":"19:10:00"},{"$f":"VLOOKUP(B156&D156,'[1]점검현황(금월)'!$D$7:$AH$234,31,0)","v":524},720,{"$f":"VLOOKUP(B156&D156,'[1]점검현황(전월)'!$D$7:$AH$233,18,0)","v":"11:30:00"},{"$f":"VLOOKUP(B156&D156,'[1]점검현황(금월)'!$D$7:$AH$234,23,0)","v":"."}]
[null,"산학원",7,"422-1",{"$f":"VLOOKUP(B157&D157,'[1]점검현황(금월)'!$D$7:$AH$234,2,0)","v":"미디어"},{"$f":"VLOOKUP(B157&D157,'[1]점검현황(금월)'!$D$7:$AH$234,3,0)","v":"SHARP XG-M86"},{"$f":"VLOOKUP(B157&D157,'[1]점검현황(금월)'!$D$2:$AH$234,15,0)","v":"구"},{"$f":"VLOOKUP(B157&D157,'[1]점검현황(금월)'!$D$2:$AH$234,21,0)","v":"·"},{"$f":"VLOOKUP(B157&D157,'[1]점검현황(금월)'!$D$7:$AH$234,24,0)","v":"·"},{"$f":"VLOOKUP(B157&D157,'[1]점검현황(금월)'!$D$7:$AH$234,19,0)","v":623},{"$f":"VLOOKUP(B157&D157,'[1]점검현황(전월)'!$D$7:$AH$233,20,0)","v":"19:20:00"},{"$f":"VLOOKUP(B157&D157,'[1]점검현황(금월)'!$D$7:$AH$234,31,0)","v":1084},721,{"$f":"VLOOKUP(B157&D157,'[1]점검현황(전월)'!$D$7:$AH$233,18,0)","v":"11:40:00"},{"$f":"VLOOKUP(B157&D157,'[1]점검현황(금월)'!$D$7:$AH$234,23,0)","v":"."}]
[null,"산학원",8,504,{"$f":"VLOOKUP(B158&D158,'[1]점검현황(금월)'!$D$7:$AH$234,2,0)","v":"대학원지식정보안학과"},{"$f":"VLOOKUP(B158&D158,'[1]점검현황(금월)'!$D$7:$AH$234,3,0)","v":"XU106K"},{"$f":"VLOOKUP(B158&D158,'[1]점검현황(금월)'!$D$2:$AH$234,15,0)","v":"자체"},{"$f":"VLOOKUP(B158&D158,'[1]점검현황(금월)'!$D$2:$AH$234,21,0)","v":"·"},{"$f":"VLOOKUP(B158&D158,'[1]점검현황(금월)'!$D$7:$AH$234,24,0)","v":"2013-09-10"},{"$f":"VLOOKUP(B158&D158,'[1]점검현황(금월)'!$D$7:$AH$234,19,0)","v":623},{"$f":"VLOOKUP(B158&D158,'[1]점검현황(전월)'!$D$7:$AH$233,20,0)","v":"09:00:00"},{"$f":"VLOOKUP(B158&D158,'[1]점검현황(금월)'!$D$7:$AH$234,31,0)","v":1668},721,{"$f":"VLOOKUP(B158&D158,'[1]점검현황(전월)'!$D$7:$AH$233,18,0)","v":"11:50:00"},{"$f":"VLOOKUP(B158&D158,'[1]점검현황(금월)'!$D$7:$AH$234,23,0)","v":"."}]
[null,"산학원",9,505,{"$f":"VLOOKUP(B159&D159,'[1]점검현황(금월)'!$D$7:$AH$234,2,0)","v":"대학원지식정보안학과"},{"$f":"VLOOKUP(B159&D159,'[1]점검현황(금월)'!$D$7:$AH$234,3,0)","v":"XU106K"},{"$f":"VLOOKUP(B159&D159,'[1]점검현황(금월)'!$D$2:$AH$234,15,0)","v":"자체"},{"$f":"VLOOKUP(B159&D159,'[1]점검현황(금월)'!$D$2:$AH$234,21,0)","v":"·"},{"$f":"VLOOKUP(B159&D159,'[1]점검현황(금월)'!$D$7:$AH$234,24,0)","v":"2012-07-14"},{"$f":"VLOOKUP(B159&D159,'[1]점검현황(금월)'!$D$7:$AH$234,19,0)","v":623},{"$f":"VLOOKUP(B159&D159,'[1]점검현황(전월)'!$D$7:$AH$233,20,0)","v":"09:10:00"},{"$f":"VLOOKUP(B159&D159,'[1]점검현황(금월)'!$D$7:$AH$234,31,0)","v":1425},721,{"$f":"VLOOKUP(B159&D159,'[1]점검현황(전월)'!$D$7:$AH$233,18,0)","v":"12:00:00"},{"$f":"VLOOKUP(B159&D159,'[1]점검현황(금월)'!$D$7:$AH$234,23,0)","v":"."}]
[null,"산학원",10,713,{"$f":"VLOOKUP(B160&D160,'[1]점검현황(금월)'!$D$7:$AH$234,2,0)","v":"회의실"},{"$f":"VLOOKUP(B160&D160,'[1]점검현황(금월)'!$D$7:$AH$234,3,0)","v":"XT15KS"},{"$f":"VLOOKUP(B160&D160,'[1]점검현황(금월)'!$D$2:$AH$234,15,0)","v":"구"},{"$f":"VLOOKUP(B160&D160,'[1]점검현황(금월)'!$D$2:$AH$234,21,0)","v":"·"},{"$f":"VLOOKUP(B160&D160,'[1]점검현황(금월)'!$D$7:$AH$234,24,0)","v":"2013-01-30"},{"$f":"VLOOKUP(B160&D160,'[1]점검현황(금월)'!$D$7:$AH$234,19,0)","v":623},{"$f":"VLOOKUP(B160&D160,'[1]점검현황(전월)'!$D$7:$AH$233,20,0)","v":"09:20:00"},{"$f":"VLOOKUP(B160&D160,'[1]점검현황(금월)'!$D$7:$AH$234,31,0)","v":264},721,{"$f":"VLOOKUP(B160&D160,'[1]점검현황(전월)'!$D$7:$AH$233,18,0)","v":"13:00:00"},{"$f":"VLOOKUP(B160&D160,'[1]점검현황(금월)'!$D$7:$AH$234,23,0)","v":"."}]
[null,"산학원",11,811,{"$f":"VLOOKUP(B161&D161,'[1]점검현황(금월)'!$D$7:$AH$234,2,0)","v":"회의실"},{"$f":"VLOOKUP(B161&D161,'[1]점검현황(금월)'!$D$7:$AH$234,3,0)","v":"VX410Z"},{"$f":"VLOOKUP(B161&D161,'[1]점검현황(금월)'!$D$2:$AH$234,15,0)","v":"자체"},{"$f":"VLOOKUP(B161&D161,'[1]점검현황(금월)'!$D$2:$AH$234,21,0)","v":"2015-06-09"},{"$f":"VLOOKUP(B161&D161,'[1]점검현황(금월)'!$D$7:$AH$234,24,0)","v":"·"},{"$f":"VLOOKUP(B161&D161,'[1]점검현황(금월)'!$D$7:$AH$234,19,0)","v":623},{"$f":"VLOOKUP(B161&D161,'[1]점검현황(전월)'!$D$7:$AH$233,20,0)","v":"16:30:00"},{"$f":"VLOOKUP(B161&D161,'[1]점검현황(금월)'!$D$7:$AH$234,31,0)","v":0},721,{"$f":"VLOOKUP(B161&D161,'[1]점검현황(전월)'!$D$7:$AH$233,18,0)","v":"13:05:00"},{"$f":"VLOOKUP(B161&D161,'[1]점검현황(금월)'!$D$7:$AH$234,23,0)","v":"."}]
[null,"산학원",12,825,{"$f":"VLOOKUP(B162&D162,'[1]점검현황(금월)'!$D$7:$AH$234,2,0)","v":"전공 - 건축"},{"$f":"VLOOKUP(B162&D162,'[1]점검현황(금월)'!$D$7:$AH$234,3,0)","v":"XU100K"},{"$f":"VLOOKUP(B162&D162,'[1]점검현황(금월)'!$D$2:$AH$234,15,0)","v":"구"},{"$f":"VLOOKUP(B162&D162,'[1]점검현황(금월)'!$D$2:$AH$234,21,0)","v":"2012-01-18"},{"$f":"VLOOKUP(B162&D162,'[1]점검현황(금월)'!$D$7:$AH$234,24,0)","v":"·"},{"$f":"VLOOKUP(B162&D162,'[1]점검현황(금월)'!$D$7:$AH$234,19,0)","v":623},{"$f":"VLOOKUP(B162&D162,'[1]점검현황(전월)'!$D$7:$AH$233,20,0)","v":"09:30:00"},{"$f":"VLOOKUP(B162&D162,'[1]점검현황(금월)'!$D$7:$AH$234,31,0)","v":993},721,{"$f":"VLOOKUP(B162&D162,'[1]점검현황(전월)'!$D$7:$AH$233,18,0)","v":"13:10:00"},{"$f":"VLOOKUP(B162&D162,'[1]점검현황(금월)'!$D$7:$AH$234,23,0)","v":"."}]
[null,"산학원",13,827,{"$f":"VLOOKUP(B163&D163,'[1]점검현황(금월)'!$D$7:$AH$234,2,0)","v":"전공 - 건축"},{"$f":"VLOOKUP(B163&D163,'[1]점검현황(금월)'!$D$7:$AH$234,3,0)","v":"XU100K"},{"$f":"VLOOKUP(B163&D163,'[1]점검현황(금월)'!$D$2:$AH$234,15,0)","v":"자체"},{"$f":"VLOOKUP(B163&D163,'[1]점검현황(금월)'!$D$2:$AH$234,21,0)","v":"·"},{"$f":"VLOOKUP(B163&D163,'[1]점검현황(금월)'!$D$7:$AH$234,24,0)","v":"·"},{"$f":"VLOOKUP(B163&D163,'[1]점검현황(금월)'!$D$7:$AH$234,19,0)","v":624},{"$f":"VLOOKUP(B163&D163,'[1]점검현황(전월)'!$D$7:$AH$233,20,0)","v":"09:40:00"},{"$f":"VLOOKUP(B163&D163,'[1]점검현황(금월)'!$D$7:$AH$234,31,0)","v":58},721,{"$f":"VLOOKUP(B163&D163,'[1]점검현황(전월)'!$D$7:$AH$233,18,0)","v":"13:20:00"},{"$f":"VLOOKUP(B163&D163,'[1]점검현황(금월)'!$D$7:$AH$234,23,0)","v":"."}]
["학군단","학군단",1,"1강의",{"$f":"VLOOKUP(B164&D164,'[1]점검현황(금월)'!$D$7:$AH$234,2,0)","v":"멀티미디어"},{"$f":"VLOOKUP(B164&D164,'[1]점검현황(금월)'!$D$7:$AH$234,3,0)","v":"XT35K"},{"$f":"VLOOKUP(B164&D164,'[1]점검현황(금월)'!$D$2:$AH$234,15,0)","v":"구"},{"$f":"VLOOKUP(B164&D164,'[1]점검현황(금월)'!$D$2:$AH$234,21,0)","v":"2013-02-22"},{"$f":"VLOOKUP(B164&D164,'[1]점검현황(금월)'!$D$7:$AH$234,24,0)","v":"2012-06-12"},{"$f":"VLOOKUP(B164&D164,'[1]점검현황(금월)'!$D$7:$AH$234,19,0)","v":624},{"$f":"VLOOKUP(B164&D164,'[1]점검현황(전월)'!$D$7:$AH$233,20,0)","v":"09:50:00"},{"$f":"VLOOKUP(B164&D164,'[1]점검현황(금월)'!$D$7:$AH$234,31,0)","v":826},722,{"$f":"VLOOKUP(B164&D164,'[1]점검현황(전월)'!$D$7:$AH$233,18,0)","v":"13:30:00"},{"$f":"VLOOKUP(B164&D164,'[1]점검현황(금월)'!$D$7:$AH$234,23,0)","v":"5,"}]
[null,"학군단",2,"2강의",{"$f":"VLOOKUP(B165&D165,'[1]점검현황(금월)'!$D$7:$AH$234,2,0)","v":"멀티미디어"},{"$f":"VLOOKUP(B165&D165,'[1]점검현황(금월)'!$D$7:$AH$234,3,0)","v":"XT35K"},{"$f":"VLOOKUP(B165&D165,'[1]점검현황(금월)'!$D$2:$AH$234,15,0)","v":"구"},{"$f":"VLOOKUP(B165&D165,'[1]점검현황(금월)'!$D$2:$AH$234,21,0)","v":"2015-06-25"},{"$f":"VLOOKUP(B165&D165,'[1]점검현황(금월)'!$D$7:$AH$234,24,0)","v":"2013-01-28"},{"$f":"VLOOKUP(B165&D165,'[1]점검현황(금월)'!$D$7:$AH$234,19,0)","v":625},{"$f":"VLOOKUP(B165&D165,'[1]점검현황(전월)'!$D$7:$AH$233,20,0)","v":"10:00:00"},{"$f":"VLOOKUP(B165&D165,'[1]점검현황(금월)'!$D$7:$AH$234,31,0)","v":0},722,{"$f":"VLOOKUP(B165&D165,'[1]점검현황(전월)'!$D$7:$AH$233,18,0)","v":"13:40:00"},{"$f":"VLOOKUP(B165&D165,'[1]점검현황(금월)'!$D$7:$AH$234,23,0)","v":"2,"}]
["전산원","전산원",1,101,{"$f":"VLOOKUP(B166&D166,'[1]점검현황(금월)'!$D$7:$AH$234,2,0)","v":"강당"},{"$f":"VLOOKUP(B166&D166,'[1]점검현황(금월)'!$D$7:$AH$234,3,0)","v":"VX510EA"},{"$f":"VLOOKUP(B166&D166,'[1]점검현황(금월)'!$D$2:$AH$234,15,0)","v":"e-ST"},{"$f":"VLOOKUP(B166&D166,'[1]점검현황(금월)'!$D$2:$AH$234,21,0)","v":"·"},{"$f":"VLOOKUP(B166&D166,'[1]점검현황(금월)'!$D$7:$AH$234,24,0)","v":"2013-08-22"},{"$f":"VLOOKUP(B166&D166,'[1]점검현황(금월)'!$D$7:$AH$234,19,0)","v":624},{"$f":"VLOOKUP(B166&D166,'[1]점검현황(전월)'!$D$7:$AH$233,20,0)","v":"17:30:00"},{"$f":"VLOOKUP(B166&D166,'[1]점검현황(금월)'!$D$7:$AH$234,31,0)","v":380},722,{"$f":"VLOOKUP(B166&D166,'[1]점검현황(전월)'!$D$7:$AH$233,18,0)","v":"08:30:00"},{"$f":"VLOOKUP(B166&D166,'[1]점검현황(금월)'!$D$7:$AH$234,23,0)","v":"."}]
[null,"전산원",2,509,{"$f":"VLOOKUP(B167&D167,'[1]점검현황(금월)'!$D$7:$AH$234,2,0)","v":"PC실"},{"$f":"VLOOKUP(B167&D167,'[1]점검현황(금월)'!$D$7:$AH$234,3,0)","v":"XU106K"},{"$f":"VLOOKUP(B167&D167,'[1]점검현황(금월)'!$D$2:$AH$234,15,0)","v":"구"},{"$f":"VLOOKUP(B167&D167,'[1]점검현황(금월)'!$D$2:$AH$234,21,0)","v":"2012-09-25"},{"$f":"VLOOKUP(B167&D167,'[1]점검현황(금월)'!$D$7:$AH$234,24,0)","v":"2014-02-13"},{"$f":"VLOOKUP(B167&D167,'[1]점검현황(금월)'!$D$7:$AH$234,19,0)","v":624},{"$f":"VLOOKUP(B167&D167,'[1]점검현황(전월)'!$D$7:$AH$233,20,0)","v":"10:20:00"},{"$f":"VLOOKUP(B167&D167,'[1]점검현황(금월)'!$D$7:$AH$234,31,0)","v":1631},722,{"$f":"VLOOKUP(B167&D167,'[1]점검현황(전월)'!$D$7:$AH$233,18,0)","v":"08:40:00"},{"$f":"VLOOKUP(B167&D167,'[1]점검현황(금월)'!$D$7:$AH$234,23,0)","v":"."}]
[null,"전산원",3,510,{"$f":"VLOOKUP(B168&D168,'[1]점검현황(금월)'!$D$7:$AH$234,2,0)","v":"PC실"},{"$f":"VLOOKUP(B168&D168,'[1]점검현황(금월)'!$D$7:$AH$234,3,0)","v":"XU106K"},{"$f":"VLOOKUP(B168&D168,'[1]점검현황(금월)'!$D$2:$AH$234,15,0)","v":"구"},{"$f":"VLOOKUP(B168&D168,'[1]점검현황(금월)'!$D$2:$AH$234,21,0)","v":"2014-03-21"},{"$f":"VLOOKUP(B168&D168,'[1]점검현황(금월)'!$D$7:$AH$234,24,0)","v":"·"},{"$f":"VLOOKUP(B168&D168,'[1]점검현황(금월)'!$D$7:$AH$234,19,0)","v":624},{"$f":"VLOOKUP(B168&D168,'[1]점검현황(전월)'!$D$7:$AH$233,20,0)","v":"11:10:00"},{"$f":"VLOOKUP(B168&D168,'[1]점검현황(금월)'!$D$7:$AH$234,31,0)","v":666},722,{"$f":"VLOOKUP(B168&D168,'[1]점검현황(전월)'!$D$7:$AH$233,18,0)","v":"08:50:00"},{"$f":"VLOOKUP(B168&D168,'[1]점검현황(금월)'!$D$7:$AH$234,23,0)","v":"."}]
[null,"전산원",4,514,{"$f":"VLOOKUP(B169&D169,'[1]점검현황(금월)'!$D$7:$AH$234,2,0)","v":"PC실"},{"$f":"VLOOKUP(B169&D169,'[1]점검현황(금월)'!$D$7:$AH$234,3,0)","v":"XU106K"},{"$f":"VLOOKUP(B169&D169,'[1]점검현황(금월)'!$D$2:$AH$234,15,0)","v":"구"},{"$f":"VLOOKUP(B169&D169,'[1]점검현황(금월)'!$D$2:$AH$234,21,0)","v":"2011-07-08"},{"$f":"VLOOKUP(B169&D169,'[1]점검현황(금월)'!$D$7:$AH$234,24,0)","v":"2013-01-28"},{"$f":"VLOOKUP(B169&D169,'[1]점검현황(금월)'!$D$7:$AH$234,19,0)","v":624},{"$f":"VLOOKUP(B169&D169,'[1]점검현황(전월)'!$D$7:$AH$233,20,0)","v":"13:18:00"},{"$f":"VLOOKUP(B169&D169,'[1]점검현황(금월)'!$D$7:$AH$234,31,0)","v":709},722,{"$f":"VLOOKUP(B169&D169,'[1]점검현황(전월)'!$D$7:$AH$233,18,0)","v":"19:00:00"},{"$f":"VLOOKUP(B169&D169,'[1]점검현황(금월)'!$D$7:$AH$234,23,0)","v":"."}]
["종합관","종합관",1,101,{"$f":"VLOOKUP(B170&D170,'[1]점검현황(금월)'!$D$7:$AH$234,2,0)","v":"대강당"},{"$f":"VLOOKUP(B170&D170,'[1]점검현황(금월)'!$D$7:$AH$234,3,0)","v":"EX16KE"},{"$f":"VLOOKUP(B170&D170,'[1]점검현황(금월)'!$D$2:$AH$234,15,0)","v":"e-ST"},{"$f":"VLOOKUP(B170&D170,'[1]점검현황(금월)'!$D$2:$AH$234,21,0)","v":"2014-05-08"},{"$f":"VLOOKUP(B170&D170,'[1]점검현황(금월)'!$D$7:$AH$234,24,0)","v":"·"},{"$f":"VLOOKUP(B170&D170,'[1]점검현황(금월)'!$D$7:$AH$234,19,0)","v":625},{"$f":"VLOOKUP(B170&D170,'[1]점검현황(전월)'!$D$7:$AH$233,20,0)","v":"10:50:00"},{"$f":"VLOOKUP(B170&D170,'[1]점검현황(금월)'!$D$7:$AH$234,31,0)","v":"682/682/682/682"},723,{"$f":"VLOOKUP(B170&D170,'[1]점검현황(전월)'!$D$7:$AH$233,18,0)","v":"19:10:00"},{"$f":"VLOOKUP(B170&D170,'[1]점검현황(금월)'!$D$7:$AH$234,23,0)","v":"4,5,11,15"}]
[null,"종합관",2,102,{"$f":"VLOOKUP(B171&D171,'[1]점검현황(금월)'!$D$7:$AH$234,2,0)","v":"계단식 "},{"$f":"VLOOKUP(B171&D171,'[1]점검현황(금월)'!$D$7:$AH$234,3,0)","v":"XM5000"},{"$f":"VLOOKUP(B171&D171,'[1]점검현황(금월)'!$D$2:$AH$234,15,0)","v":"e-ST"},{"$f":"VLOOKUP(B171&D171,'[1]점검현황(금월)'!$D$2:$AH$234,21,0)","v":"2014-05-08"},{"$f":"VLOOKUP(B171&D171,'[1]점검현황(금월)'!$D$7:$AH$234,24,0)","v":"2014-05-24"},{"$f":"VLOOKUP(B171&D171,'[1]점검현황(금월)'!$D$7:$AH$234,19,0)","v":625},{"$f":"VLOOKUP(B171&D171,'[1]점검현황(전월)'!$D$7:$AH$233,20,0)","v":"11:00:00"},{"$f":"VLOOKUP(B171&D171,'[1]점검현황(금월)'!$D$7:$AH$234,31,0)","v":1789},723,{"$f":"VLOOKUP(B171&D171,'[1]점검현황(전월)'!$D$7:$AH$233,18,0)","v":"19:20:00"},{"$f":"VLOOKUP(B171&D171,'[1]점검현황(금월)'!$D$7:$AH$234,23,0)","v":"15,"}]
[null,"종합관",3,104,{"$f":"VLOOKUP(B172&D172,'[1]점검현황(금월)'!$D$7:$AH$234,2,0)","v":"계단식 "},{"$f":"VLOOKUP(B172&D172,'[1]점검현황(금월)'!$D$7:$AH$234,3,0)","v":"XM5000"},{"$f":"VLOOKUP(B172&D172,'[1]점검현황(금월)'!$D$2:$AH$234,15,0)","v":"e-ST"},{"$f":"VLOOKUP(B172&D172,'[1]점검현황(금월)'!$D$2:$AH$234,21,0)","v":"2015-05-06"},{"$f":"VLOOKUP(B172&D172,'[1]점검현황(금월)'!$D$7:$AH$234,24,0)","v":"2015-05-06"},{"$f":"VLOOKUP(B172&D172,'[1]점검현황(금월)'!$D$7:$AH$234,19,0)","v":630},{"$f":"VLOOKUP(B172&D172,'[1]점검현황(전월)'!$D$7:$AH$233,20,0)","v":"15:20:00"},{"$f":"VLOOKUP(B172&D172,'[1]점검현황(금월)'!$D$7:$AH$234,31,0)","v":255},723,{"$f":"VLOOKUP(B172&D172,'[1]점검현황(전월)'!$D$7:$AH$233,18,0)","v":"08:30:00"},{"$f":"VLOOKUP(B172&D172,'[1]점검현황(금월)'!$D$7:$AH$234,23,0)","v":"1,9,12,30(2)"}]
[null,"종합관",4,105,{"$f":"VLOOKUP(B173&D173,'[1]점검현황(금월)'!$D$7:$AH$234,2,0)","v":"계단식 "},{"$f":"VLOOKUP(B173&D173,'[1]점검현황(금월)'!$D$7:$AH$234,3,0)","v":"XM5000"},{"$f":"VLOOKUP(B173&D173,'[1]점검현황(금월)'!$D$2:$AH$234,15,0)","v":"e-ST"},{"$f":"VLOOKUP(B173&D173,'[1]점검현황(금월)'!$D$2:$AH$234,21,0)","v":"2015-06-01"},{"$f":"VLOOKUP(B173&D173,'[1]점검현황(금월)'!$D$7:$AH$234,24,0)","v":"2013-09-25"},{"$f":"VLOOKUP(B173&D173,'[1]점검현황(금월)'!$D$7:$AH$234,19,0)","v":625},{"$f":"VLOOKUP(B173&D173,'[1]점검현황(전월)'!$D$7:$AH$233,20,0)","v":"17:30:00"},{"$f":"VLOOKUP(B173&D173,'[1]점검현황(금월)'!$D$7:$AH$234,31,0)","v":86},723,{"$f":"VLOOKUP(B173&D173,'[1]점검현황(전월)'!$D$7:$AH$233,18,0)","v":"08:40:00"},{"$f":"VLOOKUP(B173&D173,'[1]점검현황(금월)'!$D$7:$AH$234,23,0)","v":"1,5,12"}]
[null,"종합관",5,"202-2",{"$f":"VLOOKUP(B174&D174,'[1]점검현황(금월)'!$D$7:$AH$234,2,0)","v":"법전원"},{"$f":"VLOOKUP(B174&D174,'[1]점검현황(금월)'!$D$7:$AH$234,3,0)","v":"XT35K"},{"$f":"VLOOKUP(B174&D174,'[1]점검현황(금월)'!$D$2:$AH$234,15,0)","v":"자체"},{"$f":"VLOOKUP(B174&D174,'[1]점검현황(금월)'!$D$2:$AH$234,21,0)","v":"·"},{"$f":"VLOOKUP(B174&D174,'[1]점검현황(금월)'!$D$7:$AH$234,24,0)","v":"·"},{"$f":"VLOOKUP(B174&D174,'[1]점검현황(금월)'!$D$7:$AH$234,19,0)","v":625},{"$f":"VLOOKUP(B174&D174,'[1]점검현황(전월)'!$D$7:$AH$233,20,0)","v":"11:30:00"},{"$f":"VLOOKUP(B174&D174,'[1]점검현황(금월)'!$D$7:$AH$234,31,0)","v":72},723,{"$f":"VLOOKUP(B174&D174,'[1]점검현황(전월)'!$D$7:$AH$233,18,0)","v":"08:50:00"},{"$f":"VLOOKUP(B174&D174,'[1]점검현황(금월)'!$D$7:$AH$234,23,0)","v":"."}]
[null,"종합관",6,301,{"$f":"VLOOKUP(B175&D175,'[1]점검현황(금월)'!$D$7:$AH$234,2,0)","v":"법전원"},{"$f":"VLOOKUP(B175&D175,'[1]점검현황(금월)'!$D$7:$AH$234,3,0)","v":"XU106K / XU106K"},{"$f":"VLOOKUP(B175&D175,'[1]점검현황(금월)'!$D$2:$AH$234,15,0)","v":"e-ST"},{"$f":"VLOOKUP(B175&D175,'[1]점검현황(금월)'!$D$2:$AH$234,21,0)","v":"·"},{"$f":"VLOOKUP(B175&D175,'[1]점검현황(금월)'!$D$7:$AH$234,24,0)","v":"2015-04-27(2)"},{"$f":"VLOOKUP(B175&D175,'[1]점검현황(금월)'!$D$7:$AH$234,19,0)","v":625},{"$f":"VLOOKUP(B175&D175,'[1]점검현황(전월)'!$D$7:$AH$233,20,0)","v":"11:40:00"},{"$f":"VLOOKUP(B175&D175,'[1]점검현황(금월)'!$D$7:$AH$234,31,0)","v":"2085/896"},723,{"$f":"VLOOKUP(B175&D175,'[1]점검현황(전월)'!$D$7:$AH$233,18,0)","v":"19:00:00"},{"$f":"VLOOKUP(B175&D175,'[1]점검현황(금월)'!$D$7:$AH$234,23,0)","v":"."}]
[null,"종합관",7,315,{"$f":"VLOOKUP(B176&D176,'[1]점검현황(금월)'!$D$7:$AH$234,2,0)","v":"법전원"},{"$f":"VLOOKUP(B176&D176,'[1]점검현황(금월)'!$D$7:$AH$234,3,0)","v":"XU105K"},{"$f":"VLOOKUP(B176&D176,'[1]점검현황(금월)'!$D$2:$AH$234,15,0)","v":"구"},{"$f":"VLOOKUP(B176&D176,'[1]점검현황(금월)'!$D$2:$AH$234,21,0)","v":"·"},{"$f":"VLOOKUP(B176&D176,'[1]점검현황(금월)'!$D$7:$AH$234,24,0)","v":"·"},{"$f":"VLOOKUP(B176&D176,'[1]점검현황(금월)'!$D$7:$AH$234,19,0)","v":625},{"$f":"VLOOKUP(B176&D176,'[1]점검현황(전월)'!$D$7:$AH$233,20,0)","v":"11:50:00"},{"$f":"VLOOKUP(B176&D176,'[1]점검현황(금월)'!$D$7:$AH$234,31,0)","v":1124},724,{"$f":"VLOOKUP(B176&D176,'[1]점검현황(전월)'!$D$7:$AH$233,18,0)","v":"19:10:00"},{"$f":"VLOOKUP(B176&D176,'[1]점검현황(금월)'!$D$7:$AH$234,23,0)","v":"."}]
[null,"종합관",8,401,{"$f":"VLOOKUP(B177&D177,'[1]점검현황(금월)'!$D$7:$AH$234,2,0)","v":"법전원"},{"$f":"VLOOKUP(B177&D177,'[1]점검현황(금월)'!$D$7:$AH$234,3,0)","v":"XU106K"},{"$f":"VLOOKUP(B177&D177,'[1]점검현황(금월)'!$D$2:$AH$234,15,0)","v":"e-ST"},{"$f":"VLOOKUP(B177&D177,'[1]점검현황(금월)'!$D$2:$AH$234,21,0)","v":"·"},{"$f":"VLOOKUP(B177&D177,'[1]점검현황(금월)'!$D$7:$AH$234,24,0)","v":"·"},{"$f":"VLOOKUP(B177&D177,'[1]점검현황(금월)'!$D$7:$AH$234,19,0)","v":626},{"$f":"VLOOKUP(B177&D177,'[1]점검현황(전월)'!$D$7:$AH$233,20,0)","v":"12:00:00"},{"$f":"VLOOKUP(B177&D177,'[1]점검현황(금월)'!$D$7:$AH$234,31,0)","v":1872},724,{"$f":"VLOOKUP(B177&D177,'[1]점검현황(전월)'!$D$7:$AH$233,18,0)","v":"19:20:00"},{"$f":"VLOOKUP(B177&D177,'[1]점검현황(금월)'!$D$7:$AH$234,23,0)","v":"."}]
[null,"종합관",9,412,{"$f":"VLOOKUP(B178&D178,'[1]점검현황(금월)'!$D$7:$AH$234,2,0)","v":"법전원"},{"$f":"VLOOKUP(B178&D178,'[1]점검현황(금월)'!$D$7:$AH$234,3,0)","v":"XU100K"},{"$f":"VLOOKUP(B178&D178,'[1]점검현황(금월)'!$D$2:$AH$234,15,0)","v":"구"},{"$f":"VLOOKUP(B178&D178,'[1]점검현황(금월)'!$D$2:$AH$234,21,0)","v":"·"},{"$f":"VLOOKUP(B178&D178,'[1]점검현황(금월)'!$D$7:$AH$234,24,0)","v":"·"},{"$f":"VLOOKUP(B178&D178,'[1]점검현황(금월)'!$D$7:$AH$234,19,0)","v":626},{"$f":"VLOOKUP(B178&D178,'[1]점검현황(전월)'!$D$7:$AH$233,20,0)","v":"13:00:00"},{"$f":"VLOOKUP(B178&D178,'[1]점검현황(금월)'!$D$7:$AH$234,31,0)","v":86},724,{"$f":"VLOOKUP(B178&D178,'[1]점검현황(전월)'!$D$7:$AH$233,18,0)","v":"08:30:00"},{"$f":"VLOOKUP(B178&D178,'[1]점검현황(금월)'!$D$7:$AH$234,23,0)","v":"."}]
[null,"종합관",10,413,{"$f":"VLOOKUP(B179&D179,'[1]점검현황(금월)'!$D$7:$AH$234,2,0)","v":"법전원"},{"$f":"VLOOKUP(B179&D179,'[1]점검현황(금월)'!$D$7:$AH$234,3,0)","v":"XU105K"},{"$f":"VLOOKUP(B179&D179,'[1]점검현황(금월)'!$D$2:$AH$234,15,0)","v":"구"},{"$f":"VLOOKUP(B179&D179,'[1]점검현황(금월)'!$D$2:$AH$234,21,0)","v":"·"},{"$f":"VLOOKUP(B179&D179,'[1]점검현황(금월)'!$D$7:$AH$234,24,0)","v":"·"},{"$f":"VLOOKUP(B179&D179,'[1]점검현황(금월)'!$D$7:$AH$234,19,0)","v":626},{"$f":"VLOOKUP(B179&D179,'[1]점검현황(전월)'!$D$7:$AH$233,20,0)","v":"13:10:00"},{"$f":"VLOOKUP(B179&D179,'[1]점검현황(금월)'!$D$7:$AH$234,31,0)","v":1548},724,{"$f":"VLOOKUP(B179&D179,'[1]점검현황(전월)'!$D$7:$AH$233,18,0)","v":"08:40:00"},{"$f":"VLOOKUP(B179&D179,'[1]점검현황(금월)'!$D$7:$AH$234,23,0)","v":"."}]
[null,"종합관",11,501,{"$f":"VLOOKUP(B180&D180,'[1]점검현황(금월)'!$D$7:$AH$234,2,0)","v":"법전원"},{"$f":"VLOOKUP(B180&D180,'[1]점검현황(금월)'!$D$7:$AH$234,3,0)","v":"XU106K / XU106K"},{"$f":"VLOOKUP(B180&D180,'[1]점검현황(금월)'!$D$2:$AH$234,15,0)","v":"e-ST"},{"$f":"VLOOKUP(B180&D180,'[1]점검현황(금월)'!$D$2:$AH$234,21,0)","v":"2015-03-27"},{"$f":"VLOOKUP(B180&D180,'[1]점검현황(금월)'!$D$7:$AH$234,24,0)","v":"2015-04-27"},{"$f":"VLOOKUP(B180&D180,'[1]점검현황(금월)'!$D$7:$AH$234,19,0)","v":626},{"$f":"VLOOKUP(B180&D180,'[1]점검현황(전월)'!$D$7:$AH$233,20,0)","v":"13:20:00"},{"$f":"VLOOKUP(B180&D180,'[1]점검현황(금월)'!$D$7:$AH$234,31,0)","v":"1993/490"},724,{"$f":"VLOOKUP(B180&D180,'[1]점검현황(전월)'!$D$7:$AH$233,18,0)","v":"08:50:00"},{"$f":"VLOOKUP(B180&D180,'[1]점검현황(금월)'!$D$7:$AH$234,23,0)","v":"."}]
[null,"종합관",12,502,{"$f":"VLOOKUP(B181&D181,'[1]점검현황(금월)'!$D$7:$AH$234,2,0)","v":"자동녹화"},{"$f":"VLOOKUP(B181&D181,'[1]점검현황(금월)'!$D$7:$AH$234,3,0)","v":"XU106K / XU106K"},{"$f":"VLOOKUP(B181&D181,'[1]점검현황(금월)'!$D$2:$AH$234,15,0)","v":"e-ST"},{"$f":"VLOOKUP(B181&D181,'[1]점검현황(금월)'!$D$2:$AH$234,21,0)","v":"2014-02-13 / 2015-06-01"},{"$f":"VLOOKUP(B181&D181,'[1]점검현황(금월)'!$D$7:$AH$234,24,0)","v":"2014-05-17"},{"$f":"VLOOKUP(B181&D181,'[1]점검현황(금월)'!$D$7:$AH$234,19,0)","v":626},{"$f":"VLOOKUP(B181&D181,'[1]점검현황(전월)'!$D$7:$AH$233,20,0)","v":"09:30:00"},{"$f":"VLOOKUP(B181&D181,'[1]점검현황(금월)'!$D$7:$AH$234,31,0)","v":"1493/73"},724,{"$f":"VLOOKUP(B181&D181,'[1]점검현황(전월)'!$D$7:$AH$233,18,0)","v":"19:00:00"},{"$f":"VLOOKUP(B181&D181,'[1]점검현황(금월)'!$D$7:$AH$234,23,0)","v":"1,"}]
[null,"종합관",13,503,{"$f":"VLOOKUP(B182&D182,'[1]점검현황(금월)'!$D$7:$AH$234,2,0)","v":"자동녹화"},{"$f":"VLOOKUP(B182&D182,'[1]점검현황(금월)'!$D$7:$AH$234,3,0)","v":"XU106K / XU106K"},{"$f":"VLOOKUP(B182&D182,'[1]점검현황(금월)'!$D$2:$AH$234,15,0)","v":"e-ST"},{"$f":"VLOOKUP(B182&D182,'[1]점검현황(금월)'!$D$2:$AH$234,21,0)","v":"14-04-11/14-04-11"},{"$f":"VLOOKUP(B182&D182,'[1]점검현황(금월)'!$D$7:$AH$234,24,0)","v":"14-07-12 / 14-07-12"},{"$f":"VLOOKUP(B182&D182,'[1]점검현황(금월)'!$D$7:$AH$234,19,0)","v":626},{"$f":"VLOOKUP(B182&D182,'[1]점검현황(전월)'!$D$7:$AH$233,20,0)","v":"13:40:00"},{"$f":"VLOOKUP(B182&D182,'[1]점검현황(금월)'!$D$7:$AH$234,31,0)","v":"1465/1578"},725,{"$f":"VLOOKUP(B182&D182,'[1]점검현황(전월)'!$D$7:$AH$233,18,0)","v":"19:10:00"},{"$f":"VLOOKUP(B182&D182,'[1]점검현황(금월)'!$D$7:$AH$234,23,0)","v":"."}]
[null,"종합관",14,504,{"$f":"VLOOKUP(B183&D183,'[1]점검현황(금월)'!$D$7:$AH$234,2,0)","v":"법전원"},{"$f":"VLOOKUP(B183&D183,'[1]점검현황(금월)'!$D$7:$AH$234,3,0)","v":"XU106K"},{"$f":"VLOOKUP(B183&D183,'[1]점검현황(금월)'!$D$2:$AH$234,15,0)","v":"e-ST"},{"$f":"VLOOKUP(B183&D183,'[1]점검현황(금월)'!$D$2:$AH$234,21,0)","v":"·"},{"$f":"VLOOKUP(B183&D183,'[1]점검현황(금월)'!$D$7:$AH$234,24,0)","v":"·"},{"$f":"VLOOKUP(B183&D183,'[1]점검현황(금월)'!$D$7:$AH$234,19,0)","v":626},{"$f":"VLOOKUP(B183&D183,'[1]점검현황(전월)'!$D$7:$AH$233,20,0)","v":"16:30:00"},{"$f":"VLOOKUP(B183&D183,'[1]점검현황(금월)'!$D$7:$AH$234,31,0)","v":253},725,{"$f":"VLOOKUP(B183&D183,'[1]점검현황(전월)'!$D$7:$AH$233,18,0)","v":"19:20:00"},{"$f":"VLOOKUP(B183&D183,'[1]점검현황(금월)'!$D$7:$AH$234,23,0)","v":"."}]
[null,"종합관",15,506,{"$f":"VLOOKUP(B184&D184,'[1]점검현황(금월)'!$D$7:$AH$234,2,0)","v":"법전원"},{"$f":"VLOOKUP(B184&D184,'[1]점검현황(금월)'!$D$7:$AH$234,3,0)","v":"XU106K"},{"$f":"VLOOKUP(B184&D184,'[1]점검현황(금월)'!$D$2:$AH$234,15,0)","v":"e-ST"},{"$f":"VLOOKUP(B184&D184,'[1]점검현황(금월)'!$D$2:$AH$234,21,0)","v":"2015-05-14"},{"$f":"VLOOKUP(B184&D184,'[1]점검현황(금월)'!$D$7:$AH$234,24,0)","v":"·"},{"$f":"VLOOKUP(B184&D184,'[1]점검현황(금월)'!$D$7:$AH$234,19,0)","v":627},{"$f":"VLOOKUP(B184&D184,'[1]점검현황(전월)'!$D$7:$AH$233,20,0)","v":"14:00:00"},{"$f":"VLOOKUP(B184&D184,'[1]점검현황(금월)'!$D$7:$AH$234,31,0)","v":65},725,{"$f":"VLOOKUP(B184&D184,'[1]점검현황(전월)'!$D$7:$AH$233,18,0)","v":"08:30:00"},{"$f":"VLOOKUP(B184&D184,'[1]점검현황(금월)'!$D$7:$AH$234,23,0)","v":"."}]
[null,"종합관",16,507,{"$f":"VLOOKUP(B185&D185,'[1]점검현황(금월)'!$D$7:$AH$234,2,0)","v":"법전원 "},{"$f":"VLOOKUP(B185&D185,'[1]점검현황(금월)'!$D$7:$AH$234,3,0)","v":"XU106K"},{"$f":"VLOOKUP(B185&D185,'[1]점검현황(금월)'!$D$2:$AH$234,15,0)","v":"e-ST"},{"$f":"VLOOKUP(B185&D185,'[1]점검현황(금월)'!$D$2:$AH$234,21,0)","v":"2015-05-14"},{"$f":"VLOOKUP(B185&D185,'[1]점검현황(금월)'!$D$7:$AH$234,24,0)","v":"2014-05-17"},{"$f":"VLOOKUP(B185&D185,'[1]점검현황(금월)'!$D$7:$AH$234,19,0)","v":627},{"$f":"VLOOKUP(B185&D185,'[1]점검현황(전월)'!$D$7:$AH$233,20,0)","v":"19:30:00"},{"$f":"VLOOKUP(B185&D185,'[1]점검현황(금월)'!$D$7:$AH$234,31,0)","v":45},725,{"$f":"VLOOKUP(B185&D185,'[1]점검현황(전월)'!$D$7:$AH$233,18,0)","v":"08:40:00"},{"$f":"VLOOKUP(B185&D185,'[1]점검현황(금월)'!$D$7:$AH$234,23,0)","v":"."}]
[null,"종합관",17,508,{"$f":"VLOOKUP(B186&D186,'[1]점검현황(금월)'!$D$7:$AH$234,2,0)","v":"자동녹화"},{"$f":"VLOOKUP(B186&D186,'[1]점검현황(금월)'!$D$7:$AH$234,3,0)","v":"XU106K"},{"$f":"VLOOKUP(B186&D186,'[1]점검현황(금월)'!$D$2:$AH$234,15,0)","v":"e-ST"},{"$f":"VLOOKUP(B186&D186,'[1]점검현황(금월)'!$D$2:$AH$234,21,0)","v":"2014-03-03"},{"$f":"VLOOKUP(B186&D186,'[1]점검현황(금월)'!$D$7:$AH$234,24,0)","v":"2014-01-27"},{"$f":"VLOOKUP(B186&D186,'[1]점검현황(금월)'!$D$7:$AH$234,19,0)","v":627},{"$f":"VLOOKUP(B186&D186,'[1]점검현황(전월)'!$D$7:$AH$233,20,0)","v":"08:40:00"},{"$f":"VLOOKUP(B186&D186,'[1]점검현황(금월)'!$D$7:$AH$234,31,0)","v":1425},725,{"$f":"VLOOKUP(B186&D186,'[1]점검현황(전월)'!$D$7:$AH$233,18,0)","v":"08:50:00"},{"$f":"VLOOKUP(B186&D186,'[1]점검현황(금월)'!$D$7:$AH$234,23,0)","v":"."}]
[null,"종합관",18,509,{"$f":"VLOOKUP(B187&D187,'[1]점검현황(금월)'!$D$7:$AH$234,2,0)","v":"법전원"},{"$f":"VLOOKUP(B187&D187,'[1]점검현황(금월)'!$D$7:$AH$234,3,0)","v":"XU106K"},{"$f":"VLOOKUP(B187&D187,'[1]점검현황(금월)'!$D$2:$AH$234,15,0)","v":"e-ST"},{"$f":"VLOOKUP(B187&D187,'[1]점검현황(금월)'!$D$2:$AH$234,21,0)","v":"2015-05-12"},{"$f":"VLOOKUP(B187&D187,'[1]점검현황(금월)'!$D$7:$AH$234,24,0)","v":"2012-09-11"},{"$f":"VLOOKUP(B187&D187,'[1]점검현황(금월)'!$D$7:$AH$234,19,0)","v":627},{"$f":"VLOOKUP(B187&D187,'[1]점검현황(전월)'!$D$7:$AH$233,20,0)","v":"08:50:00"},{"$f":"VLOOKUP(B187&D187,'[1]점검현황(금월)'!$D$7:$AH$234,31,0)","v":226},725,{"$f":"VLOOKUP(B187&D187,'[1]점검현황(전월)'!$D$7:$AH$233,18,0)","v":"19:00:00"},{"$f":"VLOOKUP(B187&D187,'[1]점검현황(금월)'!$D$7:$AH$234,23,0)","v":"."}]
[null,"종합관",19,510,{"$f":"VLOOKUP(B188&D188,'[1]점검현황(금월)'!$D$7:$AH$234,2,0)","v":"법전원 세미나실"},{"$f":"VLOOKUP(B188&D188,'[1]점검현황(금월)'!$D$7:$AH$234,3,0)","v":"XU106K"},{"$f":"VLOOKUP(B188&D188,'[1]점검현황(금월)'!$D$2:$AH$234,15,0)","v":"e-ST"},{"$f":"VLOOKUP(B188&D188,'[1]점검현황(금월)'!$D$2:$AH$234,21,0)","v":"·"},{"$f":"VLOOKUP(B188&D188,'[1]점검현황(금월)'!$D$7:$AH$234,24,0)","v":"2012-04-28"},{"$f":"VLOOKUP(B188&D188,'[1]점검현황(금월)'!$D$7:$AH$234,19,0)","v":627},{"$f":"VLOOKUP(B188&D188,'[1]점검현황(전월)'!$D$7:$AH$233,20,0)","v":"19:00:00"},{"$f":"VLOOKUP(B188&D188,'[1]점검현황(금월)'!$D$7:$AH$234,31,0)","v":1678},725,{"$f":"VLOOKUP(B188&D188,'[1]점검현황(전월)'!$D$7:$AH$233,18,0)","v":"19:10:00"},{"$f":"VLOOKUP(B188&D188,'[1]점검현황(금월)'!$D$7:$AH$234,23,0)","v":"."}]
[null,"종합관",20,601,{"$f":"VLOOKUP(B189&D189,'[1]점검현황(금월)'!$D$7:$AH$234,2,0)","v":"법전원"},{"$f":"VLOOKUP(B189&D189,'[1]점검현황(금월)'!$D$7:$AH$234,3,0)","v":"XT35K"},{"$f":"VLOOKUP(B189&D189,'[1]점검현황(금월)'!$D$2:$AH$234,15,0)","v":"자체"},{"$f":"VLOOKUP(B189&D189,'[1]점검현황(금월)'!$D$2:$AH$234,21,0)","v":"2014-12-01"},{"$f":"VLOOKUP(B189&D189,'[1]점검현황(금월)'!$D$7:$AH$234,24,0)","v":"·"},{"$f":"VLOOKUP(B189&D189,'[1]점검현황(금월)'!$D$7:$AH$234,19,0)","v":627},{"$f":"VLOOKUP(B189&D189,'[1]점검현황(전월)'!$D$7:$AH$233,20,0)","v":"19:10:00"},{"$f":"VLOOKUP(B189&D189,'[1]점검현황(금월)'!$D$7:$AH$234,31,0)","v":107},725,{"$f":"VLOOKUP(B189&D189,'[1]점검현황(전월)'!$D$7:$AH$233,18,0)","v":"19:20:00"},{"$f":"VLOOKUP(B189&D189,'[1]점검현황(금월)'!$D$7:$AH$234,23,0)","v":"."}]
[null,"종합관",21,612,{"$f":"VLOOKUP(B190&D190,'[1]점검현황(금월)'!$D$7:$AH$234,2,0)","v":"멀티미디어 "},{"$f":"VLOOKUP(B190&D190,'[1]점검현황(금월)'!$D$7:$AH$234,3,0)","v":"XU106K"},{"$f":"VLOOKUP(B190&D190,'[1]점검현황(금월)'!$D$2:$AH$234,15,0)","v":"e-ST"},{"$f":"VLOOKUP(B190&D190,'[1]점검현황(금월)'!$D$2:$AH$234,21,0)","v":"2015-05-08"},{"$f":"VLOOKUP(B190&D190,'[1]점검현황(금월)'!$D$7:$AH$234,24,0)","v":"2015-06-27"},{"$f":"VLOOKUP(B190&D190,'[1]점검현황(금월)'!$D$7:$AH$234,19,0)","v":627},{"$f":"VLOOKUP(B190&D190,'[1]점검현황(전월)'!$D$7:$AH$233,20,0)","v":"19:40:00"},{"$f":"VLOOKUP(B190&D190,'[1]점검현황(금월)'!$D$7:$AH$234,31,0)","v":235},725,{"$f":"VLOOKUP(B190&D190,'[1]점검현황(전월)'!$D$7:$AH$233,18,0)","v":"08:30:00"},{"$f":"VLOOKUP(B190&D190,'[1]점검현황(금월)'!$D$7:$AH$234,23,0)","v":"27,"}]
[null,"종합관",22,613,{"$f":"VLOOKUP(B191&D191,'[1]점검현황(금월)'!$D$7:$AH$234,2,0)","v":"자동녹화"},{"$f":"VLOOKUP(B191&D191,'[1]점검현황(금월)'!$D$7:$AH$234,3,0)","v":"XU106K"},{"$f":"VLOOKUP(B191&D191,'[1]점검현황(금월)'!$D$2:$AH$234,15,0)","v":"e-ST"},{"$f":"VLOOKUP(B191&D191,'[1]점검현황(금월)'!$D$2:$AH$234,21,0)","v":"2014-03-06"},{"$f":"VLOOKUP(B191&D191,'[1]점검현황(금월)'!$D$7:$AH$234,24,0)","v":"2014-02-13"},{"$f":"VLOOKUP(B191&D191,'[1]점검현황(금월)'!$D$7:$AH$234,19,0)","v":627},{"$f":"VLOOKUP(B191&D191,'[1]점검현황(전월)'!$D$7:$AH$233,20,0)","v":"08:30:00"},{"$f":"VLOOKUP(B191&D191,'[1]점검현황(금월)'!$D$7:$AH$234,31,0)","v":2413},725,{"$f":"VLOOKUP(B191&D191,'[1]점검현황(전월)'!$D$7:$AH$233,18,0)","v":"08:40:00"},{"$f":"VLOOKUP(B191&D191,'[1]점검현황(금월)'!$D$7:$AH$234,23,0)","v":"27,"}]
[null,"종합관",23,704,{"$f":"VLOOKUP(B192&D192,'[1]점검현황(금월)'!$D$7:$AH$234,2,0)","v":"교육대학원"},{"$f":"VLOOKUP(B192&D192,'[1]점검현황(금월)'!$D$7:$AH$234,3,0)","v":"XU106K"},{"$f":"VLOOKUP(B192&D192,'[1]점검현황(금월)'!$D$2:$AH$234,15,0)","v":"자체"},{"$f":"VLOOKUP(B192&D192,'[1]점검현황(금월)'!$D$2:$AH$234,21,0)","v":"·"},{"$f":"VLOOKUP(B192&D192,'[1]점검현황(금월)'!$D$7:$AH$234,24,0)","v":"·"},{"$f":"VLOOKUP(B192&D192,'[1]점검현황(금월)'!$D$7:$AH$234,19,0)","v":627},{"$f":"VLOOKUP(B192&D192,'[1]점검현황(전월)'!$D$7:$AH$233,20,0)","v":"08:40:00"},{"$f":"VLOOKUP(B192&D192,'[1]점검현황(금월)'!$D$7:$AH$234,31,0)","v":745},725,{"$f":"VLOOKUP(B192&D192,'[1]점검현황(전월)'!$D$7:$AH$233,18,0)","v":"08:50:00"},{"$f":"VLOOKUP(B192&D192,'[1]점검현황(금월)'!$D$7:$AH$234,23,0)","v":"."}]
[null,"종합관",24,705,{"$f":"VLOOKUP(B193&D193,'[1]점검현황(금월)'!$D$7:$AH$234,2,0)","v":"교육대학원수업행동"},{"$f":"VLOOKUP(B193&D193,'[1]점검현황(금월)'!$D$7:$AH$234,3,0)","v":"XU350K"},{"$f":"VLOOKUP(B193&D193,'[1]점검현황(금월)'!$D$2:$AH$234,15,0)","v":"e-ST"},{"$f":"VLOOKUP(B193&D193,'[1]점검현황(금월)'!$D$2:$AH$234,21,0)","v":"2015-04-29"},{"$f":"VLOOKUP(B193&D193,'[1]점검현황(금월)'!$D$7:$AH$234,24,0)","v":"·"},{"$f":"VLOOKUP(B193&D193,'[1]점검현황(금월)'!$D$7:$AH$234,19,0)","v":627},{"$f":"VLOOKUP(B193&D193,'[1]점검현황(전월)'!$D$7:$AH$233,20,0)","v":"08:50:00"},{"$f":"VLOOKUP(B193&D193,'[1]점검현황(금월)'!$D$7:$AH$234,31,0)","v":77},725,{"$f":"VLOOKUP(B193&D193,'[1]점검현황(전월)'!$D$7:$AH$233,18,0)","v":"19:00:00"},{"$f":"VLOOKUP(B193&D193,'[1]점검현황(금월)'!$D$7:$AH$234,23,0)","v":"."}]
[null,"종합관",25,706,{"$f":"VLOOKUP(B194&D194,'[1]점검현황(금월)'!$D$7:$AH$234,2,0)","v":"교육대자동녹화"},{"$f":"VLOOKUP(B194&D194,'[1]점검현황(금월)'!$D$7:$AH$234,3,0)","v":"XU350K"},{"$f":"VLOOKUP(B194&D194,'[1]점검현황(금월)'!$D$2:$AH$234,15,0)","v":"e-ST"},{"$f":"VLOOKUP(B194&D194,'[1]점검현황(금월)'!$D$2:$AH$234,21,0)","v":"·"},{"$f":"VLOOKUP(B194&D194,'[1]점검현황(금월)'!$D$7:$AH$234,24,0)","v":"·"},{"$f":"VLOOKUP(B194&D194,'[1]점검현황(금월)'!$D$7:$AH$234,19,0)","v":627},{"$f":"VLOOKUP(B194&D194,'[1]점검현황(전월)'!$D$7:$AH$233,20,0)","v":"19:00:00"},{"$f":"VLOOKUP(B194&D194,'[1]점검현황(금월)'!$D$7:$AH$234,31,0)","v":1477},725,{"$f":"VLOOKUP(B194&D194,'[1]점검현황(전월)'!$D$7:$AH$233,18,0)","v":"19:10:00"},{"$f":"VLOOKUP(B194&D194,'[1]점검현황(금월)'!$D$7:$AH$234,23,0)","v":"."}]
[null,"종합관",26,707,{"$f":"VLOOKUP(B195&D195,'[1]점검현황(금월)'!$D$7:$AH$234,2,0)","v":"교육대학원  PC실"},{"$f":"VLOOKUP(B195&D195,'[1]점검현황(금월)'!$D$7:$AH$234,3,0)","v":"XU106K"},{"$f":"VLOOKUP(B195&D195,'[1]점검현황(금월)'!$D$2:$AH$234,15,0)","v":"e-ST"},{"$f":"VLOOKUP(B195&D195,'[1]점검현황(금월)'!$D$2:$AH$234,21,0)","v":"1900-01-14"},{"$f":"VLOOKUP(B195&D195,'[1]점검현황(금월)'!$D$7:$AH$234,24,0)","v":"·"},{"$f":"VLOOKUP(B195&D195,'[1]점검현황(금월)'!$D$7:$AH$234,19,0)","v":627},{"$f":"VLOOKUP(B195&D195,'[1]점검현황(전월)'!$D$7:$AH$233,20,0)","v":"12:41:00"},{"$f":"VLOOKUP(B195&D195,'[1]점검현황(금월)'!$D$7:$AH$234,31,0)","v":910},725,{"$f":"VLOOKUP(B195&D195,'[1]점검현황(전월)'!$D$7:$AH$233,18,0)","v":"19:20:00"},{"$f":"VLOOKUP(B195&D195,'[1]점검현황(금월)'!$D$7:$AH$234,23,0)","v":"."}]
[null,"종합관",27,712,{"$f":"VLOOKUP(B196&D196,'[1]점검현황(금월)'!$D$7:$AH$234,2,0)","v":"전공세미나실"},{"$f":"VLOOKUP(B196&D196,'[1]점검현황(금월)'!$D$7:$AH$234,3,0)","v":"XU106K"},{"$f":"VLOOKUP(B196&D196,'[1]점검현황(금월)'!$D$2:$AH$234,15,0)","v":"e-ST"},{"$f":"VLOOKUP(B196&D196,'[1]점검현황(금월)'!$D$2:$AH$234,21,0)","v":"·"},{"$f":"VLOOKUP(B196&D196,'[1]점검현황(금월)'!$D$7:$AH$234,24,0)","v":"·"},{"$f":"VLOOKUP(B196&D196,'[1]점검현황(금월)'!$D$7:$AH$234,19,0)","v":627},{"$f":"VLOOKUP(B196&D196,'[1]점검현황(전월)'!$D$7:$AH$233,20,0)","v":"19:20:00"},{"$f":"VLOOKUP(B196&D196,'[1]점검현황(금월)'!$D$7:$AH$234,31,0)","v":1116},725,{"$f":"VLOOKUP(B196&D196,'[1]점검현황(전월)'!$D$7:$AH$233,18,0)","v":"09:00:00"},{"$f":"VLOOKUP(B196&D196,'[1]점검현황(금월)'!$D$7:$AH$234,23,0)","v":"."}]
[null,"종합관",28,713,{"$f":"VLOOKUP(B197&D197,'[1]점검현황(금월)'!$D$7:$AH$234,2,0)","v":"전공세미나실"},{"$f":"VLOOKUP(B197&D197,'[1]점검현황(금월)'!$D$7:$AH$234,3,0)","v":"XU350K"},{"$f":"VLOOKUP(B197&D197,'[1]점검현황(금월)'!$D$2:$AH$234,15,0)","v":"e-ST"},{"$f":"VLOOKUP(B197&D197,'[1]점검현황(금월)'!$D$2:$AH$234,21,0)","v":"·"},{"$f":"VLOOKUP(B197&D197,'[1]점검현황(금월)'!$D$7:$AH$234,24,0)","v":"·"},{"$f":"VLOOKUP(B197&D197,'[1]점검현황(금월)'!$D$7:$AH$234,19,0)","v":627},{"$f":"VLOOKUP(B197&D197,'[1]점검현황(전월)'!$D$7:$AH$233,20,0)","v":"08:30:00"},{"$f":"VLOOKUP(B197&D197,'[1]점검현황(금월)'!$D$7:$AH$234,31,0)","v":575},725,{"$f":"VLOOKUP(B197&D197,'[1]점검현황(전월)'!$D$7:$AH$233,18,0)","v":"09:10:00"},{"$f":"VLOOKUP(B197&D197,'[1]점검현황(금월)'!$D$7:$AH$234,23,0)","v":"."}]
[null,"종합관",29,802,{"$f":"VLOOKUP(B198&D198,'[1]점검현황(금월)'!$D$7:$AH$234,2,0)","v":"교육대학원 "},{"$f":"VLOOKUP(B198&D198,'[1]점검현황(금월)'!$D$7:$AH$234,3,0)","v":"XU106K"},{"$f":"VLOOKUP(B198&D198,'[1]점검현황(금월)'!$D$2:$AH$234,15,0)","v":"자체"},{"$f":"VLOOKUP(B198&D198,'[1]점검현황(금월)'!$D$2:$AH$234,21,0)","v":"·"},{"$f":"VLOOKUP(B198&D198,'[1]점검현황(금월)'!$D$7:$AH$234,24,0)","v":"·"},{"$f":"VLOOKUP(B198&D198,'[1]점검현황(금월)'!$D$7:$AH$234,19,0)","v":627},{"$f":"VLOOKUP(B198&D198,'[1]점검현황(전월)'!$D$7:$AH$233,20,0)","v":"09:10:00"},{"$f":"VLOOKUP(B198&D198,'[1]점검현황(금월)'!$D$7:$AH$234,31,0)","v":1355},725,{"$f":"VLOOKUP(B198&D198,'[1]점검현황(전월)'!$D$7:$AH$233,18,0)","v":"09:20:00"},{"$f":"VLOOKUP(B198&D198,'[1]점검현황(금월)'!$D$7:$AH$234,23,0)","v":"."}]
[null,"종합관",30,803,{"$f":"VLOOKUP(B199&D199,'[1]점검현황(금월)'!$D$7:$AH$234,2,0)","v":"교육대학원 "},{"$f":"VLOOKUP(B199&D199,'[1]점검현황(금월)'!$D$7:$AH$234,3,0)","v":"XU106K"},{"$f":"VLOOKUP(B199&D199,'[1]점검현황(금월)'!$D$2:$AH$234,15,0)","v":"자체"},{"$f":"VLOOKUP(B199&D199,'[1]점검현황(금월)'!$D$2:$AH$234,21,0)","v":"·"},{"$f":"VLOOKUP(B199&D199,'[1]점검현황(금월)'!$D$7:$AH$234,24,0)","v":"·"},{"$f":"VLOOKUP(B199&D199,'[1]점검현황(금월)'!$D$7:$AH$234,19,0)","v":627},{"$f":"VLOOKUP(B199&D199,'[1]점검현황(전월)'!$D$7:$AH$233,20,0)","v":"09:30:00"},{"$f":"VLOOKUP(B199&D199,'[1]점검현황(금월)'!$D$7:$AH$234,31,0)","v":1673},725,{"$f":"VLOOKUP(B199&D199,'[1]점검현황(전월)'!$D$7:$AH$233,18,0)","v":"09:30:00"},{"$f":"VLOOKUP(B199&D199,'[1]점검현황(금월)'!$D$7:$AH$234,23,0)","v":"."}]
[null,"종합관",31,804,{"$f":"VLOOKUP(B200&D200,'[1]점검현황(금월)'!$D$7:$AH$234,2,0)","v":"교육대학원 "},{"$f":"VLOOKUP(B200&D200,'[1]점검현황(금월)'!$D$7:$AH$234,3,0)","v":"XU106K"},{"$f":"VLOOKUP(B200&D200,'[1]점검현황(금월)'!$D$2:$AH$234,15,0)","v":"e-ST"},{"$f":"VLOOKUP(B200&D200,'[1]점검현황(금월)'!$D$2:$AH$234,21,0)","v":"·"},{"$f":"VLOOKUP(B200&D200,'[1]점검현황(금월)'!$D$7:$AH$234,24,0)","v":"·"},{"$f":"VLOOKUP(B200&D200,'[1]점검현황(금월)'!$D$7:$AH$234,19,0)","v":627},{"$f":"VLOOKUP(B200&D200,'[1]점검현황(전월)'!$D$7:$AH$233,20,0)","v":"09:50:00"},{"$f":"VLOOKUP(B200&D200,'[1]점검현황(금월)'!$D$7:$AH$234,31,0)","v":1073},725,{"$f":"VLOOKUP(B200&D200,'[1]점검현황(전월)'!$D$7:$AH$233,18,0)","v":"09:40:00"},{"$f":"VLOOKUP(B200&D200,'[1]점검현황(금월)'!$D$7:$AH$234,23,0)","v":"."}]
[null,"종합관",32,805,{"$f":"VLOOKUP(B201&D201,'[1]점검현황(금월)'!$D$7:$AH$234,2,0)","v":"교육대학원 "},{"$f":"VLOOKUP(B201&D201,'[1]점검현황(금월)'!$D$7:$AH$234,3,0)","v":"XU106K"},{"$f":"VLOOKUP(B201&D201,'[1]점검현황(금월)'!$D$2:$AH$234,15,0)","v":"e-ST"},{"$f":"VLOOKUP(B201&D201,'[1]점검현황(금월)'!$D$2:$AH$234,21,0)","v":"·"},{"$f":"VLOOKUP(B201&D201,'[1]점검현황(금월)'!$D$7:$AH$234,24,0)","v":"·"},{"$f":"VLOOKUP(B201&D201,'[1]점검현황(금월)'!$D$7:$AH$234,19,0)","v":627},{"$f":"VLOOKUP(B201&D201,'[1]점검현황(전월)'!$D$7:$AH$233,20,0)","v":"10:10:00"},{"$f":"VLOOKUP(B201&D201,'[1]점검현황(금월)'!$D$7:$AH$234,31,0)","v":1054},725,{"$f":"VLOOKUP(B201&D201,'[1]점검현황(전월)'!$D$7:$AH$233,18,0)","v":"09:50:00"},{"$f":"VLOOKUP(B201&D201,'[1]점검현황(금월)'!$D$7:$AH$234,23,0)","v":"."}]
[null,"종합관",33,806,{"$f":"VLOOKUP(B202&D202,'[1]점검현황(금월)'!$D$7:$AH$234,2,0)","v":"교육대학원 "},{"$f":"VLOOKUP(B202&D202,'[1]점검현황(금월)'!$D$7:$AH$234,3,0)","v":"XU105K"},{"$f":"VLOOKUP(B202&D202,'[1]점검현황(금월)'!$D$2:$AH$234,15,0)","v":"e-ST"},{"$f":"VLOOKUP(B202&D202,'[1]점검현황(금월)'!$D$2:$AH$234,21,0)","v":"·"},{"$f":"VLOOKUP(B202&D202,'[1]점검현황(금월)'!$D$7:$AH$234,24,0)","v":"·"},{"$f":"VLOOKUP(B202&D202,'[1]점검현황(금월)'!$D$7:$AH$234,19,0)","v":627},{"$f":"VLOOKUP(B202&D202,'[1]점검현황(전월)'!$D$7:$AH$233,20,0)","v":"10:30:00"},{"$f":"VLOOKUP(B202&D202,'[1]점검현황(금월)'!$D$7:$AH$234,31,0)","v":347},727,{"$f":"VLOOKUP(B202&D202,'[1]점검현황(전월)'!$D$7:$AH$233,18,0)","v":"10:00:00"},{"$f":"VLOOKUP(B202&D202,'[1]점검현황(금월)'!$D$7:$AH$234,23,0)","v":"."}]
[null,"종합관",34,808,{"$f":"VLOOKUP(B203&D203,'[1]점검현황(금월)'!$D$7:$AH$234,2,0)","v":"교육대학원 "},{"$f":"VLOOKUP(B203&D203,'[1]점검현황(금월)'!$D$7:$AH$234,3,0)","v":"XU106K"},{"$f":"VLOOKUP(B203&D203,'[1]점검현황(금월)'!$D$2:$AH$234,15,0)","v":"자체"},{"$f":"VLOOKUP(B203&D203,'[1]점검현황(금월)'!$D$2:$AH$234,21,0)","v":"·"},{"$f":"VLOOKUP(B203&D203,'[1]점검현황(금월)'!$D$7:$AH$234,24,0)","v":"·"},{"$f":"VLOOKUP(B203&D203,'[1]점검현황(금월)'!$D$7:$AH$234,19,0)","v":627},{"$f":"VLOOKUP(B203&D203,'[1]점검현황(전월)'!$D$7:$AH$233,20,0)","v":"13:58:00"},{"$f":"VLOOKUP(B203&D203,'[1]점검현황(금월)'!$D$7:$AH$234,31,0)","v":875},727,{"$f":"VLOOKUP(B203&D203,'[1]점검현황(전월)'!$D$7:$AH$233,18,0)","v":"10:10:00"},{"$f":"VLOOKUP(B203&D203,'[1]점검현황(금월)'!$D$7:$AH$234,23,0)","v":"."}]
[null,"종합관",35,809,{"$f":"VLOOKUP(B204&D204,'[1]점검현황(금월)'!$D$7:$AH$234,2,0)","v":"교육대학원 "},{"$f":"VLOOKUP(B204&D204,'[1]점검현황(금월)'!$D$7:$AH$234,3,0)","v":"XU106K"},{"$f":"VLOOKUP(B204&D204,'[1]점검현황(금월)'!$D$2:$AH$234,15,0)","v":"자체"},{"$f":"VLOOKUP(B204&D204,'[1]점검현황(금월)'!$D$2:$AH$234,21,0)","v":"·"},{"$f":"VLOOKUP(B204&D204,'[1]점검현황(금월)'!$D$7:$AH$234,24,0)","v":"·"},{"$f":"VLOOKUP(B204&D204,'[1]점검현황(금월)'!$D$7:$AH$234,19,0)","v":629},{"$f":"VLOOKUP(B204&D204,'[1]점검현황(전월)'!$D$7:$AH$233,20,0)","v":"11:10:00"},{"$f":"VLOOKUP(B204&D204,'[1]점검현황(금월)'!$D$7:$AH$234,31,0)","v":628},727,{"$f":"VLOOKUP(B204&D204,'[1]점검현황(전월)'!$D$7:$AH$233,18,0)","v":"10:20:00"},{"$f":"VLOOKUP(B204&D204,'[1]점검현황(금월)'!$D$7:$AH$234,23,0)","v":"."}]
[null,"종합관",36,810,{"$f":"VLOOKUP(B205&D205,'[1]점검현황(금월)'!$D$7:$AH$234,2,0)","v":"교육대자동녹화"},{"$f":"VLOOKUP(B205&D205,'[1]점검현황(금월)'!$D$7:$AH$234,3,0)","v":"XU350K"},{"$f":"VLOOKUP(B205&D205,'[1]점검현황(금월)'!$D$2:$AH$234,15,0)","v":"e-ST"},{"$f":"VLOOKUP(B205&D205,'[1]점검현황(금월)'!$D$2:$AH$234,21,0)","v":"·"},{"$f":"VLOOKUP(B205&D205,'[1]점검현황(금월)'!$D$7:$AH$234,24,0)","v":"·"},{"$f":"VLOOKUP(B205&D205,'[1]점검현황(금월)'!$D$7:$AH$234,19,0)","v":629},{"$f":"VLOOKUP(B205&D205,'[1]점검현황(전월)'!$D$7:$AH$233,20,0)","v":"11:30:00"},{"$f":"VLOOKUP(B205&D205,'[1]점검현황(금월)'!$D$7:$AH$234,31,0)","v":903},727,{"$f":"VLOOKUP(B205&D205,'[1]점검현황(전월)'!$D$7:$AH$233,18,0)","v":"10:30:00"},{"$f":"VLOOKUP(B205&D205,'[1]점검현황(금월)'!$D$7:$AH$234,23,0)","v":"."}]
[null,"종합관",37,811,{"$f":"VLOOKUP(B206&D206,'[1]점검현황(금월)'!$D$7:$AH$234,2,0)","v":"교육대자동녹화"},{"$f":"VLOOKUP(B206&D206,'[1]점검현황(금월)'!$D$7:$AH$234,3,0)","v":"XU106K"},{"$f":"VLOOKUP(B206&D206,'[1]점검현황(금월)'!$D$2:$AH$234,15,0)","v":"e-ST"},{"$f":"VLOOKUP(B206&D206,'[1]점검현황(금월)'!$D$2:$AH$234,21,0)","v":"·"},{"$f":"VLOOKUP(B206&D206,'[1]점검현황(금월)'!$D$7:$AH$234,24,0)","v":"·"},{"$f":"VLOOKUP(B206&D206,'[1]점검현황(금월)'!$D$7:$AH$234,19,0)","v":629},{"$f":"VLOOKUP(B206&D206,'[1]점검현황(전월)'!$D$7:$AH$233,20,0)","v":"11:50:00"},{"$f":"VLOOKUP(B206&D206,'[1]점검현황(금월)'!$D$7:$AH$234,31,0)","v":423},727,{"$f":"VLOOKUP(B206&D206,'[1]점검현황(전월)'!$D$7:$AH$233,18,0)","v":"10:40:00"},{"$f":"VLOOKUP(B206&D206,'[1]점검현황(금월)'!$D$7:$AH$234,23,0)","v":"."}]
[null,"종합관",38,812,{"$f":"VLOOKUP(B207&D207,'[1]점검현황(금월)'!$D$7:$AH$234,2,0)","v":"교육대자동녹화"},{"$f":"VLOOKUP(B207&D207,'[1]점검현황(금월)'!$D$7:$AH$234,3,0)","v":"XU105K"},{"$f":"VLOOKUP(B207&D207,'[1]점검현황(금월)'!$D$2:$AH$234,15,0)","v":"자체"},{"$f":"VLOOKUP(B207&D207,'[1]점검현황(금월)'!$D$2:$AH$234,21,0)","v":"2014-05-27"},{"$f":"VLOOKUP(B207&D207,'[1]점검현황(금월)'!$D$7:$AH$234,24,0)","v":"·"},{"$f":"VLOOKUP(B207&D207,'[1]점검현황(금월)'!$D$7:$AH$234,19,0)","v":629},{"$f":"VLOOKUP(B207&D207,'[1]점검현황(전월)'!$D$7:$AH$233,20,0)","v":"13:10:00"},{"$f":"VLOOKUP(B207&D207,'[1]점검현황(금월)'!$D$7:$AH$234,31,0)","v":1607},727,{"$f":"VLOOKUP(B207&D207,'[1]점검현황(전월)'!$D$7:$AH$233,18,0)","v":"10:50:00"},{"$f":"VLOOKUP(B207&D207,'[1]점검현황(금월)'!$D$7:$AH$234,23,0)","v":"."}]
[null,"종합관",39,1002,{"$f":"VLOOKUP(B208&D208,'[1]점검현황(금월)'!$D$7:$AH$234,2,0)","v":"공공정책대학원"},{"$f":"VLOOKUP(B208&D208,'[1]점검현황(금월)'!$D$7:$AH$234,3,0)","v":"XU106K"},{"$f":"VLOOKUP(B208&D208,'[1]점검현황(금월)'!$D$2:$AH$234,15,0)","v":"e-ST"},{"$f":"VLOOKUP(B208&D208,'[1]점검현황(금월)'!$D$2:$AH$234,21,0)","v":"·"},{"$f":"VLOOKUP(B208&D208,'[1]점검현황(금월)'!$D$7:$AH$234,24,0)","v":"·"},{"$f":"VLOOKUP(B208&D208,'[1]점검현황(금월)'!$D$7:$AH$234,19,0)","v":629},{"$f":"VLOOKUP(B208&D208,'[1]점검현황(전월)'!$D$7:$AH$233,20,0)","v":"13:30:00"},{"$f":"VLOOKUP(B208&D208,'[1]점검현황(금월)'!$D$7:$AH$234,31,0)","v":368},727,{"$f":"VLOOKUP(B208&D208,'[1]점검현황(전월)'!$D$7:$AH$233,18,0)","v":"11:00:00"},{"$f":"VLOOKUP(B208&D208,'[1]점검현황(금월)'!$D$7:$AH$234,23,0)","v":"."}]
[null,"종합관",40,1003,{"$f":"VLOOKUP(B209&D209,'[1]점검현황(금월)'!$D$7:$AH$234,2,0)","v":"공공정책대학원"},{"$f":"VLOOKUP(B209&D209,'[1]점검현황(금월)'!$D$7:$AH$234,3,0)","v":"XU106K"},{"$f":"VLOOKUP(B209&D209,'[1]점검현황(금월)'!$D$2:$AH$234,15,0)","v":"e-ST"},{"$f":"VLOOKUP(B209&D209,'[1]점검현황(금월)'!$D$2:$AH$234,21,0)","v":"·"},{"$f":"VLOOKUP(B209&D209,'[1]점검현황(금월)'!$D$7:$AH$234,24,0)","v":"·"},{"$f":"VLOOKUP(B209&D209,'[1]점검현황(금월)'!$D$7:$AH$234,19,0)","v":629},{"$f":"VLOOKUP(B209&D209,'[1]점검현황(전월)'!$D$7:$AH$233,20,0)","v":"13:50:00"},{"$f":"VLOOKUP(B209&D209,'[1]점검현황(금월)'!$D$7:$AH$234,31,0)","v":2774},728,{"$f":"VLOOKUP(B209&D209,'[1]점검현황(전월)'!$D$7:$AH$233,18,0)","v":"11:10:00"},{"$f":"VLOOKUP(B209&D209,'[1]점검현황(금월)'!$D$7:$AH$234,23,0)","v":"26,"}]
[null,"종합관",41,1004,{"$f":"VLOOKUP(B210&D210,'[1]점검현황(금월)'!$D$7:$AH$234,2,0)","v":"공공정책대학원"},{"$f":"VLOOKUP(B210&D210,'[1]점검현황(금월)'!$D$7:$AH$234,3,0)","v":"XU106K"},{"$f":"VLOOKUP(B210&D210,'[1]점검현황(금월)'!$D$2:$AH$234,15,0)","v":"e-ST"},{"$f":"VLOOKUP(B210&D210,'[1]점검현황(금월)'!$D$2:$AH$234,21,0)","v":"·"},{"$f":"VLOOKUP(B210&D210,'[1]점검현황(금월)'!$D$7:$AH$234,24,0)","v":"·"},{"$f":"VLOOKUP(B210&D210,'[1]점검현황(금월)'!$D$7:$AH$234,19,0)","v":629},{"$f":"VLOOKUP(B210&D210,'[1]점검현황(전월)'!$D$7:$AH$233,20,0)","v":"15:10:00"},{"$f":"VLOOKUP(B210&D210,'[1]점검현황(금월)'!$D$7:$AH$234,31,0)","v":1302},728,{"$f":"VLOOKUP(B210&D210,'[1]점검현황(전월)'!$D$7:$AH$233,18,0)","v":"11:20:00"},{"$f":"VLOOKUP(B210&D210,'[1]점검현황(금월)'!$D$7:$AH$234,23,0)","v":"."}]
[null,"종합관",42,1005,{"$f":"VLOOKUP(B211&D211,'[1]점검현황(금월)'!$D$7:$AH$234,2,0)","v":"공공정책대학원"},{"$f":"VLOOKUP(B211&D211,'[1]점검현황(금월)'!$D$7:$AH$234,3,0)","v":"XU106K"},{"$f":"VLOOKUP(B211&D211,'[1]점검현황(금월)'!$D$2:$AH$234,15,0)","v":"e-ST"},{"$f":"VLOOKUP(B211&D211,'[1]점검현황(금월)'!$D$2:$AH$234,21,0)","v":"·"},{"$f":"VLOOKUP(B211&D211,'[1]점검현황(금월)'!$D$7:$AH$234,24,0)","v":"·"},{"$f":"VLOOKUP(B211&D211,'[1]점검현황(금월)'!$D$7:$AH$234,19,0)","v":629},{"$f":"VLOOKUP(B211&D211,'[1]점검현황(전월)'!$D$7:$AH$233,20,0)","v":"15:30:00"},{"$f":"VLOOKUP(B211&D211,'[1]점검현황(금월)'!$D$7:$AH$234,31,0)","v":989},728,{"$f":"VLOOKUP(B211&D211,'[1]점검현황(전월)'!$D$7:$AH$233,18,0)","v":"11:30:00"},{"$f":"VLOOKUP(B211&D211,'[1]점검현황(금월)'!$D$7:$AH$234,23,0)","v":"."}]
[null,"종합관",43,1007,{"$f":"VLOOKUP(B212&D212,'[1]점검현황(금월)'!$D$7:$AH$234,2,0)","v":"공공정책대학원"},{"$f":"VLOOKUP(B212&D212,'[1]점검현황(금월)'!$D$7:$AH$234,3,0)","v":"XU106K"},{"$f":"VLOOKUP(B212&D212,'[1]점검현황(금월)'!$D$2:$AH$234,15,0)","v":"e-ST"},{"$f":"VLOOKUP(B212&D212,'[1]점검현황(금월)'!$D$2:$AH$234,21,0)","v":"·"},{"$f":"VLOOKUP(B212&D212,'[1]점검현황(금월)'!$D$7:$AH$234,24,0)","v":"·"},{"$f":"VLOOKUP(B212&D212,'[1]점검현황(금월)'!$D$7:$AH$234,19,0)","v":629},{"$f":"VLOOKUP(B212&D212,'[1]점검현황(전월)'!$D$7:$AH$233,20,0)","v":"15:50:00"},{"$f":"VLOOKUP(B212&D212,'[1]점검현황(금월)'!$D$7:$AH$234,31,0)","v":763},728,{"$f":"VLOOKUP(B212&D212,'[1]점검현황(전월)'!$D$7:$AH$233,18,0)","v":"11:40:00"},{"$f":"VLOOKUP(B212&D212,'[1]점검현황(금월)'!$D$7:$AH$234,23,0)","v":"."}]
[null,"종합관",44,1008,{"$f":"VLOOKUP(B213&D213,'[1]점검현황(금월)'!$D$7:$AH$234,2,0)","v":"공공정책대학원"},{"$f":"VLOOKUP(B213&D213,'[1]점검현황(금월)'!$D$7:$AH$234,3,0)","v":"XU106K"},{"$f":"VLOOKUP(B213&D213,'[1]점검현황(금월)'!$D$2:$AH$234,15,0)","v":"e-ST"},{"$f":"VLOOKUP(B213&D213,'[1]점검현황(금월)'!$D$2:$AH$234,21,0)","v":"·"},{"$f":"VLOOKUP(B213&D213,'[1]점검현황(금월)'!$D$7:$AH$234,24,0)","v":"·"},{"$f":"VLOOKUP(B213&D213,'[1]점검현황(금월)'!$D$7:$AH$234,19,0)","v":629},{"$f":"VLOOKUP(B213&D213,'[1]점검현황(전월)'!$D$7:$AH$233,20,0)","v":"16:10:00"},{"$f":"VLOOKUP(B213&D213,'[1]점검현황(금월)'!$D$7:$AH$234,31,0)","v":533},728,{"$f":"VLOOKUP(B213&D213,'[1]점검현황(전월)'!$D$7:$AH$233,18,0)","v":"11:50:00"},{"$f":"VLOOKUP(B213&D213,'[1]점검현황(금월)'!$D$7:$AH$234,23,0)","v":"."}]
[null,"종합관",45,1009,{"$f":"VLOOKUP(B214&D214,'[1]점검현황(금월)'!$D$7:$AH$234,2,0)","v":"공공정책대학원"},{"$f":"VLOOKUP(B214&D214,'[1]점검현황(금월)'!$D$7:$AH$234,3,0)","v":"XU106K"},{"$f":"VLOOKUP(B214&D214,'[1]점검현황(금월)'!$D$2:$AH$234,15,0)","v":"e-ST"},{"$f":"VLOOKUP(B214&D214,'[1]점검현황(금월)'!$D$2:$AH$234,21,0)","v":"·"},{"$f":"VLOOKUP(B214&D214,'[1]점검현황(금월)'!$D$7:$AH$234,24,0)","v":"·"},{"$f":"VLOOKUP(B214&D214,'[1]점검현황(금월)'!$D$7:$AH$234,19,0)","v":629},{"$f":"VLOOKUP(B214&D214,'[1]점검현황(전월)'!$D$7:$AH$233,20,0)","v":"16:30:00"},{"$f":"VLOOKUP(B214&D214,'[1]점검현황(금월)'!$D$7:$AH$234,31,0)","v":453},728,{"$f":"VLOOKUP(B214&D214,'[1]점검현황(전월)'!$D$7:$AH$233,18,0)","v":"12:00:00"},{"$f":"VLOOKUP(B214&D214,'[1]점검현황(금월)'!$D$7:$AH$234,23,0)","v":"."}]
[null,"종합관",46,1101,{"$f":"VLOOKUP(B215&D215,'[1]점검현황(금월)'!$D$7:$AH$234,2,0)","v":"LINC사업단"},{"$f":"VLOOKUP(B215&D215,'[1]점검현황(금월)'!$D$7:$AH$234,3,0)","v":"VX410Z"},{"$f":"VLOOKUP(B215&D215,'[1]점검현황(금월)'!$D$2:$AH$234,15,0)","v":"X"},{"$f":"VLOOKUP(B215&D215,'[1]점검현황(금월)'!$D$2:$AH$234,21,0)","v":"."},{"$f":"VLOOKUP(B215&D215,'[1]점검현황(금월)'!$D$7:$AH$234,24,0)","v":"."},{"$f":"VLOOKUP(B215&D215,'[1]점검현황(금월)'!$D$7:$AH$234,19,0)","v":725},{"$f":"VLOOKUP(B215&D215,'[1]점검현황(금월)'!$D$7:$AH$233,20,0)","v":"16:50:00"},{"$f":"VLOOKUP(B215&D215,'[1]점검현황(금월)'!$D$7:$AH$234,31,0)","v":0},728,{"$f":"VLOOKUP(B215&D215,'[1]점검현황(금월)'!$D$7:$AH$233,18,0)","v":"12:20:00"},{"$f":"VLOOKUP(B215&D215,'[1]점검현황(금월)'!$D$7:$AH$234,23,0)","v":"."}]
["약학관","약학관",1,105,{"$f":"VLOOKUP(B216&D216,'[1]점검현황(금월)'!$D$7:$AH$234,2,0)","v":"약학대"},{"$f":"VLOOKUP(B216&D216,'[1]점검현황(금월)'!$D$7:$AH$234,3,0)","v":"XU106K"},{"$f":"VLOOKUP(B216&D216,'[1]점검현황(금월)'!$D$2:$AH$234,15,0)","v":"e-ST"},{"$f":"VLOOKUP(B216&D216,'[1]점검현황(금월)'!$D$2:$AH$234,21,0)","v":"2012-08-20"},{"$f":"VLOOKUP(B216&D216,'[1]점검현황(금월)'!$D$7:$AH$234,24,0)","v":"·"},{"$f":"VLOOKUP(B216&D216,'[1]점검현황(금월)'!$D$7:$AH$234,19,0)","v":629},{"$f":"VLOOKUP(B216&D216,'[1]점검현황(전월)'!$D$7:$AH$233,20,0)","v":"14:23:00"},{"$f":"VLOOKUP(B216&D216,'[1]점검현황(금월)'!$D$7:$AH$234,31,0)","v":2499},729,{"$f":"VLOOKUP(B216&D216,'[1]점검현황(전월)'!$D$7:$AH$233,18,0)","v":"13:00:00"},{"$f":"VLOOKUP(B216&D216,'[1]점검현황(금월)'!$D$7:$AH$234,23,0)","v":"."}]
[null,"약학관",2,106,{"$f":"VLOOKUP(B217&D217,'[1]점검현황(금월)'!$D$7:$AH$234,2,0)","v":"약학대"},{"$f":"VLOOKUP(B217&D217,'[1]점검현황(금월)'!$D$7:$AH$234,3,0)","v":"XU350K"},{"$f":"VLOOKUP(B217&D217,'[1]점검현황(금월)'!$D$2:$AH$234,15,0)","v":"e-ST"},{"$f":"VLOOKUP(B217&D217,'[1]점검현황(금월)'!$D$2:$AH$234,21,0)","v":"·"},{"$f":"VLOOKUP(B217&D217,'[1]점검현황(금월)'!$D$7:$AH$234,24,0)","v":"·"},{"$f":"VLOOKUP(B217&D217,'[1]점검현황(금월)'!$D$7:$AH$234,19,0)","v":629},{"$f":"VLOOKUP(B217&D217,'[1]점검현황(전월)'!$D$7:$AH$233,20,0)","v":"09:10:00"},{"$f":"VLOOKUP(B217&D217,'[1]점검현황(금월)'!$D$7:$AH$234,31,0)","v":1234},729,{"$f":"VLOOKUP(B217&D217,'[1]점검현황(전월)'!$D$7:$AH$233,18,0)","v":"13:10:00"},{"$f":"VLOOKUP(B217&D217,'[1]점검현황(금월)'!$D$7:$AH$234,23,0)","v":"."}]
[null,"약학관",3,317,{"$f":"VLOOKUP(B218&D218,'[1]점검현황(금월)'!$D$7:$AH$234,2,0)","v":"약학대"},{"$f":"VLOOKUP(B218&D218,'[1]점검현황(금월)'!$D$7:$AH$234,3,0)","v":"XU350K"},{"$f":"VLOOKUP(B218&D218,'[1]점검현황(금월)'!$D$2:$AH$234,15,0)","v":"e-ST"},{"$f":"VLOOKUP(B218&D218,'[1]점검현황(금월)'!$D$2:$AH$234,21,0)","v":"·"},{"$f":"VLOOKUP(B218&D218,'[1]점검현황(금월)'!$D$7:$AH$234,24,0)","v":"·"},{"$f":"VLOOKUP(B218&D218,'[1]점검현황(금월)'!$D$7:$AH$234,19,0)","v":629},{"$f":"VLOOKUP(B218&D218,'[1]점검현황(전월)'!$D$7:$AH$233,20,0)","v":"14:40:00"},{"$f":"VLOOKUP(B218&D218,'[1]점검현황(금월)'!$D$7:$AH$234,31,0)","v":424},729,{"$f":"VLOOKUP(B218&D218,'[1]점검현황(전월)'!$D$7:$AH$233,18,0)","v":"13:20:00"},{"$f":"VLOOKUP(B218&D218,'[1]점검현황(금월)'!$D$7:$AH$234,23,0)","v":"."}]
["도서관","도서관",1,101,{"$f":"VLOOKUP(B219&D219,'[1]점검현황(금월)'!$D$7:$AH$234,2,0)","v":"소강당"},{"$f":"VLOOKUP(B219&D219,'[1]점검현황(금월)'!$D$7:$AH$234,3,0)","v":"VX-600"},{"$f":"VLOOKUP(B219&D219,'[1]점검현황(금월)'!$D$2:$AH$234,15,0)","v":"구"},{"$f":"VLOOKUP(B219&D219,'[1]점검현황(금월)'!$D$2:$AH$234,21,0)","v":"2012-09-21"},{"$f":"VLOOKUP(B219&D219,'[1]점검현황(금월)'!$D$7:$AH$234,24,0)","v":"·"},{"$f":"VLOOKUP(B219&D219,'[1]점검현황(금월)'!$D$7:$AH$234,19,0)","v":629},{"$f":"VLOOKUP(B219&D219,'[1]점검현황(전월)'!$D$7:$AH$233,20,0)","v":"09:30:00"},{"$f":"VLOOKUP(B219&D219,'[1]점검현황(금월)'!$D$7:$AH$234,31,0)","v":100},729,{"$f":"VLOOKUP(B219&D219,'[1]점검현황(전월)'!$D$7:$AH$233,18,0)","v":"13:30:00"},{"$f":"VLOOKUP(B219&D219,'[1]점검현황(금월)'!$D$7:$AH$234,23,0)","v":"."}]
["캠퍼스           플라자","캠퍼스플라자",1,302,{"$f":"VLOOKUP(B220&D220,'[1]점검현황(금월)'!$D$7:$AH$234,2,0)","v":"평생교육원"},{"$f":"VLOOKUP(B220&D220,'[1]점검현황(금월)'!$D$7:$AH$234,3,0)","v":"LB-300"},{"$f":"VLOOKUP(B220&D220,'[1]점검현황(금월)'!$D$2:$AH$234,15,0)","v":"구"},{"$f":"VLOOKUP(B220&D220,'[1]점검현황(금월)'!$D$2:$AH$234,21,0)","v":"2015-04-16"},{"$f":"VLOOKUP(B220&D220,'[1]점검현황(금월)'!$D$7:$AH$234,24,0)","v":"·"},{"$f":"VLOOKUP(B220&D220,'[1]점검현황(금월)'!$D$7:$AH$234,19,0)","v":630},{"$f":"VLOOKUP(B220&D220,'[1]점검현황(전월)'!$D$7:$AH$233,20,0)","v":"09:40:00"},{"$f":"VLOOKUP(B220&D220,'[1]점검현황(금월)'!$D$7:$AH$234,31,0)","v":180},729,{"$f":"VLOOKUP(B220&D220,'[1]점검현황(전월)'!$D$7:$AH$233,18,0)","v":"13:40:00"},{"$f":"VLOOKUP(B220&D220,'[1]점검현황(금월)'!$D$7:$AH$234,23,0)","v":"."}]
[null,"캠퍼스플라자",2,304,{"$f":"VLOOKUP(B221&D221,'[1]점검현황(금월)'!$D$7:$AH$234,2,0)","v":"평생교육원"},{"$f":"VLOOKUP(B221&D221,'[1]점검현황(금월)'!$D$7:$AH$234,3,0)","v":"XU300K"},{"$f":"VLOOKUP(B221&D221,'[1]점검현황(금월)'!$D$2:$AH$234,15,0)","v":"구"},{"$f":"VLOOKUP(B221&D221,'[1]점검현황(금월)'!$D$2:$AH$234,21,0)","v":"·"},{"$f":"VLOOKUP(B221&D221,'[1]점검현황(금월)'!$D$7:$AH$234,24,0)","v":"·"},{"$f":"VLOOKUP(B221&D221,'[1]점검현황(금월)'!$D$7:$AH$234,19,0)","v":630},{"$f":"VLOOKUP(B221&D221,'[1]점검현황(전월)'!$D$7:$AH$233,20,0)","v":"17:41:00"},{"$f":"VLOOKUP(B221&D221,'[1]점검현황(금월)'!$D$7:$AH$234,31,0)","v":285},729,{"$f":"VLOOKUP(B221&D221,'[1]점검현황(전월)'!$D$7:$AH$233,18,0)","v":"13:50:00"},{"$f":"VLOOKUP(B221&D221,'[1]점검현황(금월)'!$D$7:$AH$234,23,0)","v":"."}]
[null,"캠퍼스플라자",3,305,{"$f":"VLOOKUP(B222&D222,'[1]점검현황(금월)'!$D$7:$AH$234,2,0)","v":"평생교육원"},{"$f":"VLOOKUP(B222&D222,'[1]점검현황(금월)'!$D$7:$AH$234,3,0)","v":"XU300K"},{"$f":"VLOOKUP(B222&D222,'[1]점검현황(금월)'!$D$2:$AH$234,15,0)","v":"구"},{"$f":"VLOOKUP(B222&D222,'[1]점검현황(금월)'!$D$2:$AH$234,21,0)","v":"2015-05-18"},{"$f":"VLOOKUP(B222&D222,'[1]점검현황(금월)'!$D$7:$AH$234,24,0)","v":"·"},{"$f":"VLOOKUP(B222&D222,'[1]점검현황(금월)'!$D$7:$AH$234,19,0)","v":630},{"$f":"VLOOKUP(B222&D222,'[1]점검현황(전월)'!$D$7:$AH$233,20,0)","v":"10:00:00"},{"$f":"VLOOKUP(B222&D222,'[1]점검현황(금월)'!$D$7:$AH$234,31,0)","v":26},730,{"$f":"VLOOKUP(B222&D222,'[1]점검현황(전월)'!$D$7:$AH$233,18,0)","v":"14:00:00"},{"$f":"VLOOKUP(B222&D222,'[1]점검현황(금월)'!$D$7:$AH$234,23,0)","v":"."}]
[null,"캠퍼스플라자",4,306,{"$f":"VLOOKUP(B223&D223,'[1]점검현황(금월)'!$D$7:$AH$234,2,0)","v":"평생교육원"},{"$f":"VLOOKUP(B223&D223,'[1]점검현황(금월)'!$D$7:$AH$234,3,0)","v":"VX410Z"},{"$f":"VLOOKUP(B223&D223,'[1]점검현황(금월)'!$D$2:$AH$234,15,0)","v":"e-ST"},{"$f":"VLOOKUP(B223&D223,'[1]점검현황(금월)'!$D$2:$AH$234,21,0)","v":"·"},{"$f":"VLOOKUP(B223&D223,'[1]점검현황(금월)'!$D$7:$AH$234,24,0)","v":"·"},{"$f":"VLOOKUP(B223&D223,'[1]점검현황(금월)'!$D$7:$AH$234,19,0)","v":630},{"$f":"VLOOKUP(B223&D223,'[1]점검현황(전월)'!$D$7:$AH$233,20,0)","v":"10:10:00"},{"$f":"VLOOKUP(B223&D223,'[1]점검현황(금월)'!$D$7:$AH$234,31,0)","v":864},730,{"$f":"VLOOKUP(B223&D223,'[1]점검현황(전월)'!$D$7:$AH$233,18,0)","v":"14:10:00"},{"$f":"VLOOKUP(B223&D223,'[1]점검현황(금월)'!$D$7:$AH$234,23,0)","v":"."}]
[null,"캠퍼스플라자",5,307,{"$f":"VLOOKUP(B224&D224,'[1]점검현황(금월)'!$D$7:$AH$234,2,0)","v":"평생교육원"},{"$f":"VLOOKUP(B224&D224,'[1]점검현황(금월)'!$D$7:$AH$234,3,0)","v":"XU300K"},{"$f":"VLOOKUP(B224&D224,'[1]점검현황(금월)'!$D$2:$AH$234,15,0)","v":"구"},{"$f":"VLOOKUP(B224&D224,'[1]점검현황(금월)'!$D$2:$AH$234,21,0)","v":"·"},{"$f":"VLOOKUP(B224&D224,'[1]점검현황(금월)'!$D$7:$AH$234,24,0)","v":"·"},{"$f":"VLOOKUP(B224&D224,'[1]점검현황(금월)'!$D$7:$AH$234,19,0)","v":630},{"$f":"VLOOKUP(B224&D224,'[1]점검현황(전월)'!$D$7:$AH$233,20,0)","v":"10:20:00"},{"$f":"VLOOKUP(B224&D224,'[1]점검현황(금월)'!$D$7:$AH$234,31,0)","v":2825},730,{"$f":"VLOOKUP(B224&D224,'[1]점검현황(전월)'!$D$7:$AH$233,18,0)","v":"14:20:00"},{"$f":"VLOOKUP(B224&D224,'[1]점검현황(금월)'!$D$7:$AH$234,23,0)","v":"."}]
[null,"캠퍼스플라자",6,308,{"$f":"VLOOKUP(B225&D225,'[1]점검현황(금월)'!$D$7:$AH$234,2,0)","v":"평생교육원"},{"$f":"VLOOKUP(B225&D225,'[1]점검현황(금월)'!$D$7:$AH$234,3,0)","v":"XU300K"},{"$f":"VLOOKUP(B225&D225,'[1]점검현황(금월)'!$D$2:$AH$234,15,0)","v":"구"},{"$f":"VLOOKUP(B225&D225,'[1]점검현황(금월)'!$D$2:$AH$234,21,0)","v":"·"},{"$f":"VLOOKUP(B225&D225,'[1]점검현황(금월)'!$D$7:$AH$234,24,0)","v":"·"},{"$f":"VLOOKUP(B225&D225,'[1]점검현황(금월)'!$D$7:$AH$234,19,0)","v":630},{"$f":"VLOOKUP(B225&D225,'[1]점검현황(전월)'!$D$7:$AH$233,20,0)","v":"10:20:00"},{"$f":"VLOOKUP(B225&D225,'[1]점검현황(금월)'!$D$7:$AH$234,31,0)","v":114},730,{"$f":"VLOOKUP(B225&D225,'[1]점검현황(전월)'!$D$7:$AH$233,18,0)","v":"14:30:00"},{"$f":"VLOOKUP(B225&D225,'[1]점검현황(금월)'!$D$7:$AH$234,23,0)","v":"."}]
[null,"캠퍼스플라자",7,501,{"$f":"VLOOKUP(B226&D226,'[1]점검현황(금월)'!$D$7:$AH$234,2,0)","v":"아주심리센터"},{"$f":"VLOOKUP(B226&D226,'[1]점검현황(금월)'!$D$7:$AH$234,3,0)","v":"VX400Z"},{"$f":"VLOOKUP(B226&D226,'[1]점검현황(금월)'!$D$2:$AH$234,15,0)","v":"구"},{"$f":"VLOOKUP(B226&D226,'[1]점검현황(금월)'!$D$2:$AH$234,21,0)","v":"·"},{"$f":"VLOOKUP(B226&D226,'[1]점검현황(금월)'!$D$7:$AH$234,24,0)","v":"·"},{"$f":"VLOOKUP(B226&D226,'[1]점검현황(금월)'!$D$7:$AH$234,19,0)","v":630},{"$f":"VLOOKUP(B226&D226,'[1]점검현황(전월)'!$D$7:$AH$233,20,0)","v":"10:40:00"},{"$f":"VLOOKUP(B226&D226,'[1]점검현황(금월)'!$D$7:$AH$234,31,0)","v":411},730,{"$f":"VLOOKUP(B226&D226,'[1]점검현황(전월)'!$D$7:$AH$233,18,0)","v":"14:40:00"},{"$f":"VLOOKUP(B226&D226,'[1]점검현황(금월)'!$D$7:$AH$234,23,0)","v":"."}]
["종합                        설계동","종합설계동",1,101,{"$f":"VLOOKUP(B227&D227,'[1]점검현황(금월)'!$D$7:$AH$234,2,0)","v":"정 통 컴"},{"$f":"VLOOKUP(B227&D227,'[1]점검현황(금월)'!$D$7:$AH$234,3,0)","v":"XM5000"},{"$f":"VLOOKUP(B227&D227,'[1]점검현황(금월)'!$D$2:$AH$234,15,0)","v":"e-ST"},{"$f":"VLOOKUP(B227&D227,'[1]점검현황(금월)'!$D$2:$AH$234,21,0)","v":"2015-05-13"},{"$f":"VLOOKUP(B227&D227,'[1]점검현황(금월)'!$D$7:$AH$234,24,0)","v":"·"},{"$f":"VLOOKUP(B227&D227,'[1]점검현황(금월)'!$D$7:$AH$234,19,0)","v":630},{"$f":"VLOOKUP(B227&D227,'[1]점검현황(전월)'!$D$7:$AH$233,20,0)","v":"10:50:00"},{"$f":"VLOOKUP(B227&D227,'[1]점검현황(금월)'!$D$7:$AH$234,31,0)","v":52},730,{"$f":"VLOOKUP(B227&D227,'[1]점검현황(전월)'!$D$7:$AH$233,18,0)","v":"09:00:00"},{"$f":"VLOOKUP(B227&D227,'[1]점검현황(금월)'!$D$7:$AH$234,23,0)","v":"."}]
[null,"종합설계동",2,103,{"$f":"VLOOKUP(B228&D228,'[1]점검현황(금월)'!$D$7:$AH$234,2,0)","v":"산업정보"},{"$f":"VLOOKUP(B228&D228,'[1]점검현황(금월)'!$D$7:$AH$234,3,0)","v":"VX400 / VX400 / 샤프"},{"$f":"VLOOKUP(B228&D228,'[1]점검현황(금월)'!$D$2:$AH$234,15,0)","v":"자체"},{"$f":"VLOOKUP(B228&D228,'[1]점검현황(금월)'!$D$2:$AH$234,21,0)","v":"·"},{"$f":"VLOOKUP(B228&D228,'[1]점검현황(금월)'!$D$7:$AH$234,24,0)","v":"·"},{"$f":"VLOOKUP(B228&D228,'[1]점검현황(금월)'!$D$7:$AH$234,19,0)","v":630},{"$f":"VLOOKUP(B228&D228,'[1]점검현황(전월)'!$D$7:$AH$233,20,0)","v":"11:00:00"},{"$f":"VLOOKUP(B228&D228,'[1]점검현황(금월)'!$D$7:$AH$234,31,0)","v":"545/2/54"},731,{"$f":"VLOOKUP(B228&D228,'[1]점검현황(전월)'!$D$7:$AH$233,18,0)","v":"09:10:00"},{"$f":"VLOOKUP(B228&D228,'[1]점검현황(금월)'!$D$7:$AH$234,23,0)","v":"."}]
[null,"종합설계동",3,106,{"$f":"VLOOKUP(B229&D229,'[1]점검현황(금월)'!$D$7:$AH$234,2,0)","v":"환경공학"},{"$f":"VLOOKUP(B229&D229,'[1]점검현황(금월)'!$D$7:$AH$234,3,0)","v":"XU300K / XU300K / XU300K"},{"$f":"VLOOKUP(B229&D229,'[1]점검현황(금월)'!$D$2:$AH$234,15,0)","v":"e-ST"},{"$f":"VLOOKUP(B229&D229,'[1]점검현황(금월)'!$D$2:$AH$234,21,0)","v":"·"},{"$f":"VLOOKUP(B229&D229,'[1]점검현황(금월)'!$D$7:$AH$234,24,0)","v":"·"},{"$f":"VLOOKUP(B229&D229,'[1]점검현황(금월)'!$D$7:$AH$234,19,0)","v":630},{"$f":"VLOOKUP(B229&D229,'[1]점검현황(전월)'!$D$7:$AH$233,20,0)","v":"11:20:00"},{"$f":"VLOOKUP(B229&D229,'[1]점검현황(금월)'!$D$7:$AH$234,31,0)","v":"583/90/237"},731,{"$f":"VLOOKUP(B229&D229,'[1]점검현황(전월)'!$D$7:$AH$233,18,0)","v":"09:20:00"},{"$f":"VLOOKUP(B229&D229,'[1]점검현황(금월)'!$D$7:$AH$234,23,0)","v":"."}]
[null,"종합설계동",4,108,{"$f":"VLOOKUP(B230&D230,'[1]점검현황(금월)'!$D$7:$AH$234,2,0)","v":"정 통 컴"},{"$f":"VLOOKUP(B230&D230,'[1]점검현황(금월)'!$D$7:$AH$234,3,0)","v":"XM5000"},{"$f":"VLOOKUP(B230&D230,'[1]점검현황(금월)'!$D$2:$AH$234,15,0)","v":"구"},{"$f":"VLOOKUP(B230&D230,'[1]점검현황(금월)'!$D$2:$AH$234,21,0)","v":"2012-08-30"},{"$f":"VLOOKUP(B230&D230,'[1]점검현황(금월)'!$D$7:$AH$234,24,0)","v":"·"},{"$f":"VLOOKUP(B230&D230,'[1]점검현황(금월)'!$D$7:$AH$234,19,0)","v":630},{"$f":"VLOOKUP(B230&D230,'[1]점검현황(전월)'!$D$7:$AH$233,20,0)","v":"11:30:00"},{"$f":"VLOOKUP(B230&D230,'[1]점검현황(금월)'!$D$7:$AH$234,31,0)","v":467},731,{"$f":"VLOOKUP(B230&D230,'[1]점검현황(전월)'!$D$7:$AH$233,18,0)","v":"09:30:00"},{"$f":"VLOOKUP(B230&D230,'[1]점검현황(금월)'!$D$7:$AH$234,23,0)","v":"."}]
[null,"종합설계동",5,109,{"$f":"VLOOKUP(B231&D231,'[1]점검현황(금월)'!$D$7:$AH$234,2,0)","v":"전자공학 (PC실)"},{"$f":"VLOOKUP(B231&D231,'[1]점검현황(금월)'!$D$7:$AH$234,3,0)","v":"XU106K"},{"$f":"VLOOKUP(B231&D231,'[1]점검현황(금월)'!$D$2:$AH$234,15,0)","v":"구"},{"$f":"VLOOKUP(B231&D231,'[1]점검현황(금월)'!$D$2:$AH$234,21,0)","v":"·"},{"$f":"VLOOKUP(B231&D231,'[1]점검현황(금월)'!$D$7:$AH$234,24,0)","v":"·"},{"$f":"VLOOKUP(B231&D231,'[1]점검현황(금월)'!$D$7:$AH$234,19,0)","v":630},{"$f":"VLOOKUP(B231&D231,'[1]점검현황(전월)'!$D$7:$AH$233,20,0)","v":"11:40:00"},{"$f":"VLOOKUP(B231&D231,'[1]점검현황(금월)'!$D$7:$AH$234,31,0)","v":918},731,{"$f":"VLOOKUP(B231&D231,'[1]점검현황(전월)'!$D$7:$AH$233,18,0)","v":"09:40:00"},{"$f":"VLOOKUP(B231&D231,'[1]점검현황(금월)'!$D$7:$AH$234,23,0)","v":"."}]
["화공실험동","화공실험동",1,101,{"$f":"VLOOKUP(B232&D232,'[1]점검현황(금월)'!$D$7:$AH$237,2,0)","v":"PC실"},{"$f":"VLOOKUP(B232&D232,'[1]점검현황(금월)'!$D$7:$AH$237,3,0)","v":"SHARP"},{"$f":"VLOOKUP(B232&D232,'[1]점검현황(금월)'!$D$2:$AH$237,15,0)","v":"자체"},{"$f":"VLOOKUP(B232&D232,'[1]점검현황(금월)'!$D$2:$AH$237,21,0)","v":"·"},{"$f":"VLOOKUP(B232&D232,'[1]점검현황(금월)'!$D$7:$AH$237,24,0)","v":"·"},{"$f":"VLOOKUP(B232&D232,'[1]점검현황(금월)'!$D$7:$AH$237,19,0)","v":630},{"$f":"VLOOKUP(B232&D232,'[1]점검현황(전월)'!$D$7:$AH$236,20,0)","v":"11:50:00"},{"$f":"VLOOKUP(B232&D232,'[1]점검현황(금월)'!$D$7:$AH$237,31,0)","v":235},731,{"$f":"VLOOKUP(B232&D232,'[1]점검현황(전월)'!$D$7:$AH$236,18,0)","v":"09:50:00"},{"$f":"VLOOKUP(B232&D232,'[1]점검현황(금월)'!$D$7:$AH$237,23,0)","v":"."}]
[null,"화공실험동",2,102,{"$f":"VLOOKUP(B233&D233,'[1]점검현황(금월)'!$D$7:$AH$237,2,0)","v":"실험실"},{"$f":"VLOOKUP(B233&D233,'[1]점검현황(금월)'!$D$7:$AH$237,3,0)","v":"EX500E"},{"$f":"VLOOKUP(B233&D233,'[1]점검현황(금월)'!$D$2:$AH$237,15,0)","v":"자체"},{"$f":"VLOOKUP(B233&D233,'[1]점검현황(금월)'!$D$2:$AH$237,21,0)","v":"·"},{"$f":"VLOOKUP(B233&D233,'[1]점검현황(금월)'!$D$7:$AH$237,24,0)","v":"·"},{"$f":"VLOOKUP(B233&D233,'[1]점검현황(금월)'!$D$7:$AH$237,19,0)","v":630},{"$f":"VLOOKUP(B233&D233,'[1]점검현황(전월)'!$D$7:$AH$236,20,0)","v":"12:00:00"},{"$f":"VLOOKUP(B233&D233,'[1]점검현황(금월)'!$D$7:$AH$237,31,0)","v":304},731,{"$f":"VLOOKUP(B233&D233,'[1]점검현황(전월)'!$D$7:$AH$236,18,0)","v":"10:00:00"},{"$f":"VLOOKUP(B233&D233,'[1]점검현황(금월)'!$D$7:$AH$237,23,0)","v":"30,"}]
[null,"화공실험동",3,105,{"$f":"VLOOKUP(B234&D234,'[1]점검현황(금월)'!$D$7:$AH$237,2,0)","v":"실험실"},{"$f":"VLOOKUP(B234&D234,'[1]점검현황(금월)'!$D$7:$AH$237,3,0)","v":"XU106K"},{"$f":"VLOOKUP(B234&D234,'[1]점검현황(금월)'!$D$2:$AH$237,15,0)","v":"자체"},{"$f":"VLOOKUP(B234&D234,'[1]점검현황(금월)'!$D$2:$AH$237,21,0)","v":"·"},{"$f":"VLOOKUP(B234&D234,'[1]점검현황(금월)'!$D$7:$AH$237,24,0)","v":"·"},{"$f":"VLOOKUP(B234&D234,'[1]점검현황(금월)'!$D$7:$AH$237,19,0)","v":630},{"$f":"VLOOKUP(B234&D234,'[1]점검현황(전월)'!$D$7:$AH$236,20,0)","v":"12:10:00"},{"$f":"VLOOKUP(B234&D234,'[1]점검현황(금월)'!$D$7:$AH$237,31,0)","v":321},731,{"$f":"VLOOKUP(B234&D234,'[1]점검현황(전월)'!$D$7:$AH$236,18,0)","v":"10:10:00"},{"$f":"VLOOKUP(B234&D234,'[1]점검현황(금월)'!$D$7:$AH$237,23,0)","v":"."}]
[]
[null,null,"※ 강의실 점검 내용"]
[null,null,"▶ 프로젝터 점검\n - 필터 크리닝 / 램프 사용시간 확인 / 램프 밝기 및 오염여부를 확인"]
[null,null,"▶ 스크린 점검\n - 동작 유무 확인(스크린Up, Down) / 낙서등의 오염 상태 육안으로 확인 / 손상 여부 확인"]
[null,null,"▶ PC점검\n -윈도우 보안 업데이트 확인 / 바이러스 검사 / PC하드웨어 점검(PC본체 및 모니터) / OS 및 프로그램 이상유무 확인"]
[null,null,"▶ 마이크 점검\n - 작동 여부 및 마이크 상태 확인 / 선 접지 확인 / 교탁 마이크 단자 및 거치대 확인"]
[null,null,"자동녹화"]
[null,null,"▶ 자동녹화 점검\n - e-motion 매니져 작동확인, e-motion 센서 작동 확인, 1:5 분배기 작동 확인, 자동녹화 프로그램 영상 및 음향 녹화, 카메라 및 모니터 정상 출력 확인"]