{"text_format":"2","workbook":"xlsx","n_sheets":1,"sheets":["PC사양"],"not_rendered":{"charts":0,"images":0,"macros":0,"external_links":2,"defined_names":1,"comments":0,"pivot_tables":0},"unopened":[],"bounds":{"document_bytes":16777216,"sheet_cells":100000,"run_cost":"one","rows_first":2000,"rows_last":500,"rows_between":2000,"halvings":0,"cell_chars":16384,"cell_head_chars":4096},"cells_cut":0,"cells_raw":0,"read":"whole","date_system":"1900"}

{"sheet":"PC사양","index":0,"n_rows":224,"n_cols":10,"rows_kept":224,"cut":false,"hidden":false,"merged":[[221,0,221,9],[222,0,222,9],[223,0,223,9],[152,0,153,0],[154,0,157,0],[158,0,202,0],[208,0,214,0],[215,0,219,0],[204,0,206,0],[203,3,203,6],[114,0,140,0],[141,0,151,0],[147,3,147,8],[148,3,148,8],[149,3,149,8],[151,3,151,8],[111,0,113,0],[4,0,29,0],[30,0,52,0],[53,0,79,0],[80,0,101,0],[102,0,110,0],[0,0,0,9],[2,0,3,0],[2,2,3,2],[2,3,3,3],[2,4,2,6],[2,7,3,7],[2,8,3,8],[2,9,3,9]]}
["2015년 7월 현재 강의실 PC 사양"]
[]
["건물",null,"강의실","PC모델명","PC 사양",null,null,"스피커","O/S","강의실 구분"]
[{"$nulls":4},"CPU","RAM","HDD"]
["다산관","다산관","B105",{"$f":"VLOOKUP(B5&C5,'[1]점검현황(전월)'!$D$7:$AH$233,7,0)","v":"DB400"},{"$f":"VLOOKUP(B5&C5,'[2]점검현황(금월)'!$D$7:$AH$233,8,0)","v":"DB400T3A-A0A/R"},{"$f":"VLOOKUP(B5&C5,'[1]점검현황(전월)'!$D$7:$AH$233,9,0)","v":"DDR3 4G"},{"$f":"VLOOKUP(B5&C5,'[1]점검현황(전월)'!$D$7:$AH$233,10,0)","v":"SATA II 1T"},{"$f":"VLOOKUP(B5&C5,'[1]점검현황(전월)'!$D$7:$AH$233,14,0)","v":"INTER-M"},"window7",{"$f":"VLOOKUP(B5&C5,'[1]점검현황(전월)'!$D$7:$AH$233,2,0)","v":"멀티미디어"}]
[null,"다산관","B106",{"$f":"VLOOKUP(B6&C6,'[1]점검현황(전월)'!$D$7:$AH$233,7,0)","v":"DB400"},{"$f":"VLOOKUP(B6&C6,'[2]점검현황(금월)'!$D$7:$AH$233,8,0)","v":"i7-3770"},{"$f":"VLOOKUP(B6&C6,'[1]점검현황(전월)'!$D$7:$AH$233,9,0)","v":"DDR3 4G"},{"$f":"VLOOKUP(B6&C6,'[1]점검현황(전월)'!$D$7:$AH$233,10,0)","v":"SATA II 1T"},{"$f":"VLOOKUP(B6&C6,'[1]점검현황(전월)'!$D$7:$AH$233,14,0)","v":"INTER-M"},"window7",{"$f":"VLOOKUP(B6&C6,'[1]점검현황(전월)'!$D$7:$AH$233,2,0)","v":"경영대"}]
[null,"다산관","B107",{"$f":"VLOOKUP(B7&C7,'[1]점검현황(전월)'!$D$7:$AH$233,7,0)","v":"DB400"},{"$f":"VLOOKUP(B7&C7,'[2]점검현황(금월)'!$D$7:$AH$233,8,0)","v":"i7-3770"},{"$f":"VLOOKUP(B7&C7,'[1]점검현황(전월)'!$D$7:$AH$233,9,0)","v":"DDR3 4G"},{"$f":"VLOOKUP(B7&C7,'[1]점검현황(전월)'!$D$7:$AH$233,10,0)","v":"SATA II 1T"},{"$f":"VLOOKUP(B7&C7,'[1]점검현황(전월)'!$D$7:$AH$233,14,0)","v":"INTER-M"},"window7",{"$f":"VLOOKUP(B7&C7,'[1]점검현황(전월)'!$D$7:$AH$233,2,0)","v":"자동녹화"}]
[null,"다산관","B108",{"$f":"VLOOKUP(B8&C8,'[1]점검현황(전월)'!$D$7:$AH$233,7,0)","v":"DB-Z200"},{"$f":"VLOOKUP(B8&C8,'[2]점검현황(전월)'!$D$7:$AH$233,8,0)","v":"i5-760"},{"$f":"VLOOKUP(B8&C8,'[1]점검현황(전월)'!$D$7:$AH$233,9,0)","v":"DDR3 4G"},{"$f":"VLOOKUP(B8&C8,'[1]점검현황(전월)'!$D$7:$AH$233,10,0)","v":"SATA II 500G"},{"$f":"VLOOKUP(B8&C8,'[1]점검현황(전월)'!$D$7:$AH$233,14,0)","v":"INTER-M"},"window7",{"$f":"VLOOKUP(B8&C8,'[1]점검현황(전월)'!$D$7:$AH$233,2,0)","v":"E-biz"}]
[null,"다산관","B109",{"$f":"VLOOKUP(B9&C9,'[1]점검현황(전월)'!$D$7:$AH$233,7,0)","v":"DB-Z200"},{"$f":"VLOOKUP(B9&C9,'[2]점검현황(전월)'!$D$7:$AH$233,8,0)","v":"i5-760"},{"$f":"VLOOKUP(B9&C9,'[1]점검현황(전월)'!$D$7:$AH$233,9,0)","v":"DDR3 4G"},{"$f":"VLOOKUP(B9&C9,'[1]점검현황(전월)'!$D$7:$AH$233,10,0)","v":"SATA II 500G"},{"$f":"VLOOKUP(B9&C9,'[1]점검현황(전월)'!$D$7:$AH$233,14,0)","v":"INTER-M"},"window7",{"$f":"VLOOKUP(B9&C9,'[1]점검현황(전월)'!$D$7:$AH$233,2,0)","v":"멀티미디어"}]
[null,"다산관","B112",{"$f":"VLOOKUP(B10&C10,'[1]점검현황(전월)'!$D$7:$AH$233,7,0)","v":"DB-Z200"},{"$f":"VLOOKUP(B10&C10,'[2]점검현황(전월)'!$D$7:$AH$233,8,0)","v":"i5-760"},{"$f":"VLOOKUP(B10&C10,'[1]점검현황(전월)'!$D$7:$AH$233,9,0)","v":"DDR3 4G"},{"$f":"VLOOKUP(B10&C10,'[1]점검현황(전월)'!$D$7:$AH$233,10,0)","v":"SATA II 500G"},{"$f":"VLOOKUP(B10&C10,'[1]점검현황(전월)'!$D$7:$AH$233,14,0)","v":"INTER"},"window7",{"$f":"VLOOKUP(B10&C10,'[1]점검현황(전월)'!$D$7:$AH$233,2,0)","v":"대학원"}]
[null,"다산관","B115",{"$f":"VLOOKUP(B11&C11,'[1]점검현황(전월)'!$D$7:$AH$233,7,0)","v":"CT-7610"},{"$f":"VLOOKUP(B11&C11,'[2]점검현황(전월)'!$D$7:$AH$233,8,0)","v":"Pentium 4 640"},{"$f":"VLOOKUP(B11&C11,'[1]점검현황(전월)'!$D$7:$AH$233,9,0)","v":"DDR 512G"},{"$f":"VLOOKUP(B11&C11,'[1]점검현황(전월)'!$D$7:$AH$233,10,0)","v":"SATA 150G"},{"$f":"VLOOKUP(B11&C11,'[1]점검현황(전월)'!$D$7:$AH$233,14,0)","v":"Britz"},"windowXP",{"$f":"VLOOKUP(B11&C11,'[1]점검현황(전월)'!$D$7:$AH$233,2,0)","v":"대학원"}]
[null,"다산관","B121",{"$f":"VLOOKUP(B12&C12,'[1]점검현황(전월)'!$D$7:$AH$233,7,0)","v":"DB-Z200"},{"$f":"VLOOKUP(B12&C12,'[2]점검현황(전월)'!$D$7:$AH$233,8,0)","v":"i5-760"},{"$f":"VLOOKUP(B12&C12,'[1]점검현황(전월)'!$D$7:$AH$233,9,0)","v":"DDR3 4G"},{"$f":"VLOOKUP(B12&C12,'[1]점검현황(전월)'!$D$7:$AH$233,10,0)","v":"SATA II 500G"},{"$f":"VLOOKUP(B12&C12,'[1]점검현황(전월)'!$D$7:$AH$233,14,0)","v":"KR8"},"window7",{"$f":"VLOOKUP(B12&C12,'[1]점검현황(전월)'!$D$7:$AH$233,2,0)","v":"대강당"}]
[null,"다산관",105,{"$f":"VLOOKUP(B13&C13,'[1]점검현황(전월)'!$D$7:$AH$233,7,0)","v":"DB-Z200"},{"$f":"VLOOKUP(B13&C13,'[2]점검현황(전월)'!$D$7:$AH$233,8,0)","v":"i5-760"},{"$f":"VLOOKUP(B13&C13,'[1]점검현황(전월)'!$D$7:$AH$233,9,0)","v":"DDR3 4G"},{"$f":"VLOOKUP(B13&C13,'[1]점검현황(전월)'!$D$7:$AH$233,10,0)","v":"SATA II 500G"},{"$f":"VLOOKUP(B13&C13,'[1]점검현황(전월)'!$D$7:$AH$233,14,0)","v":"EON10"},"window7",{"$f":"VLOOKUP(B13&C13,'[1]점검현황(전월)'!$D$7:$AH$233,2,0)","v":"멀티미디어"}]
[null,"다산관",106,{"$f":"VLOOKUP(B14&C14,'[1]점검현황(전월)'!$D$7:$AH$233,7,0)","v":"DB-Z200"},{"$f":"VLOOKUP(B14&C14,'[2]점검현황(전월)'!$D$7:$AH$233,8,0)","v":"i5-760"},{"$f":"VLOOKUP(B14&C14,'[1]점검현황(전월)'!$D$7:$AH$233,9,0)","v":"DDR3 4G"},{"$f":"VLOOKUP(B14&C14,'[1]점검현황(전월)'!$D$7:$AH$233,10,0)","v":"SATA II 500G"},{"$f":"VLOOKUP(B14&C14,'[1]점검현황(전월)'!$D$7:$AH$233,14,0)","v":"EON10"},"window7",{"$f":"VLOOKUP(B14&C14,'[1]점검현황(전월)'!$D$7:$AH$233,2,0)","v":"불어불문"}]
[null,"다산관",107,{"$f":"VLOOKUP(B15&C15,'[1]점검현황(전월)'!$D$7:$AH$233,7,0)","v":"DB-Z200"},{"$f":"VLOOKUP(B15&C15,'[2]점검현황(전월)'!$D$7:$AH$233,8,0)","v":"i5-760"},{"$f":"VLOOKUP(B15&C15,'[1]점검현황(전월)'!$D$7:$AH$233,9,0)","v":"DDR3 4G"},{"$f":"VLOOKUP(B15&C15,'[1]점검현황(전월)'!$D$7:$AH$233,10,0)","v":"SATA II 500G"},{"$f":"VLOOKUP(B15&C15,'[1]점검현황(전월)'!$D$7:$AH$233,14,0)","v":"EON10"},"window7",{"$f":"VLOOKUP(B15&C15,'[1]점검현황(전월)'!$D$7:$AH$233,2,0)","v":"국어국문"}]
[null,"다산관",108,{"$f":"VLOOKUP(B16&C16,'[1]점검현황(전월)'!$D$7:$AH$233,7,0)","v":"DB-Z200"},{"$f":"VLOOKUP(B16&C16,'[2]점검현황(전월)'!$D$7:$AH$233,8,0)","v":"i5-760"},{"$f":"VLOOKUP(B16&C16,'[1]점검현황(전월)'!$D$7:$AH$233,9,0)","v":"DDR3 4G"},{"$f":"VLOOKUP(B16&C16,'[1]점검현황(전월)'!$D$7:$AH$233,10,0)","v":"SATA II 500G"},{"$f":"VLOOKUP(B16&C16,'[1]점검현황(전월)'!$D$7:$AH$233,14,0)","v":"EON10"},"window7",{"$f":"VLOOKUP(B16&C16,'[1]점검현황(전월)'!$D$7:$AH$233,2,0)","v":"사학과"}]
[null,"다산관",109,{"$f":"VLOOKUP(B17&C17,'[1]점검현황(전월)'!$D$7:$AH$233,7,0)","v":"DB-Z200"},{"$f":"VLOOKUP(B17&C17,'[2]점검현황(전월)'!$D$7:$AH$233,8,0)","v":"i5-760"},{"$f":"VLOOKUP(B17&C17,'[1]점검현황(전월)'!$D$7:$AH$233,9,0)","v":"DDR3 4G"},{"$f":"VLOOKUP(B17&C17,'[1]점검현황(전월)'!$D$7:$AH$233,10,0)","v":"SATA II 500G"},{"$f":"VLOOKUP(B17&C17,'[1]점검현황(전월)'!$D$7:$AH$233,14,0)","v":"EON10"},"window7",{"$f":"VLOOKUP(B17&C17,'[1]점검현황(전월)'!$D$7:$AH$233,2,0)","v":"멀티미디어"}]
[null,"다산관",110,{"$f":"VLOOKUP(B18&C18,'[1]점검현황(전월)'!$D$7:$AH$233,7,0)","v":"DB-Z200"},{"$f":"VLOOKUP(B18&C18,'[1]점검현황(전월)'!$D$7:$AH$233,8,0)","v":"i5-760"},{"$f":"VLOOKUP(B18&C18,'[1]점검현황(전월)'!$D$7:$AH$233,9,0)","v":"DDR3 4G"},{"$f":"VLOOKUP(B18&C18,'[1]점검현황(전월)'!$D$7:$AH$233,10,0)","v":"SATA II 500G"},{"$f":"VLOOKUP(B18&C18,'[1]점검현황(전월)'!$D$7:$AH$233,14,0)","v":"EON10"},"window7",{"$f":"VLOOKUP(B18&C18,'[1]점검현황(전월)'!$D$7:$AH$233,2,0)","v":"대학원"}]
[null,"다산관",111,{"$f":"VLOOKUP(B19&C19,'[1]점검현황(전월)'!$D$7:$AH$233,7,0)","v":"DB400"},{"$f":"VLOOKUP(B19&C19,'[1]점검현황(전월)'!$D$7:$AH$233,8,0)","v":"i7-3770"},{"$f":"VLOOKUP(B19&C19,'[1]점검현황(전월)'!$D$7:$AH$233,9,0)","v":"DDR3 4G"},{"$f":"VLOOKUP(B19&C19,'[1]점검현황(전월)'!$D$7:$AH$233,10,0)","v":"SATA II 500G"},{"$f":"VLOOKUP(B19&C19,'[1]점검현황(전월)'!$D$7:$AH$233,14,0)","v":"EON10"},"windowXP",{"$f":"VLOOKUP(B19&C19,'[1]점검현황(전월)'!$D$7:$AH$233,2,0)","v":"자동녹화"}]
[null,"다산관",115,{"$f":"VLOOKUP(B20&C20,'[1]점검현황(전월)'!$D$7:$AH$233,7,0)","v":"DB-Z200"},{"$f":"VLOOKUP(B20&C20,'[1]점검현황(전월)'!$D$7:$AH$233,8,0)","v":"i5-760"},{"$f":"VLOOKUP(B20&C20,'[1]점검현황(전월)'!$D$7:$AH$233,9,0)","v":"DDR3 4G"},{"$f":"VLOOKUP(B20&C20,'[1]점검현황(전월)'!$D$7:$AH$233,10,0)","v":"SATA II 500G"},{"$f":"VLOOKUP(B20&C20,'[1]점검현황(전월)'!$D$7:$AH$233,14,0)","v":"EON10"},"window7",{"$f":"VLOOKUP(B20&C20,'[1]점검현황(전월)'!$D$7:$AH$233,2,0)","v":"멀티미디어"}]
[null,"다산관","205A",{"$f":"VLOOKUP(B21&C21,'[1]점검현황(전월)'!$D$7:$AH$233,7,0)","v":"DB-A65"},{"$f":"VLOOKUP(B21&C21,'[1]점검현황(전월)'!$D$7:$AH$233,8,0)","v":"E8400"},{"$f":"VLOOKUP(B21&C21,'[1]점검현황(전월)'!$D$7:$AH$233,9,0)","v":"DDR2 2G"},{"$f":"VLOOKUP(B21&C21,'[1]점검현황(전월)'!$D$7:$AH$233,10,0)","v":"SATA II 350G"},{"$f":"VLOOKUP(B21&C21,'[1]점검현황(전월)'!$D$7:$AH$233,14,0)","v":"EON10"},"window7",{"$f":"VLOOKUP(B21&C21,'[1]점검현황(전월)'!$D$7:$AH$233,2,0)","v":"인문대 (PC실)"}]
[null,"다산관","205B",{"$f":"VLOOKUP(B22&C22,'[1]점검현황(전월)'!$D$7:$AH$233,7,0)","v":"DB400"},{"$f":"VLOOKUP(B22&C22,'[1]점검현황(전월)'!$D$7:$AH$233,8,0)","v":"i5-3570"},{"$f":"VLOOKUP(B22&C22,'[1]점검현황(전월)'!$D$7:$AH$233,9,0)","v":"DDR3 4G"},{"$f":"VLOOKUP(B22&C22,'[1]점검현황(전월)'!$D$7:$AH$233,10,0)","v":"SATA III 500G"},{"$f":"VLOOKUP(B22&C22,'[1]점검현황(전월)'!$D$7:$AH$233,14,0)","v":"EON10"},"window7",{"$f":"VLOOKUP(B22&C22,'[1]점검현황(전월)'!$D$7:$AH$233,2,0)","v":"인문대 (자동녹화)"}]
[null,"다산관",308,{"$f":"VLOOKUP(B23&C23,'[1]점검현황(전월)'!$D$7:$AH$233,7,0)","v":"DB-Z400"},{"$f":"VLOOKUP(B23&C23,'[1]점검현황(전월)'!$D$7:$AH$233,8,0)","v":"i5-2500"},{"$f":"VLOOKUP(B23&C23,'[1]점검현황(전월)'!$D$7:$AH$233,9,0)","v":"DDR3 4G"},{"$f":"VLOOKUP(B23&C23,'[1]점검현황(전월)'!$D$7:$AH$233,10,0)","v":"SATA II 1T"},{"$f":"VLOOKUP(B23&C23,'[1]점검현황(전월)'!$D$7:$AH$233,14,0)","v":"OK"},"window7",{"$f":"VLOOKUP(B23&C23,'[1]점검현황(전월)'!$D$7:$AH$233,2,0)","v":"경영대 (PC실)"}]
[null,"다산관",309,{"$f":"VLOOKUP(B24&C24,'[1]점검현황(전월)'!$D$7:$AH$233,7,0)","v":"EMPU"},{"$f":"VLOOKUP(B24&C24,'[1]점검현황(전월)'!$D$7:$AH$233,8,0)","v":"E7500"},{"$f":"VLOOKUP(B24&C24,'[1]점검현황(전월)'!$D$7:$AH$233,9,0)","v":"DDR2 2G"},{"$f":"VLOOKUP(B24&C24,'[1]점검현황(전월)'!$D$7:$AH$233,10,0)","v":"SATA II 300G"},{"$f":"VLOOKUP(B24&C24,'[1]점검현황(전월)'!$D$7:$AH$233,14,0)","v":"vasc111"},"window7",{"$f":"VLOOKUP(B24&C24,'[1]점검현황(전월)'!$D$7:$AH$233,2,0)","v":"경영대대학원"}]
[null,"다산관",310,{"$f":"VLOOKUP(B25&C25,'[1]점검현황(전월)'!$D$7:$AH$233,7,0)","v":"DB-Z400"},{"$f":"VLOOKUP(B25&C25,'[1]점검현황(전월)'!$D$7:$AH$233,8,0)","v":"i5-3470"},{"$f":"VLOOKUP(B25&C25,'[1]점검현황(전월)'!$D$7:$AH$233,9,0)","v":"DDR3 4G"},{"$f":"VLOOKUP(B25&C25,'[1]점검현황(전월)'!$D$7:$AH$233,10,0)","v":"SATA II 500G"},{"$f":"VLOOKUP(B25&C25,'[1]점검현황(전월)'!$D$7:$AH$233,14,0)","v":"JBL"},"window7",{"$f":"VLOOKUP(B25&C25,'[1]점검현황(전월)'!$D$7:$AH$233,2,0)","v":"경영대대학원"}]
[null,"다산관",311,{"$f":"VLOOKUP(B26&C26,'[1]점검현황(전월)'!$D$7:$AH$233,7,0)","v":"QL320SE"},{"$f":"VLOOKUP(B26&C26,'[1]점검현황(전월)'!$D$7:$AH$233,8,0)","v":"i52400"},{"$f":"VLOOKUP(B26&C26,'[1]점검현황(전월)'!$D$7:$AH$233,9,0)","v":"DDR3 4G"},{"$f":"VLOOKUP(B26&C26,'[1]점검현황(전월)'!$D$7:$AH$233,10,0)","v":"SATA II 500G"},{"$f":"VLOOKUP(B26&C26,'[1]점검현황(전월)'!$D$7:$AH$233,14,0)","v":"JBL"},"window7",{"$f":"VLOOKUP(B26&C26,'[1]점검현황(전월)'!$D$7:$AH$233,2,0)","v":"경영대대학원"}]
[null,"다산관",406,{"$f":"VLOOKUP(B27&C27,'[1]점검현황(전월)'!$D$7:$AH$233,7,0)","v":"DB-Z400"},{"$f":"VLOOKUP(B27&C27,'[1]점검현황(전월)'!$D$7:$AH$233,8,0)","v":"i5-2500"},{"$f":"VLOOKUP(B27&C27,'[1]점검현황(전월)'!$D$7:$AH$233,9,0)","v":"DDR3 4G"},{"$f":"VLOOKUP(B27&C27,'[1]점검현황(전월)'!$D$7:$AH$233,10,0)","v":"SATA II 1T"},{"$f":"VLOOKUP(B27&C27,'[1]점검현황(전월)'!$D$7:$AH$233,14,0)","v":"JBL"},"windowXP",{"$f":"VLOOKUP(B27&C27,'[1]점검현황(전월)'!$D$7:$AH$233,2,0)","v":"경영대대학원"}]
[null,"다산관",505,{"$f":"VLOOKUP(B28&C28,'[1]점검현황(전월)'!$D$7:$AH$233,7,0)","v":"DB-Z200"},{"$f":"VLOOKUP(B28&C28,'[1]점검현황(전월)'!$D$7:$AH$233,8,0)","v":"i5-760"},{"$f":"VLOOKUP(B28&C28,'[1]점검현황(전월)'!$D$7:$AH$233,9,0)","v":"DDR3 4G"},{"$f":"VLOOKUP(B28&C28,'[1]점검현황(전월)'!$D$7:$AH$233,10,0)","v":"SATA II 500G"},{"$f":"VLOOKUP(B28&C28,'[1]점검현황(전월)'!$D$7:$AH$233,14,0)","v":"INTER-M"},"window7",{"$f":"VLOOKUP(B28&C28,'[1]점검현황(전월)'!$D$7:$AH$233,2,0)","v":"대학원"}]
[null,"다산관",506,{"$f":"VLOOKUP(B29&C29,'[1]점검현황(전월)'!$D$7:$AH$233,7,0)","v":"DB-Z200"},{"$f":"VLOOKUP(B29&C29,'[1]점검현황(전월)'!$D$7:$AH$233,8,0)","v":"i5-760"},{"$f":"VLOOKUP(B29&C29,'[1]점검현황(전월)'!$D$7:$AH$233,9,0)","v":"DDR3 4G"},{"$f":"VLOOKUP(B29&C29,'[1]점검현황(전월)'!$D$7:$AH$233,10,0)","v":"SATA II 500G"},{"$f":"VLOOKUP(B29&C29,'[1]점검현황(전월)'!$D$7:$AH$233,14,0)","v":"INTER-M"},"window7",{"$f":"VLOOKUP(B29&C29,'[1]점검현황(전월)'!$D$7:$AH$233,2,0)","v":"멀티미디어"}]
[null,"다산관",507,{"$f":"VLOOKUP(B30&C30,'[1]점검현황(전월)'!$D$7:$AH$233,7,0)","v":"DB400"},{"$f":"VLOOKUP(B30&C30,'[1]점검현황(전월)'!$D$7:$AH$233,8,0)","v":"i7-3770"},{"$f":"VLOOKUP(B30&C30,'[1]점검현황(전월)'!$D$7:$AH$233,9,0)","v":"DDR3 4G"},{"$f":"VLOOKUP(B30&C30,'[1]점검현황(전월)'!$D$7:$AH$233,10,0)","v":"SATA II 1T"},{"$f":"VLOOKUP(B30&C30,'[1]점검현황(전월)'!$D$7:$AH$233,14,0)","v":"KR8"},"window7",{"$f":"VLOOKUP(B30&C30,'[1]점검현황(전월)'!$D$7:$AH$233,2,0)","v":"자동녹화"}]
["율곡관","율곡관",150,{"$f":"VLOOKUP(B31&C31,'[1]점검현황(전월)'!$D$7:$AH$233,7,0)","v":"QL320SE"},{"$f":"VLOOKUP(B31&C31,'[1]점검현황(전월)'!$D$7:$AH$233,8,0)","v":"Core 2 Quad Q6600"},{"$f":"VLOOKUP(B31&C31,'[1]점검현황(전월)'!$D$7:$AH$233,9,0)","v":"DDR2 3G"},{"$f":"VLOOKUP(B31&C31,'[1]점검현황(전월)'!$D$7:$AH$233,10,0)","v":"SATA II 500G"},{"$f":"VLOOKUP(B31&C31,'[1]점검현황(전월)'!$D$7:$AH$233,14,0)","v":"INTER-M"},"window7",{"$f":"VLOOKUP(B31&C31,'[1]점검현황(전월)'!$D$7:$AH$233,2,0)","v":"대강당"}]
[null,"율곡관",151,{"$f":"VLOOKUP(B32&C32,'[1]점검현황(전월)'!$D$7:$AH$233,7,0)","v":"EMVR"},{"$f":"VLOOKUP(B32&C32,'[1]점검현황(전월)'!$D$7:$AH$233,8,0)","v":"Core 2 Duo E7300"},{"$f":"VLOOKUP(B32&C32,'[1]점검현황(전월)'!$D$7:$AH$233,9,0)","v":"DDR2 2G"},{"$f":"VLOOKUP(B32&C32,'[1]점검현황(전월)'!$D$7:$AH$233,10,0)","v":"SATA II 500G"},{"$f":"VLOOKUP(B32&C32,'[1]점검현황(전월)'!$D$7:$AH$233,14,0)","v":"EON10"},"window7",{"$f":"VLOOKUP(B32&C32,'[1]점검현황(전월)'!$D$7:$AH$233,2,0)","v":"영상회의실"}]
[null,"율곡관",153,{"$f":"VLOOKUP(B33&C33,'[1]점검현황(전월)'!$D$7:$AH$233,7,0)","v":"DB-Z200"},{"$f":"VLOOKUP(B33&C33,'[1]점검현황(전월)'!$D$7:$AH$233,8,0)","v":"Core 2 Duo E7500"},{"$f":"VLOOKUP(B33&C33,'[1]점검현황(전월)'!$D$7:$AH$233,9,0)","v":"DDR2 2G"},{"$f":"VLOOKUP(B33&C33,'[1]점검현황(전월)'!$D$7:$AH$233,10,0)","v":"SATA II 300G"},{"$f":"VLOOKUP(B33&C33,'[1]점검현황(전월)'!$D$7:$AH$233,14,0)","v":"EON10"},"window7",{"$f":"VLOOKUP(B33&C33,'[1]점검현황(전월)'!$D$7:$AH$233,2,0)","v":"글로벌라운지 국제협력팀"}]
[null,"율곡관",154,{"$f":"VLOOKUP(B34&C34,'[1]점검현황(전월)'!$D$7:$AH$233,7,0)","v":"DB-Z200"},{"$f":"VLOOKUP(B34&C34,'[1]점검현황(전월)'!$D$7:$AH$233,8,0)","v":"i5-760"},{"$f":"VLOOKUP(B34&C34,'[1]점검현황(전월)'!$D$7:$AH$233,9,0)","v":"DDR3 4G"},{"$f":"VLOOKUP(B34&C34,'[1]점검현황(전월)'!$D$7:$AH$233,10,0)","v":"SATA II 500G"},{"$f":"VLOOKUP(B34&C34,'[1]점검현황(전월)'!$D$7:$AH$233,14,0)","v":"EON10"},"window7",{"$f":"VLOOKUP(B34&C34,'[1]점검현황(전월)'!$D$7:$AH$233,2,0)","v":"멀티미디어 국제대학원"}]
[null,"율곡관",157,{"$f":"VLOOKUP(B35&C35,'[1]점검현황(전월)'!$D$7:$AH$233,7,0)","v":"DB-Z200"},{"$f":"VLOOKUP(B35&C35,'[1]점검현황(전월)'!$D$7:$AH$233,8,0)","v":"i5-760"},{"$f":"VLOOKUP(B35&C35,'[1]점검현황(전월)'!$D$7:$AH$233,9,0)","v":"DDR3 4G"},{"$f":"VLOOKUP(B35&C35,'[1]점검현황(전월)'!$D$7:$AH$233,10,0)","v":"SATA II 500G"},{"$f":"VLOOKUP(B35&C35,'[1]점검현황(전월)'!$D$7:$AH$233,14,0)","v":"INTER-M"},"window7",{"$f":"VLOOKUP(B35&C35,'[1]점검현황(전월)'!$D$7:$AH$233,2,0)","v":"사회대 (PC실)"}]
[null,"율곡관",204,{"$f":"VLOOKUP(B36&C36,'[1]점검현황(전월)'!$D$7:$AH$233,7,0)","v":"DB-Z200"},{"$f":"VLOOKUP(B36&C36,'[1]점검현황(전월)'!$D$7:$AH$233,8,0)","v":"i5-760"},{"$f":"VLOOKUP(B36&C36,'[1]점검현황(전월)'!$D$7:$AH$233,9,0)","v":"DDR3 4G"},{"$f":"VLOOKUP(B36&C36,'[1]점검현황(전월)'!$D$7:$AH$233,10,0)","v":"SATA II 500G"},{"$f":"VLOOKUP(B36&C36,'[1]점검현황(전월)'!$D$7:$AH$233,14,0)","v":"EON15"},"window7",{"$f":"VLOOKUP(B36&C36,'[1]점검현황(전월)'!$D$7:$AH$233,2,0)","v":"제1회의실"}]
[null,"율곡관",252,{"$f":"VLOOKUP(B37&C37,'[1]점검현황(전월)'!$D$7:$AH$233,7,0)","v":"DB400"},{"$f":"VLOOKUP(B37&C37,'[1]점검현황(전월)'!$D$7:$AH$233,8,0)","v":"i5-2300"},{"$f":"VLOOKUP(B37&C37,'[1]점검현황(전월)'!$D$7:$AH$233,9,0)","v":"DDR3 4G"},{"$f":"VLOOKUP(B37&C37,'[1]점검현황(전월)'!$D$7:$AH$233,10,0)","v":"SATA II 1T"},{"$f":"VLOOKUP(B37&C37,'[1]점검현황(전월)'!$D$7:$AH$233,14,0)","v":"EON15"},"window7",{"$f":"VLOOKUP(B37&C37,'[1]점검현황(전월)'!$D$7:$AH$233,2,0)","v":"정치외교"}]
[null,"율곡관",253,{"$f":"VLOOKUP(B38&C38,'[1]점검현황(전월)'!$D$7:$AH$233,7,0)","v":"DB-Z200"},{"$f":"VLOOKUP(B38&C38,'[1]점검현황(전월)'!$D$7:$AH$233,8,0)","v":"i5-760"},{"$f":"VLOOKUP(B38&C38,'[1]점검현황(전월)'!$D$7:$AH$233,9,0)","v":"DDR3 4G"},{"$f":"VLOOKUP(B38&C38,'[1]점검현황(전월)'!$D$7:$AH$233,10,0)","v":"SATA II 500G"},{"$f":"VLOOKUP(B38&C38,'[1]점검현황(전월)'!$D$7:$AH$233,14,0)","v":"EON10"},"window7",{"$f":"VLOOKUP(B38&C38,'[1]점검현황(전월)'!$D$7:$AH$233,2,0)","v":"멀티미디어"}]
[null,"율곡관",254,{"$f":"VLOOKUP(B39&C39,'[1]점검현황(전월)'!$D$7:$AH$233,7,0)","v":"QL320MH"},{"$f":"VLOOKUP(B39&C39,'[1]점검현황(전월)'!$D$7:$AH$233,8,0)","v":"Core 2 Quad Q6600"},{"$f":"VLOOKUP(B39&C39,'[1]점검현황(전월)'!$D$7:$AH$233,9,0)","v":"DDR2 3G"},{"$f":"VLOOKUP(B39&C39,'[1]점검현황(전월)'!$D$7:$AH$233,10,0)","v":"SATA II 500G"},{"$f":"VLOOKUP(B39&C39,'[1]점검현황(전월)'!$D$7:$AH$233,14,0)","v":"EON10"},"window7",{"$f":"VLOOKUP(B39&C39,'[1]점검현황(전월)'!$D$7:$AH$233,2,0)","v":"자동녹화"}]
[null,"율곡관",255,{"$f":"VLOOKUP(B40&C40,'[1]점검현황(전월)'!$D$7:$AH$233,7,0)","v":"DB400"},{"$f":"VLOOKUP(B40&C40,'[1]점검현황(전월)'!$D$7:$AH$233,8,0)","v":"i5-3450"},{"$f":"VLOOKUP(B40&C40,'[1]점검현황(전월)'!$D$7:$AH$233,9,0)","v":"DDR3 4G"},{"$f":"VLOOKUP(B40&C40,'[1]점검현황(전월)'!$D$7:$AH$233,10,0)","v":"SATA II 1T"},{"$f":"VLOOKUP(B40&C40,'[1]점검현황(전월)'!$D$7:$AH$233,14,0)","v":"EON15"},"window7",{"$f":"VLOOKUP(B40&C40,'[1]점검현황(전월)'!$D$7:$AH$233,2,0)","v":"행정학"}]
[null,"율곡관",256,{"$f":"VLOOKUP(B41&C41,'[1]점검현황(전월)'!$D$7:$AH$233,7,0)","v":"DB400"},{"$f":"VLOOKUP(B41&C41,'[1]점검현황(전월)'!$D$7:$AH$233,8,0)","v":"i5-3450"},{"$f":"VLOOKUP(B41&C41,'[1]점검현황(전월)'!$D$7:$AH$233,9,0)","v":"DDR3 4G"},{"$f":"VLOOKUP(B41&C41,'[1]점검현황(전월)'!$D$7:$AH$233,10,0)","v":"SATA II 1T"},{"$f":"VLOOKUP(B41&C41,'[1]점검현황(전월)'!$D$7:$AH$233,14,0)","v":"EON15"},"window7",{"$f":"VLOOKUP(B41&C41,'[1]점검현황(전월)'!$D$7:$AH$233,2,0)","v":"심리학"}]
[null,"율곡관",257,{"$f":"VLOOKUP(B42&C42,'[1]점검현황(전월)'!$D$7:$AH$233,7,0)","v":"DB400"},{"$f":"VLOOKUP(B42&C42,'[1]점검현황(전월)'!$D$7:$AH$233,8,0)","v":"i5-3450"},{"$f":"VLOOKUP(B42&C42,'[1]점검현황(전월)'!$D$7:$AH$233,9,0)","v":"DDR3 4G"},{"$f":"VLOOKUP(B42&C42,'[1]점검현황(전월)'!$D$7:$AH$233,10,0)","v":"SATA II 1T"},{"$f":"VLOOKUP(B42&C42,'[1]점검현황(전월)'!$D$7:$AH$233,14,0)","v":"EON15"},"window7",{"$f":"VLOOKUP(B42&C42,'[1]점검현황(전월)'!$D$7:$AH$233,2,0)","v":"사회학"}]
[null,"율곡관",258,{"$f":"VLOOKUP(B43&C43,'[1]점검현황(전월)'!$D$7:$AH$233,7,0)","v":"DB-Z200"},{"$f":"VLOOKUP(B43&C43,'[1]점검현황(전월)'!$D$7:$AH$233,8,0)","v":"i5-760"},{"$f":"VLOOKUP(B43&C43,'[1]점검현황(전월)'!$D$7:$AH$233,9,0)","v":"DDR3 4G"},{"$f":"VLOOKUP(B43&C43,'[1]점검현황(전월)'!$D$7:$AH$233,10,0)","v":"SATA II 500G"},{"$f":"VLOOKUP(B43&C43,'[1]점검현황(전월)'!$D$7:$AH$233,14,0)","v":"EON15"},"window7",{"$f":"VLOOKUP(B43&C43,'[1]점검현황(전월)'!$D$7:$AH$233,2,0)","v":"멀티미디어"}]
[null,"율곡관",259,{"$f":"VLOOKUP(B44&C44,'[1]점검현황(전월)'!$D$7:$AH$233,7,0)","v":"DB400T3A-A0A/R"},{"$f":"VLOOKUP(B44&C44,'[1]점검현황(전월)'!$D$7:$AH$233,8,0)","v":"i5-760"},{"$f":"VLOOKUP(B44&C44,'[1]점검현황(전월)'!$D$7:$AH$233,9,0)","v":"DDR3 4G"},{"$f":"VLOOKUP(B44&C44,'[1]점검현황(전월)'!$D$7:$AH$233,10,0)","v":"SATA II 500G"},{"$f":"VLOOKUP(B44&C44,'[1]점검현황(전월)'!$D$7:$AH$233,14,0)","v":"EON10"},"window7",{"$f":"VLOOKUP(B44&C44,'[1]점검현황(전월)'!$D$7:$AH$233,2,0)","v":"멀티미디어"}]
[null,"율곡관",260,{"$f":"VLOOKUP(B45&C45,'[1]점검현황(전월)'!$D$7:$AH$233,7,0)","v":"QL320MH"},{"$f":"VLOOKUP(B45&C45,'[1]점검현황(전월)'!$D$7:$AH$233,8,0)","v":"Core 2 Quad Q6600"},{"$f":"VLOOKUP(B45&C45,'[1]점검현황(전월)'!$D$7:$AH$233,9,0)","v":"DDR2 2G"},{"$f":"VLOOKUP(B45&C45,'[1]점검현황(전월)'!$D$7:$AH$233,10,0)","v":"SATA II 500G"},{"$f":"VLOOKUP(B45&C45,'[1]점검현황(전월)'!$D$7:$AH$233,14,0)","v":"EON15"},"window7",{"$f":"VLOOKUP(B45&C45,'[1]점검현황(전월)'!$D$7:$AH$233,2,0)","v":"자동녹화"}]
[null,"율곡관",261,{"$f":"VLOOKUP(B46&C46,'[1]점검현황(전월)'!$D$7:$AH$233,7,0)","v":"QL320UH"},{"$f":"VLOOKUP(B46&C46,'[1]점검현황(전월)'!$D$7:$AH$233,8,0)","v":"Core 2 Quad Q6600"},{"$f":"VLOOKUP(B46&C46,'[1]점검현황(전월)'!$D$7:$AH$233,9,0)","v":"DDR2 3G"},{"$f":"VLOOKUP(B46&C46,'[1]점검현황(전월)'!$D$7:$AH$233,10,0)","v":"SATA II 500G"},{"$f":"VLOOKUP(B46&C46,'[1]점검현황(전월)'!$D$7:$AH$233,14,0)","v":"EON10"},"window7",{"$f":"VLOOKUP(B46&C46,'[1]점검현황(전월)'!$D$7:$AH$233,2,0)","v":"자동녹화"}]
[null,"율곡관",262,{"$f":"VLOOKUP(B47&C47,'[1]점검현황(전월)'!$D$7:$AH$233,7,0)","v":"DB-Z200"},{"$f":"VLOOKUP(B47&C47,'[1]점검현황(전월)'!$D$7:$AH$233,8,0)","v":"DB400T3A-A0A/R"},{"$f":"VLOOKUP(B47&C47,'[1]점검현황(전월)'!$D$7:$AH$233,9,0)","v":"DDR3 4G"},{"$f":"VLOOKUP(B47&C47,'[1]점검현황(전월)'!$D$7:$AH$233,10,0)","v":"SATA II 500G"},{"$f":"VLOOKUP(B47&C47,'[1]점검현황(전월)'!$D$7:$AH$233,14,0)","v":"EON10"},"window7",{"$f":"VLOOKUP(B47&C47,'[1]점검현황(전월)'!$D$7:$AH$233,2,0)","v":"멀티미디어"}]
[null,"율곡관",354,{"$f":"VLOOKUP(B48&C48,'[1]점검현황(전월)'!$D$7:$AH$233,7,0)","v":"DB-Z200"},{"$f":"VLOOKUP(B48&C48,'[1]점검현황(전월)'!$D$7:$AH$233,8,0)","v":"i5-760"},{"$f":"VLOOKUP(B48&C48,'[1]점검현황(전월)'!$D$7:$AH$233,9,0)","v":"DDR3 4G"},{"$f":"VLOOKUP(B48&C48,'[1]점검현황(전월)'!$D$7:$AH$233,10,0)","v":"SATA II 500G"},{"$f":"VLOOKUP(B48&C48,'[1]점검현황(전월)'!$D$7:$AH$233,14,0)","v":"Britz"},"window7",{"$f":"VLOOKUP(B48&C48,'[1]점검현황(전월)'!$D$7:$AH$233,2,0)","v":"대학원"}]
[null,"율곡관",356,{"$f":"VLOOKUP(B49&C49,'[1]점검현황(전월)'!$D$7:$AH$233,7,0)","v":"DB400"},{"$f":"VLOOKUP(B49&C49,'[1]점검현황(전월)'!$D$7:$AH$233,8,0)","v":"i5-3450"},{"$f":"VLOOKUP(B49&C49,'[1]점검현황(전월)'!$D$7:$AH$233,9,0)","v":"DDR3 4G"},{"$f":"VLOOKUP(B49&C49,'[1]점검현황(전월)'!$D$7:$AH$233,10,0)","v":"SATA III 1T"},{"$f":"VLOOKUP(B49&C49,'[1]점검현황(전월)'!$D$7:$AH$233,14,0)","v":"INTER-M"},"window7",{"$f":"VLOOKUP(B49&C49,'[1]점검현황(전월)'!$D$7:$AH$233,2,0)","v":"경제학"}]
[null,"율곡관",357,{"$f":"VLOOKUP(B50&C50,'[1]점검현황(전월)'!$D$7:$AH$233,7,0)","v":"QL320MH"},{"$f":"VLOOKUP(B50&C50,'[1]점검현황(전월)'!$D$7:$AH$233,8,0)","v":"i5-2500"},{"$f":"VLOOKUP(B50&C50,'[1]점검현황(전월)'!$D$7:$AH$233,9,0)","v":"DDR3 4G"},{"$f":"VLOOKUP(B50&C50,'[1]점검현황(전월)'!$D$7:$AH$233,10,0)","v":"SATA III 1T"},{"$f":"VLOOKUP(B50&C50,'[1]점검현황(전월)'!$D$7:$AH$233,14,0)","v":"EON10"},"window7",{"$f":"VLOOKUP(B50&C50,'[1]점검현황(전월)'!$D$7:$AH$233,2,0)","v":"대학원"}]
[null,"율곡관",358,{"$f":"VLOOKUP(B51&C51,'[1]점검현황(전월)'!$D$7:$AH$233,7,0)","v":"QL320MH"},{"$f":"VLOOKUP(B51&C51,'[1]점검현황(전월)'!$D$7:$AH$233,8,0)","v":"Core 2 Quad Q6600"},{"$f":"VLOOKUP(B51&C51,'[1]점검현황(전월)'!$D$7:$AH$233,9,0)","v":"DDR2 2G"},{"$f":"VLOOKUP(B51&C51,'[1]점검현황(전월)'!$D$7:$AH$233,10,0)","v":"SATA II 500G"},{"$f":"VLOOKUP(B51&C51,'[1]점검현황(전월)'!$D$7:$AH$233,14,0)","v":"EON10"},"window7",{"$f":"VLOOKUP(B51&C51,'[1]점검현황(전월)'!$D$7:$AH$233,2,0)","v":"awe"}]
[null,"율곡관",359,{"$f":"VLOOKUP(B52&C52,'[1]점검현황(전월)'!$D$7:$AH$233,7,0)","v":"DB400T3A-A0A/R"},{"$f":"VLOOKUP(B52&C52,'[1]점검현황(전월)'!$D$7:$AH$233,8,0)","v":"i5-760"},{"$f":"VLOOKUP(B52&C52,'[1]점검현황(전월)'!$D$7:$AH$233,9,0)","v":"DDR3 4G"},{"$f":"VLOOKUP(B52&C52,'[1]점검현황(전월)'!$D$7:$AH$233,10,0)","v":"SATA II 500G"},{"$f":"VLOOKUP(B52&C52,'[1]점검현황(전월)'!$D$7:$AH$233,14,0)","v":"EON10"},"window7",{"$f":"VLOOKUP(B52&C52,'[1]점검현황(전월)'!$D$7:$AH$233,2,0)","v":"멀티미디어"}]
[null,"율곡관",425,{"$f":"VLOOKUP(B53&C53,'[1]점검현황(전월)'!$D$7:$AH$233,7,0)","v":"QL320MH"},{"$f":"VLOOKUP(B53&C53,'[1]점검현황(전월)'!$D$7:$AH$233,8,0)","v":"Q6600"},{"$f":"VLOOKUP(B53&C53,'[1]점검현황(전월)'!$D$7:$AH$233,9,0)","v":"DDR2 4G"},{"$f":"VLOOKUP(B53&C53,'[1]점검현황(전월)'!$D$7:$AH$233,10,0)","v":"SATA II 500G"},{"$f":"VLOOKUP(B53&C53,'[1]점검현황(전월)'!$D$7:$AH$233,14,0)","v":"KR8"},"window7",{"$f":"VLOOKUP(B53&C53,'[1]점검현황(전월)'!$D$7:$AH$233,2,0)","v":"대학원"}]
["성호관","성호관","소극장",{"$f":"VLOOKUP(B54&C54,'[1]점검현황(전월)'!$D$7:$AH$233,7,0)","v":"DB-Z200"},{"$f":"VLOOKUP(B54&C54,'[2]점검현황(금월)'!$D$7:$AH$233,8,0)","v":"i5-760"},{"$f":"VLOOKUP(B54&C54,'[1]점검현황(전월)'!$D$7:$AH$233,9,0)","v":"DDR3 4G"},{"$f":"VLOOKUP(B54&C54,'[1]점검현황(전월)'!$D$7:$AH$233,10,0)","v":"SATA II 500G"},{"$f":"VLOOKUP(B54&C54,'[1]점검현황(전월)'!$D$7:$AH$233,14,0)","v":"JBL"},"window7",{"$f":"VLOOKUP(B54&C54,'[1]점검현황(전월)'!$D$7:$AH$233,2,0)","v":"소극장 135호"}]
[null,"성호관",103,{"$f":"VLOOKUP(B55&C55,'[1]점검현황(전월)'!$D$7:$AH$233,7,0)","v":"DB-Z200"},{"$f":"VLOOKUP(B55&C55,'[2]점검현황(전월)'!$D$7:$AH$233,8,0)","v":"i7-2600"},{"$f":"VLOOKUP(B55&C55,'[1]점검현황(전월)'!$D$7:$AH$233,9,0)","v":"DDR3 4G"},{"$f":"VLOOKUP(B55&C55,'[1]점검현황(전월)'!$D$7:$AH$233,10,0)","v":"SATA II 500G"},{"$f":"VLOOKUP(B55&C55,'[1]점검현황(전월)'!$D$7:$AH$233,14,0)","v":"INTER-M"},"windowXP",{"$f":"VLOOKUP(B55&C55,'[1]점검현황(전월)'!$D$7:$AH$233,2,0)","v":"인문대 (PC실)"}]
[null,"성호관",104,{"$f":"VLOOKUP(B56&C56,'[1]점검현황(전월)'!$D$7:$AH$233,7,0)","v":"DB-Z200"},{"$f":"VLOOKUP(B56&C56,'[2]점검현황(전월)'!$D$7:$AH$233,8,0)","v":"I5-650"},{"$f":"VLOOKUP(B56&C56,'[1]점검현황(전월)'!$D$7:$AH$233,9,0)","v":"DDR3 3G"},{"$f":"VLOOKUP(B56&C56,'[1]점검현황(전월)'!$D$7:$AH$233,10,0)","v":"SATA II 300G"},{"$f":"VLOOKUP(B56&C56,'[1]점검현황(전월)'!$D$7:$AH$233,14,0)","v":"INTER-M"},"window7",{"$f":"VLOOKUP(B56&C56,'[1]점검현황(전월)'!$D$7:$AH$233,2,0)","v":"멀티미디어"}]
[null,"성호관",105,{"$f":"VLOOKUP(B57&C57,'[1]점검현황(전월)'!$D$7:$AH$233,7,0)","v":"EMVR"},{"$f":"VLOOKUP(B57&C57,'[2]점검현황(전월)'!$D$7:$AH$233,8,0)","v":"in-4790"},{"$f":"VLOOKUP(B57&C57,'[1]점검현황(전월)'!$D$7:$AH$233,9,0)","v":"DDR2 4G"},{"$f":"VLOOKUP(B57&C57,'[1]점검현황(전월)'!$D$7:$AH$233,10,0)","v":"SATA II 320G"},{"$f":"VLOOKUP(B57&C57,'[1]점검현황(전월)'!$D$7:$AH$233,14,0)","v":"JBL"},"window7",{"$f":"VLOOKUP(B57&C57,'[1]점검현황(전월)'!$D$7:$AH$233,2,0)","v":"자동녹화"}]
[null,"성호관",131,{"$f":"VLOOKUP(B58&C58,'[1]점검현황(전월)'!$D$7:$AH$233,7,0)","v":"QL320UH"},{"$f":"VLOOKUP(B58&C58,'[2]점검현황(전월)'!$D$7:$AH$233,8,0)","v":"i5-760"},{"$f":"VLOOKUP(B58&C58,'[1]점검현황(전월)'!$D$7:$AH$233,9,0)","v":"DDR2 4G"},{"$f":"VLOOKUP(B58&C58,'[1]점검현황(전월)'!$D$7:$AH$233,10,0)","v":"SATA II 500G"},{"$f":"VLOOKUP(B58&C58,'[1]점검현황(전월)'!$D$7:$AH$233,14,0)","v":"INTER-M"},"window7",{"$f":"VLOOKUP(B58&C58,'[1]점검현황(전월)'!$D$7:$AH$233,2,0)","v":"멀티미디어"}]
[null,"성호관",132,{"$f":"VLOOKUP(B59&C59,'[1]점검현황(전월)'!$D$7:$AH$233,7,0)","v":"DB-Z200"},{"$f":"VLOOKUP(B59&C59,'[2]점검현황(전월)'!$D$7:$AH$233,8,0)","v":"i5-760"},{"$f":"VLOOKUP(B59&C59,'[1]점검현황(전월)'!$D$7:$AH$233,9,0)","v":"DDR3 4G"},{"$f":"VLOOKUP(B59&C59,'[1]점검현황(전월)'!$D$7:$AH$233,10,0)","v":"SATA II 500G"},{"$f":"VLOOKUP(B59&C59,'[1]점검현황(전월)'!$D$7:$AH$233,14,0)","v":"INTER-M"},"window7",{"$f":"VLOOKUP(B59&C59,'[1]점검현황(전월)'!$D$7:$AH$233,2,0)","v":"멀티미디어"}]
[null,"성호관",133,{"$f":"VLOOKUP(B60&C60,'[1]점검현황(전월)'!$D$7:$AH$233,7,0)","v":"DB400T3A-A0A/R"},{"$f":"VLOOKUP(B60&C60,'[2]점검현황(전월)'!$D$7:$AH$233,8,0)","v":"in-4790"},{"$f":"VLOOKUP(B60&C60,'[1]점검현황(전월)'!$D$7:$AH$233,9,0)","v":"DDR3 4G"},{"$f":"VLOOKUP(B60&C60,'[1]점검현황(전월)'!$D$7:$AH$233,10,0)","v":"SATA II 500G"},{"$f":"VLOOKUP(B60&C60,'[1]점검현황(전월)'!$D$7:$AH$233,14,0)","v":"JBL"},"windowXP",{"$f":"VLOOKUP(B60&C60,'[1]점검현황(전월)'!$D$7:$AH$233,2,0)","v":"멀티미디어"}]
[null,"성호관",201,{"$f":"VLOOKUP(B61&C61,'[1]점검현황(전월)'!$D$7:$AH$233,7,0)","v":"DB-Z200"},{"$f":"VLOOKUP(B61&C61,'[2]점검현황(전월)'!$D$7:$AH$233,8,0)","v":"i5-650"},{"$f":"VLOOKUP(B61&C61,'[1]점검현황(전월)'!$D$7:$AH$233,9,0)","v":"DDR3 3G"},{"$f":"VLOOKUP(B61&C61,'[1]점검현황(전월)'!$D$7:$AH$233,10,0)","v":"SATA II 300G"},{"$f":"VLOOKUP(B61&C61,'[1]점검현황(전월)'!$D$7:$AH$233,14,0)","v":"INTER-M"},"window7",{"$f":"VLOOKUP(B61&C61,'[1]점검현황(전월)'!$D$7:$AH$233,2,0)","v":"멀티미디어"}]
[null,"성호관","201-1",{"$f":"VLOOKUP(B62&C62,'[1]점검현황(전월)'!$D$7:$AH$233,7,0)","v":"DB-Z200"},{"$f":"VLOOKUP(B62&C62,'[2]점검현황(전월)'!$D$7:$AH$233,8,0)","v":"i5-760"},{"$f":"VLOOKUP(B62&C62,'[1]점검현황(전월)'!$D$7:$AH$233,9,0)","v":"DDR3 4G"},{"$f":"VLOOKUP(B62&C62,'[1]점검현황(전월)'!$D$7:$AH$233,10,0)","v":"SATA II 500G"},{"$f":"VLOOKUP(B62&C62,'[1]점검현황(전월)'!$D$7:$AH$233,14,0)","v":"INTER-M"},"window7",{"$f":"VLOOKUP(B62&C62,'[1]점검현황(전월)'!$D$7:$AH$233,2,0)","v":"자동녹화"}]
[null,"성호관",202,{"$f":"VLOOKUP(B63&C63,'[1]점검현황(전월)'!$D$7:$AH$233,7,0)","v":"DB-Z200"},{"$f":"VLOOKUP(B63&C63,'[2]점검현황(전월)'!$D$7:$AH$233,8,0)","v":"DB400T3A-A0A/R"},{"$f":"VLOOKUP(B63&C63,'[1]점검현황(전월)'!$D$7:$AH$233,9,0)","v":"DDR3 4G"},{"$f":"VLOOKUP(B63&C63,'[1]점검현황(전월)'!$D$7:$AH$233,10,0)","v":"SATA II 500G"},{"$f":"VLOOKUP(B63&C63,'[1]점검현황(전월)'!$D$7:$AH$233,14,0)","v":"EON10"},"window7",{"$f":"VLOOKUP(B63&C63,'[1]점검현황(전월)'!$D$7:$AH$233,2,0)","v":"멀티미디어"}]
[null,"성호관",203,{"$f":"VLOOKUP(B64&C64,'[1]점검현황(전월)'!$D$7:$AH$233,7,0)","v":"QL320UH"},{"$f":"VLOOKUP(B64&C64,'[2]점검현황(전월)'!$D$7:$AH$233,8,0)","v":"Core 2 Quad Q6600"},{"$f":"VLOOKUP(B64&C64,'[1]점검현황(전월)'!$D$7:$AH$233,9,0)","v":"DDR2 2G"},{"$f":"VLOOKUP(B64&C64,'[1]점검현황(전월)'!$D$7:$AH$233,10,0)","v":"SATA II 500G"},{"$f":"VLOOKUP(B64&C64,'[1]점검현황(전월)'!$D$7:$AH$233,14,0)","v":"INTER-M"},"window7",{"$f":"VLOOKUP(B64&C64,'[1]점검현황(전월)'!$D$7:$AH$233,2,0)","v":"자동녹화"}]
[null,"성호관",204,{"$f":"VLOOKUP(B65&C65,'[1]점검현황(전월)'!$D$7:$AH$233,7,0)","v":"DB-Z200"},{"$f":"VLOOKUP(B65&C65,'[2]점검현황(전월)'!$D$7:$AH$233,8,0)","v":"i5-650"},{"$f":"VLOOKUP(B65&C65,'[1]점검현황(전월)'!$D$7:$AH$233,9,0)","v":"DDR3 3G"},{"$f":"VLOOKUP(B65&C65,'[1]점검현황(전월)'!$D$7:$AH$233,10,0)","v":"SATA II 300G"},{"$f":"VLOOKUP(B65&C65,'[1]점검현황(전월)'!$D$7:$AH$233,14,0)","v":"INTER-M"},"window7",{"$f":"VLOOKUP(B65&C65,'[1]점검현황(전월)'!$D$7:$AH$233,2,0)","v":"자동녹화"}]
[null,"성호관",205,{"$f":"VLOOKUP(B66&C66,'[1]점검현황(전월)'!$D$7:$AH$233,7,0)","v":"DB-Z200"},{"$f":"VLOOKUP(B66&C66,'[2]점검현황(전월)'!$D$7:$AH$233,8,0)","v":"Core 2 Duo E7500"},{"$f":"VLOOKUP(B66&C66,'[1]점검현황(전월)'!$D$7:$AH$233,9,0)","v":"DDR3 4G"},{"$f":"VLOOKUP(B66&C66,'[1]점검현황(전월)'!$D$7:$AH$233,10,0)","v":"SATA II 300G"},{"$f":"VLOOKUP(B66&C66,'[1]점검현황(전월)'!$D$7:$AH$233,14,0)","v":"INTER-M"},"window7",{"$f":"VLOOKUP(B66&C66,'[1]점검현황(전월)'!$D$7:$AH$233,2,0)","v":"자동녹화"}]
[null,"성호관",232,{"$f":"VLOOKUP(B67&C67,'[1]점검현황(전월)'!$D$7:$AH$233,7,0)","v":"DB-Z200"},{"$f":"VLOOKUP(B67&C67,'[2]점검현황(전월)'!$D$7:$AH$233,8,0)","v":"in-4790"},{"$f":"VLOOKUP(B67&C67,'[1]점검현황(전월)'!$D$7:$AH$233,9,0)","v":"DDR3 4G"},{"$f":"VLOOKUP(B67&C67,'[1]점검현황(전월)'!$D$7:$AH$233,10,0)","v":"SATA II 500G"},{"$f":"VLOOKUP(B67&C67,'[1]점검현황(전월)'!$D$7:$AH$233,14,0)","v":"JBL"},"window7",{"$f":"VLOOKUP(B67&C67,'[1]점검현황(전월)'!$D$7:$AH$233,2,0)","v":"자동녹화"}]
[null,"성호관",233,{"$f":"VLOOKUP(B68&C68,'[1]점검현황(전월)'!$D$7:$AH$233,7,0)","v":"DB-Z200"},{"$f":"VLOOKUP(B68&C68,'[2]점검현황(전월)'!$D$7:$AH$233,8,0)","v":"i5-760"},{"$f":"VLOOKUP(B68&C68,'[1]점검현황(전월)'!$D$7:$AH$233,9,0)","v":"DDR3 4G"},{"$f":"VLOOKUP(B68&C68,'[1]점검현황(전월)'!$D$7:$AH$233,10,0)","v":"SATA II 500G"},{"$f":"VLOOKUP(B68&C68,'[1]점검현황(전월)'!$D$7:$AH$233,14,0)","v":"INTER-M"},"window7",{"$f":"VLOOKUP(B68&C68,'[1]점검현황(전월)'!$D$7:$AH$233,2,0)","v":"자동녹화"}]
[null,"성호관",234,{"$f":"VLOOKUP(B69&C69,'[1]점검현황(전월)'!$D$7:$AH$233,7,0)","v":"DB-Z200"},{"$f":"VLOOKUP(B69&C69,'[2]점검현황(전월)'!$D$7:$AH$233,8,0)","v":"i5-760"},{"$f":"VLOOKUP(B69&C69,'[1]점검현황(전월)'!$D$7:$AH$233,9,0)","v":"DDR3 4G"},{"$f":"VLOOKUP(B69&C69,'[1]점검현황(전월)'!$D$7:$AH$233,10,0)","v":"SATA II 500G"},{"$f":"VLOOKUP(B69&C69,'[1]점검현황(전월)'!$D$7:$AH$233,14,0)","v":"INTER-M"},"window7",{"$f":"VLOOKUP(B69&C69,'[1]점검현황(전월)'!$D$7:$AH$233,2,0)","v":"멀티미디어"}]
[null,"성호관",235,{"$f":"VLOOKUP(B70&C70,'[1]점검현황(전월)'!$D$7:$AH$233,7,0)","v":"DB-Z200"},{"$f":"VLOOKUP(B70&C70,'[2]점검현황(전월)'!$D$7:$AH$233,8,0)","v":"i5-760"},{"$f":"VLOOKUP(B70&C70,'[1]점검현황(전월)'!$D$7:$AH$233,9,0)","v":"DDR3 4G"},{"$f":"VLOOKUP(B70&C70,'[1]점검현황(전월)'!$D$7:$AH$233,10,0)","v":"SATA II 500G"},{"$f":"VLOOKUP(B70&C70,'[1]점검현황(전월)'!$D$7:$AH$233,14,0)","v":"INTER-M"},"window7",{"$f":"VLOOKUP(B70&C70,'[1]점검현황(전월)'!$D$7:$AH$233,2,0)","v":"멀티미디어"}]
[null,"성호관",236,{"$f":"VLOOKUP(B71&C71,'[1]점검현황(전월)'!$D$7:$AH$233,7,0)","v":"DB-Z200"},{"$f":"VLOOKUP(B71&C71,'[2]점검현황(전월)'!$D$7:$AH$233,8,0)","v":"i5-760"},{"$f":"VLOOKUP(B71&C71,'[1]점검현황(전월)'!$D$7:$AH$233,9,0)","v":"DDR3 4G"},{"$f":"VLOOKUP(B71&C71,'[1]점검현황(전월)'!$D$7:$AH$233,10,0)","v":"SATA II 500G"},{"$f":"VLOOKUP(B71&C71,'[1]점검현황(전월)'!$D$7:$AH$233,14,0)","v":"INTER-M"},"window7",{"$f":"VLOOKUP(B71&C71,'[1]점검현황(전월)'!$D$7:$AH$233,2,0)","v":"멀티미디어"}]
[null,"성호관",237,{"$f":"VLOOKUP(B72&C72,'[1]점검현황(전월)'!$D$7:$AH$233,7,0)","v":"DB-Z200"},{"$f":"VLOOKUP(B72&C72,'[2]점검현황(전월)'!$D$7:$AH$233,8,0)","v":"in-4790"},{"$f":"VLOOKUP(B72&C72,'[1]점검현황(전월)'!$D$7:$AH$233,9,0)","v":"DDR3 4G"},{"$f":"VLOOKUP(B72&C72,'[1]점검현황(전월)'!$D$7:$AH$233,10,0)","v":"SATA II 500G"},{"$f":"VLOOKUP(B72&C72,'[1]점검현황(전월)'!$D$7:$AH$233,14,0)","v":"INTER-M"},"window7",{"$f":"VLOOKUP(B72&C72,'[1]점검현황(전월)'!$D$7:$AH$233,2,0)","v":"멀티미디어"}]
[null,"성호관",304,{"$f":"VLOOKUP(B73&C73,'[1]점검현황(전월)'!$D$7:$AH$233,7,0)","v":"DB-Z200"},{"$f":"VLOOKUP(B73&C73,'[2]점검현황(전월)'!$D$7:$AH$233,8,0)","v":"in-4790"},{"$f":"VLOOKUP(B73&C73,'[1]점검현황(전월)'!$D$7:$AH$233,9,0)","v":"DDR3 4G"},{"$f":"VLOOKUP(B73&C73,'[1]점검현황(전월)'!$D$7:$AH$233,10,0)","v":"SATA II 500G"},{"$f":"VLOOKUP(B73&C73,'[1]점검현황(전월)'!$D$7:$AH$233,14,0)","v":"EON15"},"window7",{"$f":"VLOOKUP(B73&C73,'[1]점검현황(전월)'!$D$7:$AH$233,2,0)","v":"멀티미디어"}]
[null,"성호관",305,{"$f":"VLOOKUP(B74&C74,'[1]점검현황(전월)'!$D$7:$AH$233,7,0)","v":"QL320MH"},{"$f":"VLOOKUP(B74&C74,'[2]점검현황(전월)'!$D$7:$AH$233,8,0)","v":"duo E8400"},{"$f":"VLOOKUP(B74&C74,'[1]점검현황(전월)'!$D$7:$AH$233,9,0)","v":"DDR2 3G"},{"$f":"VLOOKUP(B74&C74,'[1]점검현황(전월)'!$D$7:$AH$233,10,0)","v":"SATA II 500G"},{"$f":"VLOOKUP(B74&C74,'[1]점검현황(전월)'!$D$7:$AH$233,14,0)","v":"KR8"},"window7",{"$f":"VLOOKUP(B74&C74,'[1]점검현황(전월)'!$D$7:$AH$233,2,0)","v":"자동녹화"}]
[null,"성호관",306,{"$f":"VLOOKUP(B75&C75,'[1]점검현황(전월)'!$D$7:$AH$233,7,0)","v":"DB-Z200"},{"$f":"VLOOKUP(B75&C75,'[2]점검현황(전월)'!$D$7:$AH$233,8,0)","v":"in-4790"},{"$f":"VLOOKUP(B75&C75,'[1]점검현황(전월)'!$D$7:$AH$233,9,0)","v":"DDR3 4G"},{"$f":"VLOOKUP(B75&C75,'[1]점검현황(전월)'!$D$7:$AH$233,10,0)","v":"SATA II 500G"},{"$f":"VLOOKUP(B75&C75,'[1]점검현황(전월)'!$D$7:$AH$233,14,0)","v":"EON10"},"window7",{"$f":"VLOOKUP(B75&C75,'[1]점검현황(전월)'!$D$7:$AH$233,2,0)","v":"멀티미디어"}]
[null,"성호관",332,{"$f":"VLOOKUP(B76&C76,'[1]점검현황(전월)'!$D$7:$AH$233,7,0)","v":"DB-Z200"},{"$f":"VLOOKUP(B76&C76,'[2]점검현황(전월)'!$D$7:$AH$233,8,0)","v":"i5-760"},{"$f":"VLOOKUP(B76&C76,'[1]점검현황(전월)'!$D$7:$AH$233,9,0)","v":"DDR3 4G"},{"$f":"VLOOKUP(B76&C76,'[1]점검현황(전월)'!$D$7:$AH$233,10,0)","v":"SATA II 500G"},{"$f":"VLOOKUP(B76&C76,'[1]점검현황(전월)'!$D$7:$AH$233,14,0)","v":"INTER-M"},"window7",{"$f":"VLOOKUP(B76&C76,'[1]점검현황(전월)'!$D$7:$AH$233,2,0)","v":"멀티미디어"}]
[null,"성호관",333,{"$f":"VLOOKUP(B77&C77,'[1]점검현황(전월)'!$D$7:$AH$233,7,0)","v":"DB-Z200"},{"$f":"VLOOKUP(B77&C77,'[2]점검현황(전월)'!$D$7:$AH$233,8,0)","v":"i5-760"},{"$f":"VLOOKUP(B77&C77,'[1]점검현황(전월)'!$D$7:$AH$233,9,0)","v":"DDR3 4G"},{"$f":"VLOOKUP(B77&C77,'[1]점검현황(전월)'!$D$7:$AH$233,10,0)","v":"SATA II 500G"},{"$f":"VLOOKUP(B77&C77,'[1]점검현황(전월)'!$D$7:$AH$233,14,0)","v":"INTER-M"},"window7",{"$f":"VLOOKUP(B77&C77,'[1]점검현황(전월)'!$D$7:$AH$233,2,0)","v":"멀티미디어"}]
[null,"성호관",334,{"$f":"VLOOKUP(B78&C78,'[1]점검현황(전월)'!$D$7:$AH$233,7,0)","v":"DB400T3A-A0A/R"},{"$f":"VLOOKUP(B78&C78,'[2]점검현황(전월)'!$D$7:$AH$233,8,0)","v":"i5-760"},{"$f":"VLOOKUP(B78&C78,'[1]점검현황(전월)'!$D$7:$AH$233,9,0)","v":"DDR3 4G"},{"$f":"VLOOKUP(B78&C78,'[1]점검현황(전월)'!$D$7:$AH$233,10,0)","v":"SATA II 500G"},{"$f":"VLOOKUP(B78&C78,'[1]점검현황(전월)'!$D$7:$AH$233,14,0)","v":"EON10"},"window7",{"$f":"VLOOKUP(B78&C78,'[1]점검현황(전월)'!$D$7:$AH$233,2,0)","v":"멀티미디어"}]
[null,"성호관",337,{"$f":"VLOOKUP(B79&C79,'[1]점검현황(전월)'!$D$7:$AH$233,7,0)","v":"DB-Z200"},{"$f":"VLOOKUP(B79&C79,'[2]점검현황(전월)'!$D$7:$AH$233,8,0)","v":"i5-760"},{"$f":"VLOOKUP(B79&C79,'[1]점검현황(전월)'!$D$7:$AH$233,9,0)","v":"DDR3 4G"},{"$f":"VLOOKUP(B79&C79,'[1]점검현황(전월)'!$D$7:$AH$233,10,0)","v":"SATA II 500G"},{"$f":"VLOOKUP(B79&C79,'[1]점검현황(전월)'!$D$7:$AH$233,14,0)","v":"EON10"},"window7",{"$f":"VLOOKUP(B79&C79,'[1]점검현황(전월)'!$D$7:$AH$233,2,0)","v":"물리학과"}]
[null,"성호관",339,{"$f":"VLOOKUP(B80&C80,'[1]점검현황(전월)'!$D$7:$AH$233,7,0)","v":"DB-Z200"},{"$f":"VLOOKUP(B80&C80,'[2]점검현황(전월)'!$D$7:$AH$233,8,0)","v":"i5-760"},{"$f":"VLOOKUP(B80&C80,'[1]점검현황(전월)'!$D$7:$AH$233,9,0)","v":"DDR3 2G"},{"$f":"VLOOKUP(B80&C80,'[1]점검현황(전월)'!$D$7:$AH$233,10,0)","v":"SATA II 500G"},{"$f":"VLOOKUP(B80&C80,'[1]점검현황(전월)'!$D$7:$AH$233,14,0)","v":"Britz "},"window7",{"$f":"VLOOKUP(B80&C80,'[1]점검현황(전월)'!$D$7:$AH$233,2,0)","v":"대학원"}]
["원천관","원천관",107,{"$f":"VLOOKUP(B81&C81,'[1]점검현황(전월)'!$D$7:$AH$233,7,0)","v":"DB400"},{"$f":"VLOOKUP(B81&C81,'[1]점검현황(전월)'!$D$7:$AH$233,8,0)","v":"i5 2450"},{"$f":"VLOOKUP(B81&C81,'[1]점검현황(전월)'!$D$7:$AH$233,9,0)","v":"DDR3 2G"},{"$f":"VLOOKUP(B81&C81,'[1]점검현황(전월)'!$D$7:$AH$233,10,0)","v":"SATA II 500G"},{"$f":"VLOOKUP(B81&C81,'[1]점검현황(전월)'!$D$7:$AH$233,14,0)","v":"X"},"window7",{"$f":"VLOOKUP(B81&C81,'[1]점검현황(전월)'!$D$7:$AH$233,2,0)","v":"전자공학"}]
[null,"원천관",237,{"$f":"VLOOKUP(B82&C82,'[1]점검현황(전월)'!$D$7:$AH$233,7,0)","v":"DB400"},{"$f":"VLOOKUP(B82&C82,'[1]점검현황(전월)'!$D$7:$AH$233,8,0)","v":"i5-3470"},{"$f":"VLOOKUP(B82&C82,'[1]점검현황(전월)'!$D$7:$AH$233,9,0)","v":"DDR3 4G"},{"$f":"VLOOKUP(B82&C82,'[1]점검현황(전월)'!$D$7:$AH$233,10,0)","v":"SATA II 500G"},{"$f":"VLOOKUP(B82&C82,'[1]점검현황(전월)'!$D$7:$AH$233,14,0)","v":"EON10"},"window7",{"$f":"VLOOKUP(B82&C82,'[1]점검현황(전월)'!$D$7:$AH$233,2,0)","v":"생명과학"}]
[null,"원천관",242,{"$f":"VLOOKUP(B83&C83,'[1]점검현황(전월)'!$D$7:$AH$233,7,0)","v":"DB-Z200"},{"$f":"VLOOKUP(B83&C83,'[1]점검현황(전월)'!$D$7:$AH$233,8,0)","v":"i5-760"},{"$f":"VLOOKUP(B83&C83,'[1]점검현황(전월)'!$D$7:$AH$233,9,0)","v":"DDR3 4G"},{"$f":"VLOOKUP(B83&C83,'[1]점검현황(전월)'!$D$7:$AH$233,10,0)","v":"SATA II 500G"},{"$f":"VLOOKUP(B83&C83,'[1]점검현황(전월)'!$D$7:$AH$233,14,0)","v":"EON10"},"window7",{"$f":"VLOOKUP(B83&C83,'[1]점검현황(전월)'!$D$7:$AH$233,2,0)","v":"대학원"}]
[null,"원천관",243,{"$f":"VLOOKUP(B84&C84,'[1]점검현황(전월)'!$D$7:$AH$233,7,0)","v":"DB-Z200"},{"$f":"VLOOKUP(B84&C84,'[1]점검현황(전월)'!$D$7:$AH$233,8,0)","v":"i5-760"},{"$f":"VLOOKUP(B84&C84,'[1]점검현황(전월)'!$D$7:$AH$233,9,0)","v":"DDR3 4G"},{"$f":"VLOOKUP(B84&C84,'[1]점검현황(전월)'!$D$7:$AH$233,10,0)","v":"SATA II 500G"},{"$f":"VLOOKUP(B84&C84,'[1]점검현황(전월)'!$D$7:$AH$233,14,0)","v":"EON10"},"window7",{"$f":"VLOOKUP(B84&C84,'[1]점검현황(전월)'!$D$7:$AH$233,2,0)","v":"대학원"}]
[null,"원천관",251,{"$f":"VLOOKUP(B85&C85,'[1]점검현황(전월)'!$D$7:$AH$233,7,0)","v":"DB400"},{"$f":"VLOOKUP(B85&C85,'[1]점검현황(전월)'!$D$7:$AH$233,8,0)","v":"i5-3470"},{"$f":"VLOOKUP(B85&C85,'[1]점검현황(전월)'!$D$7:$AH$233,9,0)","v":"DDR3 4G"},{"$f":"VLOOKUP(B85&C85,'[1]점검현황(전월)'!$D$7:$AH$233,10,0)","v":"SATA II 500G"},{"$f":"VLOOKUP(B85&C85,'[1]점검현황(전월)'!$D$7:$AH$233,14,0)","v":"X"},"window7",{"$f":"VLOOKUP(B85&C85,'[1]점검현황(전월)'!$D$7:$AH$233,2,0)","v":"강당"}]
[null,"원천관",317,{"$f":"VLOOKUP(B86&C86,'[1]점검현황(전월)'!$D$7:$AH$233,7,0)","v":"DB-Z400"},{"$f":"VLOOKUP(B86&C86,'[1]점검현황(전월)'!$D$7:$AH$233,8,0)","v":"i3-2120"},{"$f":"VLOOKUP(B86&C86,'[1]점검현황(전월)'!$D$7:$AH$233,9,0)","v":"DDR3 2G"},{"$f":"VLOOKUP(B86&C86,'[1]점검현황(전월)'!$D$7:$AH$233,10,0)","v":"SATA II 500G"},{"$f":"VLOOKUP(B86&C86,'[1]점검현황(전월)'!$D$7:$AH$233,14,0)","v":"X"},"window7",{"$f":"VLOOKUP(B86&C86,'[1]점검현황(전월)'!$D$7:$AH$233,2,0)","v":"전자공학"}]
[null,"원천관",318,{"$f":"VLOOKUP(B87&C87,'[1]점검현황(전월)'!$D$7:$AH$233,7,0)","v":"DB-Z200"},{"$f":"VLOOKUP(B87&C87,'[1]점검현황(전월)'!$D$7:$AH$233,8,0)","v":"i5-760"},{"$f":"VLOOKUP(B87&C87,'[1]점검현황(전월)'!$D$7:$AH$233,9,0)","v":"DDR3 4G"},{"$f":"VLOOKUP(B87&C87,'[1]점검현황(전월)'!$D$7:$AH$233,10,0)","v":"SATA II 500G"},{"$f":"VLOOKUP(B87&C87,'[1]점검현황(전월)'!$D$7:$AH$233,14,0)","v":"EON10"},"window7",{"$f":"VLOOKUP(B87&C87,'[1]점검현황(전월)'!$D$7:$AH$233,2,0)","v":"전자공학"}]
[null,"원천관",334,{"$f":"VLOOKUP(B88&C88,'[1]점검현황(전월)'!$D$7:$AH$233,7,0)","v":"EMVR"},{"$f":"VLOOKUP(B88&C88,'[1]점검현황(전월)'!$D$7:$AH$233,8,0)","v":"E8400"},{"$f":"VLOOKUP(B88&C88,'[1]점검현황(전월)'!$D$7:$AH$233,9,0)","v":"DDR2 2G"},{"$f":"VLOOKUP(B88&C88,'[1]점검현황(전월)'!$D$7:$AH$233,10,0)","v":"SATA II 320G"},{"$f":"VLOOKUP(B88&C88,'[1]점검현황(전월)'!$D$7:$AH$233,14,0)","v":"INTER"},"window7",{"$f":"VLOOKUP(B88&C88,'[1]점검현황(전월)'!$D$7:$AH$233,2,0)","v":"전자공학"}]
[null,"원천관",340,{"$f":"VLOOKUP(B89&C89,'[1]점검현황(전월)'!$D$7:$AH$233,7,0)","v":"P200PA0FC"},{"$f":"VLOOKUP(B89&C89,'[1]점검현황(전월)'!$D$7:$AH$233,8,0)","v":"i5-760"},{"$f":"VLOOKUP(B89&C89,'[1]점검현황(전월)'!$D$7:$AH$233,9,0)","v":"DDR3 3G"},{"$f":"VLOOKUP(B89&C89,'[1]점검현황(전월)'!$D$7:$AH$233,10,0)","v":"SATA II 500G"},{"$f":"VLOOKUP(B89&C89,'[1]점검현황(전월)'!$D$7:$AH$233,14,0)","v":"INTER"},"window7",{"$f":"VLOOKUP(B89&C89,'[1]점검현황(전월)'!$D$7:$AH$233,2,0)","v":"전자공학"}]
[null,"원천관",502,{"$f":"VLOOKUP(B90&C90,'[1]점검현황(전월)'!$D$7:$AH$233,7,0)","v":"DB-A150"},{"$f":"VLOOKUP(B90&C90,'[1]점검현황(전월)'!$D$7:$AH$233,8,0)","v":"E7500"},{"$f":"VLOOKUP(B90&C90,'[1]점검현황(전월)'!$D$7:$AH$233,9,0)","v":"DDR2 3G"},{"$f":"VLOOKUP(B90&C90,'[1]점검현황(전월)'!$D$7:$AH$233,10,0)","v":"SATA II 500G"},{"$f":"VLOOKUP(B90&C90,'[1]점검현황(전월)'!$D$7:$AH$233,14,0)","v":"X"},"window XP",{"$f":"VLOOKUP(B90&C90,'[1]점검현황(전월)'!$D$7:$AH$233,2,0)","v":"물리학과"}]
[null,"원천관",503,{"$f":"VLOOKUP(B91&C91,'[1]점검현황(전월)'!$D$7:$AH$233,7,0)","v":"DB-A150"},{"$f":"VLOOKUP(B91&C91,'[1]점검현황(전월)'!$D$7:$AH$233,8,0)","v":"E7500"},{"$f":"VLOOKUP(B91&C91,'[1]점검현황(전월)'!$D$7:$AH$233,9,0)","v":"DDR2 3G"},{"$f":"VLOOKUP(B91&C91,'[1]점검현황(전월)'!$D$7:$AH$233,10,0)","v":"SATA II 500G"},{"$f":"VLOOKUP(B91&C91,'[1]점검현황(전월)'!$D$7:$AH$233,14,0)","v":"X"},"window XP",{"$f":"VLOOKUP(B91&C91,'[1]점검현황(전월)'!$D$7:$AH$233,2,0)","v":"물리학과"}]
[null,"원천관",504,{"$f":"VLOOKUP(B92&C92,'[1]점검현황(전월)'!$D$7:$AH$233,7,0)","v":"DB-A150"},{"$f":"VLOOKUP(B92&C92,'[1]점검현황(전월)'!$D$7:$AH$233,8,0)","v":"E7500"},{"$f":"VLOOKUP(B92&C92,'[1]점검현황(전월)'!$D$7:$AH$233,9,0)","v":"DDR2 3G"},{"$f":"VLOOKUP(B92&C92,'[1]점검현황(전월)'!$D$7:$AH$233,10,0)","v":"SATA II 500G"},{"$f":"VLOOKUP(B92&C92,'[1]점검현황(전월)'!$D$7:$AH$233,14,0)","v":"X"},"window XP",{"$f":"VLOOKUP(B92&C92,'[1]점검현황(전월)'!$D$7:$AH$233,2,0)","v":"물리학과"}]
[null,"원천관",505,{"$f":"VLOOKUP(B93&C93,'[1]점검현황(전월)'!$D$7:$AH$233,7,0)","v":"DB-A150"},{"$f":"VLOOKUP(B93&C93,'[1]점검현황(전월)'!$D$7:$AH$233,8,0)","v":"E7500"},{"$f":"VLOOKUP(B93&C93,'[1]점검현황(전월)'!$D$7:$AH$233,9,0)","v":"DDR2 3G"},{"$f":"VLOOKUP(B93&C93,'[1]점검현황(전월)'!$D$7:$AH$233,10,0)","v":"SATA II 500G"},{"$f":"VLOOKUP(B93&C93,'[1]점검현황(전월)'!$D$7:$AH$233,14,0)","v":"X"},"window XP",{"$f":"VLOOKUP(B93&C93,'[1]점검현황(전월)'!$D$7:$AH$233,2,0)","v":"물리학과"}]
[null,"원천관",506,{"$f":"VLOOKUP(B94&C94,'[1]점검현황(전월)'!$D$7:$AH$233,7,0)","v":"DB-A150"},{"$f":"VLOOKUP(B94&C94,'[1]점검현황(전월)'!$D$7:$AH$233,8,0)","v":"E7500"},{"$f":"VLOOKUP(B94&C94,'[1]점검현황(전월)'!$D$7:$AH$233,9,0)","v":"DDR2 3G"},{"$f":"VLOOKUP(B94&C94,'[1]점검현황(전월)'!$D$7:$AH$233,10,0)","v":"SATA II 500G"},{"$f":"VLOOKUP(B94&C94,'[1]점검현황(전월)'!$D$7:$AH$233,14,0)","v":"X"},"window XP",{"$f":"VLOOKUP(B94&C94,'[1]점검현황(전월)'!$D$7:$AH$233,2,0)","v":"물리학과"}]
[null,"원천관",507,{"$f":"VLOOKUP(B95&C95,'[1]점검현황(전월)'!$D$7:$AH$233,7,0)","v":"DB-Z200"},{"$f":"VLOOKUP(B95&C95,'[1]점검현황(전월)'!$D$7:$AH$233,8,0)","v":"i5-760"},{"$f":"VLOOKUP(B95&C95,'[1]점검현황(전월)'!$D$7:$AH$233,9,0)","v":"DDR3 4G"},{"$f":"VLOOKUP(B95&C95,'[1]점검현황(전월)'!$D$7:$AH$233,10,0)","v":"SATA II 500G"},{"$f":"VLOOKUP(B95&C95,'[1]점검현황(전월)'!$D$7:$AH$233,14,0)","v":"EON10"},"window7",{"$f":"VLOOKUP(B95&C95,'[1]점검현황(전월)'!$D$7:$AH$233,2,0)","v":"화학과"}]
[null,"원천관",508,{"$f":"VLOOKUP(B96&C96,'[1]점검현황(전월)'!$D$7:$AH$233,7,0)","v":"DB-Z200"},{"$f":"VLOOKUP(B96&C96,'[1]점검현황(전월)'!$D$7:$AH$233,8,0)","v":"i3-2120"},{"$f":"VLOOKUP(B96&C96,'[1]점검현황(전월)'!$D$7:$AH$233,9,0)","v":"DDR3 2G"},{"$f":"VLOOKUP(B96&C96,'[1]점검현황(전월)'!$D$7:$AH$233,10,0)","v":"SATA II 500G"},{"$f":"VLOOKUP(B96&C96,'[1]점검현황(전월)'!$D$7:$AH$233,14,0)","v":"Britz"},"window7",{"$f":"VLOOKUP(B96&C96,'[1]점검현황(전월)'!$D$7:$AH$233,2,0)","v":"전자공학"}]
[null,"원천관",509,{"$f":"VLOOKUP(B97&C97,'[1]점검현황(전월)'!$D$7:$AH$233,7,0)","v":"DB-Z200"},{"$f":"VLOOKUP(B97&C97,'[1]점검현황(전월)'!$D$7:$AH$233,8,0)","v":"i5-760"},{"$f":"VLOOKUP(B97&C97,'[1]점검현황(전월)'!$D$7:$AH$233,9,0)","v":"DDR3 4G"},{"$f":"VLOOKUP(B97&C97,'[1]점검현황(전월)'!$D$7:$AH$233,10,0)","v":"SATA II 500G"},{"$f":"VLOOKUP(B97&C97,'[1]점검현황(전월)'!$D$7:$AH$233,14,0)","v":"Britz"},"window7",{"$f":"VLOOKUP(B97&C97,'[1]점검현황(전월)'!$D$7:$AH$233,2,0)","v":"전자공학"}]
[null,"원천관","534-2",{"$f":"VLOOKUP(B98&C98,'[1]점검현황(전월)'!$D$7:$AH$233,7,0)","v":"DB-Z200"},{"$f":"VLOOKUP(B98&C98,'[1]점검현황(전월)'!$D$7:$AH$233,8,0)","v":"i5-760"},{"$f":"VLOOKUP(B98&C98,'[1]점검현황(전월)'!$D$7:$AH$233,9,0)","v":"DDR3 4G"},{"$f":"VLOOKUP(B98&C98,'[1]점검현황(전월)'!$D$7:$AH$233,10,0)","v":"SATA II 500G"},{"$f":"VLOOKUP(B98&C98,'[1]점검현황(전월)'!$D$7:$AH$233,14,0)","v":"EON10"},"window7",{"$f":"VLOOKUP(B98&C98,'[1]점검현황(전월)'!$D$7:$AH$233,2,0)","v":"생명과학"}]
[null,"원천관",535,{"$f":"VLOOKUP(B99&C99,'[1]점검현황(전월)'!$D$7:$AH$233,7,0)","v":"DB400"},{"$f":"VLOOKUP(B99&C99,'[1]점검현황(전월)'!$D$7:$AH$233,8,0)","v":"i5-3470"},{"$f":"VLOOKUP(B99&C99,'[1]점검현황(전월)'!$D$7:$AH$233,9,0)","v":"DDR3 4G"},{"$f":"VLOOKUP(B99&C99,'[1]점검현황(전월)'!$D$7:$AH$233,10,0)","v":"SATA III 500G"},{"$f":"VLOOKUP(B99&C99,'[1]점검현황(전월)'!$D$7:$AH$233,14,0)","v":"EON10"},"window7",{"$f":"VLOOKUP(B99&C99,'[1]점검현황(전월)'!$D$7:$AH$233,2,0)","v":"전자공학"}]
[null,"원천관",537,{"$f":"VLOOKUP(B100&C100,'[1]점검현황(전월)'!$D$7:$AH$233,7,0)","v":"EMVR"},{"$f":"VLOOKUP(B100&C100,'[1]점검현황(전월)'!$D$7:$AH$233,8,0)","v":"E7500"},{"$f":"VLOOKUP(B100&C100,'[1]점검현황(전월)'!$D$7:$AH$233,9,0)","v":"DDR2 2G"},{"$f":"VLOOKUP(B100&C100,'[1]점검현황(전월)'!$D$7:$AH$233,10,0)","v":"SATA II 320G"},{"$f":"VLOOKUP(B100&C100,'[1]점검현황(전월)'!$D$7:$AH$233,14,0)","v":"X"},"window7",{"$f":"VLOOKUP(B100&C100,'[1]점검현황(전월)'!$D$7:$AH$233,2,0)","v":"전자공학"}]
[null,"원천관",539,{"$f":"VLOOKUP(B101&C101,'[1]점검현황(전월)'!$D$7:$AH$233,7,0)","v":"QL320MH"},{"$f":"VLOOKUP(B101&C101,'[1]점검현황(전월)'!$D$7:$AH$233,8,0)","v":"Q6600"},{"$f":"VLOOKUP(B101&C101,'[1]점검현황(전월)'!$D$7:$AH$233,9,0)","v":"DDR2 2G"},{"$f":"VLOOKUP(B101&C101,'[1]점검현황(전월)'!$D$7:$AH$233,10,0)","v":"SATA II 320G"},{"$f":"VLOOKUP(B101&C101,'[1]점검현황(전월)'!$D$7:$AH$233,14,0)","v":"X"},"window7",{"$f":"VLOOKUP(B101&C101,'[1]점검현황(전월)'!$D$7:$AH$233,2,0)","v":"전자공학"}]
[null,"원천관",540,{"$f":"VLOOKUP(B102&C102,'[1]점검현황(전월)'!$D$7:$AH$233,7,0)","v":"DB-Z200"},{"$f":"VLOOKUP(B102&C102,'[1]점검현황(전월)'!$D$7:$AH$233,8,0)","v":"i5-760"},{"$f":"VLOOKUP(B102&C102,'[1]점검현황(전월)'!$D$7:$AH$233,9,0)","v":"DDR3 4G"},{"$f":"VLOOKUP(B102&C102,'[1]점검현황(전월)'!$D$7:$AH$233,10,0)","v":"SATA II 500G"},{"$f":"VLOOKUP(B102&C102,'[1]점검현황(전월)'!$D$7:$AH$233,14,0)","v":"EON10"},"window7",{"$f":"VLOOKUP(B102&C102,'[1]점검현황(전월)'!$D$7:$AH$233,2,0)","v":"PC실"}]
["서관","서관",107,{"$f":"VLOOKUP(B103&C103,'[1]점검현황(전월)'!$D$7:$AH$233,7,0)","v":"QL320MH"},{"$f":"VLOOKUP(B103&C103,'[1]점검현황(전월)'!$D$7:$AH$233,8,0)","v":"Core 2 Quad Q6600"},{"$f":"VLOOKUP(B103&C103,'[1]점검현황(전월)'!$D$7:$AH$233,9,0)","v":"DDR2 2G"},{"$f":"VLOOKUP(B103&C103,'[1]점검현황(전월)'!$D$7:$AH$233,10,0)","v":"SATA II 500G"},{"$f":"VLOOKUP(B103&C103,'[1]점검현황(전월)'!$D$7:$AH$233,14,0)","v":"EON10"},"window7",{"$f":"VLOOKUP(B103&C103,'[1]점검현황(전월)'!$D$7:$AH$233,2,0)","v":"멀티미디어"}]
[null,"서관",135,{"$f":"VLOOKUP(B104&C104,'[1]점검현황(전월)'!$D$7:$AH$233,7,0)","v":"DB400"},{"$f":"VLOOKUP(B104&C104,'[1]점검현황(전월)'!$D$7:$AH$233,8,0)","v":"i7-3770"},{"$f":"VLOOKUP(B104&C104,'[1]점검현황(전월)'!$D$7:$AH$233,9,0)","v":"DDR3 8G"},{"$f":"VLOOKUP(B104&C104,'[1]점검현황(전월)'!$D$7:$AH$233,10,0)","v":"SSD 120G"},{"$f":"VLOOKUP(B104&C104,'[1]점검현황(전월)'!$D$7:$AH$233,14,0)","v":"EON15"},"window7",{"$f":"VLOOKUP(B104&C104,'[1]점검현황(전월)'!$D$7:$AH$233,2,0)","v":"멀티미디어"}]
[null,"서관",239,{"$f":"VLOOKUP(B105&C105,'[1]점검현황(전월)'!$D$7:$AH$233,7,0)","v":"EMVR"},{"$f":"VLOOKUP(B105&C105,'[1]점검현황(전월)'!$D$7:$AH$233,8,0)","v":"i5-650"},{"$f":"VLOOKUP(B105&C105,'[1]점검현황(전월)'!$D$7:$AH$233,9,0)","v":"DDR3 3G"},{"$f":"VLOOKUP(B105&C105,'[1]점검현황(전월)'!$D$7:$AH$233,10,0)","v":"SATA II 500G"},{"$f":"VLOOKUP(B105&C105,'[1]점검현황(전월)'!$D$7:$AH$233,14,0)","v":"EON10"},"window7",{"$f":"VLOOKUP(B105&C105,'[1]점검현황(전월)'!$D$7:$AH$233,2,0)","v":"환경공학"}]
[null,"서관",302,{"$f":"VLOOKUP(B106&C106,'[1]점검현황(전월)'!$D$7:$AH$233,7,0)","v":"QL320MH"},{"$f":"VLOOKUP(B106&C106,'[1]점검현황(전월)'!$D$7:$AH$233,8,0)","v":"E8200"},{"$f":"VLOOKUP(B106&C106,'[1]점검현황(전월)'!$D$7:$AH$233,9,0)","v":"DDR2 2G"},{"$f":"VLOOKUP(B106&C106,'[1]점검현황(전월)'!$D$7:$AH$233,10,0)","v":"SATA II 500G"},{"$f":"VLOOKUP(B106&C106,'[1]점검현황(전월)'!$D$7:$AH$233,14,0)","v":"INTER-M"},"window7",{"$f":"VLOOKUP(B106&C106,'[1]점검현황(전월)'!$D$7:$AH$233,2,0)","v":"대학원"}]
[null,"서관",303,{"$f":"VLOOKUP(B107&C107,'[1]점검현황(전월)'!$D$7:$AH$233,7,0)","v":"DB-Z200"},{"$f":"VLOOKUP(B107&C107,'[1]점검현황(전월)'!$D$7:$AH$233,8,0)","v":"i5-760"},{"$f":"VLOOKUP(B107&C107,'[1]점검현황(전월)'!$D$7:$AH$233,9,0)","v":"DDR3 4G"},{"$f":"VLOOKUP(B107&C107,'[1]점검현황(전월)'!$D$7:$AH$233,10,0)","v":"SATA II 500G"},{"$f":"VLOOKUP(B107&C107,'[1]점검현황(전월)'!$D$7:$AH$233,14,0)","v":"EON10"},"window7",{"$f":"VLOOKUP(B107&C107,'[1]점검현황(전월)'!$D$7:$AH$233,2,0)","v":"화학공학"}]
[null,"서관",307,{"$f":"VLOOKUP(B108&C108,'[1]점검현황(전월)'!$D$7:$AH$233,7,0)","v":"DB-Z200"},{"$f":"VLOOKUP(B108&C108,'[1]점검현황(전월)'!$D$7:$AH$233,8,0)","v":"i7-3770"},{"$f":"VLOOKUP(B108&C108,'[1]점검현황(전월)'!$D$7:$AH$233,9,0)","v":"DDR3 4G"},{"$f":"VLOOKUP(B108&C108,'[1]점검현황(전월)'!$D$7:$AH$233,10,0)","v":"SATA II 500G"},{"$f":"VLOOKUP(B108&C108,'[1]점검현황(전월)'!$D$7:$AH$233,14,0)","v":"EON10"},"window7",{"$f":"VLOOKUP(B108&C108,'[1]점검현황(전월)'!$D$7:$AH$233,2,0)","v":"기계공학"}]
[null,"서관",331,{"$f":"VLOOKUP(B109&C109,'[1]점검현황(전월)'!$D$7:$AH$233,7,0)","v":"DB-Z200"},{"$f":"VLOOKUP(B109&C109,'[1]점검현황(전월)'!$D$7:$AH$233,8,0)","v":"i5-760"},{"$f":"VLOOKUP(B109&C109,'[1]점검현황(전월)'!$D$7:$AH$233,9,0)","v":"DDR3 4G"},{"$f":"VLOOKUP(B109&C109,'[1]점검현황(전월)'!$D$7:$AH$233,10,0)","v":"SATA II 500G"},{"$f":"VLOOKUP(B109&C109,'[1]점검현황(전월)'!$D$7:$AH$233,14,0)","v":"EON10"},"window7",{"$f":"VLOOKUP(B109&C109,'[1]점검현황(전월)'!$D$7:$AH$233,2,0)","v":"멀티미디어"}]
[null,"서관",332,{"$f":"VLOOKUP(B110&C110,'[1]점검현황(전월)'!$D$7:$AH$233,7,0)","v":"DB-Z200"},{"$f":"VLOOKUP(B110&C110,'[1]점검현황(전월)'!$D$7:$AH$233,8,0)","v":"i5-760"},{"$f":"VLOOKUP(B110&C110,'[1]점검현황(전월)'!$D$7:$AH$233,9,0)","v":"DDR3 4G"},{"$f":"VLOOKUP(B110&C110,'[1]점검현황(전월)'!$D$7:$AH$233,10,0)","v":"SATA II 500G"},{"$f":"VLOOKUP(B110&C110,'[1]점검현황(전월)'!$D$7:$AH$233,14,0)","v":"EON10"},"window7",{"$f":"VLOOKUP(B110&C110,'[1]점검현황(전월)'!$D$7:$AH$233,2,0)","v":"응 화 생"}]
[null,"서관",334,{"$f":"VLOOKUP(B111&C111,'[1]점검현황(전월)'!$D$7:$AH$233,7,0)","v":"DB-Z200"},{"$f":"VLOOKUP(B111&C111,'[1]점검현황(전월)'!$D$7:$AH$233,8,0)","v":"i5-760"},{"$f":"VLOOKUP(B111&C111,'[1]점검현황(전월)'!$D$7:$AH$233,9,0)","v":"DDR3 4G"},{"$f":"VLOOKUP(B111&C111,'[1]점검현황(전월)'!$D$7:$AH$233,10,0)","v":"SATA II 500G"},{"$f":"VLOOKUP(B111&C111,'[1]점검현황(전월)'!$D$7:$AH$233,14,0)","v":"EON10"},"window7",{"$f":"VLOOKUP(B111&C111,'[1]점검현황(전월)'!$D$7:$AH$233,2,0)","v":"멀티미디어"}]
["동관","동관","104-1",{"$f":"VLOOKUP(B112&C112,'[1]점검현황(전월)'!$D$7:$AH$233,7,0)","v":"삼성"},{"$f":"VLOOKUP(B112&C112,'[1]점검현황(전월)'!$D$7:$AH$233,8,0)","v":"Pentium 4 3.2G"},{"$f":"VLOOKUP(B112&C112,'[1]점검현황(전월)'!$D$7:$AH$233,9,0)","v":"DDR2 1G"},{"$f":"VLOOKUP(B112&C112,'[1]점검현황(전월)'!$D$7:$AH$233,10,0)","v":"SATA 250G"},{"$f":"VLOOKUP(B112&C112,'[1]점검현황(전월)'!$D$7:$AH$233,14,0)","v":"INTER-M"},"windowXP",{"$f":"VLOOKUP(B112&C112,'[1]점검현황(전월)'!$D$7:$AH$233,2,0)","v":"기계공학"}]
[null,"동관","104-3",{"$f":"VLOOKUP(B113&C113,'[1]점검현황(전월)'!$D$7:$AH$233,7,0)","v":"DB400"},{"$f":"VLOOKUP(B113&C113,'[1]점검현황(전월)'!$D$7:$AH$233,8,0)","v":"i5-3470"},{"$f":"VLOOKUP(B113&C113,'[1]점검현황(전월)'!$D$7:$AH$233,9,0)","v":"DDR3 4G"},{"$f":"VLOOKUP(B113&C113,'[1]점검현황(전월)'!$D$7:$AH$233,10,0)","v":"SATA II 620G"},{"$f":"VLOOKUP(B113&C113,'[1]점검현황(전월)'!$D$7:$AH$233,14,0)","v":"INTER-M"},"windowXP",{"$f":"VLOOKUP(B113&C113,'[1]점검현황(전월)'!$D$7:$AH$233,2,0)","v":"기계공학"}]
[null,"동관",331,{"$f":"VLOOKUP(B114&C114,'[1]점검현황(전월)'!$D$7:$AH$233,7,0)","v":"EMPU"},{"$f":"VLOOKUP(B114&C114,'[1]점검현황(전월)'!$D$7:$AH$233,8,0)","v":"Q9500"},{"$f":"VLOOKUP(B114&C114,'[1]점검현황(전월)'!$D$7:$AH$233,9,0)","v":"DDR2 3G"},{"$f":"VLOOKUP(B114&C114,'[1]점검현황(전월)'!$D$7:$AH$233,10,0)","v":"SATA 500G"},{"$f":"VLOOKUP(B114&C114,'[1]점검현황(전월)'!$D$7:$AH$233,14,0)","v":"INTER-M"},"window7",{"$f":"VLOOKUP(B114&C114,'[1]점검현황(전월)'!$D$7:$AH$233,2,0)","v":"기계공학"}]
["팔달관","팔달관",107,{"$f":"VLOOKUP(B115&C115,'[1]점검현황(전월)'!$D$7:$AH$233,7,0)","v":"QL320MH"},{"$f":"VLOOKUP(B115&C115,'[1]점검현황(전월)'!$D$7:$AH$233,8,0)","v":"Core 2 Quad Q6600"},{"$f":"VLOOKUP(B115&C115,'[1]점검현황(전월)'!$D$7:$AH$233,9,0)","v":"DDR2 2G"},{"$f":"VLOOKUP(B115&C115,'[1]점검현황(전월)'!$D$7:$AH$233,10,0)","v":"SATA II 500G"},{"$f":"VLOOKUP(B115&C115,'[1]점검현황(전월)'!$D$7:$AH$233,14,0)","v":"INTER-M"},"window7",{"$f":"VLOOKUP(B115&C115,'[1]점검현황(전월)'!$D$7:$AH$233,2,0)","v":"자동녹화"}]
[null,"팔달관",108,{"$f":"VLOOKUP(B116&C116,'[1]점검현황(전월)'!$D$7:$AH$233,7,0)","v":"QL320MH"},{"$f":"VLOOKUP(B116&C116,'[1]점검현황(전월)'!$D$7:$AH$233,8,0)","v":"Core 2 Quad Q6600"},{"$f":"VLOOKUP(B116&C116,'[1]점검현황(전월)'!$D$7:$AH$233,9,0)","v":"DDR2 3G"},{"$f":"VLOOKUP(B116&C116,'[1]점검현황(전월)'!$D$7:$AH$233,10,0)","v":"SATA II 500G"},{"$f":"VLOOKUP(B116&C116,'[1]점검현황(전월)'!$D$7:$AH$233,14,0)","v":"INTER-M"},"window7",{"$f":"VLOOKUP(B116&C116,'[1]점검현황(전월)'!$D$7:$AH$233,2,0)","v":"멀티미디어"}]
[null,"팔달관",110,{"$f":"VLOOKUP(B117&C117,'[1]점검현황(전월)'!$D$7:$AH$233,7,0)","v":"DB400T3A-A0A/R"},{"$f":"VLOOKUP(B117&C117,'[1]점검현황(전월)'!$D$7:$AH$233,8,0)","v":"Core 2 Quad Q6600"},{"$f":"VLOOKUP(B117&C117,'[1]점검현황(전월)'!$D$7:$AH$233,9,0)","v":"DDR2 2G"},{"$f":"VLOOKUP(B117&C117,'[1]점검현황(전월)'!$D$7:$AH$233,10,0)","v":"SATA II 500G"},{"$f":"VLOOKUP(B117&C117,'[1]점검현황(전월)'!$D$7:$AH$233,14,0)","v":"INTER-M"},"window7",{"$f":"VLOOKUP(B117&C117,'[1]점검현황(전월)'!$D$7:$AH$233,2,0)","v":"자동녹화"}]
[null,"팔달관",111,{"$f":"VLOOKUP(B118&C118,'[1]점검현황(전월)'!$D$7:$AH$233,7,0)","v":"EMPU"},{"$f":"VLOOKUP(B118&C118,'[1]점검현황(전월)'!$D$7:$AH$233,8,0)","v":"Core 2 Duo E7500"},{"$f":"VLOOKUP(B118&C118,'[1]점검현황(전월)'!$D$7:$AH$233,9,0)","v":"DDR2 2G"},{"$f":"VLOOKUP(B118&C118,'[1]점검현황(전월)'!$D$7:$AH$233,10,0)","v":"SATA II 500G"},{"$f":"VLOOKUP(B118&C118,'[1]점검현황(전월)'!$D$7:$AH$233,14,0)","v":"INTER-M"},"window7",{"$f":"VLOOKUP(B118&C118,'[1]점검현황(전월)'!$D$7:$AH$233,2,0)","v":"멀티미디어"}]
[null,"팔달관",207,{"$f":"VLOOKUP(B119&C119,'[1]점검현황(전월)'!$D$7:$AH$233,7,0)","v":"DB-Z200"},{"$f":"VLOOKUP(B119&C119,'[1]점검현황(전월)'!$D$7:$AH$233,8,0)","v":"i5-760"},{"$f":"VLOOKUP(B119&C119,'[1]점검현황(전월)'!$D$7:$AH$233,9,0)","v":"DDR2 2G"},{"$f":"VLOOKUP(B119&C119,'[1]점검현황(전월)'!$D$7:$AH$233,10,0)","v":"SATA II 500G"},{"$f":"VLOOKUP(B119&C119,'[1]점검현황(전월)'!$D$7:$AH$233,14,0)","v":"EON10"},"window7",{"$f":"VLOOKUP(B119&C119,'[1]점검현황(전월)'!$D$7:$AH$233,2,0)","v":"신소재"}]
[null,"팔달관",211,{"$f":"VLOOKUP(B120&C120,'[1]점검현황(전월)'!$D$7:$AH$233,7,0)","v":"EMPU"},{"$f":"VLOOKUP(B120&C120,'[1]점검현황(전월)'!$D$7:$AH$233,8,0)","v":"E7500"},{"$f":"VLOOKUP(B120&C120,'[1]점검현황(전월)'!$D$7:$AH$233,9,0)","v":"DDR2 2G"},{"$f":"VLOOKUP(B120&C120,'[1]점검현황(전월)'!$D$7:$AH$233,10,0)","v":"SATA II 300G"},{"$f":"VLOOKUP(B120&C120,'[1]점검현황(전월)'!$D$7:$AH$233,14,0)","v":"EON10"},"window7",{"$f":"VLOOKUP(B120&C120,'[1]점검현황(전월)'!$D$7:$AH$233,2,0)","v":"교통시스템"}]
[null,"팔달관",307,{"$f":"VLOOKUP(B121&C121,'[1]점검현황(전월)'!$D$7:$AH$233,7,0)","v":"Dell"},{"$f":"VLOOKUP(B121&C121,'[1]점검현황(전월)'!$D$7:$AH$233,8,0)","v":"i7-4770"},{"$f":"VLOOKUP(B121&C121,'[1]점검현황(전월)'!$D$7:$AH$233,9,0)","v":"DDR3 8G"},{"$f":"VLOOKUP(B121&C121,'[1]점검현황(전월)'!$D$7:$AH$233,10,0)","v":"SSD 120G"},{"$f":"VLOOKUP(B121&C121,'[1]점검현황(전월)'!$D$7:$AH$233,14,0)","v":"EON15"},"window7",{"$f":"VLOOKUP(B121&C121,'[1]점검현황(전월)'!$D$7:$AH$233,2,0)","v":"산업정보"}]
[null,"팔달관",308,{"$f":"VLOOKUP(B122&C122,'[1]점검현황(전월)'!$D$7:$AH$233,7,0)","v":"EMVR"},{"$f":"VLOOKUP(B122&C122,'[1]점검현황(전월)'!$D$7:$AH$233,8,0)","v":"E7400"},{"$f":"VLOOKUP(B122&C122,'[1]점검현황(전월)'!$D$7:$AH$233,9,0)","v":"DDR2 2G"},{"$f":"VLOOKUP(B122&C122,'[1]점검현황(전월)'!$D$7:$AH$233,10,0)","v":"SATA II 320G"},{"$f":"VLOOKUP(B122&C122,'[1]점검현황(전월)'!$D$7:$AH$233,14,0)","v":"EON10"},"window7",{"$f":"VLOOKUP(B122&C122,'[1]점검현황(전월)'!$D$7:$AH$233,2,0)","v":"생명공학"}]
[null,"팔달관",309,{"$f":"VLOOKUP(B123&C123,'[1]점검현황(전월)'!$D$7:$AH$233,7,0)","v":"DB-Z200"},{"$f":"VLOOKUP(B123&C123,'[1]점검현황(전월)'!$D$7:$AH$233,8,0)","v":"i5-760"},{"$f":"VLOOKUP(B123&C123,'[1]점검현황(전월)'!$D$7:$AH$233,9,0)","v":"DDR3 4G"},{"$f":"VLOOKUP(B123&C123,'[1]점검현황(전월)'!$D$7:$AH$233,10,0)","v":"SATA II 500G"},{"$f":"VLOOKUP(B123&C123,'[1]점검현황(전월)'!$D$7:$AH$233,14,0)","v":"EON10"},"window7",{"$f":"VLOOKUP(B123&C123,'[1]점검현황(전월)'!$D$7:$AH$233,2,0)","v":"정 통 컴"}]
[null,"팔달관",310,{"$f":"VLOOKUP(B124&C124,'[1]점검현황(전월)'!$D$7:$AH$233,7,0)","v":"DB-Z200"},{"$f":"VLOOKUP(B124&C124,'[1]점검현황(전월)'!$D$7:$AH$233,8,0)","v":"i5-760"},{"$f":"VLOOKUP(B124&C124,'[1]점검현황(전월)'!$D$7:$AH$233,9,0)","v":"DDR3 4G"},{"$f":"VLOOKUP(B124&C124,'[1]점검현황(전월)'!$D$7:$AH$233,10,0)","v":"SATA II 500G"},{"$f":"VLOOKUP(B124&C124,'[1]점검현황(전월)'!$D$7:$AH$233,14,0)","v":"EON15"},"window7",{"$f":"VLOOKUP(B124&C124,'[1]점검현황(전월)'!$D$7:$AH$233,2,0)","v":"건설시스템"}]
[null,"팔달관",311,{"$f":"VLOOKUP(B125&C125,'[1]점검현황(전월)'!$D$7:$AH$233,7,0)","v":"Dell "},{"$f":"VLOOKUP(B125&C125,'[1]점검현황(전월)'!$D$7:$AH$233,8,0)","v":"Q9400"},{"$f":"VLOOKUP(B125&C125,'[1]점검현황(전월)'!$D$7:$AH$233,9,0)","v":"DDR2 4G"},{"$f":"VLOOKUP(B125&C125,'[1]점검현황(전월)'!$D$7:$AH$233,10,0)","v":"SATA II 150G"},{"$f":"VLOOKUP(B125&C125,'[1]점검현황(전월)'!$D$7:$AH$233,14,0)","v":"INTER-M"},"window7",{"$f":"VLOOKUP(B125&C125,'[1]점검현황(전월)'!$D$7:$AH$233,2,0)","v":"수학과 LAB"}]
[null,"팔달관",318,{"$f":"VLOOKUP(B126&C126,'[1]점검현황(전월)'!$D$7:$AH$233,7,0)","v":"hp"},{"$f":"VLOOKUP(B126&C126,'[1]점검현황(전월)'!$D$7:$AH$233,8,0)","v":"i7-870"},{"$f":"VLOOKUP(B126&C126,'[1]점검현황(전월)'!$D$7:$AH$233,9,0)","v":"DDR3 4G"},{"$f":"VLOOKUP(B126&C126,'[1]점검현황(전월)'!$D$7:$AH$233,10,0)","v":"SATA II 500G"},{"$f":"VLOOKUP(B126&C126,'[1]점검현황(전월)'!$D$7:$AH$233,14,0)","v":"X"},"window7",{"$f":"VLOOKUP(B126&C126,'[1]점검현황(전월)'!$D$7:$AH$233,2,0)","v":"정 통 컴"}]
[null,"팔달관",325,{"$f":"VLOOKUP(B127&C127,'[1]점검현황(전월)'!$D$7:$AH$233,7,0)","v":"hp"},{"$f":"VLOOKUP(B127&C127,'[1]점검현황(전월)'!$D$7:$AH$233,8,0)","v":"Core 2 Quad Q9650"},{"$f":"VLOOKUP(B127&C127,'[1]점검현황(전월)'!$D$7:$AH$233,9,0)","v":"DDR3 4G"},{"$f":"VLOOKUP(B127&C127,'[1]점검현황(전월)'!$D$7:$AH$233,10,0)","v":"SATA II 500G"},{"$f":"VLOOKUP(B127&C127,'[1]점검현황(전월)'!$D$7:$AH$233,14,0)","v":"INTER-M"},"window7",{"$f":"VLOOKUP(B127&C127,'[1]점검현황(전월)'!$D$7:$AH$233,2,0)","v":"정 통 컴"}]
[null,"팔달관",328,{"$f":"VLOOKUP(B128&C128,'[1]점검현황(전월)'!$D$7:$AH$233,7,0)","v":"hp"},{"$f":"VLOOKUP(B128&C128,'[1]점검현황(전월)'!$D$7:$AH$233,8,0)","v":"i7-870"},{"$f":"VLOOKUP(B128&C128,'[1]점검현황(전월)'!$D$7:$AH$233,9,0)","v":"DDR2 4G"},{"$f":"VLOOKUP(B128&C128,'[1]점검현황(전월)'!$D$7:$AH$233,10,0)","v":"SATA II 500G"},{"$f":"VLOOKUP(B128&C128,'[1]점검현황(전월)'!$D$7:$AH$233,14,0)","v":"INTER-M"},"window7",{"$f":"VLOOKUP(B128&C128,'[1]점검현황(전월)'!$D$7:$AH$233,2,0)","v":"정 통 컴"}]
[null,"팔달관",334,{"$f":"VLOOKUP(B129&C129,'[1]점검현황(전월)'!$D$7:$AH$233,7,0)","v":"DB400"},{"$f":"VLOOKUP(B129&C129,'[1]점검현황(전월)'!$D$7:$AH$233,8,0)","v":"i5-2500"},{"$f":"VLOOKUP(B129&C129,'[1]점검현황(전월)'!$D$7:$AH$233,9,0)","v":"DDR3 4G"},{"$f":"VLOOKUP(B129&C129,'[1]점검현황(전월)'!$D$7:$AH$233,10,0)","v":"SATA II 1T"},{"$f":"VLOOKUP(B129&C129,'[1]점검현황(전월)'!$D$7:$AH$233,14,0)","v":"X"},"window7",{"$f":"VLOOKUP(B129&C129,'[1]점검현황(전월)'!$D$7:$AH$233,2,0)","v":"정 통 컴"}]
[null,"팔달관",407,{"$f":"VLOOKUP(B130&C130,'[1]점검현황(전월)'!$D$7:$AH$233,7,0)","v":"DB400"},{"$f":"VLOOKUP(B130&C130,'[1]점검현황(전월)'!$D$7:$AH$233,8,0)","v":"I7-3770"},{"$f":"VLOOKUP(B130&C130,'[1]점검현황(전월)'!$D$7:$AH$233,9,0)","v":"DDR3 4G"},{"$f":"VLOOKUP(B130&C130,'[1]점검현황(전월)'!$D$7:$AH$233,10,0)","v":"STAT II 1T"},{"$f":"VLOOKUP(B130&C130,'[1]점검현황(전월)'!$D$7:$AH$233,14,0)","v":"LS"},"window7",{"$f":"VLOOKUP(B130&C130,'[1]점검현황(전월)'!$D$7:$AH$233,2,0)","v":"SW특성화대학원"}]
[null,"팔달관",409,{"$f":"VLOOKUP(B131&C131,'[1]점검현황(전월)'!$D$7:$AH$233,7,0)","v":"DB400"},{"$f":"VLOOKUP(B131&C131,'[1]점검현황(전월)'!$D$7:$AH$233,8,0)","v":"i3-3220"},{"$f":"VLOOKUP(B131&C131,'[1]점검현황(전월)'!$D$7:$AH$233,9,0)","v":"DDR3 2G"},{"$f":"VLOOKUP(B131&C131,'[1]점검현황(전월)'!$D$7:$AH$233,10,0)","v":"SATA III 300G"},{"$f":"VLOOKUP(B131&C131,'[1]점검현황(전월)'!$D$7:$AH$233,14,0)","v":"INTER-M"},"window8",{"$f":"VLOOKUP(B131&C131,'[1]점검현황(전월)'!$D$7:$AH$233,2,0)","v":"SW특성화대학원"}]
[null,"팔달관",410,{"$f":"VLOOKUP(B132&C132,'[1]점검현황(전월)'!$D$7:$AH$233,7,0)","v":"DB401"},{"$f":"VLOOKUP(B132&C132,'[1]점검현황(전월)'!$D$7:$AH$233,8,0)","v":"i3-3220"},{"$f":"VLOOKUP(B132&C132,'[1]점검현황(전월)'!$D$7:$AH$233,9,0)","v":"DDR3 2G"},{"$f":"VLOOKUP(B132&C132,'[1]점검현황(전월)'!$D$7:$AH$233,10,0)","v":"SATA III 300G"},{"$f":"VLOOKUP(B132&C132,'[1]점검현황(전월)'!$D$7:$AH$233,14,0)","v":"INTER-M"},"window9",{"$f":"VLOOKUP(B132&C132,'[1]점검현황(전월)'!$D$7:$AH$233,2,0)","v":"정 통 컴"}]
[null,"팔달관",415,{"$f":"VLOOKUP(B133&C133,'[1]점검현황(전월)'!$D$7:$AH$233,7,0)","v":"EMPU"},{"$f":"VLOOKUP(B133&C133,'[1]점검현황(전월)'!$D$7:$AH$233,8,0)","v":"E7500"},{"$f":"VLOOKUP(B133&C133,'[1]점검현황(전월)'!$D$7:$AH$233,9,0)","v":"DDR2 2G"},{"$f":"VLOOKUP(B133&C133,'[1]점검현황(전월)'!$D$7:$AH$233,10,0)","v":"SATA II 300G"},{"$f":"VLOOKUP(B133&C133,'[1]점검현황(전월)'!$D$7:$AH$233,14,0)","v":"X"},"window7",{"$f":"VLOOKUP(B133&C133,'[1]점검현황(전월)'!$D$7:$AH$233,2,0)","v":"교통시스템"}]
[null,"팔달관",621,{"$f":"VLOOKUP(B134&C134,'[1]점검현황(전월)'!$D$7:$AH$233,7,0)","v":"P435"},{"$f":"VLOOKUP(B134&C134,'[1]점검현황(전월)'!$D$7:$AH$233,8,0)","v":"i7-870"},{"$f":"VLOOKUP(B134&C134,'[1]점검현황(전월)'!$D$7:$AH$233,9,0)","v":"DDR3 4G"},{"$f":"VLOOKUP(B134&C134,'[1]점검현황(전월)'!$D$7:$AH$233,10,0)","v":"SATA II 300G"},{"$f":"VLOOKUP(B134&C134,'[1]점검현황(전월)'!$D$7:$AH$233,14,0)","v":"EON10"},"window7",{"$f":"VLOOKUP(B134&C134,'[1]점검현황(전월)'!$D$7:$AH$233,2,0)","v":"수학과 LAB"}]
[null,"팔달관",735,{"$f":"VLOOKUP(B135&C135,'[1]점검현황(전월)'!$D$7:$AH$233,7,0)","v":"DB-Z200"},{"$f":"VLOOKUP(B135&C135,'[1]점검현황(전월)'!$D$7:$AH$233,8,0)","v":"i5-760"},{"$f":"VLOOKUP(B135&C135,'[1]점검현황(전월)'!$D$7:$AH$233,9,0)","v":"DDR3 2G"},{"$f":"VLOOKUP(B135&C135,'[1]점검현황(전월)'!$D$7:$AH$233,10,0)","v":"SATA II 500G"},{"$f":"VLOOKUP(B135&C135,'[1]점검현황(전월)'!$D$7:$AH$233,14,0)","v":"EON10"},"window7",{"$f":"VLOOKUP(B135&C135,'[1]점검현황(전월)'!$D$7:$AH$233,2,0)","v":"대학원"}]
[null,"팔달관",1001,{"$f":"VLOOKUP(B136&C136,'[1]점검현황(전월)'!$D$7:$AH$233,7,0)","v":"DB-Z200"},{"$f":"VLOOKUP(B136&C136,'[1]점검현황(전월)'!$D$7:$AH$233,8,0)","v":"i5-760"},{"$f":"VLOOKUP(B136&C136,'[1]점검현황(전월)'!$D$7:$AH$233,9,0)","v":"DDR3 4G"},{"$f":"VLOOKUP(B136&C136,'[1]점검현황(전월)'!$D$7:$AH$233,10,0)","v":"SATA II 500G"},{"$f":"VLOOKUP(B136&C136,'[1]점검현황(전월)'!$D$7:$AH$233,14,0)","v":"EON10"},"window7",{"$f":"VLOOKUP(B136&C136,'[1]점검현황(전월)'!$D$7:$AH$233,2,0)","v":"대학원"}]
[null,"팔달관",1002,{"$f":"VLOOKUP(B137&C137,'[1]점검현황(전월)'!$D$7:$AH$233,7,0)","v":"DB-P400"},{"$f":"VLOOKUP(B137&C137,'[1]점검현황(전월)'!$D$7:$AH$233,8,0)","v":"i5-2500"},{"$f":"VLOOKUP(B137&C137,'[1]점검현황(전월)'!$D$7:$AH$233,9,0)","v":"DDR3 4G"},{"$f":"VLOOKUP(B137&C137,'[1]점검현황(전월)'!$D$7:$AH$233,10,0)","v":"SATA II 1T"},{"$f":"VLOOKUP(B137&C137,'[1]점검현황(전월)'!$D$7:$AH$233,14,0)","v":"EON10"},"window7",{"$f":"VLOOKUP(B137&C137,'[1]점검현황(전월)'!$D$7:$AH$233,2,0)","v":"대학원"}]
[null,"팔달관",1003,{"$f":"VLOOKUP(B138&C138,'[1]점검현황(전월)'!$D$7:$AH$233,7,0)","v":"DreamSYS-G5"},{"$f":"VLOOKUP(B138&C138,'[1]점검현황(전월)'!$D$7:$AH$233,8,0)","v":"i3-550"},{"$f":"VLOOKUP(B138&C138,'[1]점검현황(전월)'!$D$7:$AH$233,9,0)","v":"DDR2 2G"},{"$f":"VLOOKUP(B138&C138,'[1]점검현황(전월)'!$D$7:$AH$233,10,0)","v":"SATA II 300G"},{"$f":"VLOOKUP(B138&C138,'[1]점검현황(전월)'!$D$7:$AH$233,14,0)","v":"EON10"},"window7",{"$f":"VLOOKUP(B138&C138,'[1]점검현황(전월)'!$D$7:$AH$233,2,0)","v":"SW특성화대학원"}]
[null,"팔달관",1020,{"$f":"VLOOKUP(B139&C139,'[1]점검현황(전월)'!$D$7:$AH$233,7,0)","v":"DELL PC"},{"$f":"VLOOKUP(B139&C139,'[1]점검현황(전월)'!$D$7:$AH$233,8,0)","v":"E6750"},{"$f":"VLOOKUP(B139&C139,'[1]점검현황(전월)'!$D$7:$AH$233,9,0)","v":"DDR2 2G"},{"$f":"VLOOKUP(B139&C139,'[1]점검현황(전월)'!$D$7:$AH$233,10,0)","v":"SATA II 250G"},{"$f":"VLOOKUP(B139&C139,'[1]점검현황(전월)'!$D$7:$AH$233,14,0)","v":"EON10"},"window7",{"$f":"VLOOKUP(B139&C139,'[1]점검현황(전월)'!$D$7:$AH$233,2,0)","v":"건설교통 (CAD실)"}]
[null,"팔달관",1024,{"$f":"VLOOKUP(B140&C140,'[1]점검현황(전월)'!$D$7:$AH$233,7,0)","v":"Q310SE"},{"$f":"VLOOKUP(B140&C140,'[1]점검현황(전월)'!$D$7:$AH$233,8,0)","v":"E7200"},{"$f":"VLOOKUP(B140&C140,'[1]점검현황(전월)'!$D$7:$AH$233,9,0)","v":"DDR2 1G"},{"$f":"VLOOKUP(B140&C140,'[1]점검현황(전월)'!$D$7:$AH$233,10,0)","v":"SATA II 300G"},{"$f":"VLOOKUP(B140&C140,'[1]점검현황(전월)'!$D$7:$AH$233,14,0)","v":"EON10"},"windowXP",{"$f":"VLOOKUP(B140&C140,'[1]점검현황(전월)'!$D$7:$AH$233,2,0)","v":"토목공학 (CAD실)"}]
[null,"팔달관",1025,{"$f":"VLOOKUP(B141&C141,'[1]점검현황(전월)'!$D$7:$AH$233,7,0)","v":"HP"},{"$f":"VLOOKUP(B141&C141,'[1]점검현황(전월)'!$D$7:$AH$233,8,0)","v":"Core 2 Quad Q9650"},{"$f":"VLOOKUP(B141&C141,'[1]점검현황(전월)'!$D$7:$AH$233,9,0)","v":"DDR2 4G"},{"$f":"VLOOKUP(B141&C141,'[1]점검현황(전월)'!$D$7:$AH$233,10,0)","v":"SATA II 500G"},{"$f":"VLOOKUP(B141&C141,'[1]점검현황(전월)'!$D$7:$AH$233,14,0)","v":"JBL"},"windowXP",{"$f":"VLOOKUP(B141&C141,'[1]점검현황(전월)'!$D$7:$AH$233,2,0)","v":"정 통 컴"}]
["산학원","산학원","B103",{"$f":"VLOOKUP(B142&C142,'[1]점검현황(전월)'!$D$7:$AH$233,7,0)","v":"DB-P400"},{"$f":"VLOOKUP(B142&C142,'[1]점검현황(전월)'!$D$7:$AH$233,8,0)","v":"I7-3770"},{"$f":"VLOOKUP(B142&C142,'[1]점검현황(전월)'!$D$7:$AH$233,9,0)","v":"DDR3 4G"},{"$f":"VLOOKUP(B142&C142,'[1]점검현황(전월)'!$D$7:$AH$233,10,0)","v":"STAT II 1T"},{"$f":"VLOOKUP(B142&C142,'[1]점검현황(전월)'!$D$7:$AH$233,14,0)","v":"INTER-M"},null,{"$f":"VLOOKUP(B142&C142,'[1]점검현황(전월)'!$D$7:$AH$233,2,0)","v":"미디어"}]
[null,"산학원",415,{"$f":"VLOOKUP(B143&C143,'[1]점검현황(전월)'!$D$7:$AH$233,7,0)","v":"Dell Optiplex 755"},{"$f":"VLOOKUP(B143&C143,'[1]점검현황(전월)'!$D$7:$AH$233,8,0)","v":"E6750"},{"$f":"VLOOKUP(B143&C143,'[1]점검현황(전월)'!$D$7:$AH$233,9,0)","v":"DDR2 2G"},{"$f":"VLOOKUP(B143&C143,'[1]점검현황(전월)'!$D$7:$AH$233,10,0)","v":"SATA 150G"},{"$f":"VLOOKUP(B143&C143,'[1]점검현황(전월)'!$D$7:$AH$233,14,0)","v":"YAMAHA"},"window7",{"$f":"VLOOKUP(B143&C143,'[1]점검현황(전월)'!$D$7:$AH$233,2,0)","v":"미디어 (PC실)"}]
[null,"산학원",419,{"$f":"VLOOKUP(B144&C144,'[1]점검현황(전월)'!$D$7:$AH$233,7,0)","v":"Dell Optiplex 755"},{"$f":"VLOOKUP(B144&C144,'[1]점검현황(전월)'!$D$7:$AH$233,8,0)","v":"E8235"},{"$f":"VLOOKUP(B144&C144,'[1]점검현황(전월)'!$D$7:$AH$233,9,0)","v":"DDR2 2G"},{"$f":"VLOOKUP(B144&C144,'[1]점검현황(전월)'!$D$7:$AH$233,10,0)","v":"SATA 250G"},{"$f":"VLOOKUP(B144&C144,'[1]점검현황(전월)'!$D$7:$AH$233,14,0)","v":"YAMAHA"},"window7",{"$f":"VLOOKUP(B144&C144,'[1]점검현황(전월)'!$D$7:$AH$233,2,0)","v":"미디어 (PC실)"}]
[null,"산학원",420,{"$f":"VLOOKUP(B145&C145,'[1]점검현황(전월)'!$D$7:$AH$233,7,0)","v":"Dell Optiplex 755"},{"$f":"VLOOKUP(B145&C145,'[1]점검현황(전월)'!$D$7:$AH$233,8,0)","v":"E8235"},{"$f":"VLOOKUP(B145&C145,'[1]점검현황(전월)'!$D$7:$AH$233,9,0)","v":"DDR2 2G"},{"$f":"VLOOKUP(B145&C145,'[1]점검현황(전월)'!$D$7:$AH$233,10,0)","v":"SATA 250G"},{"$f":"VLOOKUP(B145&C145,'[1]점검현황(전월)'!$D$7:$AH$233,14,0)","v":"YAMAHA"},"window7",{"$f":"VLOOKUP(B145&C145,'[1]점검현황(전월)'!$D$7:$AH$233,2,0)","v":"미디어 (PC실)"}]
[null,"산학원",421,{"$f":"VLOOKUP(B146&C146,'[1]점검현황(전월)'!$D$7:$AH$233,7,0)","v":"DB-P400"},{"$f":"VLOOKUP(B146&C146,'[1]점검현황(전월)'!$D$7:$AH$233,8,0)","v":"i5-2400"},{"$f":"VLOOKUP(B146&C146,'[1]점검현황(전월)'!$D$7:$AH$233,9,0)","v":"DDR3 4G"},{"$f":"VLOOKUP(B146&C146,'[1]점검현황(전월)'!$D$7:$AH$233,10,0)","v":"SATA II 500G"},{"$f":"VLOOKUP(B146&C146,'[1]점검현황(전월)'!$D$7:$AH$233,14,0)","v":"YAMAHA"},"window7",{"$f":"VLOOKUP(B146&C146,'[1]점검현황(전월)'!$D$7:$AH$233,2,0)","v":"미디어 (PC실)"}]
[null,"산학원",422,{"$f":"VLOOKUP(B147&C147,'[1]점검현황(전월)'!$D$7:$AH$233,7,0)","v":"DB400"},{"$f":"VLOOKUP(B147&C147,'[2]점검현황(전월)'!$D$7:$AH$233,8,0)","v":"i5-760"},{"$f":"VLOOKUP(B147&C147,'[1]점검현황(전월)'!$D$7:$AH$233,9,0)","v":"DDR3 6G"},{"$f":"VLOOKUP(B147&C147,'[1]점검현황(전월)'!$D$7:$AH$233,10,0)","v":"SATA III 500G"},{"$f":"VLOOKUP(B147&C147,'[1]점검현황(전월)'!$D$7:$AH$233,14,0)","v":"YAMAHA"},"window7",{"$f":"VLOOKUP(B147&C147,'[1]점검현황(전월)'!$D$7:$AH$233,2,0)","v":"미디어"}]
[null,"산학원",504,"프로젝트 외 없음",{"$nulls":5},{"$f":"VLOOKUP(B148&C148,'[1]점검현황(전월)'!$D$7:$AH$233,2,0)","v":"대학원지식정보안학과"}]
[null,"산학원",505,"프로젝트 외 없음",{"$nulls":5},{"$f":"VLOOKUP(B149&C149,'[1]점검현황(전월)'!$D$7:$AH$233,2,0)","v":"대학원지식정보안학과"}]
[null,"산학원",713,"프로젝트 외 없음",{"$nulls":5},{"$f":"VLOOKUP(B150&C150,'[1]점검현황(전월)'!$D$7:$AH$233,2,0)","v":"회의실"}]
[null,"산학원",825,{"$f":"VLOOKUP(B151&C151,'[1]점검현황(전월)'!$D$7:$AH$233,7,0)","v":"DB-Z200"},{"$f":"VLOOKUP(B151&C151,'[1]점검현황(전월)'!$D$7:$AH$233,8,0)","v":"i5-760"},{"$f":"VLOOKUP(B151&C151,'[1]점검현황(전월)'!$D$7:$AH$233,9,0)","v":"DDR3 4G"},{"$f":"VLOOKUP(B151&C151,'[1]점검현황(전월)'!$D$7:$AH$233,10,0)","v":"SATA II 500G"},{"$f":"VLOOKUP(B151&C151,'[1]점검현황(전월)'!$D$7:$AH$233,14,0)","v":"INTER-M"},"window7",{"$f":"VLOOKUP(B151&C151,'[1]점검현황(전월)'!$D$7:$AH$233,2,0)","v":"전공 - 건축"}]
[null,"산학원",827,"프로젝트 외 없음",{"$nulls":5},{"$f":"VLOOKUP(B152&C152,'[1]점검현황(전월)'!$D$7:$AH$233,2,0)","v":"전공 - 건축"}]
["학군단","학군단","1강의",{"$f":"VLOOKUP(B153&C153,'[1]점검현황(전월)'!$D$7:$AH$233,7,0)","v":"QL310MH"},{"$f":"VLOOKUP(B153&C153,'[1]점검현황(전월)'!$D$7:$AH$233,8,0)","v":"E8200"},{"$f":"VLOOKUP(B153&C153,'[1]점검현황(전월)'!$D$7:$AH$233,9,0)","v":"DDR2 3G"},{"$f":"VLOOKUP(B153&C153,'[1]점검현황(전월)'!$D$7:$AH$233,10,0)","v":"SATA II 500G"},{"$f":"VLOOKUP(B153&C153,'[1]점검현황(전월)'!$D$7:$AH$233,14,0)","v":"OK"},"window7",{"$f":"VLOOKUP(B153&C153,'[1]점검현황(전월)'!$D$7:$AH$233,2,0)","v":"멀티미디어"}]
[null,"학군단","2강의",{"$f":"VLOOKUP(B154&C154,'[1]점검현황(전월)'!$D$7:$AH$233,7,0)","v":"QL310MH"},{"$f":"VLOOKUP(B154&C154,'[1]점검현황(전월)'!$D$7:$AH$233,8,0)","v":"E8200"},{"$f":"VLOOKUP(B154&C154,'[1]점검현황(전월)'!$D$7:$AH$233,9,0)","v":"DDR2 3G"},{"$f":"VLOOKUP(B154&C154,'[1]점검현황(전월)'!$D$7:$AH$233,10,0)","v":"SATA II 300G"},{"$f":"VLOOKUP(B154&C154,'[1]점검현황(전월)'!$D$7:$AH$233,14,0)","v":"INTER-M"},"window7",{"$f":"VLOOKUP(B154&C154,'[1]점검현황(전월)'!$D$7:$AH$233,2,0)","v":"멀티미디어"}]
["전\n산\n원","전산원",101,{"$f":"VLOOKUP(B155&C155,'[1]점검현황(전월)'!$D$7:$AH$233,7,0)","v":"조립"},{"$f":"VLOOKUP(B155&C155,'[1]점검현황(전월)'!$D$7:$AH$233,8,0)","v":"Core 2 Quad Q6600"},{"$f":"VLOOKUP(B155&C155,'[1]점검현황(전월)'!$D$7:$AH$233,9,0)","v":"DDR2 2G"},{"$f":"VLOOKUP(B155&C155,'[1]점검현황(전월)'!$D$7:$AH$233,10,0)","v":"SATA 250G"},{"$f":"VLOOKUP(B155&C155,'[1]점검현황(전월)'!$D$7:$AH$233,14,0)","v":"EON10"},"window7",{"$f":"VLOOKUP(B155&C155,'[1]점검현황(전월)'!$D$7:$AH$233,2,0)","v":"강당"}]
[null,"전산원",509,{"$f":"VLOOKUP(B156&C156,'[1]점검현황(전월)'!$D$7:$AH$233,7,0)","v":"EMVR"},{"$f":"VLOOKUP(B156&C156,'[1]점검현황(전월)'!$D$7:$AH$233,8,0)","v":"E7500"},{"$f":"VLOOKUP(B156&C156,'[1]점검현황(전월)'!$D$7:$AH$233,9,0)","v":"DDR2 2G"},{"$f":"VLOOKUP(B156&C156,'[1]점검현황(전월)'!$D$7:$AH$233,10,0)","v":"SATA II 320G"},{"$f":"VLOOKUP(B156&C156,'[1]점검현황(전월)'!$D$7:$AH$233,14,0)","v":"EON10"},"window7",{"$f":"VLOOKUP(B156&C156,'[1]점검현황(전월)'!$D$7:$AH$233,2,0)","v":"PC실"}]
[null,"전산원",510,{"$f":"VLOOKUP(B157&C157,'[1]점검현황(전월)'!$D$7:$AH$233,7,0)","v":"EMVR"},{"$f":"VLOOKUP(B157&C157,'[1]점검현황(전월)'!$D$7:$AH$233,8,0)","v":"E7500"},{"$f":"VLOOKUP(B157&C157,'[1]점검현황(전월)'!$D$7:$AH$233,9,0)","v":"DDR2 2G"},{"$f":"VLOOKUP(B157&C157,'[1]점검현황(전월)'!$D$7:$AH$233,10,0)","v":"SATA II 320G"},{"$f":"VLOOKUP(B157&C157,'[1]점검현황(전월)'!$D$7:$AH$233,14,0)","v":"EON10"},"window7",{"$f":"VLOOKUP(B157&C157,'[1]점검현황(전월)'!$D$7:$AH$233,2,0)","v":"PC실"}]
[null,"전산원",514,{"$f":"VLOOKUP(B158&C158,'[1]점검현황(전월)'!$D$7:$AH$233,7,0)","v":"EMVR"},{"$f":"VLOOKUP(B158&C158,'[1]점검현황(전월)'!$D$7:$AH$233,8,0)","v":"E7500"},{"$f":"VLOOKUP(B158&C158,'[1]점검현황(전월)'!$D$7:$AH$233,9,0)","v":"DDR2 2G"},{"$f":"VLOOKUP(B158&C158,'[1]점검현황(전월)'!$D$7:$AH$233,10,0)","v":"SATA II 320G"},{"$f":"VLOOKUP(B158&C158,'[1]점검현황(전월)'!$D$7:$AH$233,14,0)","v":"EON10"},"window7",{"$f":"VLOOKUP(B158&C158,'[1]점검현황(전월)'!$D$7:$AH$233,2,0)","v":"PC실"}]
["종합관","종합관",101,{"$f":"VLOOKUP(B159&C159,'[1]점검현황(전월)'!$D$7:$AH$233,7,0)","v":"DM-C210"},{"$f":"VLOOKUP(B159&C159,'[1]점검현황(전월)'!$D$7:$AH$233,8,0)","v":"E5700"},{"$f":"VLOOKUP(B159&C159,'[1]점검현황(전월)'!$D$7:$AH$233,9,0)","v":"DDR2 2G"},{"$f":"VLOOKUP(B159&C159,'[1]점검현황(전월)'!$D$7:$AH$233,10,0)","v":"SATA II 500G"},{"$f":"VLOOKUP(B159&C159,'[1]점검현황(전월)'!$D$7:$AH$233,14,0)","v":"INTER-M"},"window7",{"$f":"VLOOKUP(B159&C159,'[1]점검현황(전월)'!$D$7:$AH$233,2,0)","v":"대강당"}]
[null,"종합관",102,{"$f":"VLOOKUP(B160&C160,'[1]점검현황(전월)'!$D$7:$AH$233,7,0)","v":"DM-C210"},{"$f":"VLOOKUP(B160&C160,'[1]점검현황(전월)'!$D$7:$AH$233,8,0)","v":"E5700"},{"$f":"VLOOKUP(B160&C160,'[1]점검현황(전월)'!$D$7:$AH$233,9,0)","v":"DDR2 2G"},{"$f":"VLOOKUP(B160&C160,'[1]점검현황(전월)'!$D$7:$AH$233,10,0)","v":"SATA II 120G"},{"$f":"VLOOKUP(B160&C160,'[1]점검현황(전월)'!$D$7:$AH$233,14,0)","v":"INTER-M"},"window7",{"$f":"VLOOKUP(B160&C160,'[1]점검현황(전월)'!$D$7:$AH$233,2,0)","v":"계단식 "}]
[null,"종합관",104,{"$f":"VLOOKUP(B161&C161,'[1]점검현황(전월)'!$D$7:$AH$233,7,0)","v":"DM-C210"},{"$f":"VLOOKUP(B161&C161,'[1]점검현황(전월)'!$D$7:$AH$233,8,0)","v":"E5700"},{"$f":"VLOOKUP(B161&C161,'[1]점검현황(전월)'!$D$7:$AH$233,9,0)","v":"DDR2 2G"},{"$f":"VLOOKUP(B161&C161,'[1]점검현황(전월)'!$D$7:$AH$233,10,0)","v":"SATA II 120G"},{"$f":"VLOOKUP(B161&C161,'[1]점검현황(전월)'!$D$7:$AH$233,14,0)","v":"INTER-M"},"window7",{"$f":"VLOOKUP(B161&C161,'[1]점검현황(전월)'!$D$7:$AH$233,2,0)","v":"계단식 "}]
[null,"종합관",105,{"$f":"VLOOKUP(B162&C162,'[1]점검현황(전월)'!$D$7:$AH$233,7,0)","v":"DM-C210"},{"$f":"VLOOKUP(B162&C162,'[1]점검현황(전월)'!$D$7:$AH$233,8,0)","v":"E5700"},{"$f":"VLOOKUP(B162&C162,'[1]점검현황(전월)'!$D$7:$AH$233,9,0)","v":"DDR2 2G"},{"$f":"VLOOKUP(B162&C162,'[1]점검현황(전월)'!$D$7:$AH$233,10,0)","v":"SATA II 120G"},{"$f":"VLOOKUP(B162&C162,'[1]점검현황(전월)'!$D$7:$AH$233,14,0)","v":"INTER-M"},"window7",{"$f":"VLOOKUP(B162&C162,'[1]점검현황(전월)'!$D$7:$AH$233,2,0)","v":"계단식 "}]
[null,"종합관","202-2",{"$f":"VLOOKUP(B163&C163,'[1]점검현황(전월)'!$D$7:$AH$233,7,0)","v":"DB-Z200"},{"$f":"VLOOKUP(B163&C163,'[1]점검현황(전월)'!$D$7:$AH$233,8,0)","v":"i5-760"},{"$f":"VLOOKUP(B163&C163,'[1]점검현황(전월)'!$D$7:$AH$233,9,0)","v":"DDR3 4G"},{"$f":"VLOOKUP(B163&C163,'[1]점검현황(전월)'!$D$7:$AH$233,10,0)","v":"SATA II 500G"},{"$f":"VLOOKUP(B163&C163,'[1]점검현황(전월)'!$D$7:$AH$233,14,0)","v":"JBL"},"window7",{"$f":"VLOOKUP(B163&C163,'[1]점검현황(전월)'!$D$7:$AH$233,2,0)","v":"법전원"}]
[null,"종합관",301,{"$f":"VLOOKUP(B164&C164,'[1]점검현황(전월)'!$D$7:$AH$233,7,0)","v":"DB-Z200"},{"$f":"VLOOKUP(B164&C164,'[1]점검현황(전월)'!$D$7:$AH$233,8,0)","v":"i5-4590"},{"$f":"VLOOKUP(B164&C164,'[1]점검현황(전월)'!$D$7:$AH$233,9,0)","v":"DDR3 4G"},{"$f":"VLOOKUP(B164&C164,'[1]점검현황(전월)'!$D$7:$AH$233,10,0)","v":"SATA II 500G"},{"$f":"VLOOKUP(B164&C164,'[1]점검현황(전월)'!$D$7:$AH$233,14,0)","v":"INTER-M"},"window7",{"$f":"VLOOKUP(B164&C164,'[1]점검현황(전월)'!$D$7:$AH$233,2,0)","v":"법전원"}]
[null,"종합관",315,{"$f":"VLOOKUP(B165&C165,'[1]점검현황(전월)'!$D$7:$AH$233,7,0)","v":"G120"},{"$f":"VLOOKUP(B165&C165,'[1]점검현황(전월)'!$D$7:$AH$233,8,0)","v":"i5-650"},{"$f":"VLOOKUP(B165&C165,'[1]점검현황(전월)'!$D$7:$AH$233,9,0)","v":"DDR2 3G"},{"$f":"VLOOKUP(B165&C165,'[1]점검현황(전월)'!$D$7:$AH$233,10,0)","v":"SATA II 300G"},{"$f":"VLOOKUP(B165&C165,'[1]점검현황(전월)'!$D$7:$AH$233,14,0)","v":"JBL"},"window7",{"$f":"VLOOKUP(B165&C165,'[1]점검현황(전월)'!$D$7:$AH$233,2,0)","v":"법전원"}]
[null,"종합관",401,{"$f":"VLOOKUP(B166&C166,'[1]점검현황(전월)'!$D$7:$AH$233,7,0)","v":"DB-Z200"},{"$f":"VLOOKUP(B166&C166,'[1]점검현황(전월)'!$D$7:$AH$233,8,0)","v":"i5-650"},{"$f":"VLOOKUP(B166&C166,'[1]점검현황(전월)'!$D$7:$AH$233,9,0)","v":"DDR3 3G"},{"$f":"VLOOKUP(B166&C166,'[1]점검현황(전월)'!$D$7:$AH$233,10,0)","v":"SATA II 300G"},{"$f":"VLOOKUP(B166&C166,'[1]점검현황(전월)'!$D$7:$AH$233,14,0)","v":"INTER-M"},"window7",{"$f":"VLOOKUP(B166&C166,'[1]점검현황(전월)'!$D$7:$AH$233,2,0)","v":"법전원"}]
[null,"종합관",412,{"$f":"VLOOKUP(B167&C167,'[1]점검현황(전월)'!$D$7:$AH$233,7,0)","v":"대우"},{"$f":"VLOOKUP(B167&C167,'[1]점검현황(전월)'!$D$7:$AH$233,8,0)","v":"Q6600"},{"$f":"VLOOKUP(B167&C167,'[1]점검현황(전월)'!$D$7:$AH$233,9,0)","v":"DDR2 1G"},{"$f":"VLOOKUP(B167&C167,'[1]점검현황(전월)'!$D$7:$AH$233,10,0)","v":"SATAII 250G"},{"$f":"VLOOKUP(B167&C167,'[1]점검현황(전월)'!$D$7:$AH$233,14,0)","v":"JBL"},"window7",{"$f":"VLOOKUP(B167&C167,'[1]점검현황(전월)'!$D$7:$AH$233,2,0)","v":"법전원"}]
[null,"종합관",413,{"$f":"VLOOKUP(B168&C168,'[1]점검현황(전월)'!$D$7:$AH$233,7,0)","v":"DB-Z200"},{"$f":"VLOOKUP(B168&C168,'[1]점검현황(전월)'!$D$7:$AH$233,8,0)","v":"i5-760"},{"$f":"VLOOKUP(B168&C168,'[1]점검현황(전월)'!$D$7:$AH$233,9,0)","v":"DDR3 4G"},{"$f":"VLOOKUP(B168&C168,'[1]점검현황(전월)'!$D$7:$AH$233,10,0)","v":"SATA II 500G"},{"$f":"VLOOKUP(B168&C168,'[1]점검현황(전월)'!$D$7:$AH$233,14,0)","v":"INTER-M"},"window7",{"$f":"VLOOKUP(B168&C168,'[1]점검현황(전월)'!$D$7:$AH$233,2,0)","v":"법전원"}]
[null,"종합관",501,{"$f":"VLOOKUP(B169&C169,'[1]점검현황(전월)'!$D$7:$AH$233,7,0)","v":"DB-Z200"},{"$f":"VLOOKUP(B169&C169,'[1]점검현황(전월)'!$D$7:$AH$233,8,0)","v":"i5-650"},{"$f":"VLOOKUP(B169&C169,'[1]점검현황(전월)'!$D$7:$AH$233,9,0)","v":"DDR3 3G"},{"$f":"VLOOKUP(B169&C169,'[1]점검현황(전월)'!$D$7:$AH$233,10,0)","v":"SATA II 300G"},{"$f":"VLOOKUP(B169&C169,'[1]점검현황(전월)'!$D$7:$AH$233,14,0)","v":"INTER-M"},"window7",{"$f":"VLOOKUP(B169&C169,'[1]점검현황(전월)'!$D$7:$AH$233,2,0)","v":"법전원"}]
[null,"종합관",502,{"$f":"VLOOKUP(B170&C170,'[1]점검현황(전월)'!$D$7:$AH$233,7,0)","v":"DB-Z200"},{"$f":"VLOOKUP(B170&C170,'[1]점검현황(전월)'!$D$7:$AH$233,8,0)","v":"i3-550"},{"$f":"VLOOKUP(B170&C170,'[1]점검현황(전월)'!$D$7:$AH$233,9,0)","v":"DDR3 2G"},{"$f":"VLOOKUP(B170&C170,'[1]점검현황(전월)'!$D$7:$AH$233,10,0)","v":"SATA II 300G"},{"$f":"VLOOKUP(B170&C170,'[1]점검현황(전월)'!$D$7:$AH$233,14,0)","v":"INTER-M"},"window7",{"$f":"VLOOKUP(B170&C170,'[1]점검현황(전월)'!$D$7:$AH$233,2,0)","v":"자동녹화"}]
[null,"종합관",503,{"$f":"VLOOKUP(B171&C171,'[1]점검현황(전월)'!$D$7:$AH$233,7,0)","v":"DB-Z200"},{"$f":"VLOOKUP(B171&C171,'[1]점검현황(전월)'!$D$7:$AH$233,8,0)","v":"i5-650"},{"$f":"VLOOKUP(B171&C171,'[1]점검현황(전월)'!$D$7:$AH$233,9,0)","v":"DDR3 3G"},{"$f":"VLOOKUP(B171&C171,'[1]점검현황(전월)'!$D$7:$AH$233,10,0)","v":"SATA II 300G"},{"$f":"VLOOKUP(B171&C171,'[1]점검현황(전월)'!$D$7:$AH$233,14,0)","v":"INTER-M"},"window7",{"$f":"VLOOKUP(B171&C171,'[1]점검현황(전월)'!$D$7:$AH$233,2,0)","v":"자동녹화"}]
[null,"종합관",504,{"$f":"VLOOKUP(B172&C172,'[1]점검현황(전월)'!$D$7:$AH$233,7,0)","v":"DB-Z200"},{"$f":"VLOOKUP(B172&C172,'[1]점검현황(전월)'!$D$7:$AH$233,8,0)","v":"i5-650"},{"$f":"VLOOKUP(B172&C172,'[1]점검현황(전월)'!$D$7:$AH$233,9,0)","v":"DDR3 3G"},{"$f":"VLOOKUP(B172&C172,'[1]점검현황(전월)'!$D$7:$AH$233,10,0)","v":"SATA II 300G"},{"$f":"VLOOKUP(B172&C172,'[1]점검현황(전월)'!$D$7:$AH$233,14,0)","v":"INTER-M"},"window7",{"$f":"VLOOKUP(B172&C172,'[1]점검현황(전월)'!$D$7:$AH$233,2,0)","v":"법전원"}]
[null,"종합관",506,{"$f":"VLOOKUP(B173&C173,'[1]점검현황(전월)'!$D$7:$AH$233,7,0)","v":"DB-Z200"},{"$f":"VLOOKUP(B173&C173,'[1]점검현황(전월)'!$D$7:$AH$233,8,0)","v":"i5-650"},{"$f":"VLOOKUP(B173&C173,'[1]점검현황(전월)'!$D$7:$AH$233,9,0)","v":"DDR3 3G"},{"$f":"VLOOKUP(B173&C173,'[1]점검현황(전월)'!$D$7:$AH$233,10,0)","v":"SATA II 300G"},{"$f":"VLOOKUP(B173&C173,'[1]점검현황(전월)'!$D$7:$AH$233,14,0)","v":"INTER-M"},"window7",{"$f":"VLOOKUP(B173&C173,'[1]점검현황(전월)'!$D$7:$AH$233,2,0)","v":"법전원"}]
[null,"종합관",507,{"$f":"VLOOKUP(B174&C174,'[1]점검현황(전월)'!$D$7:$AH$233,7,0)","v":"DB-Z200"},{"$f":"VLOOKUP(B174&C174,'[1]점검현황(전월)'!$D$7:$AH$233,8,0)","v":"i5-650"},{"$f":"VLOOKUP(B174&C174,'[1]점검현황(전월)'!$D$7:$AH$233,9,0)","v":"DDR3 3G"},{"$f":"VLOOKUP(B174&C174,'[1]점검현황(전월)'!$D$7:$AH$233,10,0)","v":"SATA II 300G"},{"$f":"VLOOKUP(B174&C174,'[1]점검현황(전월)'!$D$7:$AH$233,14,0)","v":"INTER-M"},"window7",{"$f":"VLOOKUP(B174&C174,'[1]점검현황(전월)'!$D$7:$AH$233,2,0)","v":"자동녹화"}]
[null,"종합관",508,{"$f":"VLOOKUP(B175&C175,'[1]점검현황(전월)'!$D$7:$AH$233,7,0)","v":"DB-Z200"},{"$f":"VLOOKUP(B175&C175,'[1]점검현황(전월)'!$D$7:$AH$233,8,0)","v":"i5-650"},{"$f":"VLOOKUP(B175&C175,'[1]점검현황(전월)'!$D$7:$AH$233,9,0)","v":"DDR3 3G"},{"$f":"VLOOKUP(B175&C175,'[1]점검현황(전월)'!$D$7:$AH$233,10,0)","v":"SATA II 300G"},{"$f":"VLOOKUP(B175&C175,'[1]점검현황(전월)'!$D$7:$AH$233,14,0)","v":"INTER-M"},"window7",{"$f":"VLOOKUP(B175&C175,'[1]점검현황(전월)'!$D$7:$AH$233,2,0)","v":"자동녹화"}]
[null,"종합관",509,{"$f":"VLOOKUP(B176&C176,'[1]점검현황(전월)'!$D$7:$AH$233,7,0)","v":"DB-Z200"},{"$f":"VLOOKUP(B176&C176,'[1]점검현황(전월)'!$D$7:$AH$233,8,0)","v":"i5-650"},{"$f":"VLOOKUP(B176&C176,'[1]점검현황(전월)'!$D$7:$AH$233,9,0)","v":"DDR3 3G"},{"$f":"VLOOKUP(B176&C176,'[1]점검현황(전월)'!$D$7:$AH$233,10,0)","v":"SATA II 300G"},{"$f":"VLOOKUP(B176&C176,'[1]점검현황(전월)'!$D$7:$AH$233,14,0)","v":"INTER-M"},"window7",{"$f":"VLOOKUP(B176&C176,'[1]점검현황(전월)'!$D$7:$AH$233,2,0)","v":"법전원"}]
[null,"종합관",510,{"$f":"VLOOKUP(B177&C177,'[1]점검현황(전월)'!$D$7:$AH$233,7,0)","v":"DB-Z200"},{"$f":"VLOOKUP(B177&C177,'[1]점검현황(전월)'!$D$7:$AH$233,8,0)","v":"i5-650"},{"$f":"VLOOKUP(B177&C177,'[1]점검현황(전월)'!$D$7:$AH$233,9,0)","v":"DDR3 3G"},{"$f":"VLOOKUP(B177&C177,'[1]점검현황(전월)'!$D$7:$AH$233,10,0)","v":"SATA II 300G"},{"$f":"VLOOKUP(B177&C177,'[1]점검현황(전월)'!$D$7:$AH$233,14,0)","v":"INTER-M"},"window7",{"$f":"VLOOKUP(B177&C177,'[1]점검현황(전월)'!$D$7:$AH$233,2,0)","v":"법전원 세미나실"}]
[null,"종합관",601,{"$f":"VLOOKUP(B178&C178,'[1]점검현황(전월)'!$D$7:$AH$233,7,0)","v":"CT-7610"},{"$f":"VLOOKUP(B178&C178,'[1]점검현황(전월)'!$D$7:$AH$233,8,0)","v":"duo E7500"},{"$f":"VLOOKUP(B178&C178,'[1]점검현황(전월)'!$D$7:$AH$233,9,0)","v":"DDR2 1G"},{"$f":"VLOOKUP(B178&C178,'[1]점검현황(전월)'!$D$7:$AH$233,10,0)","v":"SATA II 250G"},{"$f":"VLOOKUP(B178&C178,'[1]점검현황(전월)'!$D$7:$AH$233,14,0)","v":"JBL"},"windowXP",{"$f":"VLOOKUP(B178&C178,'[1]점검현황(전월)'!$D$7:$AH$233,2,0)","v":"법전원"}]
[null,"종합관",612,{"$f":"VLOOKUP(B179&C179,'[1]점검현황(전월)'!$D$7:$AH$233,7,0)","v":"DB-Z200"},{"$f":"VLOOKUP(B179&C179,'[1]점검현황(전월)'!$D$7:$AH$233,8,0)","v":"i5-650"},{"$f":"VLOOKUP(B179&C179,'[1]점검현황(전월)'!$D$7:$AH$233,9,0)","v":"DDR3 3G"},{"$f":"VLOOKUP(B179&C179,'[1]점검현황(전월)'!$D$7:$AH$233,10,0)","v":"SATA II 300G"},{"$f":"VLOOKUP(B179&C179,'[1]점검현황(전월)'!$D$7:$AH$233,14,0)","v":"INTER-M"},"window7",{"$f":"VLOOKUP(B179&C179,'[1]점검현황(전월)'!$D$7:$AH$233,2,0)","v":"멀티미디어 "}]
[null,"종합관",613,{"$f":"VLOOKUP(B180&C180,'[1]점검현황(전월)'!$D$7:$AH$233,7,0)","v":"DB-Z200"},{"$f":"VLOOKUP(B180&C180,'[1]점검현황(전월)'!$D$7:$AH$233,8,0)","v":"i5-760"},{"$f":"VLOOKUP(B180&C180,'[1]점검현황(전월)'!$D$7:$AH$233,9,0)","v":"DDR3 4G"},{"$f":"VLOOKUP(B180&C180,'[1]점검현황(전월)'!$D$7:$AH$233,10,0)","v":"SATA II 500G"},{"$f":"VLOOKUP(B180&C180,'[1]점검현황(전월)'!$D$7:$AH$233,14,0)","v":"INTER-M"},"window7",{"$f":"VLOOKUP(B180&C180,'[1]점검현황(전월)'!$D$7:$AH$233,2,0)","v":"멀티미디어 "}]
[null,"종합관",704,{"$f":"VLOOKUP(B181&C181,'[1]점검현황(전월)'!$D$7:$AH$233,7,0)","v":"EMPU"},{"$f":"VLOOKUP(B181&C181,'[1]점검현황(전월)'!$D$7:$AH$233,8,0)","v":"E7500"},{"$f":"VLOOKUP(B181&C181,'[1]점검현황(전월)'!$D$7:$AH$233,9,0)","v":"DDR3 2G"},{"$f":"VLOOKUP(B181&C181,'[1]점검현황(전월)'!$D$7:$AH$233,10,0)","v":"SATA II 300G"},{"$f":"VLOOKUP(B181&C181,'[1]점검현황(전월)'!$D$7:$AH$233,14,0)","v":"JBL"},"window7",{"$f":"VLOOKUP(B181&C181,'[1]점검현황(전월)'!$D$7:$AH$233,2,0)","v":"교육대학원"}]
[null,"종합관",705,{"$f":"VLOOKUP(B182&C182,'[1]점검현황(전월)'!$D$7:$AH$233,7,0)","v":"DB-Z200"},{"$f":"VLOOKUP(B182&C182,'[1]점검현황(전월)'!$D$7:$AH$233,8,0)","v":"i3-550"},{"$f":"VLOOKUP(B182&C182,'[1]점검현황(전월)'!$D$7:$AH$233,9,0)","v":"DDR3 2G"},{"$f":"VLOOKUP(B182&C182,'[1]점검현황(전월)'!$D$7:$AH$233,10,0)","v":"SATA II 300G"},{"$f":"VLOOKUP(B182&C182,'[1]점검현황(전월)'!$D$7:$AH$233,14,0)","v":"INTER-M"},"window7",{"$f":"VLOOKUP(B182&C182,'[1]점검현황(전월)'!$D$7:$AH$233,2,0)","v":"교육대학원수업행동"}]
[null,"종합관",706,{"$f":"VLOOKUP(B183&C183,'[1]점검현황(전월)'!$D$7:$AH$233,7,0)","v":"DB-Z200"},{"$f":"VLOOKUP(B183&C183,'[1]점검현황(전월)'!$D$7:$AH$233,8,0)","v":"i3-550"},{"$f":"VLOOKUP(B183&C183,'[1]점검현황(전월)'!$D$7:$AH$233,9,0)","v":"DDR3 2G"},{"$f":"VLOOKUP(B183&C183,'[1]점검현황(전월)'!$D$7:$AH$233,10,0)","v":"SATA II 300G"},{"$f":"VLOOKUP(B183&C183,'[1]점검현황(전월)'!$D$7:$AH$233,14,0)","v":"INTER-M"},"window7",{"$f":"VLOOKUP(B183&C183,'[1]점검현황(전월)'!$D$7:$AH$233,2,0)","v":"교육대자동녹화"}]
[null,"종합관",707,{"$f":"VLOOKUP(B184&C184,'[1]점검현황(전월)'!$D$7:$AH$233,7,0)","v":"QL320UH"},{"$f":"VLOOKUP(B184&C184,'[1]점검현황(전월)'!$D$7:$AH$233,8,0)","v":"Q8200"},{"$f":"VLOOKUP(B184&C184,'[1]점검현황(전월)'!$D$7:$AH$233,9,0)","v":"DDR2 2G"},{"$f":"VLOOKUP(B184&C184,'[1]점검현황(전월)'!$D$7:$AH$233,10,0)","v":"SATA II 500G"},{"$f":"VLOOKUP(B184&C184,'[1]점검현황(전월)'!$D$7:$AH$233,14,0)","v":"INTER-M"},"window7",{"$f":"VLOOKUP(B184&C184,'[1]점검현황(전월)'!$D$7:$AH$233,2,0)","v":"교육대학원  PC실"}]
[null,"종합관",712,{"$f":"VLOOKUP(B185&C185,'[1]점검현황(전월)'!$D$7:$AH$233,7,0)","v":"DB-Z200"},{"$f":"VLOOKUP(B185&C185,'[1]점검현황(전월)'!$D$7:$AH$233,8,0)","v":"i3-550"},{"$f":"VLOOKUP(B185&C185,'[1]점검현황(전월)'!$D$7:$AH$233,9,0)","v":"DDR3 2G"},{"$f":"VLOOKUP(B185&C185,'[1]점검현황(전월)'!$D$7:$AH$233,10,0)","v":"SATA II 300G"},{"$f":"VLOOKUP(B185&C185,'[1]점검현황(전월)'!$D$7:$AH$233,14,0)","v":"INTER-M"},"window7",{"$f":"VLOOKUP(B185&C185,'[1]점검현황(전월)'!$D$7:$AH$233,2,0)","v":"교육대자동녹화"}]
[null,"종합관",713,{"$f":"VLOOKUP(B186&C186,'[1]점검현황(전월)'!$D$7:$AH$233,7,0)","v":"DB-Z200"},{"$f":"VLOOKUP(B186&C186,'[1]점검현황(전월)'!$D$7:$AH$233,8,0)","v":"i3-550"},{"$f":"VLOOKUP(B186&C186,'[1]점검현황(전월)'!$D$7:$AH$233,9,0)","v":"DDR3 2G"},{"$f":"VLOOKUP(B186&C186,'[1]점검현황(전월)'!$D$7:$AH$233,10,0)","v":"SATA II 300G"},{"$f":"VLOOKUP(B186&C186,'[1]점검현황(전월)'!$D$7:$AH$233,14,0)","v":"INTER-M"},"window7",{"$f":"VLOOKUP(B186&C186,'[1]점검현황(전월)'!$D$7:$AH$233,2,0)","v":"교육대자동녹화"}]
[null,"종합관",802,{"$f":"VLOOKUP(B187&C187,'[1]점검현황(전월)'!$D$7:$AH$233,7,0)","v":"DB-Z200"},{"$f":"VLOOKUP(B187&C187,'[1]점검현황(전월)'!$D$7:$AH$233,8,0)","v":"i3-550"},{"$f":"VLOOKUP(B187&C187,'[1]점검현황(전월)'!$D$7:$AH$233,9,0)","v":"DDR3 3G"},{"$f":"VLOOKUP(B187&C187,'[1]점검현황(전월)'!$D$7:$AH$233,10,0)","v":"SATA II 300G"},{"$f":"VLOOKUP(B187&C187,'[1]점검현황(전월)'!$D$7:$AH$233,14,0)","v":"X"},"window7",{"$f":"VLOOKUP(B187&C187,'[1]점검현황(전월)'!$D$7:$AH$233,2,0)","v":"교육대학원 "}]
[null,"종합관",803,{"$f":"VLOOKUP(B188&C188,'[1]점검현황(전월)'!$D$7:$AH$233,7,0)","v":"DB-Z400"},{"$f":"VLOOKUP(B188&C188,'[1]점검현황(전월)'!$D$7:$AH$233,8,0)","v":"i3-2100"},{"$f":"VLOOKUP(B188&C188,'[1]점검현황(전월)'!$D$7:$AH$233,9,0)","v":"DDR3 2G"},{"$f":"VLOOKUP(B188&C188,'[1]점검현황(전월)'!$D$7:$AH$233,10,0)","v":"SATA II 300G"},{"$f":"VLOOKUP(B188&C188,'[1]점검현황(전월)'!$D$7:$AH$233,14,0)","v":"X"},"window7",{"$f":"VLOOKUP(B188&C188,'[1]점검현황(전월)'!$D$7:$AH$233,2,0)","v":"교육대학원 "}]
[null,"종합관",804,{"$f":"VLOOKUP(B189&C189,'[1]점검현황(전월)'!$D$7:$AH$233,7,0)","v":"DB-Z200"},{"$f":"VLOOKUP(B189&C189,'[1]점검현황(전월)'!$D$7:$AH$233,8,0)","v":"i5-2300"},{"$f":"VLOOKUP(B189&C189,'[1]점검현황(전월)'!$D$7:$AH$233,9,0)","v":"DDR3 3G"},{"$f":"VLOOKUP(B189&C189,'[1]점검현황(전월)'!$D$7:$AH$233,10,0)","v":"SATA II 300G"},{"$f":"VLOOKUP(B189&C189,'[1]점검현황(전월)'!$D$7:$AH$233,14,0)","v":"INTER-M"},"window7",{"$f":"VLOOKUP(B189&C189,'[1]점검현황(전월)'!$D$7:$AH$233,2,0)","v":"교육대학원 "}]
[null,"종합관",805,{"$f":"VLOOKUP(B190&C190,'[1]점검현황(전월)'!$D$7:$AH$233,7,0)","v":"DB-Z200"},{"$f":"VLOOKUP(B190&C190,'[1]점검현황(전월)'!$D$7:$AH$233,8,0)","v":"i3-550"},{"$f":"VLOOKUP(B190&C190,'[1]점검현황(전월)'!$D$7:$AH$233,9,0)","v":"DDR3 2G"},{"$f":"VLOOKUP(B190&C190,'[1]점검현황(전월)'!$D$7:$AH$233,10,0)","v":"SATA II 300G"},{"$f":"VLOOKUP(B190&C190,'[1]점검현황(전월)'!$D$7:$AH$233,14,0)","v":"INTER-M"},"window7",{"$f":"VLOOKUP(B190&C190,'[1]점검현황(전월)'!$D$7:$AH$233,2,0)","v":"교육대학원 "}]
[null,"종합관",806,{"$f":"VLOOKUP(B191&C191,'[1]점검현황(전월)'!$D$7:$AH$233,7,0)","v":"QL320MH"},{"$f":"VLOOKUP(B191&C191,'[1]점검현황(전월)'!$D$7:$AH$233,8,0)","v":"Q8200"},{"$f":"VLOOKUP(B191&C191,'[1]점검현황(전월)'!$D$7:$AH$233,9,0)","v":"DDR2 2G"},{"$f":"VLOOKUP(B191&C191,'[1]점검현황(전월)'!$D$7:$AH$233,10,0)","v":"SATA II 500G"},{"$f":"VLOOKUP(B191&C191,'[1]점검현황(전월)'!$D$7:$AH$233,14,0)","v":"INTER-M"},"window7",{"$f":"VLOOKUP(B191&C191,'[1]점검현황(전월)'!$D$7:$AH$233,2,0)","v":"교육대학원 "}]
[null,"종합관",808,{"$f":"VLOOKUP(B192&C192,'[1]점검현황(전월)'!$D$7:$AH$233,7,0)","v":"DB-Z200"},{"$f":"VLOOKUP(B192&C192,'[1]점검현황(전월)'!$D$7:$AH$233,8,0)","v":"i5-650"},{"$f":"VLOOKUP(B192&C192,'[1]점검현황(전월)'!$D$7:$AH$233,9,0)","v":"DDR3 3G"},{"$f":"VLOOKUP(B192&C192,'[1]점검현황(전월)'!$D$7:$AH$233,10,0)","v":"SATA II 300G"},{"$f":"VLOOKUP(B192&C192,'[1]점검현황(전월)'!$D$7:$AH$233,14,0)","v":"X"},"window7",{"$f":"VLOOKUP(B192&C192,'[1]점검현황(전월)'!$D$7:$AH$233,2,0)","v":"교육대학원 "}]
[null,"종합관",809,{"$f":"VLOOKUP(B193&C193,'[1]점검현황(전월)'!$D$7:$AH$233,7,0)","v":"DB-Z200"},{"$f":"VLOOKUP(B193&C193,'[1]점검현황(전월)'!$D$7:$AH$233,8,0)","v":"i3-550"},{"$f":"VLOOKUP(B193&C193,'[1]점검현황(전월)'!$D$7:$AH$233,9,0)","v":"DDR3 2G"},{"$f":"VLOOKUP(B193&C193,'[1]점검현황(전월)'!$D$7:$AH$233,10,0)","v":"SATA II 300G"},{"$f":"VLOOKUP(B193&C193,'[1]점검현황(전월)'!$D$7:$AH$233,14,0)","v":"X"},"window7",{"$f":"VLOOKUP(B193&C193,'[1]점검현황(전월)'!$D$7:$AH$233,2,0)","v":"교육대학원 "}]
[null,"종합관",810,{"$f":"VLOOKUP(B194&C194,'[1]점검현황(전월)'!$D$7:$AH$233,7,0)","v":"DB-Z200"},{"$f":"VLOOKUP(B194&C194,'[1]점검현황(전월)'!$D$7:$AH$233,8,0)","v":"i3-550"},{"$f":"VLOOKUP(B194&C194,'[1]점검현황(전월)'!$D$7:$AH$233,9,0)","v":"DDR3 2G"},{"$f":"VLOOKUP(B194&C194,'[1]점검현황(전월)'!$D$7:$AH$233,10,0)","v":"SATA II 300G"},{"$f":"VLOOKUP(B194&C194,'[1]점검현황(전월)'!$D$7:$AH$233,14,0)","v":"INTER-M"},"window7",{"$f":"VLOOKUP(B194&C194,'[1]점검현황(전월)'!$D$7:$AH$233,2,0)","v":"교육대자동녹화"}]
[null,"종합관",811,{"$f":"VLOOKUP(B195&C195,'[1]점검현황(전월)'!$D$7:$AH$233,7,0)","v":"DB-Z200"},{"$f":"VLOOKUP(B195&C195,'[1]점검현황(전월)'!$D$7:$AH$233,8,0)","v":"i5-650"},{"$f":"VLOOKUP(B195&C195,'[1]점검현황(전월)'!$D$7:$AH$233,9,0)","v":"DDR3 3G"},{"$f":"VLOOKUP(B195&C195,'[1]점검현황(전월)'!$D$7:$AH$233,10,0)","v":"SATA II 300G"},{"$f":"VLOOKUP(B195&C195,'[1]점검현황(전월)'!$D$7:$AH$233,14,0)","v":"INTER-M"},"window7",{"$f":"VLOOKUP(B195&C195,'[1]점검현황(전월)'!$D$7:$AH$233,2,0)","v":"교육대자동녹화"}]
[null,"종합관",812,{"$f":"VLOOKUP(B196&C196,'[1]점검현황(전월)'!$D$7:$AH$233,7,0)","v":"DB-Z400"},{"$f":"VLOOKUP(B196&C196,'[1]점검현황(전월)'!$D$7:$AH$233,8,0)","v":"i3-2100"},{"$f":"VLOOKUP(B196&C196,'[1]점검현황(전월)'!$D$7:$AH$233,9,0)","v":"DDR3 2G"},{"$f":"VLOOKUP(B196&C196,'[1]점검현황(전월)'!$D$7:$AH$233,10,0)","v":"SATA II 1TG"},{"$f":"VLOOKUP(B196&C196,'[1]점검현황(전월)'!$D$7:$AH$233,14,0)","v":"INTER-M"},"window7",{"$f":"VLOOKUP(B196&C196,'[1]점검현황(전월)'!$D$7:$AH$233,2,0)","v":"교육대자동녹화"}]
[null,"종합관",1002,{"$f":"VLOOKUP(B197&C197,'[1]점검현황(전월)'!$D$7:$AH$233,7,0)","v":"DB-Z200"},{"$f":"VLOOKUP(B197&C197,'[1]점검현황(전월)'!$D$7:$AH$233,8,0)","v":"i3-550"},{"$f":"VLOOKUP(B197&C197,'[1]점검현황(전월)'!$D$7:$AH$233,9,0)","v":"DDR3 2G"},{"$f":"VLOOKUP(B197&C197,'[1]점검현황(전월)'!$D$7:$AH$233,10,0)","v":"SATA II 300G"},{"$f":"VLOOKUP(B197&C197,'[1]점검현황(전월)'!$D$7:$AH$233,14,0)","v":"INTER-M"},"window7",{"$f":"VLOOKUP(B197&C197,'[1]점검현황(전월)'!$D$7:$AH$233,2,0)","v":"공공정책대학원"}]
[null,"종합관",1003,{"$f":"VLOOKUP(B198&C198,'[1]점검현황(전월)'!$D$7:$AH$233,7,0)","v":"DB-Z200"},{"$f":"VLOOKUP(B198&C198,'[1]점검현황(전월)'!$D$7:$AH$233,8,0)","v":"i3-550"},{"$f":"VLOOKUP(B198&C198,'[1]점검현황(전월)'!$D$7:$AH$233,9,0)","v":"DDR3 2G"},{"$f":"VLOOKUP(B198&C198,'[1]점검현황(전월)'!$D$7:$AH$233,10,0)","v":"SATA II 300G"},{"$f":"VLOOKUP(B198&C198,'[1]점검현황(전월)'!$D$7:$AH$233,14,0)","v":"INTER-M"},"window7",{"$f":"VLOOKUP(B198&C198,'[1]점검현황(전월)'!$D$7:$AH$233,2,0)","v":"공공정책대학원"}]
[null,"종합관",1004,{"$f":"VLOOKUP(B199&C199,'[1]점검현황(전월)'!$D$7:$AH$233,7,0)","v":"DB-Z200"},{"$f":"VLOOKUP(B199&C199,'[1]점검현황(전월)'!$D$7:$AH$233,8,0)","v":"i3-550"},{"$f":"VLOOKUP(B199&C199,'[1]점검현황(전월)'!$D$7:$AH$233,9,0)","v":"DDR3 2G"},{"$f":"VLOOKUP(B199&C199,'[1]점검현황(전월)'!$D$7:$AH$233,10,0)","v":"SATA II 300G"},{"$f":"VLOOKUP(B199&C199,'[1]점검현황(전월)'!$D$7:$AH$233,14,0)","v":"INTER-M"},"window7",{"$f":"VLOOKUP(B199&C199,'[1]점검현황(전월)'!$D$7:$AH$233,2,0)","v":"공공정책대학원"}]
[null,"종합관",1005,{"$f":"VLOOKUP(B200&C200,'[1]점검현황(전월)'!$D$7:$AH$233,7,0)","v":"DB-Z200"},{"$f":"VLOOKUP(B200&C200,'[1]점검현황(전월)'!$D$7:$AH$233,8,0)","v":"i3-550"},{"$f":"VLOOKUP(B200&C200,'[1]점검현황(전월)'!$D$7:$AH$233,9,0)","v":"DDR3 2G"},{"$f":"VLOOKUP(B200&C200,'[1]점검현황(전월)'!$D$7:$AH$233,10,0)","v":"SATA II 300G"},{"$f":"VLOOKUP(B200&C200,'[1]점검현황(전월)'!$D$7:$AH$233,14,0)","v":"INTER-M"},"window7",{"$f":"VLOOKUP(B200&C200,'[1]점검현황(전월)'!$D$7:$AH$233,2,0)","v":"공공정책대학원"}]
[null,"종합관",1007,{"$f":"VLOOKUP(B201&C201,'[1]점검현황(전월)'!$D$7:$AH$233,7,0)","v":"DB-Z200"},{"$f":"VLOOKUP(B201&C201,'[1]점검현황(전월)'!$D$7:$AH$233,8,0)","v":"i3-550"},{"$f":"VLOOKUP(B201&C201,'[1]점검현황(전월)'!$D$7:$AH$233,9,0)","v":"DDR3 2G"},{"$f":"VLOOKUP(B201&C201,'[1]점검현황(전월)'!$D$7:$AH$233,10,0)","v":"SATA II 300G"},{"$f":"VLOOKUP(B201&C201,'[1]점검현황(전월)'!$D$7:$AH$233,14,0)","v":"Britz"},"window7",{"$f":"VLOOKUP(B201&C201,'[1]점검현황(전월)'!$D$7:$AH$233,2,0)","v":"공공정책대학원"}]
[null,"종합관",1008,{"$f":"VLOOKUP(B202&C202,'[1]점검현황(전월)'!$D$7:$AH$233,7,0)","v":"DB-Z200"},{"$f":"VLOOKUP(B202&C202,'[1]점검현황(전월)'!$D$7:$AH$233,8,0)","v":"i3-550"},{"$f":"VLOOKUP(B202&C202,'[1]점검현황(전월)'!$D$7:$AH$233,9,0)","v":"DDR3 2G"},{"$f":"VLOOKUP(B202&C202,'[1]점검현황(전월)'!$D$7:$AH$233,10,0)","v":"SATA II 300G"},{"$f":"VLOOKUP(B202&C202,'[1]점검현황(전월)'!$D$7:$AH$233,14,0)","v":"Britz"},"window7",{"$f":"VLOOKUP(B202&C202,'[1]점검현황(전월)'!$D$7:$AH$233,2,0)","v":"공공정책대학원"}]
[null,"종합관",1009,{"$f":"VLOOKUP(B203&C203,'[1]점검현황(전월)'!$D$7:$AH$233,7,0)","v":"DB-Z200"},{"$f":"VLOOKUP(B203&C203,'[1]점검현황(전월)'!$D$7:$AH$233,8,0)","v":"i3-550"},{"$f":"VLOOKUP(B203&C203,'[1]점검현황(전월)'!$D$7:$AH$233,9,0)","v":"DDR3 2G"},{"$f":"VLOOKUP(B203&C203,'[1]점검현황(전월)'!$D$7:$AH$233,10,0)","v":"SATA II 300G"},{"$f":"VLOOKUP(B203&C203,'[1]점검현황(전월)'!$D$7:$AH$233,14,0)","v":"Britz"},"window7",{"$f":"VLOOKUP(B203&C203,'[1]점검현황(전월)'!$D$7:$AH$233,2,0)","v":"공공정책대학원"}]
[null,null,1101,"PC없음",null,null,null,"SP-50",null,"LINC사업단"]
["약학관","약학관",105,"DB-Z400","i5-2500","DDR3 4G","SATA II 1TG","INTER-M","window7","약학대"]
[null,"약학관",106,"DB-Z400","i5-2500","DDR3 4G","SATA II 1TG","INTER-M","window7","약학대"]
[null,"약학관",317,"DB-Z400","i5-2500","DDR3 4G","SATA II 1TG","INTER-M","window7","약학대"]
["도서관","도서관",101,{"$f":"VLOOKUP(B208&C208,'[1]점검현황(전월)'!$D$7:$AH$233,7,0)","v":"QL320MH"},{"$f":"VLOOKUP(B208&C208,'[1]점검현황(전월)'!$D$7:$AH$233,8,0)","v":"E7500"},{"$f":"VLOOKUP(B208&C208,'[1]점검현황(전월)'!$D$7:$AH$233,9,0)","v":"DDR2 2G"},{"$f":"VLOOKUP(B208&C208,'[1]점검현황(전월)'!$D$7:$AH$233,10,0)","v":"SATA II 300G"},{"$f":"VLOOKUP(B208&C208,'[1]점검현황(전월)'!$D$7:$AH$233,14,0)","v":"BOSS"},"windowXP",{"$f":"VLOOKUP(B208&C208,'[1]점검현황(전월)'!$D$7:$AH$233,2,0)","v":"소강당"}]
["캠            퍼             스             플               라            자","캠퍼스플라자",302,{"$f":"VLOOKUP(B209&C209,'[1]점검현황(전월)'!$D$7:$AH$233,7,0)","v":"조립"},{"$f":"VLOOKUP(B209&C209,'[1]점검현황(전월)'!$D$7:$AH$233,8,0)","v":"i3-2100"},{"$f":"VLOOKUP(B209&C209,'[1]점검현황(전월)'!$D$7:$AH$233,9,0)","v":"DDR3 3G"},{"$f":"VLOOKUP(B209&C209,'[1]점검현황(전월)'!$D$7:$AH$233,10,0)","v":"SATA II 300G"},{"$f":"VLOOKUP(B209&C209,'[1]점검현황(전월)'!$D$7:$AH$233,14,0)","v":"X"},"windowXP",{"$f":"VLOOKUP(B209&C209,'[1]점검현황(전월)'!$D$7:$AH$233,2,0)","v":"평생교육원"}]
[null,"캠퍼스플라자",304,{"$f":"VLOOKUP(B210&C210,'[1]점검현황(전월)'!$D$7:$AH$233,7,0)","v":"삼성"},{"$f":"VLOOKUP(B210&C210,'[1]점검현황(전월)'!$D$7:$AH$233,8,0)","v":"Pentium 4 640 3.2G"},{"$f":"VLOOKUP(B210&C210,'[1]점검현황(전월)'!$D$7:$AH$233,9,0)","v":"DDR1 1G"},{"$f":"VLOOKUP(B210&C210,'[1]점검현황(전월)'!$D$7:$AH$233,10,0)","v":"SATA II 250G"},{"$f":"VLOOKUP(B210&C210,'[1]점검현황(전월)'!$D$7:$AH$233,14,0)","v":"X"},"windowXP",{"$f":"VLOOKUP(B210&C210,'[1]점검현황(전월)'!$D$7:$AH$233,2,0)","v":"평생교육원"}]
[null,"캠퍼스플라자",305,{"$f":"VLOOKUP(B211&C211,'[1]점검현황(전월)'!$D$7:$AH$233,7,0)","v":"QL310MH"},{"$f":"VLOOKUP(B211&C211,'[1]점검현황(전월)'!$D$7:$AH$233,8,0)","v":"E8400"},{"$f":"VLOOKUP(B211&C211,'[1]점검현황(전월)'!$D$7:$AH$233,9,0)","v":"DDR2 2G"},{"$f":"VLOOKUP(B211&C211,'[1]점검현황(전월)'!$D$7:$AH$233,10,0)","v":"SATA II 500G"},{"$f":"VLOOKUP(B211&C211,'[1]점검현황(전월)'!$D$7:$AH$233,14,0)","v":"X"},"window7",{"$f":"VLOOKUP(B211&C211,'[1]점검현황(전월)'!$D$7:$AH$233,2,0)","v":"평생교육원"}]
[null,"캠퍼스플라자",306,{"$f":"VLOOKUP(B212&C212,'[1]점검현황(전월)'!$D$7:$AH$233,7,0)","v":"EMPU"},{"$f":"VLOOKUP(B212&C212,'[1]점검현황(전월)'!$D$7:$AH$233,8,0)","v":"E7500"},{"$f":"VLOOKUP(B212&C212,'[1]점검현황(전월)'!$D$7:$AH$233,9,0)","v":"DDR2 2G"},{"$f":"VLOOKUP(B212&C212,'[1]점검현황(전월)'!$D$7:$AH$233,10,0)","v":"SATA II 300G"},{"$f":"VLOOKUP(B212&C212,'[1]점검현황(전월)'!$D$7:$AH$233,14,0)","v":"X"},"windowXP",{"$f":"VLOOKUP(B212&C212,'[1]점검현황(전월)'!$D$7:$AH$233,2,0)","v":"평생교육원"}]
[null,"캠퍼스플라자",307,{"$f":"VLOOKUP(B213&C213,'[1]점검현황(전월)'!$D$7:$AH$233,7,0)","v":"DB-P400"},{"$f":"VLOOKUP(B213&C213,'[1]점검현황(전월)'!$D$7:$AH$233,8,0)","v":"i5-2400"},{"$f":"VLOOKUP(B213&C213,'[1]점검현황(전월)'!$D$7:$AH$233,9,0)","v":"DDR3 4G"},{"$f":"VLOOKUP(B213&C213,'[1]점검현황(전월)'!$D$7:$AH$233,10,0)","v":"SATA II 500G"},{"$f":"VLOOKUP(B213&C213,'[1]점검현황(전월)'!$D$7:$AH$233,14,0)","v":"X"},"windowXP",{"$f":"VLOOKUP(B213&C213,'[1]점검현황(전월)'!$D$7:$AH$233,2,0)","v":"평생교육원"}]
[null,"캠퍼스플라자",308,{"$f":"VLOOKUP(B214&C214,'[1]점검현황(전월)'!$D$7:$AH$233,7,0)","v":"EMPU"},{"$f":"VLOOKUP(B214&C214,'[1]점검현황(전월)'!$D$7:$AH$233,8,0)","v":"E7500"},{"$f":"VLOOKUP(B214&C214,'[1]점검현황(전월)'!$D$7:$AH$233,9,0)","v":"DDR2 3G"},{"$f":"VLOOKUP(B214&C214,'[1]점검현황(전월)'!$D$7:$AH$233,10,0)","v":"SATA II 300G"},{"$f":"VLOOKUP(B214&C214,'[1]점검현황(전월)'!$D$7:$AH$233,14,0)","v":"X"},"window7",{"$f":"VLOOKUP(B214&C214,'[1]점검현황(전월)'!$D$7:$AH$233,2,0)","v":"평생교육원"}]
[null,"캠퍼스플라자",501,{"$f":"VLOOKUP(B215&C215,'[1]점검현황(전월)'!$D$7:$AH$233,7,0)","v":"DB-Z200"},{"$f":"VLOOKUP(B215&C215,'[1]점검현황(전월)'!$D$7:$AH$233,8,0)","v":"i3-550"},{"$f":"VLOOKUP(B215&C215,'[1]점검현황(전월)'!$D$7:$AH$233,9,0)","v":"DDR3 2G"},{"$f":"VLOOKUP(B215&C215,'[1]점검현황(전월)'!$D$7:$AH$233,10,0)","v":"SATA II 320G"},{"$f":"VLOOKUP(B215&C215,'[1]점검현황(전월)'!$D$7:$AH$233,14,0)","v":"X"},"window7",{"$f":"VLOOKUP(B215&C215,'[1]점검현황(전월)'!$D$7:$AH$233,2,0)","v":"아주심리센터"}]
["종합설계동","종합설계동",101,{"$f":"VLOOKUP(B216&C216,'[1]점검현황(전월)'!$D$7:$AH$233,7,0)","v":"EMPU"},{"$f":"VLOOKUP(B216&C216,'[1]점검현황(전월)'!$D$7:$AH$233,8,0)","v":"E7500"},{"$f":"VLOOKUP(B216&C216,'[1]점검현황(전월)'!$D$7:$AH$233,9,0)","v":"DDR3 2G"},{"$f":"VLOOKUP(B216&C216,'[1]점검현황(전월)'!$D$7:$AH$233,10,0)","v":"SATA II 300G"},{"$f":"VLOOKUP(B216&C216,'[1]점검현황(전월)'!$D$7:$AH$233,14,0)","v":"INTER-M"},"window7",{"$f":"VLOOKUP(B216&C216,'[1]점검현황(전월)'!$D$7:$AH$233,2,0)","v":"정 통 컴"}]
[null,"종합설계동",103,{"$f":"VLOOKUP(B217&C217,'[1]점검현황(전월)'!$D$7:$AH$233,7,0)","v":"EMPU"},{"$f":"VLOOKUP(B217&C217,'[1]점검현황(전월)'!$D$7:$AH$233,8,0)","v":"E7500"},{"$f":"VLOOKUP(B217&C217,'[1]점검현황(전월)'!$D$7:$AH$233,9,0)","v":"DDR2 2G"},{"$f":"VLOOKUP(B217&C217,'[1]점검현황(전월)'!$D$7:$AH$233,10,0)","v":"SATA II 300G"},{"$f":"VLOOKUP(B217&C217,'[1]점검현황(전월)'!$D$7:$AH$233,14,0)","v":"X"},"window7",{"$f":"VLOOKUP(B217&C217,'[1]점검현황(전월)'!$D$7:$AH$233,2,0)","v":"산업정보"}]
[null,"종합설계동",106,{"$f":"VLOOKUP(B218&C218,'[1]점검현황(전월)'!$D$7:$AH$233,7,0)","v":"삼성"},{"$f":"VLOOKUP(B218&C218,'[1]점검현황(전월)'!$D$7:$AH$233,8,0)","v":"I3-2120"},{"$f":"VLOOKUP(B218&C218,'[1]점검현황(전월)'!$D$7:$AH$233,9,0)","v":"DDR3 2G"},{"$f":"VLOOKUP(B218&C218,'[1]점검현황(전월)'!$D$7:$AH$233,10,0)","v":"SATA II 500G"},{"$f":"VLOOKUP(B218&C218,'[1]점검현황(전월)'!$D$7:$AH$233,14,0)","v":"X"},"window7",{"$f":"VLOOKUP(B218&C218,'[1]점검현황(전월)'!$D$7:$AH$233,2,0)","v":"환경공학"}]
[null,"종합설계동",108,{"$f":"VLOOKUP(B219&C219,'[1]점검현황(전월)'!$D$7:$AH$233,7,0)","v":"HP"},{"$f":"VLOOKUP(B219&C219,'[1]점검현황(전월)'!$D$7:$AH$233,8,0)","v":"Core 2 Quad Q9650"},{"$f":"VLOOKUP(B219&C219,'[1]점검현황(전월)'!$D$7:$AH$233,9,0)","v":"DDR2 4G"},{"$f":"VLOOKUP(B219&C219,'[1]점검현황(전월)'!$D$7:$AH$233,10,0)","v":"SATA II 500G"},{"$f":"VLOOKUP(B219&C219,'[1]점검현황(전월)'!$D$7:$AH$233,14,0)","v":"X"},"window7",{"$f":"VLOOKUP(B219&C219,'[1]점검현황(전월)'!$D$7:$AH$233,2,0)","v":"정 통 컴"}]
[null,"종합설계동",109,{"$f":"VLOOKUP(B220&C220,'[1]점검현황(전월)'!$D$7:$AH$233,7,0)","v":"DB-Z400"},{"$f":"VLOOKUP(B220&C220,'[1]점검현황(전월)'!$D$7:$AH$233,8,0)","v":"G840"},{"$f":"VLOOKUP(B220&C220,'[1]점검현황(전월)'!$D$7:$AH$233,9,0)","v":"DDR2 2G"},{"$f":"VLOOKUP(B220&C220,'[1]점검현황(전월)'!$D$7:$AH$233,10,0)","v":"STAT II 500G"},{"$f":"VLOOKUP(B220&C220,'[1]점검현황(전월)'!$D$7:$AH$233,14,0)","v":"X"},"window8",{"$f":"VLOOKUP(B220&C220,'[1]점검현황(전월)'!$D$7:$AH$233,2,0)","v":"전자공학 (PC실)"}]
[]
["   ▶강의실 기본 프로그램"]
["      공               통 : 한글2010, 오피스2010, 곰플레이어, 알툴즈(알약,알집), PowerDVD, 통합코덱"]
["      자동녹화강의실 : 자동녹화프로그램 ,오스프리"]