{"text_format":"2","workbook":"xlsx","n_sheets":1,"sheets":["점검계획"],"not_rendered":{"charts":0,"images":0,"macros":0,"external_links":3,"defined_names":0,"comments":0,"pivot_tables":0},"unopened":[],"bounds":{"document_bytes":16777216,"sheet_cells":100000,"run_cost":"one","rows_first":2000,"rows_last":500,"rows_between":2000,"halvings":0,"cell_chars":16384,"cell_head_chars":4096},"cells_cut":0,"cells_raw":0,"read":"whole","date_system":"1900"}

{"sheet":"점검계획","index":0,"n_rows":246,"n_cols":15,"rows_kept":246,"cut":false,"hidden":false,"merged":[[118,0,121,0],[122,0,152,0],[166,0,167,0],[107,0,117,0],[153,0,165,0],[0,0,0,14],[1,14,2,14],[83,0,106,0],[55,0,82,0],[31,0,54,0],[3,0,30,0],[1,0,2,0],[1,1,1,8],[1,9,1,11],[1,12,2,13],[2,9,2,10],[248,3,248,9],[239,2,239,12],[168,0,172,0],[173,0,219,0],[220,0,222,0],[246,3,246,7],[247,3,247,7],[224,0,230,0],[245,2,245,13],[243,2,243,13],[242,2,242,13],[241,2,241,13],[240,2,240,13],[235,0,237,0],[231,0,234,0]]}
["2016년 멀티미디어미디어 강의실 점검(12월) 및 계획(17'1월)"]
["건물","강의실 정보",{"$nulls":7},"램프사용시간",null,null,"점검예정일",null,"방문수리"]
[null,"건물","번호","강의실","구분","프로젝터","교탁","램프교체","정밀크리닝","최종확인일",null,"사용시간"]
["다산관","다산관",1,"B105",{"$f":"VLOOKUP(B4&D4,'[3]점검현황(전월)'!$D$7:$AG$241,2,0)","v":"멀티미디어"},{"$f":"VLOOKUP(B4&D4,'[3]점검현황(전월)'!$D$7:$AG$241,3,0)","v":"EX600EA"},{"$f":"VLOOKUP(B4&D4,'[3]점검현황(전월)'!$D$2:$AG$241,19,0)","v":"구"},{"$f":"VLOOKUP(B4&D4,'[3]점검현황(전월)'!$D$2:$AG$241,25,0)","v":"2016-04-06"},{"$f":"VLOOKUP(B4&D4,'[3]점검현황(전월)'!$D$7:$AG$241,27,0)","v":"2015-04-09"},{"$f":"VLOOKUP(B4&D4,'[3]점검현황(전월)'!$D$7:$AG$241,23,0)","v":1201},{"$f":"VLOOKUP(B4&D4,'[3]점검현황(전월)'!$D$7:$AK$241,24,0)","v":"12:05:00"},{"$f":"VLOOKUP(B4&D4,'[3]점검현황(전월)'!$D$7:$AK$241,34,0)","v":1050},103,{"$f":"VLOOKUP(B4&D4,'[3]점검현황(전월)'!$D$7:$AK$241,22,0)","v":"08:30:00"},{"$f":"VLOOKUP(B4&D4,'[3]점검현황(전월)'!$D$7:$AG$241,26,0)","v":"."}]
[null,{"$f":"B4","v":"다산관"},2,"B106",{"$f":"VLOOKUP(B5&D5,'[3]점검현황(전월)'!$D$7:$AG$241,2,0)","v":"경영대 (자동녹화)"},{"$f":"VLOOKUP(B5&D5,'[3]점검현황(전월)'!$D$7:$AG$241,3,0)","v":"EX600EA"},{"$f":"VLOOKUP(B5&D5,'[3]점검현황(전월)'!$D$2:$AG$241,19,0)","v":"e-ST"},{"$f":"VLOOKUP(B5&D5,'[3]점검현황(전월)'!$D$2:$AG$241,25,0)","v":"2016-12-28"},{"$f":"VLOOKUP(B5&D5,'[3]점검현황(전월)'!$D$7:$AG$241,27,0)","v":"."},{"$f":"VLOOKUP(B5&D5,'[3]점검현황(전월)'!$D$7:$AG$241,23,0)","v":1228},{"$f":"VLOOKUP(B5&D5,'[3]점검현황(전월)'!$D$7:$AK$241,24,0)","v":"11:53:00"},{"$f":"VLOOKUP(B5&D5,'[3]점검현황(전월)'!$D$7:$AK$241,34,0)","v":0},103,{"$f":"VLOOKUP(B5&D5,'[3]점검현황(전월)'!$D$7:$AK$241,22,0)","v":"08:40:00"},{"$f":"VLOOKUP(B5&D5,'[3]점검현황(전월)'!$D$7:$AG$241,26,0)","v":"28,"}]
[null,{"$f":"B5","v":"다산관"},3,"B107",{"$f":"VLOOKUP(B6&D6,'[3]점검현황(전월)'!$D$7:$AG$241,2,0)","v":"멀티미디어 (자동녹화)"},{"$f":"VLOOKUP(B6&D6,'[3]점검현황(전월)'!$D$7:$AG$241,3,0)","v":"VX421"},{"$f":"VLOOKUP(B6&D6,'[3]점검현황(전월)'!$D$2:$AG$241,19,0)","v":"구e-ST"},{"$f":"VLOOKUP(B6&D6,'[3]점검현황(전월)'!$D$2:$AG$241,25,0)","v":"2016-12-23"},{"$f":"VLOOKUP(B6&D6,'[3]점검현황(전월)'!$D$7:$AG$241,27,0)","v":"2016-12-23"},{"$f":"VLOOKUP(B6&D6,'[3]점검현황(전월)'!$D$7:$AG$241,23,0)","v":1206},{"$f":"VLOOKUP(B6&D6,'[3]점검현황(전월)'!$D$7:$AK$241,24,0)","v":"17:00:00"},{"$f":"VLOOKUP(B6&D6,'[3]점검현황(전월)'!$D$7:$AK$241,34,0)","v":0},103,{"$f":"VLOOKUP(B6&D6,'[3]점검현황(전월)'!$D$7:$AK$241,22,0)","v":"08:50:00"},{"$f":"VLOOKUP(B6&D6,'[3]점검현황(전월)'!$D$7:$AG$241,26,0)","v":"2,6,"}]
[null,"다산관",4,"B108",{"$f":"VLOOKUP(B7&D7,'[3]점검현황(전월)'!$D$7:$AG$241,2,0)","v":"E-biz"},{"$f":"VLOOKUP(B7&D7,'[3]점검현황(전월)'!$D$7:$AG$241,3,0)","v":"EX600EA"},{"$f":"VLOOKUP(B7&D7,'[3]점검현황(전월)'!$D$2:$AG$241,19,0)","v":"e-ST"},{"$f":"VLOOKUP(B7&D7,'[3]점검현황(전월)'!$D$2:$AG$241,25,0)","v":"2016-10-06"},{"$f":"VLOOKUP(B7&D7,'[3]점검현황(전월)'!$D$7:$AG$241,27,0)","v":"."},{"$f":"VLOOKUP(B7&D7,'[3]점검현황(전월)'!$D$7:$AG$241,23,0)","v":1201},{"$f":"VLOOKUP(B7&D7,'[3]점검현황(전월)'!$D$7:$AK$241,24,0)","v":"13:20:00"},{"$f":"VLOOKUP(B7&D7,'[3]점검현황(전월)'!$D$7:$AK$241,34,0)","v":348},103,{"$f":"VLOOKUP(B7&D7,'[3]점검현황(전월)'!$D$7:$AK$241,22,0)","v":"19:00:00"},{"$f":"VLOOKUP(B7&D7,'[3]점검현황(전월)'!$D$7:$AG$241,26,0)","v":"."}]
[null,"다산관",5,"B109",{"$f":"VLOOKUP(B8&D8,'[3]점검현황(전월)'!$D$7:$AG$241,2,0)","v":"멀티미디어"},{"$f":"VLOOKUP(B8&D8,'[3]점검현황(전월)'!$D$7:$AG$241,3,0)","v":"XU106K"},{"$f":"VLOOKUP(B8&D8,'[3]점검현황(전월)'!$D$2:$AG$241,19,0)","v":"구"},{"$f":"VLOOKUP(B8&D8,'[3]점검현황(전월)'!$D$2:$AG$241,25,0)","v":"2016-09-23"},{"$f":"VLOOKUP(B8&D8,'[3]점검현황(전월)'!$D$7:$AG$241,27,0)","v":"2016-12-06"},{"$f":"VLOOKUP(B8&D8,'[3]점검현황(전월)'!$D$7:$AG$241,23,0)","v":1206},{"$f":"VLOOKUP(B8&D8,'[3]점검현황(전월)'!$D$7:$AK$241,24,0)","v":"19:10:00"},{"$f":"VLOOKUP(B8&D8,'[3]점검현황(전월)'!$D$7:$AK$241,34,0)","v":288},103,{"$f":"VLOOKUP(B8&D8,'[3]점검현황(전월)'!$D$7:$AK$241,22,0)","v":"19:10:00"},{"$f":"VLOOKUP(B8&D8,'[3]점검현황(전월)'!$D$7:$AG$241,26,0)","v":"6,"}]
[null,"다산관",6,"B112",{"$f":"VLOOKUP(B9&D9,'[3]점검현황(전월)'!$D$7:$AG$241,2,0)","v":"대학원"},{"$f":"VLOOKUP(B9&D9,'[3]점검현황(전월)'!$D$7:$AG$241,3,0)","v":"XD2200"},{"$f":"VLOOKUP(B9&D9,'[3]점검현황(전월)'!$D$2:$AG$241,19,0)","v":"구"},{"$f":"VLOOKUP(B9&D9,'[3]점검현황(전월)'!$D$2:$AG$241,25,0)","v":"2015-09-11"},{"$f":"VLOOKUP(B9&D9,'[3]점검현황(전월)'!$D$7:$AG$241,27,0)","v":"2015-09-11"},{"$f":"VLOOKUP(B9&D9,'[3]점검현황(전월)'!$D$7:$AG$241,23,0)","v":1201},{"$f":"VLOOKUP(B9&D9,'[3]점검현황(전월)'!$D$7:$AK$241,24,0)","v":"19:30:00"},{"$f":"VLOOKUP(B9&D9,'[3]점검현황(전월)'!$D$7:$AK$241,34,0)","v":261},103,{"$f":"VLOOKUP(B9&D9,'[3]점검현황(전월)'!$D$7:$AK$241,22,0)","v":"19:20:00"},{"$f":"VLOOKUP(B9&D9,'[3]점검현황(전월)'!$D$7:$AG$241,26,0)","v":"."}]
[null,{"$f":"B8","v":"다산관"},7,"B115",{"$f":"VLOOKUP(B10&D10,'[3]점검현황(전월)'!$D$7:$AG$241,2,0)","v":"대학원"},{"$f":"VLOOKUP(B10&D10,'[3]점검현황(전월)'!$D$7:$AG$241,3,0)","v":"LB280"},{"$f":"VLOOKUP(B10&D10,'[3]점검현황(전월)'!$D$2:$AG$241,19,0)","v":"구"},{"$f":"VLOOKUP(B10&D10,'[3]점검현황(전월)'!$D$2:$AG$241,25,0)","v":"2014-03-07"},{"$f":"VLOOKUP(B10&D10,'[3]점검현황(전월)'!$D$7:$AG$241,27,0)","v":"2014-03-07"},{"$f":"VLOOKUP(B10&D10,'[3]점검현황(전월)'!$D$7:$AG$241,23,0)","v":1202},{"$f":"VLOOKUP(B10&D10,'[3]점검현황(전월)'!$D$7:$AK$241,24,0)","v":"08:30:00"},{"$f":"VLOOKUP(B10&D10,'[3]점검현황(전월)'!$D$7:$AK$241,34,0)","v":736},103,{"$f":"VLOOKUP(B10&D10,'[3]점검현황(전월)'!$D$7:$AK$241,22,0)","v":"08:30:00"},{"$f":"VLOOKUP(B10&D10,'[3]점검현황(전월)'!$D$7:$AG$241,26,0)","v":"."}]
[null,"다산관",8,"B121",{"$f":"VLOOKUP(B11&D11,'[3]점검현황(전월)'!$D$7:$AG$241,2,0)","v":"대강당"},{"$f":"VLOOKUP(B11&D11,'[3]점검현황(전월)'!$D$7:$AG$241,3,0)","v":"XM5000"},{"$f":"VLOOKUP(B11&D11,'[3]점검현황(전월)'!$D$2:$AG$241,19,0)","v":"e-ST"},{"$f":"VLOOKUP(B11&D11,'[3]점검현황(전월)'!$D$2:$AG$241,25,0)","v":"2016-11-04"},{"$f":"VLOOKUP(B11&D11,'[3]점검현황(전월)'!$D$7:$AG$241,27,0)","v":"·"},{"$f":"VLOOKUP(B11&D11,'[3]점검현황(전월)'!$D$7:$AG$241,23,0)","v":1206},{"$f":"VLOOKUP(B11&D11,'[3]점검현황(전월)'!$D$7:$AK$241,24,0)","v":"17:10:00"},{"$f":"VLOOKUP(B11&D11,'[3]점검현황(전월)'!$D$7:$AK$241,34,0)","v":140},103,{"$f":"VLOOKUP(B11&D11,'[3]점검현황(전월)'!$D$7:$AK$241,22,0)","v":"08:40:00"},{"$f":"VLOOKUP(B11&D11,'[3]점검현황(전월)'!$D$7:$AG$241,26,0)","v":"6,"}]
[null,"다산관",9,105,{"$f":"VLOOKUP(B12&D12,'[3]점검현황(전월)'!$D$7:$AG$241,2,0)","v":"멀티미디어"},{"$f":"VLOOKUP(B12&D12,'[3]점검현황(전월)'!$D$7:$AG$241,3,0)","v":"XU106K"},{"$f":"VLOOKUP(B12&D12,'[3]점검현황(전월)'!$D$2:$AG$241,19,0)","v":"구"},{"$f":"VLOOKUP(B12&D12,'[3]점검현황(전월)'!$D$2:$AG$241,25,0)","v":"2016-11-15"},{"$f":"VLOOKUP(B12&D12,'[3]점검현황(전월)'!$D$7:$AG$241,27,0)","v":"2016-06-14"},{"$f":"VLOOKUP(B12&D12,'[3]점검현황(전월)'!$D$7:$AG$241,23,0)","v":1212},{"$f":"VLOOKUP(B12&D12,'[3]점검현황(전월)'!$D$7:$AK$241,24,0)","v":"08:50:00"},{"$f":"VLOOKUP(B12&D12,'[3]점검현황(전월)'!$D$7:$AK$241,34,0)","v":59},103,{"$f":"VLOOKUP(B12&D12,'[3]점검현황(전월)'!$D$7:$AK$241,22,0)","v":"08:50:00"},{"$f":"VLOOKUP(B12&D12,'[3]점검현황(전월)'!$D$7:$AG$241,26,0)","v":"12,"}]
[null,"다산관",10,106,{"$f":"VLOOKUP(B13&D13,'[3]점검현황(전월)'!$D$7:$AG$241,2,0)","v":"불어불문"},{"$f":"VLOOKUP(B13&D13,'[3]점검현황(전월)'!$D$7:$AG$241,3,0)","v":"VX421"},{"$f":"VLOOKUP(B13&D13,'[3]점검현황(전월)'!$D$2:$AG$241,19,0)","v":"e-ST"},{"$f":"VLOOKUP(B13&D13,'[3]점검현황(전월)'!$D$2:$AG$241,25,0)","v":"2016-08-26"},{"$f":"VLOOKUP(B13&D13,'[3]점검현황(전월)'!$D$7:$AG$241,27,0)","v":"2016-08-26"},{"$f":"VLOOKUP(B13&D13,'[3]점검현황(전월)'!$D$7:$AG$241,23,0)","v":1202},{"$f":"VLOOKUP(B13&D13,'[3]점검현황(전월)'!$D$7:$AK$241,24,0)","v":"19:00:00"},{"$f":"VLOOKUP(B13&D13,'[3]점검현황(전월)'!$D$7:$AK$241,34,0)","v":350},103,{"$f":"VLOOKUP(B13&D13,'[3]점검현황(전월)'!$D$7:$AK$241,22,0)","v":"19:00:00"},{"$f":"VLOOKUP(B13&D13,'[3]점검현황(전월)'!$D$7:$AG$241,26,0)","v":"."}]
[null,"다산관",11,107,{"$f":"VLOOKUP(B14&D14,'[3]점검현황(전월)'!$D$7:$AG$241,2,0)","v":"국어국문"},{"$f":"VLOOKUP(B14&D14,'[3]점검현황(전월)'!$D$7:$AG$241,3,0)","v":"VX421"},{"$f":"VLOOKUP(B14&D14,'[3]점검현황(전월)'!$D$2:$AG$241,19,0)","v":"e-ST"},{"$f":"VLOOKUP(B14&D14,'[3]점검현황(전월)'!$D$2:$AG$241,25,0)","v":"2016-08-26"},{"$f":"VLOOKUP(B14&D14,'[3]점검현황(전월)'!$D$7:$AG$241,27,0)","v":"2016-08-26"},{"$f":"VLOOKUP(B14&D14,'[3]점검현황(전월)'!$D$7:$AG$241,23,0)","v":1202},{"$f":"VLOOKUP(B14&D14,'[3]점검현황(전월)'!$D$7:$AK$241,24,0)","v":"19:10:00"},{"$f":"VLOOKUP(B14&D14,'[3]점검현황(전월)'!$D$7:$AK$241,34,0)","v":451},104,{"$f":"VLOOKUP(B14&D14,'[3]점검현황(전월)'!$D$7:$AK$241,22,0)","v":"19:10:00"},{"$f":"VLOOKUP(B14&D14,'[3]점검현황(전월)'!$D$7:$AG$241,26,0)","v":"."}]
[null,"다산관",12,108,{"$f":"VLOOKUP(B15&D15,'[3]점검현황(전월)'!$D$7:$AG$241,2,0)","v":"사학과"},{"$f":"VLOOKUP(B15&D15,'[3]점검현황(전월)'!$D$7:$AG$241,3,0)","v":"VX421"},{"$f":"VLOOKUP(B15&D15,'[3]점검현황(전월)'!$D$2:$AG$241,19,0)","v":"e-ST"},{"$f":"VLOOKUP(B15&D15,'[3]점검현황(전월)'!$D$2:$AG$241,25,0)","v":"2016-08-26"},{"$f":"VLOOKUP(B15&D15,'[3]점검현황(전월)'!$D$7:$AG$241,27,0)","v":"2016-08-26"},{"$f":"VLOOKUP(B15&D15,'[3]점검현황(전월)'!$D$7:$AG$241,23,0)","v":1202},{"$f":"VLOOKUP(B15&D15,'[3]점검현황(전월)'!$D$7:$AK$241,24,0)","v":"19:20:00"},{"$f":"VLOOKUP(B15&D15,'[3]점검현황(전월)'!$D$7:$AK$241,34,0)","v":546},104,{"$f":"VLOOKUP(B15&D15,'[3]점검현황(전월)'!$D$7:$AK$241,22,0)","v":"19:20:00"},{"$f":"VLOOKUP(B15&D15,'[3]점검현황(전월)'!$D$7:$AG$241,26,0)","v":"."}]
[null,"다산관",13,109,{"$f":"VLOOKUP(B16&D16,'[3]점검현황(전월)'!$D$7:$AG$241,2,0)","v":"멀티미디어 (자동녹화)"},{"$f":"VLOOKUP(B16&D16,'[3]점검현황(전월)'!$D$7:$AG$241,3,0)","v":"VX600"},{"$f":"VLOOKUP(B16&D16,'[3]점검현황(전월)'!$D$2:$AG$241,19,0)","v":"e-ST"},{"$f":"VLOOKUP(B16&D16,'[3]점검현황(전월)'!$D$2:$AG$241,25,0)","v":"2015-08-31"},{"$f":"VLOOKUP(B16&D16,'[3]점검현황(전월)'!$D$7:$AG$241,27,0)","v":"2015-08-31"},{"$f":"VLOOKUP(B16&D16,'[3]점검현황(전월)'!$D$7:$AG$241,23,0)","v":1203},{"$f":"VLOOKUP(B16&D16,'[3]점검현황(전월)'!$D$7:$AK$241,24,0)","v":"19:30:00"},{"$f":"VLOOKUP(B16&D16,'[3]점검현황(전월)'!$D$7:$AK$241,34,0)","v":2287},104,{"$f":"VLOOKUP(B16&D16,'[3]점검현황(전월)'!$D$7:$AK$241,22,0)","v":"08:30:00"},{"$f":"VLOOKUP(B16&D16,'[3]점검현황(전월)'!$D$7:$AG$241,26,0)","v":"."}]
[null,"다산관",14,110,{"$f":"VLOOKUP(B17&D17,'[3]점검현황(전월)'!$D$7:$AG$241,2,0)","v":"대학원"},{"$f":"VLOOKUP(B17&D17,'[3]점검현황(전월)'!$D$7:$AG$241,3,0)","v":"XU106K"},{"$f":"VLOOKUP(B17&D17,'[3]점검현황(전월)'!$D$2:$AG$241,19,0)","v":"구"},{"$f":"VLOOKUP(B17&D17,'[3]점검현황(전월)'!$D$2:$AG$241,25,0)","v":"2015-05-07"},{"$f":"VLOOKUP(B17&D17,'[3]점검현황(전월)'!$D$7:$AG$241,27,0)","v":"2015-07-20"},{"$f":"VLOOKUP(B17&D17,'[3]점검현황(전월)'!$D$7:$AG$241,23,0)","v":1203},{"$f":"VLOOKUP(B17&D17,'[3]점검현황(전월)'!$D$7:$AK$241,24,0)","v":"08:40:00"},{"$f":"VLOOKUP(B17&D17,'[3]점검현황(전월)'!$D$7:$AK$241,34,0)","v":993},104,{"$f":"VLOOKUP(B17&D17,'[3]점검현황(전월)'!$D$7:$AK$241,22,0)","v":"08:40:00"},{"$f":"VLOOKUP(B17&D17,'[3]점검현황(전월)'!$D$7:$AG$241,26,0)","v":"."}]
[null,"다산관",15,111,{"$f":"VLOOKUP(B18&D18,'[3]점검현황(전월)'!$D$7:$AG$241,2,0)","v":"경영대 (자동녹화)"},{"$f":"VLOOKUP(B18&D18,'[3]점검현황(전월)'!$D$7:$AG$241,3,0)","v":"EX600EA"},{"$f":"VLOOKUP(B18&D18,'[3]점검현황(전월)'!$D$2:$AG$241,19,0)","v":"구e-ST"},{"$f":"VLOOKUP(B18&D18,'[3]점검현황(전월)'!$D$2:$AG$241,25,0)","v":"2016-12-06"},{"$f":"VLOOKUP(B18&D18,'[3]점검현황(전월)'!$D$7:$AG$241,27,0)","v":"2014-10-22"},{"$f":"VLOOKUP(B18&D18,'[3]점검현황(전월)'!$D$7:$AG$241,23,0)","v":1205},{"$f":"VLOOKUP(B18&D18,'[3]점검현황(전월)'!$D$7:$AK$241,24,0)","v":"08:50:00"},{"$f":"VLOOKUP(B18&D18,'[3]점검현황(전월)'!$D$7:$AK$241,34,0)","v":0},104,{"$f":"VLOOKUP(B18&D18,'[3]점검현황(전월)'!$D$7:$AK$241,22,0)","v":"08:50:00"},{"$f":"VLOOKUP(B18&D18,'[3]점검현황(전월)'!$D$7:$AG$241,26,0)","v":"5,"}]
[null,"다산관",16,115,{"$f":"VLOOKUP(B19&D19,'[3]점검현황(전월)'!$D$7:$AG$241,2,0)","v":"멀티미디어"},{"$f":"VLOOKUP(B19&D19,'[3]점검현황(전월)'!$D$7:$AG$241,3,0)","v":"XU106K"},{"$f":"VLOOKUP(B19&D19,'[3]점검현황(전월)'!$D$2:$AG$241,19,0)","v":"구"},{"$f":"VLOOKUP(B19&D19,'[3]점검현황(전월)'!$D$2:$AG$241,25,0)","v":"2016-11-15"},{"$f":"VLOOKUP(B19&D19,'[3]점검현황(전월)'!$D$7:$AG$241,27,0)","v":"2016-07-02"},{"$f":"VLOOKUP(B19&D19,'[3]점검현황(전월)'!$D$7:$AG$241,23,0)","v":1203},{"$f":"VLOOKUP(B19&D19,'[3]점검현황(전월)'!$D$7:$AK$241,24,0)","v":"17:42:00"},{"$f":"VLOOKUP(B19&D19,'[3]점검현황(전월)'!$D$7:$AK$241,34,0)","v":77},104,{"$f":"VLOOKUP(B19&D19,'[3]점검현황(전월)'!$D$7:$AK$241,22,0)","v":"19:00:00"},{"$f":"VLOOKUP(B19&D19,'[3]점검현황(전월)'!$D$7:$AG$241,26,0)","v":"."}]
[null,"다산관",17,"205A",{"$f":"VLOOKUP(B20&D20,'[3]점검현황(전월)'!$D$7:$AG$241,2,0)","v":"인문대 (PC실)"},{"$f":"VLOOKUP(B20&D20,'[3]점검현황(전월)'!$D$7:$AG$241,3,0)","v":"EX500E"},{"$f":"VLOOKUP(B20&D20,'[3]점검현황(전월)'!$D$2:$AG$241,19,0)","v":"e-ST"},{"$f":"VLOOKUP(B20&D20,'[3]점검현황(전월)'!$D$2:$AG$241,25,0)","v":"2016-11-23"},{"$f":"VLOOKUP(B20&D20,'[3]점검현황(전월)'!$D$7:$AG$241,27,0)","v":"·"},{"$f":"VLOOKUP(B20&D20,'[3]점검현황(전월)'!$D$7:$AG$241,23,0)","v":1206},{"$f":"VLOOKUP(B20&D20,'[3]점검현황(전월)'!$D$7:$AK$241,24,0)","v":"19:10:00"},{"$f":"VLOOKUP(B20&D20,'[3]점검현황(전월)'!$D$7:$AK$241,34,0)","v":60},104,{"$f":"VLOOKUP(B20&D20,'[3]점검현황(전월)'!$D$7:$AK$241,22,0)","v":"19:10:00"},{"$f":"VLOOKUP(B20&D20,'[3]점검현황(전월)'!$D$7:$AG$241,26,0)","v":"6,"}]
[null,"다산관",18,"205B",{"$f":"VLOOKUP(B21&D21,'[3]점검현황(전월)'!$D$7:$AG$241,2,0)","v":"멀티미디어 (자동녹화)"},{"$f":"VLOOKUP(B21&D21,'[3]점검현황(전월)'!$D$7:$AG$241,3,0)","v":"VX600"},{"$f":"VLOOKUP(B21&D21,'[3]점검현황(전월)'!$D$2:$AG$241,19,0)","v":"구e-ST"},{"$f":"VLOOKUP(B21&D21,'[3]점검현황(전월)'!$D$2:$AG$241,25,0)","v":"2015-08-31"},{"$f":"VLOOKUP(B21&D21,'[3]점검현황(전월)'!$D$7:$AG$241,27,0)","v":"2016-12-12"},{"$f":"VLOOKUP(B21&D21,'[3]점검현황(전월)'!$D$7:$AG$241,23,0)","v":1215},{"$f":"VLOOKUP(B21&D21,'[3]점검현황(전월)'!$D$7:$AK$241,24,0)","v":"12:41:00"},{"$f":"VLOOKUP(B21&D21,'[3]점검현황(전월)'!$D$7:$AK$241,34,0)","v":1827},104,{"$f":"VLOOKUP(B21&D21,'[3]점검현황(전월)'!$D$7:$AK$241,22,0)","v":"19:20:00"},{"$f":"VLOOKUP(B21&D21,'[3]점검현황(전월)'!$D$7:$AG$241,26,0)","v":"12,15"}]
[null,"다산관",19,307,{"$f":"VLOOKUP(B22&D22,'[3]점검현황(전월)'!$D$7:$AG$241,2,0)","v":"경영대(PC실)"},{"$f":"VLOOKUP(B22&D22,'[3]점검현황(전월)'!$D$7:$AG$241,3,0)","v":"EX510"},{"$f":"VLOOKUP(B22&D22,'[3]점검현황(전월)'!$D$2:$AG$241,19,0)","v":"구"},{"$f":"VLOOKUP(B22&D22,'[3]점검현황(전월)'!$D$2:$AG$241,25,0)","v":"2015-11-06"},{"$f":"VLOOKUP(B22&D22,'[3]점검현황(전월)'!$D$7:$AG$241,27,0)","v":"."},{"$f":"VLOOKUP(B22&D22,'[3]점검현황(전월)'!$D$7:$AG$241,23,0)","v":1203},{"$f":"VLOOKUP(B22&D22,'[3]점검현황(전월)'!$D$7:$AK$241,24,0)","v":"19:30:00"},{"$f":"VLOOKUP(B22&D22,'[3]점검현황(전월)'!$D$7:$AK$241,34,0)","v":844},104,{"$f":"VLOOKUP(B22&D22,'[3]점검현황(전월)'!$D$7:$AK$241,22,0)","v":"19:30:00"},{"$f":"VLOOKUP(B22&D22,'[3]점검현황(전월)'!$D$7:$AG$241,26,0)","v":"."}]
[null,{"$f":"B21","v":"다산관"},20,308,{"$f":"VLOOKUP(B23&D23,'[3]점검현황(전월)'!$D$7:$AG$241,2,0)","v":"경영대 (PC실)"},{"$f":"VLOOKUP(B23&D23,'[3]점검현황(전월)'!$D$7:$AG$241,3,0)","v":"VX510"},{"$f":"VLOOKUP(B23&D23,'[3]점검현황(전월)'!$D$2:$AG$241,19,0)","v":"e-ST"},{"$f":"VLOOKUP(B23&D23,'[3]점검현황(전월)'!$D$2:$AG$241,25,0)","v":"2014-05-16"},{"$f":"VLOOKUP(B23&D23,'[3]점검현황(전월)'!$D$7:$AG$241,27,0)","v":"·"},{"$f":"VLOOKUP(B23&D23,'[3]점검현황(전월)'!$D$7:$AG$241,23,0)","v":1203},{"$f":"VLOOKUP(B23&D23,'[3]점검현황(전월)'!$D$7:$AK$241,24,0)","v":"08:30:00"},{"$f":"VLOOKUP(B23&D23,'[3]점검현황(전월)'!$D$7:$AK$241,34,0)","v":2023},104,{"$f":"VLOOKUP(B23&D23,'[3]점검현황(전월)'!$D$7:$AK$241,22,0)","v":"08:30:00"},{"$f":"VLOOKUP(B23&D23,'[3]점검현황(전월)'!$D$7:$AG$241,26,0)","v":"."}]
[null,"다산관",21,309,{"$f":"VLOOKUP(B24&D24,'[3]점검현황(전월)'!$D$7:$AG$241,2,0)","v":"경영대학원(자동녹화)"},{"$f":"VLOOKUP(B24&D24,'[3]점검현황(전월)'!$D$7:$AG$241,3,0)","v":"EX500E"},{"$f":"VLOOKUP(B24&D24,'[3]점검현황(전월)'!$D$2:$AG$241,19,0)","v":"e-ST"},{"$f":"VLOOKUP(B24&D24,'[3]점검현황(전월)'!$D$2:$AG$241,25,0)","v":"2016-03-25"},{"$f":"VLOOKUP(B24&D24,'[3]점검현황(전월)'!$D$7:$AG$241,27,0)","v":"·"},{"$f":"VLOOKUP(B24&D24,'[3]점검현황(전월)'!$D$7:$AG$241,23,0)","v":1203},{"$f":"VLOOKUP(B24&D24,'[3]점검현황(전월)'!$D$7:$AK$241,24,0)","v":"08:40:00"},{"$f":"VLOOKUP(B24&D24,'[3]점검현황(전월)'!$D$7:$AK$241,34,0)","v":720},105,{"$f":"VLOOKUP(B24&D24,'[3]점검현황(전월)'!$D$7:$AK$241,22,0)","v":"08:40:00"},{"$f":"VLOOKUP(B24&D24,'[3]점검현황(전월)'!$D$7:$AG$241,26,0)","v":"."}]
[null,"다산관",22,310,{"$f":"VLOOKUP(B25&D25,'[3]점검현황(전월)'!$D$7:$AG$241,2,0)","v":"경영대대학원"},{"$f":"VLOOKUP(B25&D25,'[3]점검현황(전월)'!$D$7:$AG$241,3,0)","v":"VX410/VX410"},{"$f":"VLOOKUP(B25&D25,'[3]점검현황(전월)'!$D$2:$AG$241,19,0)","v":"e-ST"},{"$f":"VLOOKUP(B25&D25,'[3]점검현황(전월)'!$D$2:$AG$241,25,0)","v":"15-04-15/15-08-06"},{"$f":"VLOOKUP(B25&D25,'[3]점검현황(전월)'!$D$7:$AG$241,27,0)","v":"·"},{"$f":"VLOOKUP(B25&D25,'[3]점검현황(전월)'!$D$7:$AG$241,23,0)","v":1203},{"$f":"VLOOKUP(B25&D25,'[3]점검현황(전월)'!$D$7:$AK$241,24,0)","v":"08:50:00"},{"$f":"VLOOKUP(B25&D25,'[3]점검현황(전월)'!$D$7:$AK$241,34,0)","v":"554/603"},105,{"$f":"VLOOKUP(B25&D25,'[3]점검현황(전월)'!$D$7:$AK$241,22,0)","v":"08:50:00"},{"$f":"VLOOKUP(B25&D25,'[3]점검현황(전월)'!$D$7:$AG$241,26,0)","v":"."}]
[null,"다산관",23,311,{"$f":"VLOOKUP(B26&D26,'[3]점검현황(전월)'!$D$7:$AG$241,2,0)","v":"경영대대학원"},{"$f":"VLOOKUP(B26&D26,'[3]점검현황(전월)'!$D$7:$AG$241,3,0)","v":"VX410/VX400"},{"$f":"VLOOKUP(B26&D26,'[3]점검현황(전월)'!$D$2:$AG$241,19,0)","v":"e-ST"},{"$f":"VLOOKUP(B26&D26,'[3]점검현황(전월)'!$D$2:$AG$241,25,0)","v":"16-08-26/16-08-26"},{"$f":"VLOOKUP(B26&D26,'[3]점검현황(전월)'!$D$7:$AG$241,27,0)","v":"·"},{"$f":"VLOOKUP(B26&D26,'[3]점검현황(전월)'!$D$7:$AG$241,23,0)","v":1220},{"$f":"VLOOKUP(B26&D26,'[3]점검현황(전월)'!$D$7:$AK$241,24,0)","v":"19:00:00"},{"$f":"VLOOKUP(B26&D26,'[3]점검현황(전월)'!$D$7:$AK$241,34,0)","v":"301/513"},105,{"$f":"VLOOKUP(B26&D26,'[3]점검현황(전월)'!$D$7:$AK$241,22,0)","v":"19:00:00"},{"$f":"VLOOKUP(B26&D26,'[3]점검현황(전월)'!$D$7:$AG$241,26,0)","v":"20,"}]
[null,"다산관",24,406,{"$f":"VLOOKUP(B27&D27,'[3]점검현황(전월)'!$D$7:$AG$241,2,0)","v":"경영대대학원"},{"$f":"VLOOKUP(B27&D27,'[3]점검현황(전월)'!$D$7:$AG$241,3,0)","v":"XU106K"},{"$f":"VLOOKUP(B27&D27,'[3]점검현황(전월)'!$D$2:$AG$241,19,0)","v":"e-ST"},{"$f":"VLOOKUP(B27&D27,'[3]점검현황(전월)'!$D$2:$AG$241,25,0)","v":"2015-08-03"},{"$f":"VLOOKUP(B27&D27,'[3]점검현황(전월)'!$D$7:$AG$241,27,0)","v":"·"},{"$f":"VLOOKUP(B27&D27,'[3]점검현황(전월)'!$D$7:$AG$241,23,0)","v":1203},{"$f":"VLOOKUP(B27&D27,'[3]점검현황(전월)'!$D$7:$AK$241,24,0)","v":"19:10:00"},{"$f":"VLOOKUP(B27&D27,'[3]점검현황(전월)'!$D$7:$AK$241,34,0)","v":384},105,{"$f":"VLOOKUP(B27&D27,'[3]점검현황(전월)'!$D$7:$AK$241,22,0)","v":"19:10:00"},{"$f":"VLOOKUP(B27&D27,'[3]점검현황(전월)'!$D$7:$AG$241,26,0)","v":"."}]
[null,"다산관",25,433,{"$f":"VLOOKUP(B28&D28,'[3]점검현황(전월)'!$D$7:$AG$241,2,0)","v":"경영대대학원"},{"$f":"VLOOKUP(B28&D28,'[3]점검현황(전월)'!$D$7:$AG$241,3,0)","v":"LB280"},{"$f":"VLOOKUP(B28&D28,'[3]점검현황(전월)'!$D$2:$AG$241,19,0)","v":"e-ST"},{"$f":"VLOOKUP(B28&D28,'[3]점검현황(전월)'!$D$2:$AG$241,25,0)","v":"2015-09-01"},{"$f":"VLOOKUP(B28&D28,'[3]점검현황(전월)'!$D$7:$AG$241,27,0)","v":"2015-09-01"},{"$f":"VLOOKUP(B28&D28,'[3]점검현황(전월)'!$D$7:$AG$241,23,0)","v":1203},{"$f":"VLOOKUP(B28&D28,'[3]점검현황(전월)'!$D$7:$AK$241,24,0)","v":"19:15:00"},{"$f":"VLOOKUP(B28&D28,'[3]점검현황(전월)'!$D$7:$AK$241,34,0)","v":710},105,{"$f":"VLOOKUP(B28&D28,'[3]점검현황(전월)'!$D$7:$AK$241,22,0)","v":"19:15:00"},{"$f":"VLOOKUP(B28&D28,'[3]점검현황(전월)'!$D$7:$AG$241,26,0)","v":"."}]
[null,{"$f":"B28","v":"다산관"},26,505,{"$f":"VLOOKUP(B29&D29,'[3]점검현황(전월)'!$D$7:$AG$241,2,0)","v":"대학원"},{"$f":"VLOOKUP(B29&D29,'[3]점검현황(전월)'!$D$7:$AG$241,3,0)","v":"XU301K"},{"$f":"VLOOKUP(B29&D29,'[3]점검현황(전월)'!$D$2:$AG$241,19,0)","v":"구"},{"$f":"VLOOKUP(B29&D29,'[3]점검현황(전월)'!$D$2:$AG$241,25,0)","v":"2015-07-15"},{"$f":"VLOOKUP(B29&D29,'[3]점검현황(전월)'!$D$7:$AG$241,27,0)","v":"2015-04-09"},{"$f":"VLOOKUP(B29&D29,'[3]점검현황(전월)'!$D$7:$AG$241,23,0)","v":1214},{"$f":"VLOOKUP(B29&D29,'[3]점검현황(전월)'!$D$7:$AK$241,24,0)","v":"19:20:00"},{"$f":"VLOOKUP(B29&D29,'[3]점검현황(전월)'!$D$7:$AK$241,34,0)","v":1022},105,{"$f":"VLOOKUP(B29&D29,'[3]점검현황(전월)'!$D$7:$AK$241,22,0)","v":"19:20:00"},{"$f":"VLOOKUP(B29&D29,'[3]점검현황(전월)'!$D$7:$AG$241,26,0)","v":"14,"}]
[null,"다산관",27,506,{"$f":"VLOOKUP(B30&D30,'[3]점검현황(전월)'!$D$7:$AG$241,2,0)","v":"멀티미디어"},{"$f":"VLOOKUP(B30&D30,'[3]점검현황(전월)'!$D$7:$AG$241,3,0)","v":"XU106K"},{"$f":"VLOOKUP(B30&D30,'[3]점검현황(전월)'!$D$2:$AG$241,19,0)","v":"구"},{"$f":"VLOOKUP(B30&D30,'[3]점검현황(전월)'!$D$2:$AG$241,25,0)","v":"2016-01-08"},{"$f":"VLOOKUP(B30&D30,'[3]점검현황(전월)'!$D$7:$AG$241,27,0)","v":"2016-06-22"},{"$f":"VLOOKUP(B30&D30,'[3]점검현황(전월)'!$D$7:$AG$241,23,0)","v":1203},{"$f":"VLOOKUP(B30&D30,'[3]점검현황(전월)'!$D$7:$AK$241,24,0)","v":"08:30:00"},{"$f":"VLOOKUP(B30&D30,'[3]점검현황(전월)'!$D$7:$AK$241,34,0)","v":809},105,{"$f":"VLOOKUP(B30&D30,'[3]점검현황(전월)'!$D$7:$AK$241,22,0)","v":"09:00:00"},{"$f":"VLOOKUP(B30&D30,'[3]점검현황(전월)'!$D$7:$AG$241,26,0)","v":"."}]
[null,"다산관",28,507,{"$f":"VLOOKUP(B31&D31,'[3]점검현황(전월)'!$D$7:$AG$241,2,0)","v":"멀티미디어 (자동녹화)"},{"$f":"VLOOKUP(B31&D31,'[3]점검현황(전월)'!$D$7:$AG$241,3,0)","v":"VX600"},{"$f":"VLOOKUP(B31&D31,'[3]점검현황(전월)'!$D$2:$AG$241,19,0)","v":"구e-ST"},{"$f":"VLOOKUP(B31&D31,'[3]점검현황(전월)'!$D$2:$AG$241,25,0)","v":"2016-12-23"},{"$f":"VLOOKUP(B31&D31,'[3]점검현황(전월)'!$D$7:$AG$241,27,0)","v":"2016-12-23"},{"$f":"VLOOKUP(B31&D31,'[3]점검현황(전월)'!$D$7:$AG$241,23,0)","v":1203},{"$f":"VLOOKUP(B31&D31,'[3]점검현황(전월)'!$D$7:$AK$241,24,0)","v":"08:40:00"},{"$f":"VLOOKUP(B31&D31,'[3]점검현황(전월)'!$D$7:$AK$241,34,0)","v":0},105,{"$f":"VLOOKUP(B31&D31,'[3]점검현황(전월)'!$D$7:$AK$241,22,0)","v":"09:10:00"},{"$f":"VLOOKUP(B31&D31,'[3]점검현황(전월)'!$D$7:$AG$241,26,0)","v":"."}]
["율곡관","율곡관",1,150,{"$f":"VLOOKUP(B32&D32,'[3]점검현황(전월)'!$D$7:$AG$241,2,0)","v":"대강당"},{"$f":"VLOOKUP(B32&D32,'[3]점검현황(전월)'!$D$7:$AG$241,3,0)","v":"XF47"},{"$f":"VLOOKUP(B32&D32,'[3]점검현황(전월)'!$D$2:$AG$241,19,0)","v":"e-ST"},{"$f":"VLOOKUP(B32&D32,'[3]점검현황(전월)'!$D$2:$AG$241,25,0)","v":"2015-05-06"},{"$f":"VLOOKUP(B32&D32,'[3]점검현황(전월)'!$D$7:$AG$241,27,0)","v":"·"},{"$f":"VLOOKUP(B32&D32,'[3]점검현황(전월)'!$D$7:$AG$241,23,0)","v":1229},{"$f":"VLOOKUP(B32&D32,'[3]점검현황(전월)'!$D$7:$AK$241,24,0)","v":"13:30:00"},{"$f":"VLOOKUP(B32&D32,'[3]점검현황(전월)'!$D$7:$AK$241,34,0)","v":1319},105,{"$f":"VLOOKUP(B32&D32,'[3]점검현황(전월)'!$D$7:$AK$241,22,0)","v":"09:20:00"},{"$f":"VLOOKUP(B32&D32,'[3]점검현황(전월)'!$D$7:$AG$241,26,0)","v":"6,7,9,29"}]
[null,"율곡관",2,151,{"$f":"VLOOKUP(B33&D33,'[3]점검현황(전월)'!$D$7:$AG$241,2,0)","v":"영상회의실"},{"$f":"VLOOKUP(B33&D33,'[3]점검현황(전월)'!$D$7:$AG$241,3,0)","v":"EX500E"},{"$f":"VLOOKUP(B33&D33,'[3]점검현황(전월)'!$D$2:$AG$241,19,0)","v":"e-ST"},{"$f":"VLOOKUP(B33&D33,'[3]점검현황(전월)'!$D$2:$AG$241,25,0)","v":"2016-07-12"},{"$f":"VLOOKUP(B33&D33,'[3]점검현황(전월)'!$D$7:$AG$241,27,0)","v":"2016-11-16"},{"$f":"VLOOKUP(B33&D33,'[3]점검현황(전월)'!$D$7:$AG$241,23,0)","v":1221},{"$f":"VLOOKUP(B33&D33,'[3]점검현황(전월)'!$D$7:$AK$241,24,0)","v":"18:20:00"},{"$f":"VLOOKUP(B33&D33,'[3]점검현황(전월)'!$D$7:$AK$241,34,0)","v":978},105,{"$f":"VLOOKUP(B33&D33,'[3]점검현황(전월)'!$D$7:$AK$241,22,0)","v":"09:30:00"},{"$f":"VLOOKUP(B33&D33,'[3]점검현황(전월)'!$D$7:$AG$241,26,0)","v":"1,6,16(2),21"}]
[null,"율곡관",3,153,{"$f":"VLOOKUP(B34&D34,'[3]점검현황(전월)'!$D$7:$AG$241,2,0)","v":"글로벌라운지 국제협력팀"},{"$f":"VLOOKUP(B34&D34,'[3]점검현황(전월)'!$D$7:$AG$241,3,0)","v":"XU105K"},{"$f":"VLOOKUP(B34&D34,'[3]점검현황(전월)'!$D$2:$AG$241,19,0)","v":"e-ST"},{"$f":"VLOOKUP(B34&D34,'[3]점검현황(전월)'!$D$2:$AG$241,25,0)","v":"2013-04-18"},{"$f":"VLOOKUP(B34&D34,'[3]점검현황(전월)'!$D$7:$AG$241,27,0)","v":"2016-04-18"},{"$f":"VLOOKUP(B34&D34,'[3]점검현황(전월)'!$D$7:$AG$241,23,0)","v":1203},{"$f":"VLOOKUP(B34&D34,'[3]점검현황(전월)'!$D$7:$AK$241,24,0)","v":"14:10:00"},{"$f":"VLOOKUP(B34&D34,'[3]점검현황(전월)'!$D$7:$AK$241,34,0)","v":1393},106,{"$f":"VLOOKUP(B34&D34,'[3]점검현황(전월)'!$D$7:$AK$241,22,0)","v":"09:40:00"},{"$f":"VLOOKUP(B34&D34,'[3]점검현황(전월)'!$D$7:$AG$241,26,0)","v":"."}]
[null,"율곡관",4,154,{"$f":"VLOOKUP(B35&D35,'[3]점검현황(전월)'!$D$7:$AG$241,2,0)","v":"멀티미디어 국제대학원"},{"$f":"VLOOKUP(B35&D35,'[3]점검현황(전월)'!$D$7:$AG$241,3,0)","v":"XT35K"},{"$f":"VLOOKUP(B35&D35,'[3]점검현황(전월)'!$D$2:$AG$241,19,0)","v":"e-ST"},{"$f":"VLOOKUP(B35&D35,'[3]점검현황(전월)'!$D$2:$AG$241,25,0)","v":"2016-06-03"},{"$f":"VLOOKUP(B35&D35,'[3]점검현황(전월)'!$D$7:$AG$241,27,0)","v":"2016-06-03"},{"$f":"VLOOKUP(B35&D35,'[3]점검현황(전월)'!$D$7:$AG$241,23,0)","v":1219},{"$f":"VLOOKUP(B35&D35,'[3]점검현황(전월)'!$D$7:$AK$241,24,0)","v":"14:30:00"},{"$f":"VLOOKUP(B35&D35,'[3]점검현황(전월)'!$D$7:$AK$241,34,0)","v":646},106,{"$f":"VLOOKUP(B35&D35,'[3]점검현황(전월)'!$D$7:$AK$241,22,0)","v":"09:50:00"},{"$f":"VLOOKUP(B35&D35,'[3]점검현황(전월)'!$D$7:$AG$241,26,0)","v":"19,"}]
[null,"율곡관",5,157,{"$f":"VLOOKUP(B36&D36,'[3]점검현황(전월)'!$D$7:$AG$241,2,0)","v":"사회대 (PC실)"},{"$f":"VLOOKUP(B36&D36,'[3]점검현황(전월)'!$D$7:$AG$241,3,0)","v":"XU106K"},{"$f":"VLOOKUP(B36&D36,'[3]점검현황(전월)'!$D$2:$AG$241,19,0)","v":"e-ST"},{"$f":"VLOOKUP(B36&D36,'[3]점검현황(전월)'!$D$2:$AG$241,25,0)","v":"2016-04-05"},{"$f":"VLOOKUP(B36&D36,'[3]점검현황(전월)'!$D$7:$AG$241,27,0)","v":"2015-04-16"},{"$f":"VLOOKUP(B36&D36,'[3]점검현황(전월)'!$D$7:$AG$241,23,0)","v":1205},{"$f":"VLOOKUP(B36&D36,'[3]점검현황(전월)'!$D$7:$AK$241,24,0)","v":"09:00:00"},{"$f":"VLOOKUP(B36&D36,'[3]점검현황(전월)'!$D$7:$AK$241,34,0)","v":586},106,{"$f":"VLOOKUP(B36&D36,'[3]점검현황(전월)'!$D$7:$AK$241,22,0)","v":"10:00:00"},{"$f":"VLOOKUP(B36&D36,'[3]점검현황(전월)'!$D$7:$AG$241,26,0)","v":"."}]
[null,"율곡관",6,204,{"$f":"VLOOKUP(B37&D37,'[3]점검현황(전월)'!$D$7:$AG$241,2,0)","v":"제1회의실"},{"$f":"VLOOKUP(B37&D37,'[3]점검현황(전월)'!$D$7:$AG$241,3,0)","v":"XM100K"},{"$f":"VLOOKUP(B37&D37,'[3]점검현황(전월)'!$D$2:$AG$241,19,0)","v":"자체"},{"$f":"VLOOKUP(B37&D37,'[3]점검현황(전월)'!$D$2:$AG$241,25,0)","v":"2014-08-20"},{"$f":"VLOOKUP(B37&D37,'[3]점검현황(전월)'!$D$7:$AG$241,27,0)","v":"."},{"$f":"VLOOKUP(B37&D37,'[3]점검현황(전월)'!$D$7:$AG$241,23,0)","v":1226},{"$f":"VLOOKUP(B37&D37,'[3]점검현황(전월)'!$D$7:$AK$241,24,0)","v":"11:50:00"},{"$f":"VLOOKUP(B37&D37,'[3]점검현황(전월)'!$D$7:$AK$241,34,0)","v":975},106,{"$f":"VLOOKUP(B37&D37,'[3]점검현황(전월)'!$D$7:$AK$241,22,0)","v":"10:10:00"},{"$f":"VLOOKUP(B37&D37,'[3]점검현황(전월)'!$D$7:$AG$241,26,0)","v":"5,7,16,26"}]
[null,"율곡관",7,252,{"$f":"VLOOKUP(B38&D38,'[3]점검현황(전월)'!$D$7:$AG$241,2,0)","v":"정치외교"},{"$f":"VLOOKUP(B38&D38,'[3]점검현황(전월)'!$D$7:$AG$241,3,0)","v":"VX400"},{"$f":"VLOOKUP(B38&D38,'[3]점검현황(전월)'!$D$2:$AG$241,19,0)","v":"e-ST"},{"$f":"VLOOKUP(B38&D38,'[3]점검현황(전월)'!$D$2:$AG$241,25,0)","v":"2013-11-24"},{"$f":"VLOOKUP(B38&D38,'[3]점검현황(전월)'!$D$7:$AG$241,27,0)","v":"·"},{"$f":"VLOOKUP(B38&D38,'[3]점검현황(전월)'!$D$7:$AG$241,23,0)","v":1205},{"$f":"VLOOKUP(B38&D38,'[3]점검현황(전월)'!$D$7:$AK$241,24,0)","v":"09:20:00"},{"$f":"VLOOKUP(B38&D38,'[3]점검현황(전월)'!$D$7:$AK$241,34,0)","v":2068},106,{"$f":"VLOOKUP(B38&D38,'[3]점검현황(전월)'!$D$7:$AK$241,22,0)","v":"10:20:00"},{"$f":"VLOOKUP(B38&D38,'[3]점검현황(전월)'!$D$7:$AG$241,26,0)","v":"."}]
[null,"율곡관",8,253,{"$f":"VLOOKUP(B39&D39,'[3]점검현황(전월)'!$D$7:$AG$241,2,0)","v":"멀티미디어"},{"$f":"VLOOKUP(B39&D39,'[3]점검현황(전월)'!$D$7:$AG$241,3,0)","v":"XU106K"},{"$f":"VLOOKUP(B39&D39,'[3]점검현황(전월)'!$D$2:$AG$241,19,0)","v":"구"},{"$f":"VLOOKUP(B39&D39,'[3]점검현황(전월)'!$D$2:$AG$241,25,0)","v":"2016-01-09"},{"$f":"VLOOKUP(B39&D39,'[3]점검현황(전월)'!$D$7:$AG$241,27,0)","v":"2016-06-22"},{"$f":"VLOOKUP(B39&D39,'[3]점검현황(전월)'!$D$7:$AG$241,23,0)","v":1205},{"$f":"VLOOKUP(B39&D39,'[3]점검현황(전월)'!$D$7:$AK$241,24,0)","v":"09:30:00"},{"$f":"VLOOKUP(B39&D39,'[3]점검현황(전월)'!$D$7:$AK$241,34,0)","v":1061},106,{"$f":"VLOOKUP(B39&D39,'[3]점검현황(전월)'!$D$7:$AK$241,22,0)","v":"10:30:00"},{"$f":"VLOOKUP(B39&D39,'[3]점검현황(전월)'!$D$7:$AG$241,26,0)","v":"."}]
[null,"율곡관",9,254,{"$f":"VLOOKUP(B40&D40,'[3]점검현황(전월)'!$D$7:$AG$241,2,0)","v":"멀티미디어 (자동녹화)"},{"$f":"VLOOKUP(B40&D40,'[3]점검현황(전월)'!$D$7:$AG$241,3,0)","v":"XU106K"},{"$f":"VLOOKUP(B40&D40,'[3]점검현황(전월)'!$D$2:$AG$241,19,0)","v":"구e-ST"},{"$f":"VLOOKUP(B40&D40,'[3]점검현황(전월)'!$D$2:$AG$241,25,0)","v":"2016-12-08"},{"$f":"VLOOKUP(B40&D40,'[3]점검현황(전월)'!$D$7:$AG$241,27,0)","v":"2016-12-08"},{"$f":"VLOOKUP(B40&D40,'[3]점검현황(전월)'!$D$7:$AG$241,23,0)","v":1228},{"$f":"VLOOKUP(B40&D40,'[3]점검현황(전월)'!$D$7:$AK$241,24,0)","v":"09:40:00"},{"$f":"VLOOKUP(B40&D40,'[3]점검현황(전월)'!$D$7:$AK$241,34,0)","v":0},106,{"$f":"VLOOKUP(B40&D40,'[3]점검현황(전월)'!$D$7:$AK$241,22,0)","v":"10:40:00"},{"$f":"VLOOKUP(B40&D40,'[3]점검현황(전월)'!$D$7:$AG$241,26,0)","v":"6,8,12,28"}]
[null,"율곡관",10,255,{"$f":"VLOOKUP(B41&D41,'[3]점검현황(전월)'!$D$7:$AG$241,2,0)","v":"행정학"},{"$f":"VLOOKUP(B41&D41,'[3]점검현황(전월)'!$D$7:$AG$241,3,0)","v":"EX500E"},{"$f":"VLOOKUP(B41&D41,'[3]점검현황(전월)'!$D$2:$AG$241,19,0)","v":"e-ST"},{"$f":"VLOOKUP(B41&D41,'[3]점검현황(전월)'!$D$2:$AG$241,25,0)","v":"2016-04-07"},{"$f":"VLOOKUP(B41&D41,'[3]점검현황(전월)'!$D$7:$AG$241,27,0)","v":"·"},{"$f":"VLOOKUP(B41&D41,'[3]점검현황(전월)'!$D$7:$AG$241,23,0)","v":1205},{"$f":"VLOOKUP(B41&D41,'[3]점검현황(전월)'!$D$7:$AK$241,24,0)","v":"09:50:00"},{"$f":"VLOOKUP(B41&D41,'[3]점검현황(전월)'!$D$7:$AK$241,34,0)","v":903},106,{"$f":"VLOOKUP(B41&D41,'[3]점검현황(전월)'!$D$7:$AK$241,22,0)","v":"10:50:00"},{"$f":"VLOOKUP(B41&D41,'[3]점검현황(전월)'!$D$7:$AG$241,26,0)","v":"."}]
[null,"율곡관",11,256,{"$f":"VLOOKUP(B42&D42,'[3]점검현황(전월)'!$D$7:$AG$241,2,0)","v":"심리학"},{"$f":"VLOOKUP(B42&D42,'[3]점검현황(전월)'!$D$7:$AG$241,3,0)","v":"EX500E"},{"$f":"VLOOKUP(B42&D42,'[3]점검현황(전월)'!$D$2:$AG$241,19,0)","v":"e-ST"},{"$f":"VLOOKUP(B42&D42,'[3]점검현황(전월)'!$D$2:$AG$241,25,0)","v":"2015-09-15"},{"$f":"VLOOKUP(B42&D42,'[3]점검현황(전월)'!$D$7:$AG$241,27,0)","v":"·"},{"$f":"VLOOKUP(B42&D42,'[3]점검현황(전월)'!$D$7:$AG$241,23,0)","v":1206},{"$f":"VLOOKUP(B42&D42,'[3]점검현황(전월)'!$D$7:$AK$241,24,0)","v":"10:25:00"},{"$f":"VLOOKUP(B42&D42,'[3]점검현황(전월)'!$D$7:$AK$241,34,0)","v":1515},106,{"$f":"VLOOKUP(B42&D42,'[3]점검현황(전월)'!$D$7:$AK$241,22,0)","v":"11:00:00"},{"$f":"VLOOKUP(B42&D42,'[3]점검현황(전월)'!$D$7:$AG$241,26,0)","v":"."}]
[null,"율곡관",12,257,{"$f":"VLOOKUP(B43&D43,'[3]점검현황(전월)'!$D$7:$AG$241,2,0)","v":"사회학"},{"$f":"VLOOKUP(B43&D43,'[3]점검현황(전월)'!$D$7:$AG$241,3,0)","v":"EX500E"},{"$f":"VLOOKUP(B43&D43,'[3]점검현황(전월)'!$D$2:$AG$241,19,0)","v":"e-ST"},{"$f":"VLOOKUP(B43&D43,'[3]점검현황(전월)'!$D$2:$AG$241,25,0)","v":"2015-08-20"},{"$f":"VLOOKUP(B43&D43,'[3]점검현황(전월)'!$D$7:$AG$241,27,0)","v":"·"},{"$f":"VLOOKUP(B43&D43,'[3]점검현황(전월)'!$D$7:$AG$241,23,0)","v":1206},{"$f":"VLOOKUP(B43&D43,'[3]점검현황(전월)'!$D$7:$AK$241,24,0)","v":"10:10:00"},{"$f":"VLOOKUP(B43&D43,'[3]점검현황(전월)'!$D$7:$AK$241,34,0)","v":1605},106,{"$f":"VLOOKUP(B43&D43,'[3]점검현황(전월)'!$D$7:$AK$241,22,0)","v":"11:10:00"},{"$f":"VLOOKUP(B43&D43,'[3]점검현황(전월)'!$D$7:$AG$241,26,0)","v":"."}]
[null,"율곡관",13,258,{"$f":"VLOOKUP(B44&D44,'[3]점검현황(전월)'!$D$7:$AG$241,2,0)","v":"멀티미디어 (자동녹화)"},{"$f":"VLOOKUP(B44&D44,'[3]점검현황(전월)'!$D$7:$AG$241,3,0)","v":"VX421"},{"$f":"VLOOKUP(B44&D44,'[3]점검현황(전월)'!$D$2:$AG$241,19,0)","v":"e-ST"},{"$f":"VLOOKUP(B44&D44,'[3]점검현황(전월)'!$D$2:$AG$241,25,0)","v":"2015-08-31"},{"$f":"VLOOKUP(B44&D44,'[3]점검현황(전월)'!$D$7:$AG$241,27,0)","v":"2015-08-31"},{"$f":"VLOOKUP(B44&D44,'[3]점검현황(전월)'!$D$7:$AG$241,23,0)","v":1212},{"$f":"VLOOKUP(B44&D44,'[3]점검현황(전월)'!$D$7:$AK$241,24,0)","v":"10:20:00"},{"$f":"VLOOKUP(B44&D44,'[3]점검현황(전월)'!$D$7:$AK$241,34,0)","v":1317},107,{"$f":"VLOOKUP(B44&D44,'[3]점검현황(전월)'!$D$7:$AK$241,22,0)","v":"11:20:00"},{"$f":"VLOOKUP(B44&D44,'[3]점검현황(전월)'!$D$7:$AG$241,26,0)","v":"12,"}]
[null,"율곡관",14,259,{"$f":"VLOOKUP(B45&D45,'[3]점검현황(전월)'!$D$7:$AG$241,2,0)","v":"멀티미디어"},{"$f":"VLOOKUP(B45&D45,'[3]점검현황(전월)'!$D$7:$AG$241,3,0)","v":"VX600"},{"$f":"VLOOKUP(B45&D45,'[3]점검현황(전월)'!$D$2:$AG$241,19,0)","v":"e-ST"},{"$f":"VLOOKUP(B45&D45,'[3]점검현황(전월)'!$D$2:$AG$241,25,0)","v":"2014-12-23"},{"$f":"VLOOKUP(B45&D45,'[3]점검현황(전월)'!$D$7:$AG$241,27,0)","v":"2016-08-12"},{"$f":"VLOOKUP(B45&D45,'[3]점검현황(전월)'!$D$7:$AG$241,23,0)","v":1229},{"$f":"VLOOKUP(B45&D45,'[3]점검현황(전월)'!$D$7:$AK$241,24,0)","v":"10:30:00"},{"$f":"VLOOKUP(B45&D45,'[3]점검현황(전월)'!$D$7:$AK$241,34,0)","v":2147},107,{"$f":"VLOOKUP(B45&D45,'[3]점검현황(전월)'!$D$7:$AK$241,22,0)","v":"11:30:00"},{"$f":"VLOOKUP(B45&D45,'[3]점검현황(전월)'!$D$7:$AG$241,26,0)","v":"14,29"}]
[null,"율곡관",15,260,{"$f":"VLOOKUP(B46&D46,'[3]점검현황(전월)'!$D$7:$AG$241,2,0)","v":"멀티미디어 (자동녹화)"},{"$f":"VLOOKUP(B46&D46,'[3]점검현황(전월)'!$D$7:$AG$241,3,0)","v":"XU106K"},{"$f":"VLOOKUP(B46&D46,'[3]점검현황(전월)'!$D$2:$AG$241,19,0)","v":"구e-ST"},{"$f":"VLOOKUP(B46&D46,'[3]점검현황(전월)'!$D$2:$AG$241,25,0)","v":"2016-01-09"},{"$f":"VLOOKUP(B46&D46,'[3]점검현황(전월)'!$D$7:$AG$241,27,0)","v":"2016-07-14"},{"$f":"VLOOKUP(B46&D46,'[3]점검현황(전월)'!$D$7:$AG$241,23,0)","v":1206},{"$f":"VLOOKUP(B46&D46,'[3]점검현황(전월)'!$D$7:$AK$241,24,0)","v":"10:15:00"},{"$f":"VLOOKUP(B46&D46,'[3]점검현황(전월)'!$D$7:$AK$241,34,0)","v":924},107,{"$f":"VLOOKUP(B46&D46,'[3]점검현황(전월)'!$D$7:$AK$241,22,0)","v":"11:40:00"},{"$f":"VLOOKUP(B46&D46,'[3]점검현황(전월)'!$D$7:$AG$241,26,0)","v":"."}]
[null,"율곡관",16,261,{"$f":"VLOOKUP(B47&D47,'[3]점검현황(전월)'!$D$7:$AG$241,2,0)","v":"멀티미디어 (자동녹화)"},{"$f":"VLOOKUP(B47&D47,'[3]점검현황(전월)'!$D$7:$AG$241,3,0)","v":"XU106K"},{"$f":"VLOOKUP(B47&D47,'[3]점검현황(전월)'!$D$2:$AG$241,19,0)","v":"구e-ST"},{"$f":"VLOOKUP(B47&D47,'[3]점검현황(전월)'!$D$2:$AG$241,25,0)","v":"2016-01-09"},{"$f":"VLOOKUP(B47&D47,'[3]점검현황(전월)'!$D$7:$AG$241,27,0)","v":"2016-09-27"},{"$f":"VLOOKUP(B47&D47,'[3]점검현황(전월)'!$D$7:$AG$241,23,0)","v":1206},{"$f":"VLOOKUP(B47&D47,'[3]점검현황(전월)'!$D$7:$AK$241,24,0)","v":"13:50:00"},{"$f":"VLOOKUP(B47&D47,'[3]점검현황(전월)'!$D$7:$AK$241,34,0)","v":1042},107,{"$f":"VLOOKUP(B47&D47,'[3]점검현황(전월)'!$D$7:$AK$241,22,0)","v":"11:50:00"},{"$f":"VLOOKUP(B47&D47,'[3]점검현황(전월)'!$D$7:$AG$241,26,0)","v":"."}]
[null,"율곡관",17,262,{"$f":"VLOOKUP(B48&D48,'[3]점검현황(전월)'!$D$7:$AG$241,2,0)","v":"멀티미디어"},{"$f":"VLOOKUP(B48&D48,'[3]점검현황(전월)'!$D$7:$AG$241,3,0)","v":"VX421"},{"$f":"VLOOKUP(B48&D48,'[3]점검현황(전월)'!$D$2:$AG$241,19,0)","v":"구"},{"$f":"VLOOKUP(B48&D48,'[3]점검현황(전월)'!$D$2:$AG$241,25,0)","v":"2015-04-28"},{"$f":"VLOOKUP(B48&D48,'[3]점검현황(전월)'!$D$7:$AG$241,27,0)","v":"2016-10-25"},{"$f":"VLOOKUP(B48&D48,'[3]점검현황(전월)'!$D$7:$AG$241,23,0)","v":1207},{"$f":"VLOOKUP(B48&D48,'[3]점검현황(전월)'!$D$7:$AK$241,24,0)","v":"11:00:00"},{"$f":"VLOOKUP(B48&D48,'[3]점검현황(전월)'!$D$7:$AK$241,34,0)","v":481},107,{"$f":"VLOOKUP(B48&D48,'[3]점검현황(전월)'!$D$7:$AK$241,22,0)","v":"12:00:00"},{"$f":"VLOOKUP(B48&D48,'[3]점검현황(전월)'!$D$7:$AG$241,26,0)","v":"."}]
[null,"율곡관",18,354,{"$f":"VLOOKUP(B49&D49,'[3]점검현황(전월)'!$D$7:$AG$241,2,0)","v":"대학원"},{"$f":"VLOOKUP(B49&D49,'[3]점검현황(전월)'!$D$7:$AG$241,3,0)","v":"LB280"},{"$f":"VLOOKUP(B49&D49,'[3]점검현황(전월)'!$D$2:$AG$241,19,0)","v":"구"},{"$f":"VLOOKUP(B49&D49,'[3]점검현황(전월)'!$D$2:$AG$241,25,0)","v":"2015-10-11"},{"$f":"VLOOKUP(B49&D49,'[3]점검현황(전월)'!$D$7:$AG$241,27,0)","v":"2015-07-15"},{"$f":"VLOOKUP(B49&D49,'[3]점검현황(전월)'!$D$7:$AG$241,23,0)","v":1207},{"$f":"VLOOKUP(B49&D49,'[3]점검현황(전월)'!$D$7:$AK$241,24,0)","v":"15:37:00"},{"$f":"VLOOKUP(B49&D49,'[3]점검현황(전월)'!$D$7:$AK$241,34,0)","v":820},107,{"$f":"VLOOKUP(B49&D49,'[3]점검현황(전월)'!$D$7:$AK$241,22,0)","v":"13:00:00"},{"$f":"VLOOKUP(B49&D49,'[3]점검현황(전월)'!$D$7:$AG$241,26,0)","v":"."}]
[null,"율곡관",19,356,{"$f":"VLOOKUP(B50&D50,'[3]점검현황(전월)'!$D$7:$AG$241,2,0)","v":"경제학"},{"$f":"VLOOKUP(B50&D50,'[3]점검현황(전월)'!$D$7:$AG$241,3,0)","v":"EX500E"},{"$f":"VLOOKUP(B50&D50,'[3]점검현황(전월)'!$D$2:$AG$241,19,0)","v":"e-ST"},{"$f":"VLOOKUP(B50&D50,'[3]점검현황(전월)'!$D$2:$AG$241,25,0)","v":"2015-11-23"},{"$f":"VLOOKUP(B50&D50,'[3]점검현황(전월)'!$D$7:$AG$241,27,0)","v":"·"},{"$f":"VLOOKUP(B50&D50,'[3]점검현황(전월)'!$D$7:$AG$241,23,0)","v":1207},{"$f":"VLOOKUP(B50&D50,'[3]점검현황(전월)'!$D$7:$AK$241,24,0)","v":"11:20:00"},{"$f":"VLOOKUP(B50&D50,'[3]점검현황(전월)'!$D$7:$AK$241,34,0)","v":977},107,{"$f":"VLOOKUP(B50&D50,'[3]점검현황(전월)'!$D$7:$AK$241,22,0)","v":"13:10:00"},{"$f":"VLOOKUP(B50&D50,'[3]점검현황(전월)'!$D$7:$AG$241,26,0)","v":"."}]
[null,"율곡관",20,357,{"$f":"VLOOKUP(B51&D51,'[3]점검현황(전월)'!$D$7:$AG$241,2,0)","v":"대학원"},{"$f":"VLOOKUP(B51&D51,'[3]점검현황(전월)'!$D$7:$AG$241,3,0)","v":"VX421"},{"$f":"VLOOKUP(B51&D51,'[3]점검현황(전월)'!$D$2:$AG$241,19,0)","v":"구"},{"$f":"VLOOKUP(B51&D51,'[3]점검현황(전월)'!$D$2:$AG$241,25,0)","v":"2016-02-28"},{"$f":"VLOOKUP(B51&D51,'[3]점검현황(전월)'!$D$7:$AG$241,27,0)","v":"2015-07-24"},{"$f":"VLOOKUP(B51&D51,'[3]점검현황(전월)'!$D$7:$AG$241,23,0)","v":1213},{"$f":"VLOOKUP(B51&D51,'[3]점검현황(전월)'!$D$7:$AK$241,24,0)","v":"11:30:00"},{"$f":"VLOOKUP(B51&D51,'[3]점검현황(전월)'!$D$7:$AK$241,34,0)","v":571},107,{"$f":"VLOOKUP(B51&D51,'[3]점검현황(전월)'!$D$7:$AK$241,22,0)","v":"13:20:00"},{"$f":"VLOOKUP(B51&D51,'[3]점검현황(전월)'!$D$7:$AG$241,26,0)","v":"7,13"}]
[null,"율곡관",21,358,{"$f":"VLOOKUP(B52&D52,'[3]점검현황(전월)'!$D$7:$AG$241,2,0)","v":"멀티미디어 (자동녹화)"},{"$f":"VLOOKUP(B52&D52,'[3]점검현황(전월)'!$D$7:$AG$241,3,0)","v":"VX600"},{"$f":"VLOOKUP(B52&D52,'[3]점검현황(전월)'!$D$2:$AG$241,19,0)","v":"e-ST"},{"$f":"VLOOKUP(B52&D52,'[3]점검현황(전월)'!$D$2:$AG$241,25,0)","v":"2015-08-31"},{"$f":"VLOOKUP(B52&D52,'[3]점검현황(전월)'!$D$7:$AG$241,27,0)","v":"2015-08-31"},{"$f":"VLOOKUP(B52&D52,'[3]점검현황(전월)'!$D$7:$AG$241,23,0)","v":1207},{"$f":"VLOOKUP(B52&D52,'[3]점검현황(전월)'!$D$7:$AK$241,24,0)","v":"13:20:00"},{"$f":"VLOOKUP(B52&D52,'[3]점검현황(전월)'!$D$7:$AK$241,34,0)","v":1428},107,{"$f":"VLOOKUP(B52&D52,'[3]점검현황(전월)'!$D$7:$AK$241,22,0)","v":"13:30:00"},{"$f":"VLOOKUP(B52&D52,'[3]점검현황(전월)'!$D$7:$AG$241,26,0)","v":"6,"}]
[null,"율곡관",22,359,{"$f":"VLOOKUP(B53&D53,'[3]점검현황(전월)'!$D$7:$AG$241,2,0)","v":"멀티미디어"},{"$f":"VLOOKUP(B53&D53,'[3]점검현황(전월)'!$D$7:$AG$241,3,0)","v":"VX600"},{"$f":"VLOOKUP(B53&D53,'[3]점검현황(전월)'!$D$2:$AG$241,19,0)","v":"e-ST"},{"$f":"VLOOKUP(B53&D53,'[3]점검현황(전월)'!$D$2:$AG$241,25,0)","v":"2014-12-23"},{"$f":"VLOOKUP(B53&D53,'[3]점검현황(전월)'!$D$7:$AG$241,27,0)","v":"2016-09-09"},{"$f":"VLOOKUP(B53&D53,'[3]점검현황(전월)'!$D$7:$AG$241,23,0)","v":1207},{"$f":"VLOOKUP(B53&D53,'[3]점검현황(전월)'!$D$7:$AK$241,24,0)","v":"14:47:00"},{"$f":"VLOOKUP(B53&D53,'[3]점검현황(전월)'!$D$7:$AK$241,34,0)","v":2077},107,{"$f":"VLOOKUP(B53&D53,'[3]점검현황(전월)'!$D$7:$AK$241,22,0)","v":"13:40:00"},{"$f":"VLOOKUP(B53&D53,'[3]점검현황(전월)'!$D$7:$AG$241,26,0)","v":"."}]
[null,"율곡관",23,425,{"$f":"VLOOKUP(B54&D54,'[3]점검현황(전월)'!$D$7:$AG$241,2,0)","v":"대학원"},{"$f":"VLOOKUP(B54&D54,'[3]점검현황(전월)'!$D$7:$AG$241,3,0)","v":"XT35K"},{"$f":"VLOOKUP(B54&D54,'[3]점검현황(전월)'!$D$2:$AG$241,19,0)","v":"구"},{"$f":"VLOOKUP(B54&D54,'[3]점검현황(전월)'!$D$2:$AG$241,25,0)","v":"2016-01-09"},{"$f":"VLOOKUP(B54&D54,'[3]점검현황(전월)'!$D$7:$AG$241,27,0)","v":"2016-11-22"},{"$f":"VLOOKUP(B54&D54,'[3]점검현황(전월)'!$D$7:$AG$241,23,0)","v":1208},{"$f":"VLOOKUP(B54&D54,'[3]점검현황(전월)'!$D$7:$AK$241,24,0)","v":"12:00:00"},{"$f":"VLOOKUP(B54&D54,'[3]점검현황(전월)'!$D$7:$AK$241,34,0)","v":314},107,{"$f":"VLOOKUP(B54&D54,'[3]점검현황(전월)'!$D$7:$AK$241,22,0)","v":"08:30:00"},{"$f":"VLOOKUP(B54&D54,'[3]점검현황(전월)'!$D$7:$AG$241,26,0)","v":"2,"}]
[null,"율곡관",24,528,{"$f":"VLOOKUP(B55&D55,'[3]점검현황(전월)'!$D$7:$AG$241,2,0)","v":"대학원"},{"$f":"VLOOKUP(B55&D55,'[3]점검현황(전월)'!$D$7:$AG$241,3,0)","v":"XU106K"},{"$f":"VLOOKUP(B55&D55,'[3]점검현황(전월)'!$D$2:$AG$241,19,0)","v":"구"},{"$f":"VLOOKUP(B55&D55,'[3]점검현황(전월)'!$D$2:$AG$241,25,0)","v":"2016-01-18"},{"$f":"VLOOKUP(B55&D55,'[3]점검현황(전월)'!$D$7:$AG$241,27,0)","v":"2015-07-20"},{"$f":"VLOOKUP(B55&D55,'[3]점검현황(전월)'!$D$7:$AG$241,23,0)","v":1208},{"$f":"VLOOKUP(B55&D55,'[3]점검현황(전월)'!$D$7:$AK$241,24,0)","v":"12:00:00"},{"$f":"VLOOKUP(B55&D55,'[3]점검현황(전월)'!$D$7:$AK$241,34,0)","v":453},107,{"$f":"VLOOKUP(B55&D55,'[3]점검현황(전월)'!$D$7:$AK$241,22,0)","v":"08:30:00"},{"$f":"VLOOKUP(B55&D55,'[3]점검현황(전월)'!$D$7:$AG$241,26,0)","v":"."}]
["성호관","성호관",1,"소극장",{"$f":"VLOOKUP(B56&D56,'[3]점검현황(전월)'!$D$7:$AG$241,2,0)","v":"소극장 135호"},{"$f":"VLOOKUP(B56&D56,'[3]점검현황(전월)'!$D$7:$AG$241,3,0)","v":"EX16KE"},{"$f":"VLOOKUP(B56&D56,'[3]점검현황(전월)'!$D$2:$AG$241,19,0)","v":"e-ST"},{"$f":"VLOOKUP(B56&D56,'[3]점검현황(전월)'!$D$2:$AG$241,25,0)","v":"2014-04-15"},{"$f":"VLOOKUP(B56&D56,'[3]점검현황(전월)'!$D$7:$AG$241,27,0)","v":"·"},{"$f":"VLOOKUP(B56&D56,'[3]점검현황(전월)'!$D$7:$AG$241,23,0)","v":1208},{"$f":"VLOOKUP(B56&D56,'[3]점검현황(전월)'!$D$7:$AK$241,24,0)","v":"10:00:00"},{"$f":"VLOOKUP(B56&D56,'[3]점검현황(전월)'!$D$7:$AK$241,34,0)","v":"1358/698/1358/398"},107,{"$f":"VLOOKUP(B56&D56,'[3]점검현황(전월)'!$D$7:$AK$241,22,0)","v":"08:50:00"},{"$f":"VLOOKUP(B56&D56,'[3]점검현황(전월)'!$D$7:$AG$241,26,0)","v":"2(2),5"}]
[null,"성호관",2,103,{"$f":"VLOOKUP(B57&D57,'[3]점검현황(전월)'!$D$7:$AG$241,2,0)","v":"인문대 (PC실)"},{"$f":"VLOOKUP(B57&D57,'[3]점검현황(전월)'!$D$7:$AG$241,3,0)","v":"XT35K"},{"$f":"VLOOKUP(B57&D57,'[3]점검현황(전월)'!$D$2:$AG$241,19,0)","v":"e-ST"},{"$f":"VLOOKUP(B57&D57,'[3]점검현황(전월)'!$D$2:$AG$241,25,0)","v":"2016-06-13"},{"$f":"VLOOKUP(B57&D57,'[3]점검현황(전월)'!$D$7:$AG$241,27,0)","v":"2014-12-19"},{"$f":"VLOOKUP(B57&D57,'[3]점검현황(전월)'!$D$7:$AG$241,23,0)","v":1208},{"$f":"VLOOKUP(B57&D57,'[3]점검현황(전월)'!$D$7:$AK$241,24,0)","v":"13:20:00"},{"$f":"VLOOKUP(B57&D57,'[3]점검현황(전월)'!$D$7:$AK$241,34,0)","v":418},107,{"$f":"VLOOKUP(B57&D57,'[3]점검현황(전월)'!$D$7:$AK$241,22,0)","v":"19:00:00"},{"$f":"VLOOKUP(B57&D57,'[3]점검현황(전월)'!$D$7:$AG$241,26,0)","v":"."}]
[null,"성호관",3,104,{"$f":"VLOOKUP(B58&D58,'[3]점검현황(전월)'!$D$7:$AG$241,2,0)","v":"멀티미디어"},{"$f":"VLOOKUP(B58&D58,'[3]점검현황(전월)'!$D$7:$AG$241,3,0)","v":"XU106K"},{"$f":"VLOOKUP(B58&D58,'[3]점검현황(전월)'!$D$2:$AG$241,19,0)","v":"e-ST"},{"$f":"VLOOKUP(B58&D58,'[3]점검현황(전월)'!$D$2:$AG$241,25,0)","v":"2016-11-15"},{"$f":"VLOOKUP(B58&D58,'[3]점검현황(전월)'!$D$7:$AG$241,27,0)","v":"2016-04-18"},{"$f":"VLOOKUP(B58&D58,'[3]점검현황(전월)'!$D$7:$AG$241,23,0)","v":1208},{"$f":"VLOOKUP(B58&D58,'[3]점검현황(전월)'!$D$7:$AK$241,24,0)","v":"12:10:00"},{"$f":"VLOOKUP(B58&D58,'[3]점검현황(전월)'!$D$7:$AK$241,34,0)","v":124},107,{"$f":"VLOOKUP(B58&D58,'[3]점검현황(전월)'!$D$7:$AK$241,22,0)","v":"19:10:00"},{"$f":"VLOOKUP(B58&D58,'[3]점검현황(전월)'!$D$7:$AG$241,26,0)","v":"."}]
[null,"성호관",4,105,{"$f":"VLOOKUP(B59&D59,'[3]점검현황(전월)'!$D$7:$AG$241,2,0)","v":"멀티미디어"},{"$f":"VLOOKUP(B59&D59,'[3]점검현황(전월)'!$D$7:$AG$241,3,0)","v":"VX410Z"},{"$f":"VLOOKUP(B59&D59,'[3]점검현황(전월)'!$D$2:$AG$241,19,0)","v":"e-ST"},{"$f":"VLOOKUP(B59&D59,'[3]점검현황(전월)'!$D$2:$AG$241,25,0)","v":"2014-12-23"},{"$f":"VLOOKUP(B59&D59,'[3]점검현황(전월)'!$D$7:$AG$241,27,0)","v":"2016-07-22"},{"$f":"VLOOKUP(B59&D59,'[3]점검현황(전월)'!$D$7:$AG$241,23,0)","v":1216},{"$f":"VLOOKUP(B59&D59,'[3]점검현황(전월)'!$D$7:$AK$241,24,0)","v":"11:40:00"},{"$f":"VLOOKUP(B59&D59,'[3]점검현황(전월)'!$D$7:$AK$241,34,0)","v":1759},107,{"$f":"VLOOKUP(B59&D59,'[3]점검현황(전월)'!$D$7:$AK$241,22,0)","v":"19:20:00"},{"$f":"VLOOKUP(B59&D59,'[3]점검현황(전월)'!$D$7:$AG$241,26,0)","v":"12,16"}]
[null,"성호관",5,131,{"$f":"VLOOKUP(B60&D60,'[3]점검현황(전월)'!$D$7:$AG$241,2,0)","v":"멀티미디어 (자동녹화)"},{"$f":"VLOOKUP(B60&D60,'[3]점검현황(전월)'!$D$7:$AG$241,3,0)","v":"VX600"},{"$f":"VLOOKUP(B60&D60,'[3]점검현황(전월)'!$D$2:$AG$241,19,0)","v":"e-ST"},{"$f":"VLOOKUP(B60&D60,'[3]점검현황(전월)'!$D$2:$AG$241,25,0)","v":"2015-08-31"},{"$f":"VLOOKUP(B60&D60,'[3]점검현황(전월)'!$D$7:$AG$241,27,0)","v":"2016-12-16"},{"$f":"VLOOKUP(B60&D60,'[3]점검현황(전월)'!$D$7:$AG$241,23,0)","v":1216},{"$f":"VLOOKUP(B60&D60,'[3]점검현황(전월)'!$D$7:$AK$241,24,0)","v":"10:35:00"},{"$f":"VLOOKUP(B60&D60,'[3]점검현황(전월)'!$D$7:$AK$241,34,0)","v":1522},107,{"$f":"VLOOKUP(B60&D60,'[3]점검현황(전월)'!$D$7:$AK$241,22,0)","v":"08:30:00"},{"$f":"VLOOKUP(B60&D60,'[3]점검현황(전월)'!$D$7:$AG$241,26,0)","v":"2,16"}]
[null,"성호관",6,132,{"$f":"VLOOKUP(B61&D61,'[3]점검현황(전월)'!$D$7:$AG$241,2,0)","v":"멀티미디어"},{"$f":"VLOOKUP(B61&D61,'[3]점검현황(전월)'!$D$7:$AG$241,3,0)","v":"XU106K"},{"$f":"VLOOKUP(B61&D61,'[3]점검현황(전월)'!$D$2:$AG$241,19,0)","v":"e-ST"},{"$f":"VLOOKUP(B61&D61,'[3]점검현황(전월)'!$D$2:$AG$241,25,0)","v":"2016-01-20"},{"$f":"VLOOKUP(B61&D61,'[3]점검현황(전월)'!$D$7:$AG$241,27,0)","v":"2016-08-30"},{"$f":"VLOOKUP(B61&D61,'[3]점검현황(전월)'!$D$7:$AG$241,23,0)","v":1209},{"$f":"VLOOKUP(B61&D61,'[3]점검현황(전월)'!$D$7:$AK$241,24,0)","v":"19:30:00"},{"$f":"VLOOKUP(B61&D61,'[3]점검현황(전월)'!$D$7:$AK$241,34,0)","v":1116},107,{"$f":"VLOOKUP(B61&D61,'[3]점검현황(전월)'!$D$7:$AK$241,22,0)","v":"08:40:00"},{"$f":"VLOOKUP(B61&D61,'[3]점검현황(전월)'!$D$7:$AG$241,26,0)","v":"."}]
[null,"성호관",7,133,{"$f":"VLOOKUP(B62&D62,'[3]점검현황(전월)'!$D$7:$AG$241,2,0)","v":"멀티미디어"},{"$f":"VLOOKUP(B62&D62,'[3]점검현황(전월)'!$D$7:$AG$241,3,0)","v":"VX410Z"},{"$f":"VLOOKUP(B62&D62,'[3]점검현황(전월)'!$D$2:$AG$241,19,0)","v":"e-ST"},{"$f":"VLOOKUP(B62&D62,'[3]점검현황(전월)'!$D$2:$AG$241,25,0)","v":"2014-12-23"},{"$f":"VLOOKUP(B62&D62,'[3]점검현황(전월)'!$D$7:$AG$241,27,0)","v":"2016-08-12"},{"$f":"VLOOKUP(B62&D62,'[3]점검현황(전월)'!$D$7:$AG$241,23,0)","v":1209},{"$f":"VLOOKUP(B62&D62,'[3]점검현황(전월)'!$D$7:$AK$241,24,0)","v":"08:30:00"},{"$f":"VLOOKUP(B62&D62,'[3]점검현황(전월)'!$D$7:$AK$241,34,0)","v":1597},107,{"$f":"VLOOKUP(B62&D62,'[3]점검현황(전월)'!$D$7:$AK$241,22,0)","v":"08:50:00"},{"$f":"VLOOKUP(B62&D62,'[3]점검현황(전월)'!$D$7:$AG$241,26,0)","v":"."}]
[null,"성호관",8,201,{"$f":"VLOOKUP(B63&D63,'[3]점검현황(전월)'!$D$7:$AG$241,2,0)","v":"멀티미디어"},{"$f":"VLOOKUP(B63&D63,'[3]점검현황(전월)'!$D$7:$AG$241,3,0)","v":"XU106K"},{"$f":"VLOOKUP(B63&D63,'[3]점검현황(전월)'!$D$2:$AG$241,19,0)","v":"e-ST"},{"$f":"VLOOKUP(B63&D63,'[3]점검현황(전월)'!$D$2:$AG$241,25,0)","v":"2016-10-18"},{"$f":"VLOOKUP(B63&D63,'[3]점검현황(전월)'!$D$7:$AG$241,27,0)","v":"2016-12-26"},{"$f":"VLOOKUP(B63&D63,'[3]점검현황(전월)'!$D$7:$AG$241,23,0)","v":1226},{"$f":"VLOOKUP(B63&D63,'[3]점검현황(전월)'!$D$7:$AK$241,24,0)","v":"08:40:00"},{"$f":"VLOOKUP(B63&D63,'[3]점검현황(전월)'!$D$7:$AK$241,34,0)","v":67},107,{"$f":"VLOOKUP(B63&D63,'[3]점검현황(전월)'!$D$7:$AK$241,22,0)","v":"19:00:00"},{"$f":"VLOOKUP(B63&D63,'[3]점검현황(전월)'!$D$7:$AG$241,26,0)","v":"26,"}]
[null,"성호관",9,"201-1",{"$f":"VLOOKUP(B64&D64,'[3]점검현황(전월)'!$D$7:$AG$241,2,0)","v":"멀티미디어"},{"$f":"VLOOKUP(B64&D64,'[3]점검현황(전월)'!$D$7:$AG$241,3,0)","v":"XU106K"},{"$f":"VLOOKUP(B64&D64,'[3]점검현황(전월)'!$D$2:$AG$241,19,0)","v":"구"},{"$f":"VLOOKUP(B64&D64,'[3]점검현황(전월)'!$D$2:$AG$241,25,0)","v":"2015-06-13"},{"$f":"VLOOKUP(B64&D64,'[3]점검현황(전월)'!$D$7:$AG$241,27,0)","v":"2016-06-17"},{"$f":"VLOOKUP(B64&D64,'[3]점검현황(전월)'!$D$7:$AG$241,23,0)","v":1215},{"$f":"VLOOKUP(B64&D64,'[3]점검현황(전월)'!$D$7:$AK$241,24,0)","v":"18:50:00"},{"$f":"VLOOKUP(B64&D64,'[3]점검현황(전월)'!$D$7:$AK$241,34,0)","v":1117},109,{"$f":"VLOOKUP(B64&D64,'[3]점검현황(전월)'!$D$7:$AK$241,22,0)","v":"19:10:00"},{"$f":"VLOOKUP(B64&D64,'[3]점검현황(전월)'!$D$7:$AG$241,26,0)","v":"15,"}]
[null,"성호관",10,202,{"$f":"VLOOKUP(B65&D65,'[3]점검현황(전월)'!$D$7:$AG$241,2,0)","v":"멀티미디어"},{"$f":"VLOOKUP(B65&D65,'[3]점검현황(전월)'!$D$7:$AG$241,3,0)","v":"VX410Z"},{"$f":"VLOOKUP(B65&D65,'[3]점검현황(전월)'!$D$2:$AG$241,19,0)","v":"e-ST"},{"$f":"VLOOKUP(B65&D65,'[3]점검현황(전월)'!$D$2:$AG$241,25,0)","v":"2014-12-23"},{"$f":"VLOOKUP(B65&D65,'[3]점검현황(전월)'!$D$7:$AG$241,27,0)","v":"2016-08-22"},{"$f":"VLOOKUP(B65&D65,'[3]점검현황(전월)'!$D$7:$AG$241,23,0)","v":1209},{"$f":"VLOOKUP(B65&D65,'[3]점검현황(전월)'!$D$7:$AK$241,24,0)","v":"19:00:00"},{"$f":"VLOOKUP(B65&D65,'[3]점검현황(전월)'!$D$7:$AK$241,34,0)","v":1082},109,{"$f":"VLOOKUP(B65&D65,'[3]점검현황(전월)'!$D$7:$AK$241,22,0)","v":"19:20:00"},{"$f":"VLOOKUP(B65&D65,'[3]점검현황(전월)'!$D$7:$AG$241,26,0)","v":"."}]
[null,"성호관",11,203,{"$f":"VLOOKUP(B66&D66,'[3]점검현황(전월)'!$D$7:$AG$241,2,0)","v":"멀티미디어 (자동녹화)"},{"$f":"VLOOKUP(B66&D66,'[3]점검현황(전월)'!$D$7:$AG$241,3,0)","v":"VX421"},{"$f":"VLOOKUP(B66&D66,'[3]점검현황(전월)'!$D$2:$AG$241,19,0)","v":"e-ST"},{"$f":"VLOOKUP(B66&D66,'[3]점검현황(전월)'!$D$2:$AG$241,25,0)","v":"2015-08-31"},{"$f":"VLOOKUP(B66&D66,'[3]점검현황(전월)'!$D$7:$AG$241,27,0)","v":"2016-11-07"},{"$f":"VLOOKUP(B66&D66,'[3]점검현황(전월)'!$D$7:$AG$241,23,0)","v":1210},{"$f":"VLOOKUP(B66&D66,'[3]점검현황(전월)'!$D$7:$AK$241,24,0)","v":"17:22:00"},{"$f":"VLOOKUP(B66&D66,'[3]점검현황(전월)'!$D$7:$AK$241,34,0)","v":1137},109,{"$f":"VLOOKUP(B66&D66,'[3]점검현황(전월)'!$D$7:$AK$241,22,0)","v":"08:30:00"},{"$f":"VLOOKUP(B66&D66,'[3]점검현황(전월)'!$D$7:$AG$241,26,0)","v":"."}]
[null,"성호관",12,204,{"$f":"VLOOKUP(B67&D67,'[3]점검현황(전월)'!$D$7:$AG$241,2,0)","v":"멀티미디어 (자동녹화)"},{"$f":"VLOOKUP(B67&D67,'[3]점검현황(전월)'!$D$7:$AG$241,3,0)","v":"XU106K"},{"$f":"VLOOKUP(B67&D67,'[3]점검현황(전월)'!$D$2:$AG$241,19,0)","v":"e-ST"},{"$f":"VLOOKUP(B67&D67,'[3]점검현황(전월)'!$D$2:$AG$241,25,0)","v":"2016-01-18"},{"$f":"VLOOKUP(B67&D67,'[3]점검현황(전월)'!$D$7:$AG$241,27,0)","v":"2016-12-26"},{"$f":"VLOOKUP(B67&D67,'[3]점검현황(전월)'!$D$7:$AG$241,23,0)","v":1226},{"$f":"VLOOKUP(B67&D67,'[3]점검현황(전월)'!$D$7:$AK$241,24,0)","v":"19:20:00"},{"$f":"VLOOKUP(B67&D67,'[3]점검현황(전월)'!$D$7:$AK$241,34,0)","v":741},109,{"$f":"VLOOKUP(B67&D67,'[3]점검현황(전월)'!$D$7:$AK$241,22,0)","v":"08:40:00"},{"$f":"VLOOKUP(B67&D67,'[3]점검현황(전월)'!$D$7:$AG$241,26,0)","v":"26,"}]
[null,"성호관",13,205,{"$f":"VLOOKUP(B68&D68,'[3]점검현황(전월)'!$D$7:$AG$241,2,0)","v":"멀티미디어 (자동녹화)"},{"$f":"VLOOKUP(B68&D68,'[3]점검현황(전월)'!$D$7:$AG$241,3,0)","v":"XU106K"},{"$f":"VLOOKUP(B68&D68,'[3]점검현황(전월)'!$D$2:$AG$241,19,0)","v":"e-ST"},{"$f":"VLOOKUP(B68&D68,'[3]점검현황(전월)'!$D$2:$AG$241,25,0)","v":"2016-08-23"},{"$f":"VLOOKUP(B68&D68,'[3]점검현황(전월)'!$D$7:$AG$241,27,0)","v":"2016-04-27"},{"$f":"VLOOKUP(B68&D68,'[3]점검현황(전월)'!$D$7:$AG$241,23,0)","v":1210},{"$f":"VLOOKUP(B68&D68,'[3]점검현황(전월)'!$D$7:$AK$241,24,0)","v":"08:30:00"},{"$f":"VLOOKUP(B68&D68,'[3]점검현황(전월)'!$D$7:$AK$241,34,0)","v":400},109,{"$f":"VLOOKUP(B68&D68,'[3]점검현황(전월)'!$D$7:$AK$241,22,0)","v":"08:50:00"},{"$f":"VLOOKUP(B68&D68,'[3]점검현황(전월)'!$D$7:$AG$241,26,0)","v":"."}]
[null,"성호관",14,232,{"$f":"VLOOKUP(B69&D69,'[3]점검현황(전월)'!$D$7:$AG$241,2,0)","v":"멀티미디어"},{"$f":"VLOOKUP(B69&D69,'[3]점검현황(전월)'!$D$7:$AG$241,3,0)","v":"VX410Z"},{"$f":"VLOOKUP(B69&D69,'[3]점검현황(전월)'!$D$2:$AG$241,19,0)","v":"e-ST"},{"$f":"VLOOKUP(B69&D69,'[3]점검현황(전월)'!$D$2:$AG$241,25,0)","v":"2014-12-23"},{"$f":"VLOOKUP(B69&D69,'[3]점검현황(전월)'!$D$7:$AG$241,27,0)","v":"2016-08-22"},{"$f":"VLOOKUP(B69&D69,'[3]점검현황(전월)'!$D$7:$AG$241,23,0)","v":1210},{"$f":"VLOOKUP(B69&D69,'[3]점검현황(전월)'!$D$7:$AK$241,24,0)","v":"14:50:00"},{"$f":"VLOOKUP(B69&D69,'[3]점검현황(전월)'!$D$7:$AK$241,34,0)","v":1787},109,{"$f":"VLOOKUP(B69&D69,'[3]점검현황(전월)'!$D$7:$AK$241,22,0)","v":"19:00:00"},{"$f":"VLOOKUP(B69&D69,'[3]점검현황(전월)'!$D$7:$AG$241,26,0)","v":"."}]
[null,"성호관",15,233,{"$f":"VLOOKUP(B70&D70,'[3]점검현황(전월)'!$D$7:$AG$241,2,0)","v":"멀티미디어"},{"$f":"VLOOKUP(B70&D70,'[3]점검현황(전월)'!$D$7:$AG$241,3,0)","v":"XU106K"},{"$f":"VLOOKUP(B70&D70,'[3]점검현황(전월)'!$D$2:$AG$241,19,0)","v":"구"},{"$f":"VLOOKUP(B70&D70,'[3]점검현황(전월)'!$D$2:$AG$241,25,0)","v":"2015-11-25"},{"$f":"VLOOKUP(B70&D70,'[3]점검현황(전월)'!$D$7:$AG$241,27,0)","v":"2016-07-09"},{"$f":"VLOOKUP(B70&D70,'[3]점검현황(전월)'!$D$7:$AG$241,23,0)","v":1210},{"$f":"VLOOKUP(B70&D70,'[3]점검현황(전월)'!$D$7:$AK$241,24,0)","v":"08:50:00"},{"$f":"VLOOKUP(B70&D70,'[3]점검현황(전월)'!$D$7:$AK$241,34,0)","v":823},109,{"$f":"VLOOKUP(B70&D70,'[3]점검현황(전월)'!$D$7:$AK$241,22,0)","v":"19:10:00"},{"$f":"VLOOKUP(B70&D70,'[3]점검현황(전월)'!$D$7:$AG$241,26,0)","v":"."}]
[null,"성호관",16,234,{"$f":"VLOOKUP(B71&D71,'[3]점검현황(전월)'!$D$7:$AG$241,2,0)","v":"멀티미디어"},{"$f":"VLOOKUP(B71&D71,'[3]점검현황(전월)'!$D$7:$AG$241,3,0)","v":"XU106K"},{"$f":"VLOOKUP(B71&D71,'[3]점검현황(전월)'!$D$2:$AG$241,19,0)","v":"구"},{"$f":"VLOOKUP(B71&D71,'[3]점검현황(전월)'!$D$2:$AG$241,25,0)","v":"2015-06-13"},{"$f":"VLOOKUP(B71&D71,'[3]점검현황(전월)'!$D$7:$AG$241,27,0)","v":"2016-05-11"},{"$f":"VLOOKUP(B71&D71,'[3]점검현황(전월)'!$D$7:$AG$241,23,0)","v":1213},{"$f":"VLOOKUP(B71&D71,'[3]점검현황(전월)'!$D$7:$AK$241,24,0)","v":"19:00:00"},{"$f":"VLOOKUP(B71&D71,'[3]점검현황(전월)'!$D$7:$AK$241,34,0)","v":1254},109,{"$f":"VLOOKUP(B71&D71,'[3]점검현황(전월)'!$D$7:$AK$241,22,0)","v":"19:20:00"},{"$f":"VLOOKUP(B71&D71,'[3]점검현황(전월)'!$D$7:$AG$241,26,0)","v":"12,13"}]
[null,"성호관",17,235,{"$f":"VLOOKUP(B72&D72,'[3]점검현황(전월)'!$D$7:$AG$241,2,0)","v":"멀티미디어"},{"$f":"VLOOKUP(B72&D72,'[3]점검현황(전월)'!$D$7:$AG$241,3,0)","v":"XU106K"},{"$f":"VLOOKUP(B72&D72,'[3]점검현황(전월)'!$D$2:$AG$241,19,0)","v":"구"},{"$f":"VLOOKUP(B72&D72,'[3]점검현황(전월)'!$D$2:$AG$241,25,0)","v":"2016-01-18"},{"$f":"VLOOKUP(B72&D72,'[3]점검현황(전월)'!$D$7:$AG$241,27,0)","v":"2016-05-04"},{"$f":"VLOOKUP(B72&D72,'[3]점검현황(전월)'!$D$7:$AG$241,23,0)","v":1210},{"$f":"VLOOKUP(B72&D72,'[3]점검현황(전월)'!$D$7:$AK$241,24,0)","v":"13:05:00"},{"$f":"VLOOKUP(B72&D72,'[3]점검현황(전월)'!$D$7:$AK$241,34,0)","v":799},109,{"$f":"VLOOKUP(B72&D72,'[3]점검현황(전월)'!$D$7:$AK$241,22,0)","v":"08:30:00"},{"$f":"VLOOKUP(B72&D72,'[3]점검현황(전월)'!$D$7:$AG$241,26,0)","v":"."}]
[null,"성호관",18,236,{"$f":"VLOOKUP(B73&D73,'[3]점검현황(전월)'!$D$7:$AG$241,2,0)","v":"멀티미디어"},{"$f":"VLOOKUP(B73&D73,'[3]점검현황(전월)'!$D$7:$AG$241,3,0)","v":"XU106K"},{"$f":"VLOOKUP(B73&D73,'[3]점검현황(전월)'!$D$2:$AG$241,19,0)","v":"구"},{"$f":"VLOOKUP(B73&D73,'[3]점검현황(전월)'!$D$2:$AG$241,25,0)","v":"2015-08-03"},{"$f":"VLOOKUP(B73&D73,'[3]점검현황(전월)'!$D$7:$AG$241,27,0)","v":"2016-05-17"},{"$f":"VLOOKUP(B73&D73,'[3]점검현황(전월)'!$D$7:$AG$241,23,0)","v":1221},{"$f":"VLOOKUP(B73&D73,'[3]점검현황(전월)'!$D$7:$AK$241,24,0)","v":"19:20:00"},{"$f":"VLOOKUP(B73&D73,'[3]점검현황(전월)'!$D$7:$AK$241,34,0)","v":798},109,{"$f":"VLOOKUP(B73&D73,'[3]점검현황(전월)'!$D$7:$AK$241,22,0)","v":"08:40:00"},{"$f":"VLOOKUP(B73&D73,'[3]점검현황(전월)'!$D$7:$AG$241,26,0)","v":"21(2)"}]
[null,"성호관",19,237,{"$f":"VLOOKUP(B74&D74,'[3]점검현황(전월)'!$D$7:$AG$241,2,0)","v":"멀티미디어"},{"$f":"VLOOKUP(B74&D74,'[3]점검현황(전월)'!$D$7:$AG$241,3,0)","v":"VX410Z"},{"$f":"VLOOKUP(B74&D74,'[3]점검현황(전월)'!$D$2:$AG$241,19,0)","v":"e-ST"},{"$f":"VLOOKUP(B74&D74,'[3]점검현황(전월)'!$D$2:$AG$241,25,0)","v":"2014-12-23"},{"$f":"VLOOKUP(B74&D74,'[3]점검현황(전월)'!$D$7:$AG$241,27,0)","v":"2016-06-24"},{"$f":"VLOOKUP(B74&D74,'[3]점검현황(전월)'!$D$7:$AG$241,23,0)","v":1214},{"$f":"VLOOKUP(B74&D74,'[3]점검현황(전월)'!$D$7:$AK$241,24,0)","v":"08:30:00"},{"$f":"VLOOKUP(B74&D74,'[3]점검현황(전월)'!$D$7:$AK$241,34,0)","v":1991},110,{"$f":"VLOOKUP(B74&D74,'[3]점검현황(전월)'!$D$7:$AK$241,22,0)","v":"08:50:00"},{"$f":"VLOOKUP(B74&D74,'[3]점검현황(전월)'!$D$7:$AG$241,26,0)","v":"7,12,14"}]
[null,"성호관",20,303,{"$f":"VLOOKUP(B75&D75,'[3]점검현황(전월)'!$D$7:$AG$241,2,0)","v":"교수학습 (자동녹화)"},{"$f":"VLOOKUP(B75&D75,'[3]점검현황(전월)'!$D$7:$AG$241,3,0)","v":"XU106K"},{"$f":"VLOOKUP(B75&D75,'[3]점검현황(전월)'!$D$2:$AG$241,19,0)","v":"e-ST"},{"$f":"VLOOKUP(B75&D75,'[3]점검현황(전월)'!$D$2:$AG$241,25,0)","v":"2015-07-03"},{"$f":"VLOOKUP(B75&D75,'[3]점검현황(전월)'!$D$7:$AG$241,27,0)","v":"."},{"$f":"VLOOKUP(B75&D75,'[3]점검현황(전월)'!$D$7:$AG$241,23,0)","v":1210},{"$f":"VLOOKUP(B75&D75,'[3]점검현황(전월)'!$D$7:$AK$241,24,0)","v":"15:56:00"},{"$f":"VLOOKUP(B75&D75,'[3]점검현황(전월)'!$D$7:$AK$241,34,0)","v":1185},110,{"$f":"VLOOKUP(B75&D75,'[3]점검현황(전월)'!$D$7:$AK$241,22,0)","v":"09:50:00"},{"$f":"VLOOKUP(B75&D75,'[3]점검현황(전월)'!$D$7:$AG$241,26,0)","v":"."}]
[null,"성호관",21,304,{"$f":"VLOOKUP(B76&D76,'[3]점검현황(전월)'!$D$7:$AG$241,2,0)","v":"멀티미디어"},{"$f":"VLOOKUP(B76&D76,'[3]점검현황(전월)'!$D$7:$AG$241,3,0)","v":"VX600"},{"$f":"VLOOKUP(B76&D76,'[3]점검현황(전월)'!$D$2:$AG$241,19,0)","v":"e-ST"},{"$f":"VLOOKUP(B76&D76,'[3]점검현황(전월)'!$D$2:$AG$241,25,0)","v":"2015-08-31"},{"$f":"VLOOKUP(B76&D76,'[3]점검현황(전월)'!$D$7:$AG$241,27,0)","v":"2016-09-13"},{"$f":"VLOOKUP(B76&D76,'[3]점검현황(전월)'!$D$7:$AG$241,23,0)","v":1210},{"$f":"VLOOKUP(B76&D76,'[3]점검현황(전월)'!$D$7:$AK$241,24,0)","v":"13:47:00"},{"$f":"VLOOKUP(B76&D76,'[3]점검현황(전월)'!$D$7:$AK$241,34,0)","v":1403},110,{"$f":"VLOOKUP(B76&D76,'[3]점검현황(전월)'!$D$7:$AK$241,22,0)","v":"19:10:00"},{"$f":"VLOOKUP(B76&D76,'[3]점검현황(전월)'!$D$7:$AG$241,26,0)","v":"."}]
[null,"성호관",22,305,{"$f":"VLOOKUP(B77&D77,'[3]점검현황(전월)'!$D$7:$AG$241,2,0)","v":"멀티미디어 (자동녹화)"},{"$f":"VLOOKUP(B77&D77,'[3]점검현황(전월)'!$D$7:$AG$241,3,0)","v":"VX410Z"},{"$f":"VLOOKUP(B77&D77,'[3]점검현황(전월)'!$D$2:$AG$241,19,0)","v":"구e-ST"},{"$f":"VLOOKUP(B77&D77,'[3]점검현황(전월)'!$D$2:$AG$241,25,0)","v":"2014-12-23"},{"$f":"VLOOKUP(B77&D77,'[3]점검현황(전월)'!$D$7:$AG$241,27,0)","v":"2016-09-13"},{"$f":"VLOOKUP(B77&D77,'[3]점검현황(전월)'!$D$7:$AG$241,23,0)","v":1210},{"$f":"VLOOKUP(B77&D77,'[3]점검현황(전월)'!$D$7:$AK$241,24,0)","v":"19:00:00"},{"$f":"VLOOKUP(B77&D77,'[3]점검현황(전월)'!$D$7:$AK$241,34,0)","v":1009},110,{"$f":"VLOOKUP(B77&D77,'[3]점검현황(전월)'!$D$7:$AK$241,22,0)","v":"19:20:00"},{"$f":"VLOOKUP(B77&D77,'[3]점검현황(전월)'!$D$7:$AG$241,26,0)","v":"."}]
[null,"성호관",23,306,{"$f":"VLOOKUP(B78&D78,'[3]점검현황(전월)'!$D$7:$AG$241,2,0)","v":"멀티미디어"},{"$f":"VLOOKUP(B78&D78,'[3]점검현황(전월)'!$D$7:$AG$241,3,0)","v":"VX600"},{"$f":"VLOOKUP(B78&D78,'[3]점검현황(전월)'!$D$2:$AG$241,19,0)","v":"e-ST"},{"$f":"VLOOKUP(B78&D78,'[3]점검현황(전월)'!$D$2:$AG$241,25,0)","v":"2014-12-23"},{"$f":"VLOOKUP(B78&D78,'[3]점검현황(전월)'!$D$7:$AG$241,27,0)","v":"2016-09-22"},{"$f":"VLOOKUP(B78&D78,'[3]점검현황(전월)'!$D$7:$AG$241,23,0)","v":1210},{"$f":"VLOOKUP(B78&D78,'[3]점검현황(전월)'!$D$7:$AK$241,24,0)","v":"13:04:00"},{"$f":"VLOOKUP(B78&D78,'[3]점검현황(전월)'!$D$7:$AK$241,34,0)","v":1424},110,{"$f":"VLOOKUP(B78&D78,'[3]점검현황(전월)'!$D$7:$AK$241,22,0)","v":"08:30:00"},{"$f":"VLOOKUP(B78&D78,'[3]점검현황(전월)'!$D$7:$AG$241,26,0)","v":"."}]
[null,"성호관",24,332,{"$f":"VLOOKUP(B79&D79,'[3]점검현황(전월)'!$D$7:$AG$241,2,0)","v":"멀티미디어"},{"$f":"VLOOKUP(B79&D79,'[3]점검현황(전월)'!$D$7:$AG$241,3,0)","v":"XU106K"},{"$f":"VLOOKUP(B79&D79,'[3]점검현황(전월)'!$D$2:$AG$241,19,0)","v":"구"},{"$f":"VLOOKUP(B79&D79,'[3]점검현황(전월)'!$D$2:$AG$241,25,0)","v":"2016-11-15"},{"$f":"VLOOKUP(B79&D79,'[3]점검현황(전월)'!$D$7:$AG$241,27,0)","v":"2016-06-28"},{"$f":"VLOOKUP(B79&D79,'[3]점검현황(전월)'!$D$7:$AG$241,23,0)","v":1226},{"$f":"VLOOKUP(B79&D79,'[3]점검현황(전월)'!$D$7:$AK$241,24,0)","v":613},{"$f":"VLOOKUP(B79&D79,'[3]점검현황(전월)'!$D$7:$AK$241,34,0)","v":77},110,{"$f":"VLOOKUP(B79&D79,'[3]점검현황(전월)'!$D$7:$AK$241,22,0)","v":"08:50:00"},{"$f":"VLOOKUP(B79&D79,'[3]점검현황(전월)'!$D$7:$AG$241,26,0)","v":"26,"}]
[null,"성호관",25,333,{"$f":"VLOOKUP(B80&D80,'[3]점검현황(전월)'!$D$7:$AG$241,2,0)","v":"멀티미디어"},{"$f":"VLOOKUP(B80&D80,'[3]점검현황(전월)'!$D$7:$AG$241,3,0)","v":"XU106K"},{"$f":"VLOOKUP(B80&D80,'[3]점검현황(전월)'!$D$2:$AG$241,19,0)","v":"구"},{"$f":"VLOOKUP(B80&D80,'[3]점검현황(전월)'!$D$2:$AG$241,25,0)","v":"2015-07-30"},{"$f":"VLOOKUP(B80&D80,'[3]점검현황(전월)'!$D$7:$AG$241,27,0)","v":"2016-04-25"},{"$f":"VLOOKUP(B80&D80,'[3]점검현황(전월)'!$D$7:$AG$241,23,0)","v":1228},{"$f":"VLOOKUP(B80&D80,'[3]점검현황(전월)'!$D$7:$AK$241,24,0)","v":"08:40:00"},{"$f":"VLOOKUP(B80&D80,'[3]점검현황(전월)'!$D$7:$AK$241,34,0)","v":799},110,{"$f":"VLOOKUP(B80&D80,'[3]점검현황(전월)'!$D$7:$AK$241,22,0)","v":"19:00:00"},{"$f":"VLOOKUP(B80&D80,'[3]점검현황(전월)'!$D$7:$AG$241,26,0)","v":"28,"}]
[null,"성호관",26,334,{"$f":"VLOOKUP(B81&D81,'[3]점검현황(전월)'!$D$7:$AG$241,2,0)","v":"멀티미디어"},{"$f":"VLOOKUP(B81&D81,'[3]점검현황(전월)'!$D$7:$AG$241,3,0)","v":"VX410Z"},{"$f":"VLOOKUP(B81&D81,'[3]점검현황(전월)'!$D$2:$AG$241,19,0)","v":"e-ST"},{"$f":"VLOOKUP(B81&D81,'[3]점검현황(전월)'!$D$2:$AG$241,25,0)","v":"2014-12-23"},{"$f":"VLOOKUP(B81&D81,'[3]점검현황(전월)'!$D$7:$AG$241,27,0)","v":"2016-04-25"},{"$f":"VLOOKUP(B81&D81,'[3]점검현황(전월)'!$D$7:$AG$241,23,0)","v":1210},{"$f":"VLOOKUP(B81&D81,'[3]점검현황(전월)'!$D$7:$AK$241,24,0)","v":"17:21:00"},{"$f":"VLOOKUP(B81&D81,'[3]점검현황(전월)'!$D$7:$AK$241,34,0)","v":1318},110,{"$f":"VLOOKUP(B81&D81,'[3]점검현황(전월)'!$D$7:$AK$241,22,0)","v":"19:10:00"},{"$f":"VLOOKUP(B81&D81,'[3]점검현황(전월)'!$D$7:$AG$241,26,0)","v":"."}]
[null,"성호관",27,337,{"$f":"VLOOKUP(B82&D82,'[3]점검현황(전월)'!$D$7:$AG$241,2,0)","v":"물리학과"},{"$f":"VLOOKUP(B82&D82,'[3]점검현황(전월)'!$D$7:$AG$241,3,0)","v":"VX510EA"},{"$f":"VLOOKUP(B82&D82,'[3]점검현황(전월)'!$D$2:$AG$241,19,0)","v":"구"},{"$f":"VLOOKUP(B82&D82,'[3]점검현황(전월)'!$D$2:$AG$241,25,0)","v":"2014-08-01"},{"$f":"VLOOKUP(B82&D82,'[3]점검현황(전월)'!$D$7:$AG$241,27,0)","v":"·"},{"$f":"VLOOKUP(B82&D82,'[3]점검현황(전월)'!$D$7:$AG$241,23,0)","v":1210},{"$f":"VLOOKUP(B82&D82,'[3]점검현황(전월)'!$D$7:$AK$241,24,0)","v":"19:00:00"},{"$f":"VLOOKUP(B82&D82,'[3]점검현황(전월)'!$D$7:$AK$241,34,0)","v":1160},110,{"$f":"VLOOKUP(B82&D82,'[3]점검현황(전월)'!$D$7:$AK$241,22,0)","v":"19:20:00"},{"$f":"VLOOKUP(B82&D82,'[3]점검현황(전월)'!$D$7:$AG$241,26,0)","v":"."}]
[null,"성호관",28,339,{"$f":"VLOOKUP(B83&D83,'[3]점검현황(전월)'!$D$7:$AG$241,2,0)","v":"대학원"},{"$f":"VLOOKUP(B83&D83,'[3]점검현황(전월)'!$D$7:$AG$241,3,0)","v":"XU106K"},{"$f":"VLOOKUP(B83&D83,'[3]점검현황(전월)'!$D$2:$AG$241,19,0)","v":"구"},{"$f":"VLOOKUP(B83&D83,'[3]점검현황(전월)'!$D$2:$AG$241,25,0)","v":"·"},{"$f":"VLOOKUP(B83&D83,'[3]점검현황(전월)'!$D$7:$AG$241,27,0)","v":"·"},{"$f":"VLOOKUP(B83&D83,'[3]점검현황(전월)'!$D$7:$AG$241,23,0)","v":1210},{"$f":"VLOOKUP(B83&D83,'[3]점검현황(전월)'!$D$7:$AK$241,24,0)","v":"19:10:00"},{"$f":"VLOOKUP(B83&D83,'[3]점검현황(전월)'!$D$7:$AK$241,34,0)","v":727},110,{"$f":"VLOOKUP(B83&D83,'[3]점검현황(전월)'!$D$7:$AK$241,22,0)","v":"09:00:00"},{"$f":"VLOOKUP(B83&D83,'[3]점검현황(전월)'!$D$7:$AG$241,26,0)","v":"."}]
["원천관","원천관",1,107,{"$f":"VLOOKUP(B84&D84,'[3]점검현황(전월)'!$D$7:$AG$241,2,0)","v":"전자공학"},{"$f":"VLOOKUP(B84&D84,'[3]점검현황(전월)'!$D$7:$AG$241,3,0)","v":"XT35K"},{"$f":"VLOOKUP(B84&D84,'[3]점검현황(전월)'!$D$2:$AG$241,19,0)","v":"자체"},{"$f":"VLOOKUP(B84&D84,'[3]점검현황(전월)'!$D$2:$AG$241,25,0)","v":"2015-08-14"},{"$f":"VLOOKUP(B84&D84,'[3]점검현황(전월)'!$D$7:$AG$241,27,0)","v":"·"},{"$f":"VLOOKUP(B84&D84,'[3]점검현황(전월)'!$D$7:$AG$241,23,0)","v":1210},{"$f":"VLOOKUP(B84&D84,'[3]점검현황(전월)'!$D$7:$AK$241,24,0)","v":"19:20:00"},{"$f":"VLOOKUP(B84&D84,'[3]점검현황(전월)'!$D$7:$AK$241,34,0)","v":206},111,{"$f":"VLOOKUP(B84&D84,'[3]점검현황(전월)'!$D$7:$AK$241,22,0)","v":"09:10:00"},{"$f":"VLOOKUP(B84&D84,'[3]점검현황(전월)'!$D$7:$AG$241,26,0)","v":"."}]
[null,"원천관",2,228,{"$f":"VLOOKUP(B85&D85,'[3]점검현황(전월)'!$D$7:$AG$241,2,0)","v":"전자공학"},{"$f":"VLOOKUP(B85&D85,'[3]점검현황(전월)'!$D$7:$AG$241,3,0)","v":"XU106K"},{"$f":"VLOOKUP(B85&D85,'[3]점검현황(전월)'!$D$2:$AG$241,19,0)","v":"e-ST"},{"$f":"VLOOKUP(B85&D85,'[3]점검현황(전월)'!$D$2:$AG$241,25,0)","v":"2016-08-23"},{"$f":"VLOOKUP(B85&D85,'[3]점검현황(전월)'!$D$7:$AG$241,27,0)","v":"2016-09-02"},{"$f":"VLOOKUP(B85&D85,'[3]점검현황(전월)'!$D$7:$AG$241,23,0)","v":1210},{"$f":"VLOOKUP(B85&D85,'[3]점검현황(전월)'!$D$7:$AK$241,24,0)","v":"20:20:00"},{"$f":"VLOOKUP(B85&D85,'[3]점검현황(전월)'!$D$7:$AK$241,34,0)","v":201},111,{"$f":"VLOOKUP(B85&D85,'[3]점검현황(전월)'!$D$7:$AK$241,22,0)","v":"10:10:00"},{"$f":"VLOOKUP(B85&D85,'[3]점검현황(전월)'!$D$7:$AG$241,26,0)","v":"."}]
[null,"원천관",3,237,{"$f":"VLOOKUP(B86&D86,'[3]점검현황(전월)'!$D$7:$AG$241,2,0)","v":"생명과학"},{"$f":"VLOOKUP(B86&D86,'[3]점검현황(전월)'!$D$7:$AG$241,3,0)","v":"VX421"},{"$f":"VLOOKUP(B86&D86,'[3]점검현황(전월)'!$D$2:$AG$241,19,0)","v":"구"},{"$f":"VLOOKUP(B86&D86,'[3]점검현황(전월)'!$D$2:$AG$241,25,0)","v":"2015-11-23"},{"$f":"VLOOKUP(B86&D86,'[3]점검현황(전월)'!$D$7:$AG$241,27,0)","v":"2015-11-23"},{"$f":"VLOOKUP(B86&D86,'[3]점검현황(전월)'!$D$7:$AG$241,23,0)","v":1212},{"$f":"VLOOKUP(B86&D86,'[3]점검현황(전월)'!$D$7:$AK$241,24,0)","v":"08:30:00"},{"$f":"VLOOKUP(B86&D86,'[3]점검현황(전월)'!$D$7:$AK$241,34,0)","v":384},111,{"$f":"VLOOKUP(B86&D86,'[3]점검현황(전월)'!$D$7:$AK$241,22,0)","v":"09:20:00"},{"$f":"VLOOKUP(B86&D86,'[3]점검현황(전월)'!$D$7:$AG$241,26,0)","v":"."}]
[null,"원천관",4,242,{"$f":"VLOOKUP(B87&D87,'[3]점검현황(전월)'!$D$7:$AG$241,2,0)","v":"대학원"},{"$f":"VLOOKUP(B87&D87,'[3]점검현황(전월)'!$D$7:$AG$241,3,0)","v":"XU301K"},{"$f":"VLOOKUP(B87&D87,'[3]점검현황(전월)'!$D$2:$AG$241,19,0)","v":"구"},{"$f":"VLOOKUP(B87&D87,'[3]점검현황(전월)'!$D$2:$AG$241,25,0)","v":"2016-12-07"},{"$f":"VLOOKUP(B87&D87,'[3]점검현황(전월)'!$D$7:$AG$241,27,0)","v":"·"},{"$f":"VLOOKUP(B87&D87,'[3]점검현황(전월)'!$D$7:$AG$241,23,0)","v":1223},{"$f":"VLOOKUP(B87&D87,'[3]점검현황(전월)'!$D$7:$AK$241,24,0)","v":"08:40:00"},{"$f":"VLOOKUP(B87&D87,'[3]점검현황(전월)'!$D$7:$AK$241,34,0)","v":13},111,{"$f":"VLOOKUP(B87&D87,'[3]점검현황(전월)'!$D$7:$AK$241,22,0)","v":"09:30:00"},{"$f":"VLOOKUP(B87&D87,'[3]점검현황(전월)'!$D$7:$AG$241,26,0)","v":"8,22,23"}]
[null,"원천관",5,243,{"$f":"VLOOKUP(B88&D88,'[3]점검현황(전월)'!$D$7:$AG$241,2,0)","v":"대학원"},{"$f":"VLOOKUP(B88&D88,'[3]점검현황(전월)'!$D$7:$AG$241,3,0)","v":"XU301K"},{"$f":"VLOOKUP(B88&D88,'[3]점검현황(전월)'!$D$2:$AG$241,19,0)","v":"구"},{"$f":"VLOOKUP(B88&D88,'[3]점검현황(전월)'!$D$2:$AG$241,25,0)","v":"2015-08-27"},{"$f":"VLOOKUP(B88&D88,'[3]점검현황(전월)'!$D$7:$AG$241,27,0)","v":"·"},{"$f":"VLOOKUP(B88&D88,'[3]점검현황(전월)'!$D$7:$AG$241,23,0)","v":1212},{"$f":"VLOOKUP(B88&D88,'[3]점검현황(전월)'!$D$7:$AK$241,24,0)","v":"08:50:00"},{"$f":"VLOOKUP(B88&D88,'[3]점검현황(전월)'!$D$7:$AK$241,34,0)","v":1141},111,{"$f":"VLOOKUP(B88&D88,'[3]점검현황(전월)'!$D$7:$AK$241,22,0)","v":"09:40:00"},{"$f":"VLOOKUP(B88&D88,'[3]점검현황(전월)'!$D$7:$AG$241,26,0)","v":"."}]
[null,"원천관",6,251,{"$f":"VLOOKUP(B89&D89,'[3]점검현황(전월)'!$D$7:$AG$241,2,0)","v":"강당"},{"$f":"VLOOKUP(B89&D89,'[3]점검현황(전월)'!$D$7:$AG$241,3,0)","v":"DVM-070M"},{"$f":"VLOOKUP(B89&D89,'[3]점검현황(전월)'!$D$2:$AG$241,19,0)","v":"e-ST"},{"$f":"VLOOKUP(B89&D89,'[3]점검현황(전월)'!$D$2:$AG$241,25,0)","v":"2015-07-15"},{"$f":"VLOOKUP(B89&D89,'[3]점검현황(전월)'!$D$7:$AG$241,27,0)","v":"·"},{"$f":"VLOOKUP(B89&D89,'[3]점검현황(전월)'!$D$7:$AG$241,23,0)","v":1212},{"$f":"VLOOKUP(B89&D89,'[3]점검현황(전월)'!$D$7:$AK$241,24,0)","v":"19:29:00"},{"$f":"VLOOKUP(B89&D89,'[3]점검현황(전월)'!$D$7:$AK$241,34,0)","v":2664},111,{"$f":"VLOOKUP(B89&D89,'[3]점검현황(전월)'!$D$7:$AK$241,22,0)","v":"09:50:00"},{"$f":"VLOOKUP(B89&D89,'[3]점검현황(전월)'!$D$7:$AG$241,26,0)","v":"."}]
[null,"원천관",7,"317-1",{"$f":"VLOOKUP(B90&D90,'[3]점검현황(전월)'!$D$7:$AG$241,2,0)","v":"전자공학"},{"$f":"VLOOKUP(B90&D90,'[3]점검현황(전월)'!$D$7:$AG$241,3,0)","v":"XU106K"},{"$f":"VLOOKUP(B90&D90,'[3]점검현황(전월)'!$D$2:$AG$241,19,0)","v":"e-ST"},{"$f":"VLOOKUP(B90&D90,'[3]점검현황(전월)'!$D$2:$AG$241,25,0)","v":"2016-08-23"},{"$f":"VLOOKUP(B90&D90,'[3]점검현황(전월)'!$D$7:$AG$241,27,0)","v":"·"},{"$f":"VLOOKUP(B90&D90,'[3]점검현황(전월)'!$D$7:$AG$241,23,0)","v":1212},{"$f":"VLOOKUP(B90&D90,'[3]점검현황(전월)'!$D$7:$AK$241,24,0)","v":"19:10:00"},{"$f":"VLOOKUP(B90&D90,'[3]점검현황(전월)'!$D$7:$AK$241,34,0)","v":491},111,{"$f":"VLOOKUP(B90&D90,'[3]점검현황(전월)'!$D$7:$AK$241,22,0)","v":"10:00:00"},{"$f":"VLOOKUP(B90&D90,'[3]점검현황(전월)'!$D$7:$AG$241,26,0)","v":"."}]
[null,"원천관",8,318,{"$f":"VLOOKUP(B91&D91,'[3]점검현황(전월)'!$D$7:$AG$241,2,0)","v":"전자공학 (자동녹화)"},{"$f":"VLOOKUP(B91&D91,'[3]점검현황(전월)'!$D$7:$AG$241,3,0)","v":"XU105K"},{"$f":"VLOOKUP(B91&D91,'[3]점검현황(전월)'!$D$2:$AG$241,19,0)","v":"e-ST"},{"$f":"VLOOKUP(B91&D91,'[3]점검현황(전월)'!$D$2:$AG$241,25,0)","v":"2016-08-23"},{"$f":"VLOOKUP(B91&D91,'[3]점검현황(전월)'!$D$7:$AG$241,27,0)","v":"2015-06-18"},{"$f":"VLOOKUP(B91&D91,'[3]점검현황(전월)'!$D$7:$AG$241,23,0)","v":1212},{"$f":"VLOOKUP(B91&D91,'[3]점검현황(전월)'!$D$7:$AK$241,24,0)","v":"19:20:00"},{"$f":"VLOOKUP(B91&D91,'[3]점검현황(전월)'!$D$7:$AK$241,34,0)","v":420},111,{"$f":"VLOOKUP(B91&D91,'[3]점검현황(전월)'!$D$7:$AK$241,22,0)","v":"10:10:00"},{"$f":"VLOOKUP(B91&D91,'[3]점검현황(전월)'!$D$7:$AG$241,26,0)","v":"."}]
[null,"원천관",9,333,{"$f":"VLOOKUP(B92&D92,'[3]점검현황(전월)'!$D$7:$AG$241,2,0)","v":"전자공학"},{"$f":"VLOOKUP(B92&D92,'[3]점검현황(전월)'!$D$7:$AG$241,3,0)","v":"XU105K"},{"$f":"VLOOKUP(B92&D92,'[3]점검현황(전월)'!$D$2:$AG$241,19,0)","v":"자체"},{"$f":"VLOOKUP(B92&D92,'[3]점검현황(전월)'!$D$2:$AG$241,25,0)","v":"."},{"$f":"VLOOKUP(B92&D92,'[3]점검현황(전월)'!$D$7:$AG$241,27,0)","v":"."},{"$f":"VLOOKUP(B92&D92,'[3]점검현황(전월)'!$D$7:$AG$241,23,0)","v":1213},{"$f":"VLOOKUP(B92&D92,'[3]점검현황(전월)'!$D$7:$AK$241,24,0)","v":"20:20:00"},{"$f":"VLOOKUP(B92&D92,'[3]점검현황(전월)'!$D$7:$AK$241,34,0)","v":1410},111,{"$f":"VLOOKUP(B92&D92,'[3]점검현황(전월)'!$D$7:$AK$241,22,0)","v":"11:10:00"},{"$f":"VLOOKUP(B92&D92,'[3]점검현황(전월)'!$D$7:$AG$241,26,0)","v":"."}]
[null,"원천관",10,334,{"$f":"VLOOKUP(B93&D93,'[3]점검현황(전월)'!$D$7:$AG$241,2,0)","v":"전자공학"},{"$f":"VLOOKUP(B93&D93,'[3]점검현황(전월)'!$D$7:$AG$241,3,0)","v":"XU106K"},{"$f":"VLOOKUP(B93&D93,'[3]점검현황(전월)'!$D$2:$AG$241,19,0)","v":"자체"},{"$f":"VLOOKUP(B93&D93,'[3]점검현황(전월)'!$D$2:$AG$241,25,0)","v":"2016-08-23"},{"$f":"VLOOKUP(B93&D93,'[3]점검현황(전월)'!$D$7:$AG$241,27,0)","v":"2014-11-19"},{"$f":"VLOOKUP(B93&D93,'[3]점검현황(전월)'!$D$7:$AG$241,23,0)","v":1213},{"$f":"VLOOKUP(B93&D93,'[3]점검현황(전월)'!$D$7:$AK$241,24,0)","v":"09:00:00"},{"$f":"VLOOKUP(B93&D93,'[3]점검현황(전월)'!$D$7:$AK$241,34,0)","v":32},111,{"$f":"VLOOKUP(B93&D93,'[3]점검현황(전월)'!$D$7:$AK$241,22,0)","v":"10:20:00"},{"$f":"VLOOKUP(B93&D93,'[3]점검현황(전월)'!$D$7:$AG$241,26,0)","v":"."}]
[null,"원천관",11,340,{"$f":"VLOOKUP(B94&D94,'[3]점검현황(전월)'!$D$7:$AG$241,2,0)","v":"전자공학"},{"$f":"VLOOKUP(B94&D94,'[3]점검현황(전월)'!$D$7:$AG$241,3,0)","v":"XM100L"},{"$f":"VLOOKUP(B94&D94,'[3]점검현황(전월)'!$D$2:$AG$241,19,0)","v":"자체"},{"$f":"VLOOKUP(B94&D94,'[3]점검현황(전월)'!$D$2:$AG$241,25,0)","v":"2015-06-10"},{"$f":"VLOOKUP(B94&D94,'[3]점검현황(전월)'!$D$7:$AG$241,27,0)","v":"·"},{"$f":"VLOOKUP(B94&D94,'[3]점검현황(전월)'!$D$7:$AG$241,23,0)","v":1213},{"$f":"VLOOKUP(B94&D94,'[3]점검현황(전월)'!$D$7:$AK$241,24,0)","v":"09:05:00"},{"$f":"VLOOKUP(B94&D94,'[3]점검현황(전월)'!$D$7:$AK$241,34,0)","v":853},112,{"$f":"VLOOKUP(B94&D94,'[3]점검현황(전월)'!$D$7:$AK$241,22,0)","v":"10:30:00"},{"$f":"VLOOKUP(B94&D94,'[3]점검현황(전월)'!$D$7:$AG$241,26,0)","v":"."}]
[null,"원천관",12,502,{"$f":"VLOOKUP(B95&D95,'[3]점검현황(전월)'!$D$7:$AG$241,2,0)","v":"물리학과"},{"$f":"VLOOKUP(B95&D95,'[3]점검현황(전월)'!$D$7:$AG$241,3,0)","v":"XU106K"},{"$f":"VLOOKUP(B95&D95,'[3]점검현황(전월)'!$D$2:$AG$241,19,0)","v":"자체"},{"$f":"VLOOKUP(B95&D95,'[3]점검현황(전월)'!$D$2:$AG$241,25,0)","v":"·"},{"$f":"VLOOKUP(B95&D95,'[3]점검현황(전월)'!$D$7:$AG$241,27,0)","v":"·"},{"$f":"VLOOKUP(B95&D95,'[3]점검현황(전월)'!$D$7:$AG$241,23,0)","v":1213},{"$f":"VLOOKUP(B95&D95,'[3]점검현황(전월)'!$D$7:$AK$241,24,0)","v":"09:10:00"},{"$f":"VLOOKUP(B95&D95,'[3]점검현황(전월)'!$D$7:$AK$241,34,0)","v":293},112,{"$f":"VLOOKUP(B95&D95,'[3]점검현황(전월)'!$D$7:$AK$241,22,0)","v":"10:40:00"},{"$f":"VLOOKUP(B95&D95,'[3]점검현황(전월)'!$D$7:$AG$241,26,0)","v":"."}]
[null,"원천관",13,503,{"$f":"VLOOKUP(B96&D96,'[3]점검현황(전월)'!$D$7:$AG$241,2,0)","v":"물리학과"},{"$f":"VLOOKUP(B96&D96,'[3]점검현황(전월)'!$D$7:$AG$241,3,0)","v":"XU106K"},{"$f":"VLOOKUP(B96&D96,'[3]점검현황(전월)'!$D$2:$AG$241,19,0)","v":"자체"},{"$f":"VLOOKUP(B96&D96,'[3]점검현황(전월)'!$D$2:$AG$241,25,0)","v":"·"},{"$f":"VLOOKUP(B96&D96,'[3]점검현황(전월)'!$D$7:$AG$241,27,0)","v":"·"},{"$f":"VLOOKUP(B96&D96,'[3]점검현황(전월)'!$D$7:$AG$241,23,0)","v":1213},{"$f":"VLOOKUP(B96&D96,'[3]점검현황(전월)'!$D$7:$AK$241,24,0)","v":"09:15:00"},{"$f":"VLOOKUP(B96&D96,'[3]점검현황(전월)'!$D$7:$AK$241,34,0)","v":714},112,{"$f":"VLOOKUP(B96&D96,'[3]점검현황(전월)'!$D$7:$AK$241,22,0)","v":"10:50:00"},{"$f":"VLOOKUP(B96&D96,'[3]점검현황(전월)'!$D$7:$AG$241,26,0)","v":"."}]
[null,"원천관",14,504,{"$f":"VLOOKUP(B97&D97,'[3]점검현황(전월)'!$D$7:$AG$241,2,0)","v":"물리학과"},{"$f":"VLOOKUP(B97&D97,'[3]점검현황(전월)'!$D$7:$AG$241,3,0)","v":"XU106K"},{"$f":"VLOOKUP(B97&D97,'[3]점검현황(전월)'!$D$2:$AG$241,19,0)","v":"자체"},{"$f":"VLOOKUP(B97&D97,'[3]점검현황(전월)'!$D$2:$AG$241,25,0)","v":"·"},{"$f":"VLOOKUP(B97&D97,'[3]점검현황(전월)'!$D$7:$AG$241,27,0)","v":"·"},{"$f":"VLOOKUP(B97&D97,'[3]점검현황(전월)'!$D$7:$AG$241,23,0)","v":1213},{"$f":"VLOOKUP(B97&D97,'[3]점검현황(전월)'!$D$7:$AK$241,24,0)","v":"09:20:00"},{"$f":"VLOOKUP(B97&D97,'[3]점검현황(전월)'!$D$7:$AK$241,34,0)","v":376},112,{"$f":"VLOOKUP(B97&D97,'[3]점검현황(전월)'!$D$7:$AK$241,22,0)","v":"11:00:00"},{"$f":"VLOOKUP(B97&D97,'[3]점검현황(전월)'!$D$7:$AG$241,26,0)","v":"."}]
[null,"원천관",15,505,{"$f":"VLOOKUP(B98&D98,'[3]점검현황(전월)'!$D$7:$AG$241,2,0)","v":"물리학과"},{"$f":"VLOOKUP(B98&D98,'[3]점검현황(전월)'!$D$7:$AG$241,3,0)","v":"XU106K"},{"$f":"VLOOKUP(B98&D98,'[3]점검현황(전월)'!$D$2:$AG$241,19,0)","v":"자체"},{"$f":"VLOOKUP(B98&D98,'[3]점검현황(전월)'!$D$2:$AG$241,25,0)","v":"·"},{"$f":"VLOOKUP(B98&D98,'[3]점검현황(전월)'!$D$7:$AG$241,27,0)","v":"·"},{"$f":"VLOOKUP(B98&D98,'[3]점검현황(전월)'!$D$7:$AG$241,23,0)","v":1214},{"$f":"VLOOKUP(B98&D98,'[3]점검현황(전월)'!$D$7:$AK$241,24,0)","v":"09:25:00"},{"$f":"VLOOKUP(B98&D98,'[3]점검현황(전월)'!$D$7:$AK$241,34,0)","v":418},112,{"$f":"VLOOKUP(B98&D98,'[3]점검현황(전월)'!$D$7:$AK$241,22,0)","v":"11:10:00"},{"$f":"VLOOKUP(B98&D98,'[3]점검현황(전월)'!$D$7:$AG$241,26,0)","v":"."}]
[null,"원천관",16,506,{"$f":"VLOOKUP(B99&D99,'[3]점검현황(전월)'!$D$7:$AG$241,2,0)","v":"물리학과"},{"$f":"VLOOKUP(B99&D99,'[3]점검현황(전월)'!$D$7:$AG$241,3,0)","v":"XU106K"},{"$f":"VLOOKUP(B99&D99,'[3]점검현황(전월)'!$D$2:$AG$241,19,0)","v":"자체"},{"$f":"VLOOKUP(B99&D99,'[3]점검현황(전월)'!$D$2:$AG$241,25,0)","v":"2015-07-01"},{"$f":"VLOOKUP(B99&D99,'[3]점검현황(전월)'!$D$7:$AG$241,27,0)","v":"·"},{"$f":"VLOOKUP(B99&D99,'[3]점검현황(전월)'!$D$7:$AG$241,23,0)","v":1214},{"$f":"VLOOKUP(B99&D99,'[3]점검현황(전월)'!$D$7:$AK$241,24,0)","v":"09:30:00"},{"$f":"VLOOKUP(B99&D99,'[3]점검현황(전월)'!$D$7:$AK$241,34,0)","v":203},112,{"$f":"VLOOKUP(B99&D99,'[3]점검현황(전월)'!$D$7:$AK$241,22,0)","v":"11:20:00"},{"$f":"VLOOKUP(B99&D99,'[3]점검현황(전월)'!$D$7:$AG$241,26,0)","v":"."}]
[null,"원천관",17,507,{"$f":"VLOOKUP(B100&D100,'[3]점검현황(전월)'!$D$7:$AG$241,2,0)","v":"화학과"},{"$f":"VLOOKUP(B100&D100,'[3]점검현황(전월)'!$D$7:$AG$241,3,0)","v":"VX421"},{"$f":"VLOOKUP(B100&D100,'[3]점검현황(전월)'!$D$2:$AG$241,19,0)","v":"구"},{"$f":"VLOOKUP(B100&D100,'[3]점검현황(전월)'!$D$2:$AG$241,25,0)","v":"2016-10-07"},{"$f":"VLOOKUP(B100&D100,'[3]점검현황(전월)'!$D$7:$AG$241,27,0)","v":"2016-10-07"},{"$f":"VLOOKUP(B100&D100,'[3]점검현황(전월)'!$D$7:$AG$241,23,0)","v":1214},{"$f":"VLOOKUP(B100&D100,'[3]점검현황(전월)'!$D$7:$AK$241,24,0)","v":"09:35:00"},{"$f":"VLOOKUP(B100&D100,'[3]점검현황(전월)'!$D$7:$AK$241,34,0)","v":131},112,{"$f":"VLOOKUP(B100&D100,'[3]점검현황(전월)'!$D$7:$AK$241,22,0)","v":"11:30:00"},{"$f":"VLOOKUP(B100&D100,'[3]점검현황(전월)'!$D$7:$AG$241,26,0)","v":"."}]
[null,"원천관",18,508,{"$f":"VLOOKUP(B101&D101,'[3]점검현황(전월)'!$D$7:$AG$241,2,0)","v":"전자공학"},{"$f":"VLOOKUP(B101&D101,'[3]점검현황(전월)'!$D$7:$AG$241,3,0)","v":"XU106K"},{"$f":"VLOOKUP(B101&D101,'[3]점검현황(전월)'!$D$2:$AG$241,19,0)","v":"e-ST"},{"$f":"VLOOKUP(B101&D101,'[3]점검현황(전월)'!$D$2:$AG$241,25,0)","v":"2014-07-10"},{"$f":"VLOOKUP(B101&D101,'[3]점검현황(전월)'!$D$7:$AG$241,27,0)","v":"2016-09-03"},{"$f":"VLOOKUP(B101&D101,'[3]점검현황(전월)'!$D$7:$AG$241,23,0)","v":1214},{"$f":"VLOOKUP(B101&D101,'[3]점검현황(전월)'!$D$7:$AK$241,24,0)","v":"09:40:00"},{"$f":"VLOOKUP(B101&D101,'[3]점검현황(전월)'!$D$7:$AK$241,34,0)","v":1579},112,{"$f":"VLOOKUP(B101&D101,'[3]점검현황(전월)'!$D$7:$AK$241,22,0)","v":"11:40:00"},{"$f":"VLOOKUP(B101&D101,'[3]점검현황(전월)'!$D$7:$AG$241,26,0)","v":"."}]
[null,"원천관",19,509,{"$f":"VLOOKUP(B102&D102,'[3]점검현황(전월)'!$D$7:$AG$241,2,0)","v":"전자공학"},{"$f":"VLOOKUP(B102&D102,'[3]점검현황(전월)'!$D$7:$AG$241,3,0)","v":"XU106K"},{"$f":"VLOOKUP(B102&D102,'[3]점검현황(전월)'!$D$2:$AG$241,19,0)","v":"e-ST"},{"$f":"VLOOKUP(B102&D102,'[3]점검현황(전월)'!$D$2:$AG$241,25,0)","v":"2016-03-08"},{"$f":"VLOOKUP(B102&D102,'[3]점검현황(전월)'!$D$7:$AG$241,27,0)","v":"2016-09-03"},{"$f":"VLOOKUP(B102&D102,'[3]점검현황(전월)'!$D$7:$AG$241,23,0)","v":1214},{"$f":"VLOOKUP(B102&D102,'[3]점검현황(전월)'!$D$7:$AK$241,24,0)","v":"17:35:00"},{"$f":"VLOOKUP(B102&D102,'[3]점검현황(전월)'!$D$7:$AK$241,34,0)","v":808},112,{"$f":"VLOOKUP(B102&D102,'[3]점검현황(전월)'!$D$7:$AK$241,22,0)","v":"11:50:00"},{"$f":"VLOOKUP(B102&D102,'[3]점검현황(전월)'!$D$7:$AG$241,26,0)","v":"."}]
[null,"원천관",20,"534-2",{"$f":"VLOOKUP(B103&D103,'[3]점검현황(전월)'!$D$7:$AG$241,2,0)","v":"생명과학"},{"$f":"VLOOKUP(B103&D103,'[3]점검현황(전월)'!$D$7:$AG$241,3,0)","v":"XU106K"},{"$f":"VLOOKUP(B103&D103,'[3]점검현황(전월)'!$D$2:$AG$241,19,0)","v":"구"},{"$f":"VLOOKUP(B103&D103,'[3]점검현황(전월)'!$D$2:$AG$241,25,0)","v":"2015-05-29"},{"$f":"VLOOKUP(B103&D103,'[3]점검현황(전월)'!$D$7:$AG$241,27,0)","v":"·"},{"$f":"VLOOKUP(B103&D103,'[3]점검현황(전월)'!$D$7:$AG$241,23,0)","v":1214},{"$f":"VLOOKUP(B103&D103,'[3]점검현황(전월)'!$D$7:$AK$241,24,0)","v":"09:50:00"},{"$f":"VLOOKUP(B103&D103,'[3]점검현황(전월)'!$D$7:$AK$241,34,0)","v":953},112,{"$f":"VLOOKUP(B103&D103,'[3]점검현황(전월)'!$D$7:$AK$241,22,0)","v":"12:00:00"},{"$f":"VLOOKUP(B103&D103,'[3]점검현황(전월)'!$D$7:$AG$241,26,0)","v":"."}]
[null,"원천관",21,535,{"$f":"VLOOKUP(B104&D104,'[3]점검현황(전월)'!$D$7:$AG$241,2,0)","v":"전자공학 (자동녹화)"},{"$f":"VLOOKUP(B104&D104,'[3]점검현황(전월)'!$D$7:$AG$241,3,0)","v":"XM150K / XM150K"},{"$f":"VLOOKUP(B104&D104,'[3]점검현황(전월)'!$D$2:$AG$241,19,0)","v":"e-ST"},{"$f":"VLOOKUP(B104&D104,'[3]점검현황(전월)'!$D$2:$AG$241,25,0)","v":"2015-10-07/2016-11-16"},{"$f":"VLOOKUP(B104&D104,'[3]점검현황(전월)'!$D$7:$AG$241,27,0)","v":"2015-11-10"},{"$f":"VLOOKUP(B104&D104,'[3]점검현황(전월)'!$D$7:$AG$241,23,0)","v":1215},{"$f":"VLOOKUP(B104&D104,'[3]점검현황(전월)'!$D$7:$AK$241,24,0)","v":"10:00:00"},{"$f":"VLOOKUP(B104&D104,'[3]점검현황(전월)'!$D$7:$AK$241,34,0)","v":"103/912"},113,{"$f":"VLOOKUP(B104&D104,'[3]점검현황(전월)'!$D$7:$AK$241,22,0)","v":"13:00:00"},{"$f":"VLOOKUP(B104&D104,'[3]점검현황(전월)'!$D$7:$AG$241,26,0)","v":"7,"}]
[null,"원천관",22,537,{"$f":"VLOOKUP(B105&D105,'[3]점검현황(전월)'!$D$7:$AG$241,2,0)","v":"전자공학"},{"$f":"VLOOKUP(B105&D105,'[3]점검현황(전월)'!$D$7:$AG$241,3,0)","v":"VX410Z"},{"$f":"VLOOKUP(B105&D105,'[3]점검현황(전월)'!$D$2:$AG$241,19,0)","v":"자체"},{"$f":"VLOOKUP(B105&D105,'[3]점검현황(전월)'!$D$2:$AG$241,25,0)","v":"2015-04-15"},{"$f":"VLOOKUP(B105&D105,'[3]점검현황(전월)'!$D$7:$AG$241,27,0)","v":"·"},{"$f":"VLOOKUP(B105&D105,'[3]점검현황(전월)'!$D$7:$AG$241,23,0)","v":1215},{"$f":"VLOOKUP(B105&D105,'[3]점검현황(전월)'!$D$7:$AK$241,24,0)","v":"10:10:00"},{"$f":"VLOOKUP(B105&D105,'[3]점검현황(전월)'!$D$7:$AK$241,34,0)","v":350},113,{"$f":"VLOOKUP(B105&D105,'[3]점검현황(전월)'!$D$7:$AK$241,22,0)","v":"13:10:00"},{"$f":"VLOOKUP(B105&D105,'[3]점검현황(전월)'!$D$7:$AG$241,26,0)","v":"."}]
[null,"원천관",23,539,{"$f":"VLOOKUP(B106&D106,'[3]점검현황(전월)'!$D$7:$AG$241,2,0)","v":"전자공학"},{"$f":"VLOOKUP(B106&D106,'[3]점검현황(전월)'!$D$7:$AG$241,3,0)","v":"XU100K"},{"$f":"VLOOKUP(B106&D106,'[3]점검현황(전월)'!$D$2:$AG$241,19,0)","v":"자체"},{"$f":"VLOOKUP(B106&D106,'[3]점검현황(전월)'!$D$2:$AG$241,25,0)","v":"2016-03-07"},{"$f":"VLOOKUP(B106&D106,'[3]점검현황(전월)'!$D$7:$AG$241,27,0)","v":"·"},{"$f":"VLOOKUP(B106&D106,'[3]점검현황(전월)'!$D$7:$AG$241,23,0)","v":1215},{"$f":"VLOOKUP(B106&D106,'[3]점검현황(전월)'!$D$7:$AK$241,24,0)","v":"10:20:00"},{"$f":"VLOOKUP(B106&D106,'[3]점검현황(전월)'!$D$7:$AK$241,34,0)","v":103},113,{"$f":"VLOOKUP(B106&D106,'[3]점검현황(전월)'!$D$7:$AK$241,22,0)","v":"13:20:00"},{"$f":"VLOOKUP(B106&D106,'[3]점검현황(전월)'!$D$7:$AG$241,26,0)","v":"."}]
[null,"원천관",24,540,{"$f":"VLOOKUP(B107&D107,'[3]점검현황(전월)'!$D$7:$AG$241,2,0)","v":"PC실"},{"$f":"VLOOKUP(B107&D107,'[3]점검현황(전월)'!$D$7:$AG$241,3,0)","v":"XU106K"},{"$f":"VLOOKUP(B107&D107,'[3]점검현황(전월)'!$D$2:$AG$241,19,0)","v":"구"},{"$f":"VLOOKUP(B107&D107,'[3]점검현황(전월)'!$D$2:$AG$241,25,0)","v":"2015-08-18"},{"$f":"VLOOKUP(B107&D107,'[3]점검현황(전월)'!$D$7:$AG$241,27,0)","v":"2016-04-30"},{"$f":"VLOOKUP(B107&D107,'[3]점검현황(전월)'!$D$7:$AG$241,23,0)","v":1215},{"$f":"VLOOKUP(B107&D107,'[3]점검현황(전월)'!$D$7:$AK$241,24,0)","v":"18:00:00"},{"$f":"VLOOKUP(B107&D107,'[3]점검현황(전월)'!$D$7:$AK$241,34,0)","v":1115},113,{"$f":"VLOOKUP(B107&D107,'[3]점검현황(전월)'!$D$7:$AK$241,22,0)","v":"13:30:00"},{"$f":"VLOOKUP(B107&D107,'[3]점검현황(전월)'!$D$7:$AG$241,26,0)","v":"."}]
["서관","서관",1,107,{"$f":"VLOOKUP(B108&D108,'[3]점검현황(전월)'!$D$7:$AG$241,2,0)","v":"멀티미디어 (자동녹화)"},{"$f":"VLOOKUP(B108&D108,'[3]점검현황(전월)'!$D$7:$AG$241,3,0)","v":"VX600"},{"$f":"VLOOKUP(B108&D108,'[3]점검현황(전월)'!$D$2:$AG$241,19,0)","v":"구e-ST"},{"$f":"VLOOKUP(B108&D108,'[3]점검현황(전월)'!$D$2:$AG$241,25,0)","v":"2016-12-23"},{"$f":"VLOOKUP(B108&D108,'[3]점검현황(전월)'!$D$7:$AG$241,27,0)","v":"2016-12-23"},{"$f":"VLOOKUP(B108&D108,'[3]점검현황(전월)'!$D$7:$AG$241,23,0)","v":1215},{"$f":"VLOOKUP(B108&D108,'[3]점검현황(전월)'!$D$7:$AK$241,24,0)","v":"10:40:00"},{"$f":"VLOOKUP(B108&D108,'[3]점검현황(전월)'!$D$7:$AK$241,34,0)","v":0},113,{"$f":"VLOOKUP(B108&D108,'[3]점검현황(전월)'!$D$7:$AK$241,22,0)","v":"13:40:00"},{"$f":"VLOOKUP(B108&D108,'[3]점검현황(전월)'!$D$7:$AG$241,26,0)","v":"."}]
[null,"서관",2,135,{"$f":"VLOOKUP(B109&D109,'[3]점검현황(전월)'!$D$7:$AG$241,2,0)","v":"기계공학 (자동녹화)"},{"$f":"VLOOKUP(B109&D109,'[3]점검현황(전월)'!$D$7:$AG$241,3,0)","v":"VX421"},{"$f":"VLOOKUP(B109&D109,'[3]점검현황(전월)'!$D$2:$AG$241,19,0)","v":"e-ST"},{"$f":"VLOOKUP(B109&D109,'[3]점검현황(전월)'!$D$2:$AG$241,25,0)","v":"2016-02-29"},{"$f":"VLOOKUP(B109&D109,'[3]점검현황(전월)'!$D$7:$AG$241,27,0)","v":"2016-02-29"},{"$f":"VLOOKUP(B109&D109,'[3]점검현황(전월)'!$D$7:$AG$241,23,0)","v":1215},{"$f":"VLOOKUP(B109&D109,'[3]점검현황(전월)'!$D$7:$AK$241,24,0)","v":"10:50:00"},{"$f":"VLOOKUP(B109&D109,'[3]점검현황(전월)'!$D$7:$AK$241,34,0)","v":951},113,{"$f":"VLOOKUP(B109&D109,'[3]점검현황(전월)'!$D$7:$AK$241,22,0)","v":"08:30:00"},{"$f":"VLOOKUP(B109&D109,'[3]점검현황(전월)'!$D$7:$AG$241,26,0)","v":"."}]
[null,"서관",3,239,{"$f":"VLOOKUP(B110&D110,'[3]점검현황(전월)'!$D$7:$AG$241,2,0)","v":"환경공학"},{"$f":"VLOOKUP(B110&D110,'[3]점검현황(전월)'!$D$7:$AG$241,3,0)","v":"VX421"},{"$f":"VLOOKUP(B110&D110,'[3]점검현황(전월)'!$D$2:$AG$241,19,0)","v":"구"},{"$f":"VLOOKUP(B110&D110,'[3]점검현황(전월)'!$D$2:$AG$241,25,0)","v":"2016-02-17"},{"$f":"VLOOKUP(B110&D110,'[3]점검현황(전월)'!$D$7:$AG$241,27,0)","v":"2016-02-17"},{"$f":"VLOOKUP(B110&D110,'[3]점검현황(전월)'!$D$7:$AG$241,23,0)","v":1216},{"$f":"VLOOKUP(B110&D110,'[3]점검현황(전월)'!$D$7:$AK$241,24,0)","v":"11:00:00"},{"$f":"VLOOKUP(B110&D110,'[3]점검현황(전월)'!$D$7:$AK$241,34,0)","v":544},113,{"$f":"VLOOKUP(B110&D110,'[3]점검현황(전월)'!$D$7:$AK$241,22,0)","v":"08:40:00"},{"$f":"VLOOKUP(B110&D110,'[3]점검현황(전월)'!$D$7:$AG$241,26,0)","v":"9,"}]
[null,"서관",4,302,{"$f":"VLOOKUP(B111&D111,'[3]점검현황(전월)'!$D$7:$AG$241,2,0)","v":"대학원"},{"$f":"VLOOKUP(B111&D111,'[3]점검현황(전월)'!$D$7:$AG$241,3,0)","v":"XU106K"},{"$f":"VLOOKUP(B111&D111,'[3]점검현황(전월)'!$D$2:$AG$241,19,0)","v":"구"},{"$f":"VLOOKUP(B111&D111,'[3]점검현황(전월)'!$D$2:$AG$241,25,0)","v":"2015-07-30"},{"$f":"VLOOKUP(B111&D111,'[3]점검현황(전월)'!$D$7:$AG$241,27,0)","v":"2015-05-18"},{"$f":"VLOOKUP(B111&D111,'[3]점검현황(전월)'!$D$7:$AG$241,23,0)","v":1216},{"$f":"VLOOKUP(B111&D111,'[3]점검현황(전월)'!$D$7:$AK$241,24,0)","v":"11:10:00"},{"$f":"VLOOKUP(B111&D111,'[3]점검현황(전월)'!$D$7:$AK$241,34,0)","v":530},113,{"$f":"VLOOKUP(B111&D111,'[3]점검현황(전월)'!$D$7:$AK$241,22,0)","v":"08:50:00"},{"$f":"VLOOKUP(B111&D111,'[3]점검현황(전월)'!$D$7:$AG$241,26,0)","v":"."}]
[null,"서관",5,303,{"$f":"VLOOKUP(B112&D112,'[3]점검현황(전월)'!$D$7:$AG$241,2,0)","v":"화학공학"},{"$f":"VLOOKUP(B112&D112,'[3]점검현황(전월)'!$D$7:$AG$241,3,0)","v":"XT35K"},{"$f":"VLOOKUP(B112&D112,'[3]점검현황(전월)'!$D$2:$AG$241,19,0)","v":"구"},{"$f":"VLOOKUP(B112&D112,'[3]점검현황(전월)'!$D$2:$AG$241,25,0)","v":"2016-10-25"},{"$f":"VLOOKUP(B112&D112,'[3]점검현황(전월)'!$D$7:$AG$241,27,0)","v":"2016-04-05"},{"$f":"VLOOKUP(B112&D112,'[3]점검현황(전월)'!$D$7:$AG$241,23,0)","v":1216},{"$f":"VLOOKUP(B112&D112,'[3]점검현황(전월)'!$D$7:$AK$241,24,0)","v":"11:20:00"},{"$f":"VLOOKUP(B112&D112,'[3]점검현황(전월)'!$D$7:$AK$241,34,0)","v":190},113,{"$f":"VLOOKUP(B112&D112,'[3]점검현황(전월)'!$D$7:$AK$241,22,0)","v":"19:00:00"},{"$f":"VLOOKUP(B112&D112,'[3]점검현황(전월)'!$D$7:$AG$241,26,0)","v":"."}]
[null,"서관",6,306,{"$f":"VLOOKUP(B113&D113,'[3]점검현황(전월)'!$D$7:$AG$241,2,0)","v":"기계공학"},{"$f":"VLOOKUP(B113&D113,'[3]점검현황(전월)'!$D$7:$AG$241,3,0)","v":"VX400"},{"$f":"VLOOKUP(B113&D113,'[3]점검현황(전월)'!$D$2:$AG$241,19,0)","v":"e-ST"},{"$f":"VLOOKUP(B113&D113,'[3]점검현황(전월)'!$D$2:$AG$241,25,0)","v":"."},{"$f":"VLOOKUP(B113&D113,'[3]점검현황(전월)'!$D$7:$AG$241,27,0)","v":"."},{"$f":"VLOOKUP(B113&D113,'[3]점검현황(전월)'!$D$7:$AG$241,23,0)","v":1216},{"$f":"VLOOKUP(B113&D113,'[3]점검현황(전월)'!$D$7:$AK$241,24,0)","v":"11:50:00"},{"$f":"VLOOKUP(B113&D113,'[3]점검현황(전월)'!$D$7:$AK$241,34,0)","v":899},113,{"$f":"VLOOKUP(B113&D113,'[3]점검현황(전월)'!$D$7:$AK$241,22,0)","v":"20:00:00"},{"$f":"VLOOKUP(B113&D113,'[3]점검현황(전월)'!$D$7:$AG$241,26,0)","v":"."}]
[null,"서관",7,307,{"$f":"VLOOKUP(B114&D114,'[3]점검현황(전월)'!$D$7:$AG$241,2,0)","v":"기계공학"},{"$f":"VLOOKUP(B114&D114,'[3]점검현황(전월)'!$D$7:$AG$241,3,0)","v":"VX421"},{"$f":"VLOOKUP(B114&D114,'[3]점검현황(전월)'!$D$2:$AG$241,19,0)","v":"e-ST"},{"$f":"VLOOKUP(B114&D114,'[3]점검현황(전월)'!$D$2:$AG$241,25,0)","v":"2015-08-18"},{"$f":"VLOOKUP(B114&D114,'[3]점검현황(전월)'!$D$7:$AG$241,27,0)","v":"·"},{"$f":"VLOOKUP(B114&D114,'[3]점검현황(전월)'!$D$7:$AG$241,23,0)","v":1216},{"$f":"VLOOKUP(B114&D114,'[3]점검현황(전월)'!$D$7:$AK$241,24,0)","v":"11:30:00"},{"$f":"VLOOKUP(B114&D114,'[3]점검현황(전월)'!$D$7:$AK$241,34,0)","v":956},114,{"$f":"VLOOKUP(B114&D114,'[3]점검현황(전월)'!$D$7:$AK$241,22,0)","v":"19:10:00"},{"$f":"VLOOKUP(B114&D114,'[3]점검현황(전월)'!$D$7:$AG$241,26,0)","v":"."}]
[null,"서관",8,331,{"$f":"VLOOKUP(B115&D115,'[3]점검현황(전월)'!$D$7:$AG$241,2,0)","v":"기계공학"},{"$f":"VLOOKUP(B115&D115,'[3]점검현황(전월)'!$D$7:$AG$241,3,0)","v":"XU106K"},{"$f":"VLOOKUP(B115&D115,'[3]점검현황(전월)'!$D$2:$AG$241,19,0)","v":"e-ST"},{"$f":"VLOOKUP(B115&D115,'[3]점검현황(전월)'!$D$2:$AG$241,25,0)","v":"2015-05-15"},{"$f":"VLOOKUP(B115&D115,'[3]점검현황(전월)'!$D$7:$AG$241,27,0)","v":"2015-09-16"},{"$f":"VLOOKUP(B115&D115,'[3]점검현황(전월)'!$D$7:$AG$241,23,0)","v":1216},{"$f":"VLOOKUP(B115&D115,'[3]점검현황(전월)'!$D$7:$AK$241,24,0)","v":"17:41:00"},{"$f":"VLOOKUP(B115&D115,'[3]점검현황(전월)'!$D$7:$AK$241,34,0)","v":905},114,{"$f":"VLOOKUP(B115&D115,'[3]점검현황(전월)'!$D$7:$AK$241,22,0)","v":"19:20:00"},{"$f":"VLOOKUP(B115&D115,'[3]점검현황(전월)'!$D$7:$AG$241,26,0)","v":"."}]
[null,"서관",9,332,{"$f":"VLOOKUP(B116&D116,'[3]점검현황(전월)'!$D$7:$AG$241,2,0)","v":"응 화 생"},{"$f":"VLOOKUP(B116&D116,'[3]점검현황(전월)'!$D$7:$AG$241,3,0)","v":"VX600"},{"$f":"VLOOKUP(B116&D116,'[3]점검현황(전월)'!$D$2:$AG$241,19,0)","v":"구"},{"$f":"VLOOKUP(B116&D116,'[3]점검현황(전월)'!$D$2:$AG$241,25,0)","v":"2016-11-24"},{"$f":"VLOOKUP(B116&D116,'[3]점검현황(전월)'!$D$7:$AG$241,27,0)","v":"2016-11-24"},{"$f":"VLOOKUP(B116&D116,'[3]점검현황(전월)'!$D$7:$AG$241,23,0)","v":1217},{"$f":"VLOOKUP(B116&D116,'[3]점검현황(전월)'!$D$7:$AK$241,24,0)","v":"11:50:00"},{"$f":"VLOOKUP(B116&D116,'[3]점검현황(전월)'!$D$7:$AK$241,34,0)","v":117},114,{"$f":"VLOOKUP(B116&D116,'[3]점검현황(전월)'!$D$7:$AK$241,22,0)","v":"08:30:00"},{"$f":"VLOOKUP(B116&D116,'[3]점검현황(전월)'!$D$7:$AG$241,26,0)","v":"."}]
[null,"서관",10,334,{"$f":"VLOOKUP(B117&D117,'[3]점검현황(전월)'!$D$7:$AG$241,2,0)","v":"멀티미디어"},{"$f":"VLOOKUP(B117&D117,'[3]점검현황(전월)'!$D$7:$AG$241,3,0)","v":"VX421"},{"$f":"VLOOKUP(B117&D117,'[3]점검현황(전월)'!$D$2:$AG$241,19,0)","v":"구"},{"$f":"VLOOKUP(B117&D117,'[3]점검현황(전월)'!$D$2:$AG$241,25,0)","v":"2016-12-23"},{"$f":"VLOOKUP(B117&D117,'[3]점검현황(전월)'!$D$7:$AG$241,27,0)","v":"2016-12-23"},{"$f":"VLOOKUP(B117&D117,'[3]점검현황(전월)'!$D$7:$AG$241,23,0)","v":1217},{"$f":"VLOOKUP(B117&D117,'[3]점검현황(전월)'!$D$7:$AK$241,24,0)","v":"12:00:00"},{"$f":"VLOOKUP(B117&D117,'[3]점검현황(전월)'!$D$7:$AK$241,34,0)","v":0},114,{"$f":"VLOOKUP(B117&D117,'[3]점검현황(전월)'!$D$7:$AK$241,22,0)","v":"08:40:00"},{"$f":"VLOOKUP(B117&D117,'[3]점검현황(전월)'!$D$7:$AG$241,26,0)","v":"."}]
[null,"서관",11,337,{"$f":"VLOOKUP(B118&D118,'[3]점검현황(전월)'!$D$7:$AG$241,2,0)","v":"환경공학"},{"$f":"VLOOKUP(B118&D118,'[3]점검현황(전월)'!$D$7:$AG$241,3,0)","v":"LG"},{"$f":"VLOOKUP(B118&D118,'[3]점검현황(전월)'!$D$2:$AG$241,19,0)","v":"자체"},{"$f":"VLOOKUP(B118&D118,'[3]점검현황(전월)'!$D$2:$AG$241,25,0)","v":"."},{"$f":"VLOOKUP(B118&D118,'[3]점검현황(전월)'!$D$7:$AG$241,27,0)","v":"."},{"$f":"VLOOKUP(B118&D118,'[3]점검현황(전월)'!$D$7:$AG$241,23,0)","v":1217},{"$f":"VLOOKUP(B118&D118,'[3]점검현황(전월)'!$D$7:$AK$241,24,0)","v":"13:00:00"},{"$f":"VLOOKUP(B118&D118,'[3]점검현황(전월)'!$D$7:$AK$241,34,0)","v":910},114,{"$f":"VLOOKUP(B118&D118,'[3]점검현황(전월)'!$D$7:$AK$241,22,0)","v":"09:40:00"},{"$f":"VLOOKUP(B118&D118,'[3]점검현황(전월)'!$D$7:$AG$241,26,0)","v":"."}]
["동관","동관",1,"104-1",{"$f":"VLOOKUP(B119&D119,'[3]점검현황(전월)'!$D$7:$AG$241,2,0)","v":"기계공학"},{"$f":"VLOOKUP(B119&D119,'[3]점검현황(전월)'!$D$7:$AG$241,3,0)","v":"XU106K"},{"$f":"VLOOKUP(B119&D119,'[3]점검현황(전월)'!$D$2:$AG$241,19,0)","v":"e-ST"},{"$f":"VLOOKUP(B119&D119,'[3]점검현황(전월)'!$D$2:$AG$241,25,0)","v":"2016-01-04"},{"$f":"VLOOKUP(B119&D119,'[3]점검현황(전월)'!$D$7:$AG$241,27,0)","v":"·"},{"$f":"VLOOKUP(B119&D119,'[3]점검현황(전월)'!$D$7:$AG$241,23,0)","v":1217},{"$f":"VLOOKUP(B119&D119,'[3]점검현황(전월)'!$D$7:$AK$241,24,0)","v":"13:00:00"},{"$f":"VLOOKUP(B119&D119,'[3]점검현황(전월)'!$D$7:$AK$241,34,0)","v":501},114,{"$f":"VLOOKUP(B119&D119,'[3]점검현황(전월)'!$D$7:$AK$241,22,0)","v":"08:50:00"},{"$f":"VLOOKUP(B119&D119,'[3]점검현황(전월)'!$D$7:$AG$241,26,0)","v":"."}]
[null,"동관",2,"104-3",{"$f":"VLOOKUP(B120&D120,'[3]점검현황(전월)'!$D$7:$AG$241,2,0)","v":"기계공학"},{"$f":"VLOOKUP(B120&D120,'[3]점검현황(전월)'!$D$7:$AG$241,3,0)","v":"XU106K"},{"$f":"VLOOKUP(B120&D120,'[3]점검현황(전월)'!$D$2:$AG$241,19,0)","v":"e-ST"},{"$f":"VLOOKUP(B120&D120,'[3]점검현황(전월)'!$D$2:$AG$241,25,0)","v":"·"},{"$f":"VLOOKUP(B120&D120,'[3]점검현황(전월)'!$D$7:$AG$241,27,0)","v":"·"},{"$f":"VLOOKUP(B120&D120,'[3]점검현황(전월)'!$D$7:$AG$241,23,0)","v":1217},{"$f":"VLOOKUP(B120&D120,'[3]점검현황(전월)'!$D$7:$AK$241,24,0)","v":"13:20:00"},{"$f":"VLOOKUP(B120&D120,'[3]점검현황(전월)'!$D$7:$AK$241,34,0)","v":966},114,{"$f":"VLOOKUP(B120&D120,'[3]점검현황(전월)'!$D$7:$AK$241,22,0)","v":"19:10:00"},{"$f":"VLOOKUP(B120&D120,'[3]점검현황(전월)'!$D$7:$AG$241,26,0)","v":"."}]
[null,"동관",3,212,{"$f":"VLOOKUP(B121&D121,'[3]점검현황(전월)'!$D$7:$AG$241,2,0)","v":"기계공학"},{"$f":"VLOOKUP(B121&D121,'[3]점검현황(전월)'!$D$7:$AG$241,3,0)","v":"XU106K"},{"$f":"VLOOKUP(B121&D121,'[3]점검현황(전월)'!$D$2:$AG$241,19,0)","v":"자체"},{"$f":"VLOOKUP(B121&D121,'[3]점검현황(전월)'!$D$2:$AG$241,25,0)","v":"."},{"$f":"VLOOKUP(B121&D121,'[3]점검현황(전월)'!$D$7:$AG$241,27,0)","v":"."},{"$f":"VLOOKUP(B121&D121,'[3]점검현황(전월)'!$D$7:$AG$241,23,0)","v":1217},{"$f":"VLOOKUP(B121&D121,'[3]점검현황(전월)'!$D$7:$AK$241,24,0)","v":"13:25:00"},{"$f":"VLOOKUP(B121&D121,'[3]점검현황(전월)'!$D$7:$AK$241,34,0)","v":"503/429/85/16"},114,{"$f":"VLOOKUP(B121&D121,'[3]점검현황(전월)'!$D$7:$AK$241,22,0)","v":"19:15:00"},{"$f":"VLOOKUP(B121&D121,'[3]점검현황(전월)'!$D$7:$AG$241,26,0)","v":"."}]
[null,"동관",4,331,{"$f":"VLOOKUP(B122&D122,'[3]점검현황(전월)'!$D$7:$AG$241,2,0)","v":"기계공학"},{"$f":"VLOOKUP(B122&D122,'[3]점검현황(전월)'!$D$7:$AG$241,3,0)","v":"VX400"},{"$f":"VLOOKUP(B122&D122,'[3]점검현황(전월)'!$D$2:$AG$241,19,0)","v":"e-ST"},{"$f":"VLOOKUP(B122&D122,'[3]점검현황(전월)'!$D$2:$AG$241,25,0)","v":"2016-01-04"},{"$f":"VLOOKUP(B122&D122,'[3]점검현황(전월)'!$D$7:$AG$241,27,0)","v":"·"},{"$f":"VLOOKUP(B122&D122,'[3]점검현황(전월)'!$D$7:$AG$241,23,0)","v":1217},{"$f":"VLOOKUP(B122&D122,'[3]점검현황(전월)'!$D$7:$AK$241,24,0)","v":"13:30:00"},{"$f":"VLOOKUP(B122&D122,'[3]점검현황(전월)'!$D$7:$AK$241,34,0)","v":727},114,{"$f":"VLOOKUP(B122&D122,'[3]점검현황(전월)'!$D$7:$AK$241,22,0)","v":"19:20:00"},{"$f":"VLOOKUP(B122&D122,'[3]점검현황(전월)'!$D$7:$AG$241,26,0)","v":"."}]
["팔달관","팔달관",1,107,{"$f":"VLOOKUP(B123&D123,'[3]점검현황(전월)'!$D$7:$AG$241,2,0)","v":"사이버보안(자동녹화,화상강의)"},{"$f":"VLOOKUP(B123&D123,'[3]점검현황(전월)'!$D$7:$AG$241,3,0)","v":"VX600"},{"$f":"VLOOKUP(B123&D123,'[3]점검현황(전월)'!$D$2:$AG$241,19,0)","v":"e-ST"},{"$f":"VLOOKUP(B123&D123,'[3]점검현황(전월)'!$D$2:$AG$241,25,0)","v":"2015-08-31"},{"$f":"VLOOKUP(B123&D123,'[3]점검현황(전월)'!$D$7:$AG$241,27,0)","v":"2015-08-31"},{"$f":"VLOOKUP(B123&D123,'[3]점검현황(전월)'!$D$7:$AG$241,23,0)","v":1217},{"$f":"VLOOKUP(B123&D123,'[3]점검현황(전월)'!$D$7:$AK$241,24,0)","v":"13:40:00"},{"$f":"VLOOKUP(B123&D123,'[3]점검현황(전월)'!$D$7:$AK$241,34,0)","v":1563},114,{"$f":"VLOOKUP(B123&D123,'[3]점검현황(전월)'!$D$7:$AK$241,22,0)","v":"08:30:00"},{"$f":"VLOOKUP(B123&D123,'[3]점검현황(전월)'!$D$7:$AG$241,26,0)","v":"."}]
[null,"팔달관",2,108,{"$f":"VLOOKUP(B124&D124,'[3]점검현황(전월)'!$D$7:$AG$241,2,0)","v":"멀티미디어 (자동녹화)"},{"$f":"VLOOKUP(B124&D124,'[3]점검현황(전월)'!$D$7:$AG$241,3,0)","v":"VX600"},{"$f":"VLOOKUP(B124&D124,'[3]점검현황(전월)'!$D$2:$AG$241,19,0)","v":"e-ST"},{"$f":"VLOOKUP(B124&D124,'[3]점검현황(전월)'!$D$2:$AG$241,25,0)","v":"2016-12-23"},{"$f":"VLOOKUP(B124&D124,'[3]점검현황(전월)'!$D$7:$AG$241,27,0)","v":"2016-12-23"},{"$f":"VLOOKUP(B124&D124,'[3]점검현황(전월)'!$D$7:$AG$241,23,0)","v":1217},{"$f":"VLOOKUP(B124&D124,'[3]점검현황(전월)'!$D$7:$AK$241,24,0)","v":"17:28:00"},{"$f":"VLOOKUP(B124&D124,'[3]점검현황(전월)'!$D$7:$AK$241,34,0)","v":0},114,{"$f":"VLOOKUP(B124&D124,'[3]점검현황(전월)'!$D$7:$AK$241,22,0)","v":"08:40:00"},{"$f":"VLOOKUP(B124&D124,'[3]점검현황(전월)'!$D$7:$AG$241,26,0)","v":"14,"}]
[null,"팔달관",3,110,{"$f":"VLOOKUP(B125&D125,'[3]점검현황(전월)'!$D$7:$AG$241,2,0)","v":"멀티미디어 (자동녹화)"},{"$f":"VLOOKUP(B125&D125,'[3]점검현황(전월)'!$D$7:$AG$241,3,0)","v":"VX600"},{"$f":"VLOOKUP(B125&D125,'[3]점검현황(전월)'!$D$2:$AG$241,19,0)","v":"e-ST"},{"$f":"VLOOKUP(B125&D125,'[3]점검현황(전월)'!$D$2:$AG$241,25,0)","v":"2015-12-29"},{"$f":"VLOOKUP(B125&D125,'[3]점검현황(전월)'!$D$7:$AG$241,27,0)","v":"2016-07-20"},{"$f":"VLOOKUP(B125&D125,'[3]점검현황(전월)'!$D$7:$AG$241,23,0)","v":1217},{"$f":"VLOOKUP(B125&D125,'[3]점검현황(전월)'!$D$7:$AK$241,24,0)","v":"14:00:00"},{"$f":"VLOOKUP(B125&D125,'[3]점검현황(전월)'!$D$7:$AK$241,34,0)","v":1730},114,{"$f":"VLOOKUP(B125&D125,'[3]점검현황(전월)'!$D$7:$AK$241,22,0)","v":"08:50:00"},{"$f":"VLOOKUP(B125&D125,'[3]점검현황(전월)'!$D$7:$AG$241,26,0)","v":"5,7"}]
[null,"팔달관",4,111,{"$f":"VLOOKUP(B126&D126,'[3]점검현황(전월)'!$D$7:$AG$241,2,0)","v":"사이버보안 (자동녹화)"},{"$f":"VLOOKUP(B126&D126,'[3]점검현황(전월)'!$D$7:$AG$241,3,0)","v":"VX600"},{"$f":"VLOOKUP(B126&D126,'[3]점검현황(전월)'!$D$2:$AG$241,19,0)","v":"e-ST"},{"$f":"VLOOKUP(B126&D126,'[3]점검현황(전월)'!$D$2:$AG$241,25,0)","v":"2015-09-16"},{"$f":"VLOOKUP(B126&D126,'[3]점검현황(전월)'!$D$7:$AG$241,27,0)","v":"2015-09-16"},{"$f":"VLOOKUP(B126&D126,'[3]점검현황(전월)'!$D$7:$AG$241,23,0)","v":1217},{"$f":"VLOOKUP(B126&D126,'[3]점검현황(전월)'!$D$7:$AK$241,24,0)","v":"11:30:00"},{"$f":"VLOOKUP(B126&D126,'[3]점검현황(전월)'!$D$7:$AK$241,34,0)","v":50},114,{"$f":"VLOOKUP(B126&D126,'[3]점검현황(전월)'!$D$7:$AK$241,22,0)","v":"19:00:00"},{"$f":"VLOOKUP(B126&D126,'[3]점검현황(전월)'!$D$7:$AG$241,26,0)","v":"2,9"}]
[null,"팔달관",5,207,{"$f":"VLOOKUP(B127&D127,'[3]점검현황(전월)'!$D$7:$AG$241,2,0)","v":"신소재"},{"$f":"VLOOKUP(B127&D127,'[3]점검현황(전월)'!$D$7:$AG$241,3,0)","v":"VX600"},{"$f":"VLOOKUP(B127&D127,'[3]점검현황(전월)'!$D$2:$AG$241,19,0)","v":"구"},{"$f":"VLOOKUP(B127&D127,'[3]점검현황(전월)'!$D$2:$AG$241,25,0)","v":"2016-09-19"},{"$f":"VLOOKUP(B127&D127,'[3]점검현황(전월)'!$D$7:$AG$241,27,0)","v":"·"},{"$f":"VLOOKUP(B127&D127,'[3]점검현황(전월)'!$D$7:$AG$241,23,0)","v":1217},{"$f":"VLOOKUP(B127&D127,'[3]점검현황(전월)'!$D$7:$AK$241,24,0)","v":"08:40:00"},{"$f":"VLOOKUP(B127&D127,'[3]점검현황(전월)'!$D$7:$AK$241,34,0)","v":367},114,{"$f":"VLOOKUP(B127&D127,'[3]점검현황(전월)'!$D$7:$AK$241,22,0)","v":"19:10:00"},{"$f":"VLOOKUP(B127&D127,'[3]점검현황(전월)'!$D$7:$AG$241,26,0)","v":"."}]
[null,"팔달관",6,211,{"$f":"VLOOKUP(B128&D128,'[3]점검현황(전월)'!$D$7:$AG$241,2,0)","v":"교통시스템"},{"$f":"VLOOKUP(B128&D128,'[3]점검현황(전월)'!$D$7:$AG$241,3,0)","v":"VX600"},{"$f":"VLOOKUP(B128&D128,'[3]점검현황(전월)'!$D$2:$AG$241,19,0)","v":"구"},{"$f":"VLOOKUP(B128&D128,'[3]점검현황(전월)'!$D$2:$AG$241,25,0)","v":"2016-03-02"},{"$f":"VLOOKUP(B128&D128,'[3]점검현황(전월)'!$D$7:$AG$241,27,0)","v":"2016-03-02"},{"$f":"VLOOKUP(B128&D128,'[3]점검현황(전월)'!$D$7:$AG$241,23,0)","v":1217},{"$f":"VLOOKUP(B128&D128,'[3]점검현황(전월)'!$D$7:$AK$241,24,0)","v":"08:50:00"},{"$f":"VLOOKUP(B128&D128,'[3]점검현황(전월)'!$D$7:$AK$241,34,0)","v":809},114,{"$f":"VLOOKUP(B128&D128,'[3]점검현황(전월)'!$D$7:$AK$241,22,0)","v":"19:20:00"},{"$f":"VLOOKUP(B128&D128,'[3]점검현황(전월)'!$D$7:$AG$241,26,0)","v":"."}]
[null,"팔달관",7,307,{"$f":"VLOOKUP(B129&D129,'[3]점검현황(전월)'!$D$7:$AG$241,2,0)","v":"산업정보"},{"$f":"VLOOKUP(B129&D129,'[3]점검현황(전월)'!$D$7:$AG$241,3,0)","v":"XT35K"},{"$f":"VLOOKUP(B129&D129,'[3]점검현황(전월)'!$D$2:$AG$241,19,0)","v":"구"},{"$f":"VLOOKUP(B129&D129,'[3]점검현황(전월)'!$D$2:$AG$241,25,0)","v":"2016-11-29"},{"$f":"VLOOKUP(B129&D129,'[3]점검현황(전월)'!$D$7:$AG$241,27,0)","v":"2016-03-25"},{"$f":"VLOOKUP(B129&D129,'[3]점검현황(전월)'!$D$7:$AG$241,23,0)","v":1217},{"$f":"VLOOKUP(B129&D129,'[3]점검현황(전월)'!$D$7:$AK$241,24,0)","v":"19:00:00"},{"$f":"VLOOKUP(B129&D129,'[3]점검현황(전월)'!$D$7:$AK$241,34,0)","v":86},114,{"$f":"VLOOKUP(B129&D129,'[3]점검현황(전월)'!$D$7:$AK$241,22,0)","v":"08:30:00"},{"$f":"VLOOKUP(B129&D129,'[3]점검현황(전월)'!$D$7:$AG$241,26,0)","v":"."}]
[null,"팔달관",8,308,{"$f":"VLOOKUP(B130&D130,'[3]점검현황(전월)'!$D$7:$AG$241,2,0)","v":"생명공학"},{"$f":"VLOOKUP(B130&D130,'[3]점검현황(전월)'!$D$7:$AG$241,3,0)","v":"XU106K"},{"$f":"VLOOKUP(B130&D130,'[3]점검현황(전월)'!$D$2:$AG$241,19,0)","v":"구"},{"$f":"VLOOKUP(B130&D130,'[3]점검현황(전월)'!$D$2:$AG$241,25,0)","v":"2016-04-06"},{"$f":"VLOOKUP(B130&D130,'[3]점검현황(전월)'!$D$7:$AG$241,27,0)","v":"2014-12-06"},{"$f":"VLOOKUP(B130&D130,'[3]점검현황(전월)'!$D$7:$AG$241,23,0)","v":1217},{"$f":"VLOOKUP(B130&D130,'[3]점검현황(전월)'!$D$7:$AK$241,24,0)","v":"19:10:00"},{"$f":"VLOOKUP(B130&D130,'[3]점검현황(전월)'!$D$7:$AK$241,34,0)","v":1164},114,{"$f":"VLOOKUP(B130&D130,'[3]점검현황(전월)'!$D$7:$AK$241,22,0)","v":"08:40:00"},{"$f":"VLOOKUP(B130&D130,'[3]점검현황(전월)'!$D$7:$AG$241,26,0)","v":"."}]
[null,"팔달관",9,309,{"$f":"VLOOKUP(B131&D131,'[3]점검현황(전월)'!$D$7:$AG$241,2,0)","v":"정통컴 (자동녹화)"},{"$f":"VLOOKUP(B131&D131,'[3]점검현황(전월)'!$D$7:$AG$241,3,0)","v":"VX600"},{"$f":"VLOOKUP(B131&D131,'[3]점검현황(전월)'!$D$2:$AG$241,19,0)","v":"e-ST"},{"$f":"VLOOKUP(B131&D131,'[3]점검현황(전월)'!$D$2:$AG$241,25,0)","v":"2016-11-18"},{"$f":"VLOOKUP(B131&D131,'[3]점검현황(전월)'!$D$7:$AG$241,27,0)","v":"2016-11-18"},{"$f":"VLOOKUP(B131&D131,'[3]점검현황(전월)'!$D$7:$AG$241,23,0)","v":1217},{"$f":"VLOOKUP(B131&D131,'[3]점검현황(전월)'!$D$7:$AK$241,24,0)","v":"19:20:00"},{"$f":"VLOOKUP(B131&D131,'[3]점검현황(전월)'!$D$7:$AK$241,34,0)","v":165},114,{"$f":"VLOOKUP(B131&D131,'[3]점검현황(전월)'!$D$7:$AK$241,22,0)","v":"08:50:00"},{"$f":"VLOOKUP(B131&D131,'[3]점검현황(전월)'!$D$7:$AG$241,26,0)","v":"1,9,12"}]
[null,"팔달관",10,310,{"$f":"VLOOKUP(B132&D132,'[3]점검현황(전월)'!$D$7:$AG$241,2,0)","v":"건설시스템"},{"$f":"VLOOKUP(B132&D132,'[3]점검현황(전월)'!$D$7:$AG$241,3,0)","v":"XU106K"},{"$f":"VLOOKUP(B132&D132,'[3]점검현황(전월)'!$D$2:$AG$241,19,0)","v":"구"},{"$f":"VLOOKUP(B132&D132,'[3]점검현황(전월)'!$D$2:$AG$241,25,0)","v":"2016-04-06"},{"$f":"VLOOKUP(B132&D132,'[3]점검현황(전월)'!$D$7:$AG$241,27,0)","v":"2016-04-06"},{"$f":"VLOOKUP(B132&D132,'[3]점검현황(전월)'!$D$7:$AG$241,23,0)","v":1217},{"$f":"VLOOKUP(B132&D132,'[3]점검현황(전월)'!$D$7:$AK$241,24,0)","v":"08:30:00"},{"$f":"VLOOKUP(B132&D132,'[3]점검현황(전월)'!$D$7:$AK$241,34,0)","v":829},114,{"$f":"VLOOKUP(B132&D132,'[3]점검현황(전월)'!$D$7:$AK$241,22,0)","v":"19:00:00"},{"$f":"VLOOKUP(B132&D132,'[3]점검현황(전월)'!$D$7:$AG$241,26,0)","v":"."}]
[null,"팔달관",11,311,{"$f":"VLOOKUP(B133&D133,'[3]점검현황(전월)'!$D$7:$AG$241,2,0)","v":"수학과 (자동녹화)"},{"$f":"VLOOKUP(B133&D133,'[3]점검현황(전월)'!$D$7:$AG$241,3,0)","v":"EB-5900"},{"$f":"VLOOKUP(B133&D133,'[3]점검현황(전월)'!$D$2:$AG$241,19,0)","v":"e-ST"},{"$f":"VLOOKUP(B133&D133,'[3]점검현황(전월)'!$D$2:$AG$241,25,0)","v":"2016-08-23"},{"$f":"VLOOKUP(B133&D133,'[3]점검현황(전월)'!$D$7:$AG$241,27,0)","v":"·"},{"$f":"VLOOKUP(B133&D133,'[3]점검현황(전월)'!$D$7:$AG$241,23,0)","v":1217},{"$f":"VLOOKUP(B133&D133,'[3]점검현황(전월)'!$D$7:$AK$241,24,0)","v":"18:42:00"},{"$f":"VLOOKUP(B133&D133,'[3]점검현황(전월)'!$D$7:$AK$241,34,0)","v":262},114,{"$f":"VLOOKUP(B133&D133,'[3]점검현황(전월)'!$D$7:$AK$241,22,0)","v":"19:10:00"},{"$f":"VLOOKUP(B133&D133,'[3]점검현황(전월)'!$D$7:$AG$241,26,0)","v":"."}]
[null,"팔달관",12,317,{"$f":"VLOOKUP(B134&D134,'[3]점검현황(전월)'!$D$7:$AG$241,2,0)","v":"정통컴 (자동녹화)"},{"$f":"VLOOKUP(B134&D134,'[3]점검현황(전월)'!$D$7:$AG$241,3,0)","v":"VX421"},{"$f":"VLOOKUP(B134&D134,'[3]점검현황(전월)'!$D$2:$AG$241,19,0)","v":"e-ST"},{"$f":"VLOOKUP(B134&D134,'[3]점검현황(전월)'!$D$2:$AG$241,25,0)","v":"2016-02-29"},{"$f":"VLOOKUP(B134&D134,'[3]점검현황(전월)'!$D$7:$AG$241,27,0)","v":"2016-02-29"},{"$f":"VLOOKUP(B134&D134,'[3]점검현황(전월)'!$D$7:$AG$241,23,0)","v":1217},{"$f":"VLOOKUP(B134&D134,'[3]점검현황(전월)'!$D$7:$AK$241,24,0)","v":"19:20:00"},{"$f":"VLOOKUP(B134&D134,'[3]점검현황(전월)'!$D$7:$AK$241,34,0)","v":202},116,{"$f":"VLOOKUP(B134&D134,'[3]점검현황(전월)'!$D$7:$AK$241,22,0)","v":"19:15:00"},{"$f":"VLOOKUP(B134&D134,'[3]점검현황(전월)'!$D$7:$AG$241,26,0)","v":"."}]
[null,"팔달관",13,318,{"$f":"VLOOKUP(B135&D135,'[3]점검현황(전월)'!$D$7:$AG$241,2,0)","v":"정 통 컴"},{"$f":"VLOOKUP(B135&D135,'[3]점검현황(전월)'!$D$7:$AG$241,3,0)","v":"VX421"},{"$f":"VLOOKUP(B135&D135,'[3]점검현황(전월)'!$D$2:$AG$241,19,0)","v":"자체"},{"$f":"VLOOKUP(B135&D135,'[3]점검현황(전월)'!$D$2:$AG$241,25,0)","v":"2016-11-24"},{"$f":"VLOOKUP(B135&D135,'[3]점검현황(전월)'!$D$7:$AG$241,27,0)","v":"2016-11-24"},{"$f":"VLOOKUP(B135&D135,'[3]점검현황(전월)'!$D$7:$AG$241,23,0)","v":1217},{"$f":"VLOOKUP(B135&D135,'[3]점검현황(전월)'!$D$7:$AK$241,24,0)","v":"08:50:00"},{"$f":"VLOOKUP(B135&D135,'[3]점검현황(전월)'!$D$7:$AK$241,34,0)","v":22},116,{"$f":"VLOOKUP(B135&D135,'[3]점검현황(전월)'!$D$7:$AK$241,22,0)","v":"19:20:00"},{"$f":"VLOOKUP(B135&D135,'[3]점검현황(전월)'!$D$7:$AG$241,26,0)","v":"."}]
[null,"팔달관",14,323,{"$f":"VLOOKUP(B136&D136,'[3]점검현황(전월)'!$D$7:$AG$241,2,0)","v":"산업공학과"},{"$f":"VLOOKUP(B136&D136,'[3]점검현황(전월)'!$D$7:$AG$241,3,0)","v":"VX600 / VX600"},{"$f":"VLOOKUP(B136&D136,'[3]점검현황(전월)'!$D$2:$AG$241,19,0)","v":"e-ST"},{"$f":"VLOOKUP(B136&D136,'[3]점검현황(전월)'!$D$2:$AG$241,25,0)","v":"2016-02-29"},{"$f":"VLOOKUP(B136&D136,'[3]점검현황(전월)'!$D$7:$AG$241,27,0)","v":"2016-02-29"},{"$f":"VLOOKUP(B136&D136,'[3]점검현황(전월)'!$D$7:$AG$241,23,0)","v":1219},{"$f":"VLOOKUP(B136&D136,'[3]점검현황(전월)'!$D$7:$AK$241,24,0)","v":"10:50:00"},{"$f":"VLOOKUP(B136&D136,'[3]점검현황(전월)'!$D$7:$AK$241,34,0)","v":"277/275"},116,{"$f":"VLOOKUP(B136&D136,'[3]점검현황(전월)'!$D$7:$AK$241,22,0)","v":"13:00:00"},{"$f":"VLOOKUP(B136&D136,'[3]점검현황(전월)'!$D$7:$AG$241,26,0)","v":"."}]
[null,"팔달관",15,325,{"$f":"VLOOKUP(B137&D137,'[3]점검현황(전월)'!$D$7:$AG$241,2,0)","v":"정 통 컴"},{"$f":"VLOOKUP(B137&D137,'[3]점검현황(전월)'!$D$7:$AG$241,3,0)","v":"VX421"},{"$f":"VLOOKUP(B137&D137,'[3]점검현황(전월)'!$D$2:$AG$241,19,0)","v":"e-ST"},{"$f":"VLOOKUP(B137&D137,'[3]점검현황(전월)'!$D$2:$AG$241,25,0)","v":"2016-08-23"},{"$f":"VLOOKUP(B137&D137,'[3]점검현황(전월)'!$D$7:$AG$241,27,0)","v":"2015-08-31"},{"$f":"VLOOKUP(B137&D137,'[3]점검현황(전월)'!$D$7:$AG$241,23,0)","v":1219},{"$f":"VLOOKUP(B137&D137,'[3]점검현황(전월)'!$D$7:$AK$241,24,0)","v":"14:05:00"},{"$f":"VLOOKUP(B137&D137,'[3]점검현황(전월)'!$D$7:$AK$241,34,0)","v":650},116,{"$f":"VLOOKUP(B137&D137,'[3]점검현황(전월)'!$D$7:$AK$241,22,0)","v":"08:30:00"},{"$f":"VLOOKUP(B137&D137,'[3]점검현황(전월)'!$D$7:$AG$241,26,0)","v":"."}]
[null,"팔달관",16,328,{"$f":"VLOOKUP(B138&D138,'[3]점검현황(전월)'!$D$7:$AG$241,2,0)","v":"정 통 컴"},{"$f":"VLOOKUP(B138&D138,'[3]점검현황(전월)'!$D$7:$AG$241,3,0)","v":"XT35K"},{"$f":"VLOOKUP(B138&D138,'[3]점검현황(전월)'!$D$2:$AG$241,19,0)","v":"자체"},{"$f":"VLOOKUP(B138&D138,'[3]점검현황(전월)'!$D$2:$AG$241,25,0)","v":"2016-11-24"},{"$f":"VLOOKUP(B138&D138,'[3]점검현황(전월)'!$D$7:$AG$241,27,0)","v":"2015-04-03"},{"$f":"VLOOKUP(B138&D138,'[3]점검현황(전월)'!$D$7:$AG$241,23,0)","v":1219},{"$f":"VLOOKUP(B138&D138,'[3]점검현황(전월)'!$D$7:$AK$241,24,0)","v":"15:55:00"},{"$f":"VLOOKUP(B138&D138,'[3]점검현황(전월)'!$D$7:$AK$241,34,0)","v":66},116,{"$f":"VLOOKUP(B138&D138,'[3]점검현황(전월)'!$D$7:$AK$241,22,0)","v":"08:40:00"},{"$f":"VLOOKUP(B138&D138,'[3]점검현황(전월)'!$D$7:$AG$241,26,0)","v":"."}]
[null,"팔달관",17,333,{"$f":"VLOOKUP(B139&D139,'[3]점검현황(전월)'!$D$7:$AG$241,2,0)","v":"정 통 컴"},{"$f":"VLOOKUP(B139&D139,'[3]점검현황(전월)'!$D$7:$AG$241,3,0)","v":"VX410Z"},{"$f":"VLOOKUP(B139&D139,'[3]점검현황(전월)'!$D$2:$AG$241,19,0)","v":"구"},{"$f":"VLOOKUP(B139&D139,'[3]점검현황(전월)'!$D$2:$AG$241,25,0)","v":"."},{"$f":"VLOOKUP(B139&D139,'[3]점검현황(전월)'!$D$7:$AG$241,27,0)","v":"."},{"$f":"VLOOKUP(B139&D139,'[3]점검현황(전월)'!$D$7:$AG$241,23,0)","v":1219},{"$f":"VLOOKUP(B139&D139,'[3]점검현황(전월)'!$D$7:$AK$241,24,0)","v":"16:00:00"},{"$f":"VLOOKUP(B139&D139,'[3]점검현황(전월)'!$D$7:$AK$241,34,0)","v":1317},116,{"$f":"VLOOKUP(B139&D139,'[3]점검현황(전월)'!$D$7:$AK$241,22,0)","v":"08:45:00"},{"$f":"VLOOKUP(B139&D139,'[3]점검현황(전월)'!$D$7:$AG$241,26,0)","v":"."}]
[null,"팔달관",18,336,{"$f":"VLOOKUP(B140&D140,'[3]점검현황(전월)'!$D$7:$AG$241,2,0)","v":"정 통 컴"},{"$f":"VLOOKUP(B140&D140,'[3]점검현황(전월)'!$D$7:$AG$241,3,0)","v":"XT35K"},{"$f":"VLOOKUP(B140&D140,'[3]점검현황(전월)'!$D$2:$AG$241,19,0)","v":"자체"},{"$f":"VLOOKUP(B140&D140,'[3]점검현황(전월)'!$D$2:$AG$241,25,0)","v":"·"},{"$f":"VLOOKUP(B140&D140,'[3]점검현황(전월)'!$D$7:$AG$241,27,0)","v":"·"},{"$f":"VLOOKUP(B140&D140,'[3]점검현황(전월)'!$D$7:$AG$241,23,0)","v":1219},{"$f":"VLOOKUP(B140&D140,'[3]점검현황(전월)'!$D$7:$AK$241,24,0)","v":"19:20:00"},{"$f":"VLOOKUP(B140&D140,'[3]점검현황(전월)'!$D$7:$AK$241,34,0)","v":481},116,{"$f":"VLOOKUP(B140&D140,'[3]점검현황(전월)'!$D$7:$AK$241,22,0)","v":"08:50:00"},{"$f":"VLOOKUP(B140&D140,'[3]점검현황(전월)'!$D$7:$AG$241,26,0)","v":"."}]
[null,"팔달관",19,407,{"$f":"VLOOKUP(B141&D141,'[3]점검현황(전월)'!$D$7:$AG$241,2,0)","v":"SW특성화 (자동녹화)"},{"$f":"VLOOKUP(B141&D141,'[3]점검현황(전월)'!$D$7:$AG$241,3,0)","v":"EX600 / EX600 / EX600"},{"$f":"VLOOKUP(B141&D141,'[3]점검현황(전월)'!$D$2:$AG$241,19,0)","v":"e-ST"},{"$f":"VLOOKUP(B141&D141,'[3]점검현황(전월)'!$D$2:$AG$241,25,0)","v":"././16-7-19"},{"$f":"VLOOKUP(B141&D141,'[3]점검현황(전월)'!$D$7:$AG$241,27,0)","v":"2016-03-19"},{"$f":"VLOOKUP(B141&D141,'[3]점검현황(전월)'!$D$7:$AG$241,23,0)","v":1219},{"$f":"VLOOKUP(B141&D141,'[3]점검현황(전월)'!$D$7:$AK$241,24,0)","v":"08:40:00"},{"$f":"VLOOKUP(B141&D141,'[3]점검현황(전월)'!$D$7:$AK$241,34,0)","v":"1051/363/47"},116,{"$f":"VLOOKUP(B141&D141,'[3]점검현황(전월)'!$D$7:$AK$241,22,0)","v":"19:10:00"},{"$f":"VLOOKUP(B141&D141,'[3]점검현황(전월)'!$D$7:$AG$241,26,0)","v":"13,"}]
[null,"팔달관",20,409,{"$f":"VLOOKUP(B142&D142,'[3]점검현황(전월)'!$D$7:$AG$241,2,0)","v":"정통컴 (자동녹화)"},{"$f":"VLOOKUP(B142&D142,'[3]점검현황(전월)'!$D$7:$AG$241,3,0)","v":"XU106K"},{"$f":"VLOOKUP(B142&D142,'[3]점검현황(전월)'!$D$2:$AG$241,19,0)","v":"구"},{"$f":"VLOOKUP(B142&D142,'[3]점검현황(전월)'!$D$2:$AG$241,25,0)","v":"2016-11-25"},{"$f":"VLOOKUP(B142&D142,'[3]점검현황(전월)'!$D$7:$AG$241,27,0)","v":"2015-05-13"},{"$f":"VLOOKUP(B142&D142,'[3]점검현황(전월)'!$D$7:$AG$241,23,0)","v":1220},{"$f":"VLOOKUP(B142&D142,'[3]점검현황(전월)'!$D$7:$AK$241,24,0)","v":"08:50:00"},{"$f":"VLOOKUP(B142&D142,'[3]점검현황(전월)'!$D$7:$AK$241,34,0)","v":87},116,{"$f":"VLOOKUP(B142&D142,'[3]점검현황(전월)'!$D$7:$AK$241,22,0)","v":"19:20:00"},{"$f":"VLOOKUP(B142&D142,'[3]점검현황(전월)'!$D$7:$AG$241,26,0)","v":"."}]
[null,"팔달관",21,410,{"$f":"VLOOKUP(B143&D143,'[3]점검현황(전월)'!$D$7:$AG$241,2,0)","v":"정 통 컴"},{"$f":"VLOOKUP(B143&D143,'[3]점검현황(전월)'!$D$7:$AG$241,3,0)","v":"VX600"},{"$f":"VLOOKUP(B143&D143,'[3]점검현황(전월)'!$D$2:$AG$241,19,0)","v":"구"},{"$f":"VLOOKUP(B143&D143,'[3]점검현황(전월)'!$D$2:$AG$241,25,0)","v":"2016-11-24"},{"$f":"VLOOKUP(B143&D143,'[3]점검현황(전월)'!$D$7:$AG$241,27,0)","v":"2016-11-24"},{"$f":"VLOOKUP(B143&D143,'[3]점검현황(전월)'!$D$7:$AG$241,23,0)","v":1221},{"$f":"VLOOKUP(B143&D143,'[3]점검현황(전월)'!$D$7:$AK$241,24,0)","v":"09:00:00"},{"$f":"VLOOKUP(B143&D143,'[3]점검현황(전월)'!$D$7:$AK$241,34,0)","v":128},116,{"$f":"VLOOKUP(B143&D143,'[3]점검현황(전월)'!$D$7:$AK$241,22,0)","v":"09:00:00"},{"$f":"VLOOKUP(B143&D143,'[3]점검현황(전월)'!$D$7:$AG$241,26,0)","v":"21,"}]
[null,"팔달관",22,415,{"$f":"VLOOKUP(B144&D144,'[3]점검현황(전월)'!$D$7:$AG$241,2,0)","v":"교통시스템"},{"$f":"VLOOKUP(B144&D144,'[3]점검현황(전월)'!$D$7:$AG$241,3,0)","v":"XU300K"},{"$f":"VLOOKUP(B144&D144,'[3]점검현황(전월)'!$D$2:$AG$241,19,0)","v":"자체"},{"$f":"VLOOKUP(B144&D144,'[3]점검현황(전월)'!$D$2:$AG$241,25,0)","v":"·"},{"$f":"VLOOKUP(B144&D144,'[3]점검현황(전월)'!$D$7:$AG$241,27,0)","v":"·"},{"$f":"VLOOKUP(B144&D144,'[3]점검현황(전월)'!$D$7:$AG$241,23,0)","v":1220},{"$f":"VLOOKUP(B144&D144,'[3]점검현황(전월)'!$D$7:$AK$241,24,0)","v":"09:10:00"},{"$f":"VLOOKUP(B144&D144,'[3]점검현황(전월)'!$D$7:$AK$241,34,0)","v":589},117,{"$f":"VLOOKUP(B144&D144,'[3]점검현황(전월)'!$D$7:$AK$241,22,0)","v":"09:10:00"},{"$f":"VLOOKUP(B144&D144,'[3]점검현황(전월)'!$D$7:$AG$241,26,0)","v":"."}]
[null,"팔달관",23,435,{"$f":"VLOOKUP(B145&D145,'[3]점검현황(전월)'!$D$7:$AG$241,2,0)","v":"수학과 LAB"},{"$f":"VLOOKUP(B145&D145,'[3]점검현황(전월)'!$D$7:$AG$241,3,0)","v":"EW730 / XU105K"},{"$f":"VLOOKUP(B145&D145,'[3]점검현황(전월)'!$D$2:$AG$241,19,0)","v":"e-ST"},{"$f":"VLOOKUP(B145&D145,'[3]점검현황(전월)'!$D$2:$AG$241,25,0)","v":"2016-08-16 / ."},{"$f":"VLOOKUP(B145&D145,'[3]점검현황(전월)'!$D$7:$AG$241,27,0)","v":"2016-08-16 / ."},{"$f":"VLOOKUP(B145&D145,'[3]점검현황(전월)'!$D$7:$AG$241,23,0)","v":1220},{"$f":"VLOOKUP(B145&D145,'[3]점검현황(전월)'!$D$7:$AK$241,24,0)","v":"09:30:00"},{"$f":"VLOOKUP(B145&D145,'[3]점검현황(전월)'!$D$7:$AK$241,34,0)","v":"1112/6"},117,{"$f":"VLOOKUP(B145&D145,'[3]점검현황(전월)'!$D$7:$AK$241,22,0)","v":"09:15:00"},{"$f":"VLOOKUP(B145&D145,'[3]점검현황(전월)'!$D$7:$AG$241,26,0)","v":"."}]
[null,"팔달관",24,621,{"$f":"VLOOKUP(B146&D146,'[3]점검현황(전월)'!$D$7:$AG$241,2,0)","v":"수학과 LAB"},{"$f":"VLOOKUP(B146&D146,'[3]점검현황(전월)'!$D$7:$AG$241,3,0)","v":"EPSON EB-G5900"},{"$f":"VLOOKUP(B146&D146,'[3]점검현황(전월)'!$D$2:$AG$241,19,0)","v":"e-ST"},{"$f":"VLOOKUP(B146&D146,'[3]점검현황(전월)'!$D$2:$AG$241,25,0)","v":"2016-05-27"},{"$f":"VLOOKUP(B146&D146,'[3]점검현황(전월)'!$D$7:$AG$241,27,0)","v":"·"},{"$f":"VLOOKUP(B146&D146,'[3]점검현황(전월)'!$D$7:$AG$241,23,0)","v":1220},{"$f":"VLOOKUP(B146&D146,'[3]점검현황(전월)'!$D$7:$AK$241,24,0)","v":"19:00:00"},{"$f":"VLOOKUP(B146&D146,'[3]점검현황(전월)'!$D$7:$AK$241,34,0)","v":164},117,{"$f":"VLOOKUP(B146&D146,'[3]점검현황(전월)'!$D$7:$AK$241,22,0)","v":"09:20:00"},{"$f":"VLOOKUP(B146&D146,'[3]점검현황(전월)'!$D$7:$AG$241,26,0)","v":"."}]
[null,"팔달관",25,735,{"$f":"VLOOKUP(B147&D147,'[3]점검현황(전월)'!$D$7:$AG$241,2,0)","v":"대학원"},{"$f":"VLOOKUP(B147&D147,'[3]점검현황(전월)'!$D$7:$AG$241,3,0)","v":"XU106K"},{"$f":"VLOOKUP(B147&D147,'[3]점검현황(전월)'!$D$2:$AG$241,19,0)","v":"구"},{"$f":"VLOOKUP(B147&D147,'[3]점검현황(전월)'!$D$2:$AG$241,25,0)","v":"2015-07-30"},{"$f":"VLOOKUP(B147&D147,'[3]점검현황(전월)'!$D$7:$AG$241,27,0)","v":"2013-04-27"},{"$f":"VLOOKUP(B147&D147,'[3]점검현황(전월)'!$D$7:$AG$241,23,0)","v":1220},{"$f":"VLOOKUP(B147&D147,'[3]점검현황(전월)'!$D$7:$AK$241,24,0)","v":"19:10:00"},{"$f":"VLOOKUP(B147&D147,'[3]점검현황(전월)'!$D$7:$AK$241,34,0)","v":1038},117,{"$f":"VLOOKUP(B147&D147,'[3]점검현황(전월)'!$D$7:$AK$241,22,0)","v":"09:30:00"},{"$f":"VLOOKUP(B147&D147,'[3]점검현황(전월)'!$D$7:$AG$241,26,0)","v":"."}]
[null,"팔달관",26,1001,{"$f":"VLOOKUP(B148&D148,'[3]점검현황(전월)'!$D$7:$AG$241,2,0)","v":"대학원"},{"$f":"VLOOKUP(B148&D148,'[3]점검현황(전월)'!$D$7:$AG$241,3,0)","v":"XU106K"},{"$f":"VLOOKUP(B148&D148,'[3]점검현황(전월)'!$D$2:$AG$241,19,0)","v":"구"},{"$f":"VLOOKUP(B148&D148,'[3]점검현황(전월)'!$D$2:$AG$241,25,0)","v":"2016-11-25"},{"$f":"VLOOKUP(B148&D148,'[3]점검현황(전월)'!$D$7:$AG$241,27,0)","v":"2015-07-30"},{"$f":"VLOOKUP(B148&D148,'[3]점검현황(전월)'!$D$7:$AG$241,23,0)","v":1221},{"$f":"VLOOKUP(B148&D148,'[3]점검현황(전월)'!$D$7:$AK$241,24,0)","v":"19:20:00"},{"$f":"VLOOKUP(B148&D148,'[3]점검현황(전월)'!$D$7:$AK$241,34,0)","v":66},117,{"$f":"VLOOKUP(B148&D148,'[3]점검현황(전월)'!$D$7:$AK$241,22,0)","v":"09:40:00"},{"$f":"VLOOKUP(B148&D148,'[3]점검현황(전월)'!$D$7:$AG$241,26,0)","v":"."}]
[null,"팔달관",27,1002,{"$f":"VLOOKUP(B149&D149,'[3]점검현황(전월)'!$D$7:$AG$241,2,0)","v":"대학원"},{"$f":"VLOOKUP(B149&D149,'[3]점검현황(전월)'!$D$7:$AG$241,3,0)","v":"XU106K"},{"$f":"VLOOKUP(B149&D149,'[3]점검현황(전월)'!$D$2:$AG$241,19,0)","v":"구"},{"$f":"VLOOKUP(B149&D149,'[3]점검현황(전월)'!$D$2:$AG$241,25,0)","v":"2016-07-06"},{"$f":"VLOOKUP(B149&D149,'[3]점검현황(전월)'!$D$7:$AG$241,27,0)","v":"2013-06-24"},{"$f":"VLOOKUP(B149&D149,'[3]점검현황(전월)'!$D$7:$AG$241,23,0)","v":1221},{"$f":"VLOOKUP(B149&D149,'[3]점검현황(전월)'!$D$7:$AK$241,24,0)","v":"08:30:00"},{"$f":"VLOOKUP(B149&D149,'[3]점검현황(전월)'!$D$7:$AK$241,34,0)","v":312},117,{"$f":"VLOOKUP(B149&D149,'[3]점검현황(전월)'!$D$7:$AK$241,22,0)","v":"09:50:00"},{"$f":"VLOOKUP(B149&D149,'[3]점검현황(전월)'!$D$7:$AG$241,26,0)","v":"."}]
[null,"팔달관",28,1003,{"$f":"VLOOKUP(B150&D150,'[3]점검현황(전월)'!$D$7:$AG$241,2,0)","v":"SW특성화대학원"},{"$f":"VLOOKUP(B150&D150,'[3]점검현황(전월)'!$D$7:$AG$241,3,0)","v":"XU106K"},{"$f":"VLOOKUP(B150&D150,'[3]점검현황(전월)'!$D$2:$AG$241,19,0)","v":"구"},{"$f":"VLOOKUP(B150&D150,'[3]점검현황(전월)'!$D$2:$AG$241,25,0)","v":"2015-09-17"},{"$f":"VLOOKUP(B150&D150,'[3]점검현황(전월)'!$D$7:$AG$241,27,0)","v":"·"},{"$f":"VLOOKUP(B150&D150,'[3]점검현황(전월)'!$D$7:$AG$241,23,0)","v":1221},{"$f":"VLOOKUP(B150&D150,'[3]점검현황(전월)'!$D$7:$AK$241,24,0)","v":"08:40:00"},{"$f":"VLOOKUP(B150&D150,'[3]점검현황(전월)'!$D$7:$AK$241,34,0)","v":235},117,{"$f":"VLOOKUP(B150&D150,'[3]점검현황(전월)'!$D$7:$AK$241,22,0)","v":"10:00:00"},{"$f":"VLOOKUP(B150&D150,'[3]점검현황(전월)'!$D$7:$AG$241,26,0)","v":"."}]
[null,"팔달관",29,1020,{"$f":"VLOOKUP(B151&D151,'[3]점검현황(전월)'!$D$7:$AG$241,2,0)","v":"건설교통 (CAD실)"},{"$f":"VLOOKUP(B151&D151,'[3]점검현황(전월)'!$D$7:$AG$241,3,0)","v":"VX400"},{"$f":"VLOOKUP(B151&D151,'[3]점검현황(전월)'!$D$2:$AG$241,19,0)","v":"e-ST"},{"$f":"VLOOKUP(B151&D151,'[3]점검현황(전월)'!$D$2:$AG$241,25,0)","v":"2015-03-13"},{"$f":"VLOOKUP(B151&D151,'[3]점검현황(전월)'!$D$7:$AG$241,27,0)","v":"·"},{"$f":"VLOOKUP(B151&D151,'[3]점검현황(전월)'!$D$7:$AG$241,23,0)","v":1221},{"$f":"VLOOKUP(B151&D151,'[3]점검현황(전월)'!$D$7:$AK$241,24,0)","v":"08:50:00"},{"$f":"VLOOKUP(B151&D151,'[3]점검현황(전월)'!$D$7:$AK$241,34,0)","v":722},117,{"$f":"VLOOKUP(B151&D151,'[3]점검현황(전월)'!$D$7:$AK$241,22,0)","v":"10:10:00"},{"$f":"VLOOKUP(B151&D151,'[3]점검현황(전월)'!$D$7:$AG$241,26,0)","v":"."}]
[null,"팔달관",30,1024,{"$f":"VLOOKUP(B152&D152,'[3]점검현황(전월)'!$D$7:$AG$241,2,0)","v":"토목공학 (CAD실)"},{"$f":"VLOOKUP(B152&D152,'[3]점검현황(전월)'!$D$7:$AG$241,3,0)","v":"XU105K"},{"$f":"VLOOKUP(B152&D152,'[3]점검현황(전월)'!$D$2:$AG$241,19,0)","v":"구"},{"$f":"VLOOKUP(B152&D152,'[3]점검현황(전월)'!$D$2:$AG$241,25,0)","v":"·"},{"$f":"VLOOKUP(B152&D152,'[3]점검현황(전월)'!$D$7:$AG$241,27,0)","v":"·"},{"$f":"VLOOKUP(B152&D152,'[3]점검현황(전월)'!$D$7:$AG$241,23,0)","v":1221},{"$f":"VLOOKUP(B152&D152,'[3]점검현황(전월)'!$D$7:$AK$241,24,0)","v":"19:00:00"},{"$f":"VLOOKUP(B152&D152,'[3]점검현황(전월)'!$D$7:$AK$241,34,0)","v":1170},117,{"$f":"VLOOKUP(B152&D152,'[3]점검현황(전월)'!$D$7:$AK$241,22,0)","v":"10:20:00"},{"$f":"VLOOKUP(B152&D152,'[3]점검현황(전월)'!$D$7:$AG$241,26,0)","v":"."}]
[null,"팔달관",31,1025,{"$f":"VLOOKUP(B153&D153,'[3]점검현황(전월)'!$D$7:$AG$241,2,0)","v":"정 통 컴"},{"$f":"VLOOKUP(B153&D153,'[3]점검현황(전월)'!$D$7:$AG$241,3,0)","v":"VX600"},{"$f":"VLOOKUP(B153&D153,'[3]점검현황(전월)'!$D$2:$AG$241,19,0)","v":"자체"},{"$f":"VLOOKUP(B153&D153,'[3]점검현황(전월)'!$D$2:$AG$241,25,0)","v":"2016-03-17"},{"$f":"VLOOKUP(B153&D153,'[3]점검현황(전월)'!$D$7:$AG$241,27,0)","v":"2016-03-17"},{"$f":"VLOOKUP(B153&D153,'[3]점검현황(전월)'!$D$7:$AG$241,23,0)","v":1221},{"$f":"VLOOKUP(B153&D153,'[3]점검현황(전월)'!$D$7:$AK$241,24,0)","v":"19:10:00"},{"$f":"VLOOKUP(B153&D153,'[3]점검현황(전월)'!$D$7:$AK$241,34,0)","v":1015},117,{"$f":"VLOOKUP(B153&D153,'[3]점검현황(전월)'!$D$7:$AK$241,22,0)","v":"10:30:00"},{"$f":"VLOOKUP(B153&D153,'[3]점검현황(전월)'!$D$7:$AG$241,26,0)","v":"."}]
["산학원","산학원",1,"B103",{"$f":"VLOOKUP(B154&D154,'[3]점검현황(전월)'!$D$7:$AG$241,2,0)","v":"미디어 (자동녹화)"},{"$f":"VLOOKUP(B154&D154,'[3]점검현황(전월)'!$D$7:$AG$241,3,0)","v":"EX500E / EX500E"},{"$f":"VLOOKUP(B154&D154,'[3]점검현황(전월)'!$D$2:$AG$241,19,0)","v":"e-ST"},{"$f":"VLOOKUP(B154&D154,'[3]점검현황(전월)'!$D$2:$AG$241,25,0)","v":"2016-04-06"},{"$f":"VLOOKUP(B154&D154,'[3]점검현황(전월)'!$D$7:$AG$241,27,0)","v":"·"},{"$f":"VLOOKUP(B154&D154,'[3]점검현황(전월)'!$D$7:$AG$241,23,0)","v":1222},{"$f":"VLOOKUP(B154&D154,'[3]점검현황(전월)'!$D$7:$AK$241,24,0)","v":"19:20:00"},{"$f":"VLOOKUP(B154&D154,'[3]점검현황(전월)'!$D$7:$AK$241,34,0)","v":"1574/823"},118,{"$f":"VLOOKUP(B154&D154,'[3]점검현황(전월)'!$D$7:$AK$241,22,0)","v":"10:40:00"},{"$f":"VLOOKUP(B154&D154,'[3]점검현황(전월)'!$D$7:$AG$241,26,0)","v":"2,"}]
[null,"산학원",2,415,{"$f":"VLOOKUP(B155&D155,'[3]점검현황(전월)'!$D$7:$AG$241,2,0)","v":"미디어 (PC실)"},{"$f":"VLOOKUP(B155&D155,'[3]점검현황(전월)'!$D$7:$AG$241,3,0)","v":"XU106K"},{"$f":"VLOOKUP(B155&D155,'[3]점검현황(전월)'!$D$2:$AG$241,19,0)","v":"e-ST"},{"$f":"VLOOKUP(B155&D155,'[3]점검현황(전월)'!$D$2:$AG$241,25,0)","v":"2015-09-08"},{"$f":"VLOOKUP(B155&D155,'[3]점검현황(전월)'!$D$7:$AG$241,27,0)","v":"2015-11-12"},{"$f":"VLOOKUP(B155&D155,'[3]점검현황(전월)'!$D$7:$AG$241,23,0)","v":1222},{"$f":"VLOOKUP(B155&D155,'[3]점검현황(전월)'!$D$7:$AK$241,24,0)","v":"08:30:00"},{"$f":"VLOOKUP(B155&D155,'[3]점검현황(전월)'!$D$7:$AK$241,34,0)","v":791},118,{"$f":"VLOOKUP(B155&D155,'[3]점검현황(전월)'!$D$7:$AK$241,22,0)","v":"10:50:00"},{"$f":"VLOOKUP(B155&D155,'[3]점검현황(전월)'!$D$7:$AG$241,26,0)","v":"."}]
[null,"산학원",3,419,{"$f":"VLOOKUP(B156&D156,'[3]점검현황(전월)'!$D$7:$AG$241,2,0)","v":"미디어 (PC실)"},{"$f":"VLOOKUP(B156&D156,'[3]점검현황(전월)'!$D$7:$AG$241,3,0)","v":"EX500E"},{"$f":"VLOOKUP(B156&D156,'[3]점검현황(전월)'!$D$2:$AG$241,19,0)","v":"e-ST"},{"$f":"VLOOKUP(B156&D156,'[3]점검현황(전월)'!$D$2:$AG$241,25,0)","v":"2015-09-08"},{"$f":"VLOOKUP(B156&D156,'[3]점검현황(전월)'!$D$7:$AG$241,27,0)","v":"·"},{"$f":"VLOOKUP(B156&D156,'[3]점검현황(전월)'!$D$7:$AG$241,23,0)","v":1222},{"$f":"VLOOKUP(B156&D156,'[3]점검현황(전월)'!$D$7:$AK$241,24,0)","v":"08:40:00"},{"$f":"VLOOKUP(B156&D156,'[3]점검현황(전월)'!$D$7:$AK$241,34,0)","v":905},118,{"$f":"VLOOKUP(B156&D156,'[3]점검현황(전월)'!$D$7:$AK$241,22,0)","v":"11:00:00"},{"$f":"VLOOKUP(B156&D156,'[3]점검현황(전월)'!$D$7:$AG$241,26,0)","v":"."}]
[null,"산학원",4,420,{"$f":"VLOOKUP(B157&D157,'[3]점검현황(전월)'!$D$7:$AG$241,2,0)","v":"미디어 (PC실)"},{"$f":"VLOOKUP(B157&D157,'[3]점검현황(전월)'!$D$7:$AG$241,3,0)","v":"EX500E"},{"$f":"VLOOKUP(B157&D157,'[3]점검현황(전월)'!$D$2:$AG$241,19,0)","v":"e-ST"},{"$f":"VLOOKUP(B157&D157,'[3]점검현황(전월)'!$D$2:$AG$241,25,0)","v":"2015-06-10"},{"$f":"VLOOKUP(B157&D157,'[3]점검현황(전월)'!$D$7:$AG$241,27,0)","v":"·"},{"$f":"VLOOKUP(B157&D157,'[3]점검현황(전월)'!$D$7:$AG$241,23,0)","v":1222},{"$f":"VLOOKUP(B157&D157,'[3]점검현황(전월)'!$D$7:$AK$241,24,0)","v":"08:50:00"},{"$f":"VLOOKUP(B157&D157,'[3]점검현황(전월)'!$D$7:$AK$241,34,0)","v":821},118,{"$f":"VLOOKUP(B157&D157,'[3]점검현황(전월)'!$D$7:$AK$241,22,0)","v":"11:10:00"},{"$f":"VLOOKUP(B157&D157,'[3]점검현황(전월)'!$D$7:$AG$241,26,0)","v":"."}]
[null,"산학원",5,421,{"$f":"VLOOKUP(B158&D158,'[3]점검현황(전월)'!$D$7:$AG$241,2,0)","v":"미디어 (PC실)"},{"$f":"VLOOKUP(B158&D158,'[3]점검현황(전월)'!$D$7:$AG$241,3,0)","v":"XU106K"},{"$f":"VLOOKUP(B158&D158,'[3]점검현황(전월)'!$D$2:$AG$241,19,0)","v":"e-ST"},{"$f":"VLOOKUP(B158&D158,'[3]점검현황(전월)'!$D$2:$AG$241,25,0)","v":"2016-04-06"},{"$f":"VLOOKUP(B158&D158,'[3]점검현황(전월)'!$D$7:$AG$241,27,0)","v":"2015-11-12"},{"$f":"VLOOKUP(B158&D158,'[3]점검현황(전월)'!$D$7:$AG$241,23,0)","v":1222},{"$f":"VLOOKUP(B158&D158,'[3]점검현황(전월)'!$D$7:$AK$241,24,0)","v":"19:00:00"},{"$f":"VLOOKUP(B158&D158,'[3]점검현황(전월)'!$D$7:$AK$241,34,0)","v":813},118,{"$f":"VLOOKUP(B158&D158,'[3]점검현황(전월)'!$D$7:$AK$241,22,0)","v":"11:20:00"},{"$f":"VLOOKUP(B158&D158,'[3]점검현황(전월)'!$D$7:$AG$241,26,0)","v":"."}]
[null,"산학원",6,422,{"$f":"VLOOKUP(B159&D159,'[3]점검현황(전월)'!$D$7:$AG$241,2,0)","v":"미디어 (자동녹화)"},{"$f":"VLOOKUP(B159&D159,'[3]점검현황(전월)'!$D$7:$AG$241,3,0)","v":"XU105K"},{"$f":"VLOOKUP(B159&D159,'[3]점검현황(전월)'!$D$2:$AG$241,19,0)","v":"구e-ST"},{"$f":"VLOOKUP(B159&D159,'[3]점검현황(전월)'!$D$2:$AG$241,25,0)","v":"2014-06-10"},{"$f":"VLOOKUP(B159&D159,'[3]점검현황(전월)'!$D$7:$AG$241,27,0)","v":"2015-08-28"},{"$f":"VLOOKUP(B159&D159,'[3]점검현황(전월)'!$D$7:$AG$241,23,0)","v":1222},{"$f":"VLOOKUP(B159&D159,'[3]점검현황(전월)'!$D$7:$AK$241,24,0)","v":"19:10:00"},{"$f":"VLOOKUP(B159&D159,'[3]점검현황(전월)'!$D$7:$AK$241,34,0)","v":881},118,{"$f":"VLOOKUP(B159&D159,'[3]점검현황(전월)'!$D$7:$AK$241,22,0)","v":"11:30:00"},{"$f":"VLOOKUP(B159&D159,'[3]점검현황(전월)'!$D$7:$AG$241,26,0)","v":"."}]
[null,"산학원",7,"422-1",{"$f":"VLOOKUP(B160&D160,'[3]점검현황(전월)'!$D$7:$AG$241,2,0)","v":"미디어"},{"$f":"VLOOKUP(B160&D160,'[3]점검현황(전월)'!$D$7:$AG$241,3,0)","v":"OPTOMA"},{"$f":"VLOOKUP(B160&D160,'[3]점검현황(전월)'!$D$2:$AG$241,19,0)","v":"e-ST"},{"$f":"VLOOKUP(B160&D160,'[3]점검현황(전월)'!$D$2:$AG$241,25,0)","v":"2016-08-30"},{"$f":"VLOOKUP(B160&D160,'[3]점검현황(전월)'!$D$7:$AG$241,27,0)","v":"2016-08-30"},{"$f":"VLOOKUP(B160&D160,'[3]점검현황(전월)'!$D$7:$AG$241,23,0)","v":1223},{"$f":"VLOOKUP(B160&D160,'[3]점검현황(전월)'!$D$7:$AK$241,24,0)","v":"19:20:00"},{"$f":"VLOOKUP(B160&D160,'[3]점검현황(전월)'!$D$7:$AK$241,34,0)","v":293},118,{"$f":"VLOOKUP(B160&D160,'[3]점검현황(전월)'!$D$7:$AK$241,22,0)","v":"11:40:00"},{"$f":"VLOOKUP(B160&D160,'[3]점검현황(전월)'!$D$7:$AG$241,26,0)","v":"."}]
[null,"산학원",8,504,{"$f":"VLOOKUP(B161&D161,'[3]점검현황(전월)'!$D$7:$AG$241,2,0)","v":"대학원지식정보안학과"},{"$f":"VLOOKUP(B161&D161,'[3]점검현황(전월)'!$D$7:$AG$241,3,0)","v":"XU106K"},{"$f":"VLOOKUP(B161&D161,'[3]점검현황(전월)'!$D$2:$AG$241,19,0)","v":"자체"},{"$f":"VLOOKUP(B161&D161,'[3]점검현황(전월)'!$D$2:$AG$241,25,0)","v":"2015-09-17"},{"$f":"VLOOKUP(B161&D161,'[3]점검현황(전월)'!$D$7:$AG$241,27,0)","v":"2013-09-10"},{"$f":"VLOOKUP(B161&D161,'[3]점검현황(전월)'!$D$7:$AG$241,23,0)","v":1223},{"$f":"VLOOKUP(B161&D161,'[3]점검현황(전월)'!$D$7:$AK$241,24,0)","v":"09:00:00"},{"$f":"VLOOKUP(B161&D161,'[3]점검현황(전월)'!$D$7:$AK$241,34,0)","v":368},118,{"$f":"VLOOKUP(B161&D161,'[3]점검현황(전월)'!$D$7:$AK$241,22,0)","v":"11:50:00"},{"$f":"VLOOKUP(B161&D161,'[3]점검현황(전월)'!$D$7:$AG$241,26,0)","v":"."}]
[null,"산학원",9,505,{"$f":"VLOOKUP(B162&D162,'[3]점검현황(전월)'!$D$7:$AG$241,2,0)","v":"대학원지식정보안학과"},{"$f":"VLOOKUP(B162&D162,'[3]점검현황(전월)'!$D$7:$AG$241,3,0)","v":"XU106K"},{"$f":"VLOOKUP(B162&D162,'[3]점검현황(전월)'!$D$2:$AG$241,19,0)","v":"자체"},{"$f":"VLOOKUP(B162&D162,'[3]점검현황(전월)'!$D$2:$AG$241,25,0)","v":"2015-08-27"},{"$f":"VLOOKUP(B162&D162,'[3]점검현황(전월)'!$D$7:$AG$241,27,0)","v":"2015-08-28"},{"$f":"VLOOKUP(B162&D162,'[3]점검현황(전월)'!$D$7:$AG$241,23,0)","v":1223},{"$f":"VLOOKUP(B162&D162,'[3]점검현황(전월)'!$D$7:$AK$241,24,0)","v":"09:10:00"},{"$f":"VLOOKUP(B162&D162,'[3]점검현황(전월)'!$D$7:$AK$241,34,0)","v":575},118,{"$f":"VLOOKUP(B162&D162,'[3]점검현황(전월)'!$D$7:$AK$241,22,0)","v":"12:00:00"},{"$f":"VLOOKUP(B162&D162,'[3]점검현황(전월)'!$D$7:$AG$241,26,0)","v":"."}]
[null,"산학원",10,713,{"$f":"VLOOKUP(B163&D163,'[3]점검현황(전월)'!$D$7:$AG$241,2,0)","v":"회의실"},{"$f":"VLOOKUP(B163&D163,'[3]점검현황(전월)'!$D$7:$AG$241,3,0)","v":"XU106K"},{"$f":"VLOOKUP(B163&D163,'[3]점검현황(전월)'!$D$2:$AG$241,19,0)","v":"구"},{"$f":"VLOOKUP(B163&D163,'[3]점검현황(전월)'!$D$2:$AG$241,25,0)","v":"·"},{"$f":"VLOOKUP(B163&D163,'[3]점검현황(전월)'!$D$7:$AG$241,27,0)","v":"2013-01-30"},{"$f":"VLOOKUP(B163&D163,'[3]점검현황(전월)'!$D$7:$AG$241,23,0)","v":1223},{"$f":"VLOOKUP(B163&D163,'[3]점검현황(전월)'!$D$7:$AK$241,24,0)","v":"09:20:00"},{"$f":"VLOOKUP(B163&D163,'[3]점검현황(전월)'!$D$7:$AK$241,34,0)","v":933},118,{"$f":"VLOOKUP(B163&D163,'[3]점검현황(전월)'!$D$7:$AK$241,22,0)","v":"13:00:00"},{"$f":"VLOOKUP(B163&D163,'[3]점검현황(전월)'!$D$7:$AG$241,26,0)","v":"."}]
[null,"산학원",11,811,{"$f":"VLOOKUP(B164&D164,'[3]점검현황(전월)'!$D$7:$AG$241,2,0)","v":"회의실"},{"$f":"VLOOKUP(B164&D164,'[3]점검현황(전월)'!$D$7:$AG$241,3,0)","v":"VX410Z"},{"$f":"VLOOKUP(B164&D164,'[3]점검현황(전월)'!$D$2:$AG$241,19,0)","v":"자체"},{"$f":"VLOOKUP(B164&D164,'[3]점검현황(전월)'!$D$2:$AG$241,25,0)","v":"2015-06-09"},{"$f":"VLOOKUP(B164&D164,'[3]점검현황(전월)'!$D$7:$AG$241,27,0)","v":"2015-06-09"},{"$f":"VLOOKUP(B164&D164,'[3]점검현황(전월)'!$D$7:$AG$241,23,0)","v":1223},{"$f":"VLOOKUP(B164&D164,'[3]점검현황(전월)'!$D$7:$AK$241,24,0)","v":"16:30:00"},{"$f":"VLOOKUP(B164&D164,'[3]점검현황(전월)'!$D$7:$AK$241,34,0)","v":205},119,{"$f":"VLOOKUP(B164&D164,'[3]점검현황(전월)'!$D$7:$AK$241,22,0)","v":"13:05:00"},{"$f":"VLOOKUP(B164&D164,'[3]점검현황(전월)'!$D$7:$AG$241,26,0)","v":"."}]
[null,"산학원",12,825,{"$f":"VLOOKUP(B165&D165,'[3]점검현황(전월)'!$D$7:$AG$241,2,0)","v":"전공 - 건축"},{"$f":"VLOOKUP(B165&D165,'[3]점검현황(전월)'!$D$7:$AG$241,3,0)","v":"VX421"},{"$f":"VLOOKUP(B165&D165,'[3]점검현황(전월)'!$D$2:$AG$241,19,0)","v":"구"},{"$f":"VLOOKUP(B165&D165,'[3]점검현황(전월)'!$D$2:$AG$241,25,0)","v":"2015-12-01"},{"$f":"VLOOKUP(B165&D165,'[3]점검현황(전월)'!$D$7:$AG$241,27,0)","v":"2015-12-01"},{"$f":"VLOOKUP(B165&D165,'[3]점검현황(전월)'!$D$7:$AG$241,23,0)","v":1223},{"$f":"VLOOKUP(B165&D165,'[3]점검현황(전월)'!$D$7:$AK$241,24,0)","v":"09:30:00"},{"$f":"VLOOKUP(B165&D165,'[3]점검현황(전월)'!$D$7:$AK$241,34,0)","v":401},119,{"$f":"VLOOKUP(B165&D165,'[3]점검현황(전월)'!$D$7:$AK$241,22,0)","v":"13:10:00"},{"$f":"VLOOKUP(B165&D165,'[3]점검현황(전월)'!$D$7:$AG$241,26,0)","v":"."}]
[null,"산학원",13,827,{"$f":"VLOOKUP(B166&D166,'[3]점검현황(전월)'!$D$7:$AG$241,2,0)","v":"전공 - 건축"},{"$f":"VLOOKUP(B166&D166,'[3]점검현황(전월)'!$D$7:$AG$241,3,0)","v":"XU100K"},{"$f":"VLOOKUP(B166&D166,'[3]점검현황(전월)'!$D$2:$AG$241,19,0)","v":"자체"},{"$f":"VLOOKUP(B166&D166,'[3]점검현황(전월)'!$D$2:$AG$241,25,0)","v":"2015-12-01"},{"$f":"VLOOKUP(B166&D166,'[3]점검현황(전월)'!$D$7:$AG$241,27,0)","v":"2016-03-28"},{"$f":"VLOOKUP(B166&D166,'[3]점검현황(전월)'!$D$7:$AG$241,23,0)","v":1223},{"$f":"VLOOKUP(B166&D166,'[3]점검현황(전월)'!$D$7:$AK$241,24,0)","v":"09:40:00"},{"$f":"VLOOKUP(B166&D166,'[3]점검현황(전월)'!$D$7:$AK$241,34,0)","v":827},119,{"$f":"VLOOKUP(B166&D166,'[3]점검현황(전월)'!$D$7:$AK$241,22,0)","v":"13:20:00"},{"$f":"VLOOKUP(B166&D166,'[3]점검현황(전월)'!$D$7:$AG$241,26,0)","v":"."}]
["학군단","학군단",1,"1강의",{"$f":"VLOOKUP(B167&D167,'[3]점검현황(전월)'!$D$7:$AG$241,2,0)","v":"멀티미디어"},{"$f":"VLOOKUP(B167&D167,'[3]점검현황(전월)'!$D$7:$AG$241,3,0)","v":"XT35K"},{"$f":"VLOOKUP(B167&D167,'[3]점검현황(전월)'!$D$2:$AG$241,19,0)","v":"구"},{"$f":"VLOOKUP(B167&D167,'[3]점검현황(전월)'!$D$2:$AG$241,25,0)","v":"2015-12-23"},{"$f":"VLOOKUP(B167&D167,'[3]점검현황(전월)'!$D$7:$AG$241,27,0)","v":"2016-07-02"},{"$f":"VLOOKUP(B167&D167,'[3]점검현황(전월)'!$D$7:$AG$241,23,0)","v":1224},{"$f":"VLOOKUP(B167&D167,'[3]점검현황(전월)'!$D$7:$AK$241,24,0)","v":"09:50:00"},{"$f":"VLOOKUP(B167&D167,'[3]점검현황(전월)'!$D$7:$AK$241,34,0)","v":107},119,{"$f":"VLOOKUP(B167&D167,'[3]점검현황(전월)'!$D$7:$AK$241,22,0)","v":"13:30:00"},{"$f":"VLOOKUP(B167&D167,'[3]점검현황(전월)'!$D$7:$AG$241,26,0)","v":"."}]
[null,"학군단",2,"2강의",{"$f":"VLOOKUP(B168&D168,'[3]점검현황(전월)'!$D$7:$AG$241,2,0)","v":"멀티미디어"},{"$f":"VLOOKUP(B168&D168,'[3]점검현황(전월)'!$D$7:$AG$241,3,0)","v":"XT35K"},{"$f":"VLOOKUP(B168&D168,'[3]점검현황(전월)'!$D$2:$AG$241,19,0)","v":"구"},{"$f":"VLOOKUP(B168&D168,'[3]점검현황(전월)'!$D$2:$AG$241,25,0)","v":"2015-06-25"},{"$f":"VLOOKUP(B168&D168,'[3]점검현황(전월)'!$D$7:$AG$241,27,0)","v":"2016-03-30"},{"$f":"VLOOKUP(B168&D168,'[3]점검현황(전월)'!$D$7:$AG$241,23,0)","v":1224},{"$f":"VLOOKUP(B168&D168,'[3]점검현황(전월)'!$D$7:$AK$241,24,0)","v":"10:00:00"},{"$f":"VLOOKUP(B168&D168,'[3]점검현황(전월)'!$D$7:$AK$241,34,0)","v":271},119,{"$f":"VLOOKUP(B168&D168,'[3]점검현황(전월)'!$D$7:$AK$241,22,0)","v":"13:40:00"},{"$f":"VLOOKUP(B168&D168,'[3]점검현황(전월)'!$D$7:$AG$241,26,0)","v":"."}]
["전산원","전산원",1,101,{"$f":"VLOOKUP(B169&D169,'[3]점검현황(전월)'!$D$7:$AG$241,2,0)","v":"대학원"},{"$f":"VLOOKUP(B169&D169,'[3]점검현황(전월)'!$D$7:$AG$241,3,0)","v":"VX510EA"},{"$f":"VLOOKUP(B169&D169,'[3]점검현황(전월)'!$D$2:$AG$241,19,0)","v":"e-ST"},{"$f":"VLOOKUP(B169&D169,'[3]점검현황(전월)'!$D$2:$AG$241,25,0)","v":"2015-08-31"},{"$f":"VLOOKUP(B169&D169,'[3]점검현황(전월)'!$D$7:$AG$241,27,0)","v":"2015-08-31"},{"$f":"VLOOKUP(B169&D169,'[3]점검현황(전월)'!$D$7:$AG$241,23,0)","v":1224},{"$f":"VLOOKUP(B169&D169,'[3]점검현황(전월)'!$D$7:$AK$241,24,0)","v":"17:30:00"},{"$f":"VLOOKUP(B169&D169,'[3]점검현황(전월)'!$D$7:$AK$241,34,0)","v":1205},119,{"$f":"VLOOKUP(B169&D169,'[3]점검현황(전월)'!$D$7:$AK$241,22,0)","v":"08:30:00"},{"$f":"VLOOKUP(B169&D169,'[3]점검현황(전월)'!$D$7:$AG$241,26,0)","v":"."}]
[null,"전산원",2,509,{"$f":"VLOOKUP(B170&D170,'[3]점검현황(전월)'!$D$7:$AG$241,2,0)","v":"PC실"},{"$f":"VLOOKUP(B170&D170,'[3]점검현황(전월)'!$D$7:$AG$241,3,0)","v":"XU106K"},{"$f":"VLOOKUP(B170&D170,'[3]점검현황(전월)'!$D$2:$AG$241,19,0)","v":"구"},{"$f":"VLOOKUP(B170&D170,'[3]점검현황(전월)'!$D$2:$AG$241,25,0)","v":"2015-07-22"},{"$f":"VLOOKUP(B170&D170,'[3]점검현황(전월)'!$D$7:$AG$241,27,0)","v":"2016-05-24"},{"$f":"VLOOKUP(B170&D170,'[3]점검현황(전월)'!$D$7:$AG$241,23,0)","v":1224},{"$f":"VLOOKUP(B170&D170,'[3]점검현황(전월)'!$D$7:$AK$241,24,0)","v":"10:20:00"},{"$f":"VLOOKUP(B170&D170,'[3]점검현황(전월)'!$D$7:$AK$241,34,0)","v":950},119,{"$f":"VLOOKUP(B170&D170,'[3]점검현황(전월)'!$D$7:$AK$241,22,0)","v":"08:40:00"},{"$f":"VLOOKUP(B170&D170,'[3]점검현황(전월)'!$D$7:$AG$241,26,0)","v":"."}]
[null,"전산원",3,510,{"$f":"VLOOKUP(B171&D171,'[3]점검현황(전월)'!$D$7:$AG$241,2,0)","v":"PC실"},{"$f":"VLOOKUP(B171&D171,'[3]점검현황(전월)'!$D$7:$AG$241,3,0)","v":"XU106K"},{"$f":"VLOOKUP(B171&D171,'[3]점검현황(전월)'!$D$2:$AG$241,19,0)","v":"구"},{"$f":"VLOOKUP(B171&D171,'[3]점검현황(전월)'!$D$2:$AG$241,25,0)","v":"2016-10-06"},{"$f":"VLOOKUP(B171&D171,'[3]점검현황(전월)'!$D$7:$AG$241,27,0)","v":"2016-06-17"},{"$f":"VLOOKUP(B171&D171,'[3]점검현황(전월)'!$D$7:$AG$241,23,0)","v":1224},{"$f":"VLOOKUP(B171&D171,'[3]점검현황(전월)'!$D$7:$AK$241,24,0)","v":"11:10:00"},{"$f":"VLOOKUP(B171&D171,'[3]점검현황(전월)'!$D$7:$AK$241,34,0)","v":121},119,{"$f":"VLOOKUP(B171&D171,'[3]점검현황(전월)'!$D$7:$AK$241,22,0)","v":"08:50:00"},{"$f":"VLOOKUP(B171&D171,'[3]점검현황(전월)'!$D$7:$AG$241,26,0)","v":"."}]
[null,"전산원",4,511,{"$f":"VLOOKUP(B172&D172,'[3]점검현황(전월)'!$D$7:$AG$241,2,0)","v":"미디어학과"},{"$f":"VLOOKUP(B172&D172,'[3]점검현황(전월)'!$D$7:$AG$241,3,0)","v":"VX600"},{"$f":"VLOOKUP(B172&D172,'[3]점검현황(전월)'!$D$2:$AG$241,19,0)","v":"e-ST"},{"$f":"VLOOKUP(B172&D172,'[3]점검현황(전월)'!$D$2:$AG$241,25,0)","v":"2016-11-24"},{"$f":"VLOOKUP(B172&D172,'[3]점검현황(전월)'!$D$7:$AG$241,27,0)","v":"2016-11-24"},{"$f":"VLOOKUP(B172&D172,'[3]점검현황(전월)'!$D$7:$AG$241,23,0)","v":1224},{"$f":"VLOOKUP(B172&D172,'[3]점검현황(전월)'!$D$7:$AK$241,24,0)","v":"11:10:00"},{"$f":"VLOOKUP(B172&D172,'[3]점검현황(전월)'!$D$7:$AK$241,34,0)","v":5},119,{"$f":"VLOOKUP(B172&D172,'[3]점검현황(전월)'!$D$7:$AK$241,22,0)","v":"08:50:00"},{"$f":"VLOOKUP(B172&D172,'[3]점검현황(전월)'!$D$7:$AG$241,26,0)","v":"."}]
[null,"전산원",5,514,{"$f":"VLOOKUP(B173&D173,'[3]점검현황(전월)'!$D$7:$AG$241,2,0)","v":"PC실"},{"$f":"VLOOKUP(B173&D173,'[3]점검현황(전월)'!$D$7:$AG$241,3,0)","v":"XU106K"},{"$f":"VLOOKUP(B173&D173,'[3]점검현황(전월)'!$D$2:$AG$241,19,0)","v":"구"},{"$f":"VLOOKUP(B173&D173,'[3]점검현황(전월)'!$D$2:$AG$241,25,0)","v":"2016-03-21"},{"$f":"VLOOKUP(B173&D173,'[3]점검현황(전월)'!$D$7:$AG$241,27,0)","v":"2016-11-25"},{"$f":"VLOOKUP(B173&D173,'[3]점검현황(전월)'!$D$7:$AG$241,23,0)","v":1224},{"$f":"VLOOKUP(B173&D173,'[3]점검현황(전월)'!$D$7:$AK$241,24,0)","v":"13:18:00"},{"$f":"VLOOKUP(B173&D173,'[3]점검현황(전월)'!$D$7:$AK$241,34,0)","v":676},119,{"$f":"VLOOKUP(B173&D173,'[3]점검현황(전월)'!$D$7:$AK$241,22,0)","v":"19:00:00"},{"$f":"VLOOKUP(B173&D173,'[3]점검현황(전월)'!$D$7:$AG$241,26,0)","v":"."}]
["종합관","종합관",1,101,{"$f":"VLOOKUP(B174&D174,'[3]점검현황(전월)'!$D$7:$AG$241,2,0)","v":"대강당"},{"$f":"VLOOKUP(B174&D174,'[3]점검현황(전월)'!$D$7:$AG$241,3,0)","v":"EX16KE"},{"$f":"VLOOKUP(B174&D174,'[3]점검현황(전월)'!$D$2:$AG$241,19,0)","v":"e-ST"},{"$f":"VLOOKUP(B174&D174,'[3]점검현황(전월)'!$D$2:$AG$241,25,0)","v":"2016-03-18"},{"$f":"VLOOKUP(B174&D174,'[3]점검현황(전월)'!$D$7:$AG$241,27,0)","v":"·"},{"$f":"VLOOKUP(B174&D174,'[3]점검현황(전월)'!$D$7:$AG$241,23,0)","v":1227},{"$f":"VLOOKUP(B174&D174,'[3]점검현황(전월)'!$D$7:$AK$241,24,0)","v":"10:50:00"},{"$f":"VLOOKUP(B174&D174,'[3]점검현황(전월)'!$D$7:$AK$241,34,0)","v":"298/298/298/298"},120,{"$f":"VLOOKUP(B174&D174,'[3]점검현황(전월)'!$D$7:$AK$241,22,0)","v":"19:10:00"},{"$f":"VLOOKUP(B174&D174,'[3]점검현황(전월)'!$D$7:$AG$241,26,0)","v":"2,5,9,12,22,27"}]
[null,"종합관",2,102,{"$f":"VLOOKUP(B175&D175,'[3]점검현황(전월)'!$D$7:$AG$241,2,0)","v":"멀티미디어 (자동녹화)"},{"$f":"VLOOKUP(B175&D175,'[3]점검현황(전월)'!$D$7:$AG$241,3,0)","v":"VX600"},{"$f":"VLOOKUP(B175&D175,'[3]점검현황(전월)'!$D$2:$AG$241,19,0)","v":"e-ST"},{"$f":"VLOOKUP(B175&D175,'[3]점검현황(전월)'!$D$2:$AG$241,25,0)","v":"2016-12-23"},{"$f":"VLOOKUP(B175&D175,'[3]점검현황(전월)'!$D$7:$AG$241,27,0)","v":"2016-12-23"},{"$f":"VLOOKUP(B175&D175,'[3]점검현황(전월)'!$D$7:$AG$241,23,0)","v":1224},{"$f":"VLOOKUP(B175&D175,'[3]점검현황(전월)'!$D$7:$AK$241,24,0)","v":"11:00:00"},{"$f":"VLOOKUP(B175&D175,'[3]점검현황(전월)'!$D$7:$AK$241,34,0)","v":0},120,{"$f":"VLOOKUP(B175&D175,'[3]점검현황(전월)'!$D$7:$AK$241,22,0)","v":"19:20:00"},{"$f":"VLOOKUP(B175&D175,'[3]점검현황(전월)'!$D$7:$AG$241,26,0)","v":"14,"}]
[null,"종합관",3,104,{"$f":"VLOOKUP(B176&D176,'[3]점검현황(전월)'!$D$7:$AG$241,2,0)","v":"멀티미디어 (자동녹화)"},{"$f":"VLOOKUP(B176&D176,'[3]점검현황(전월)'!$D$7:$AG$241,3,0)","v":"VX600"},{"$f":"VLOOKUP(B176&D176,'[3]점검현황(전월)'!$D$2:$AG$241,19,0)","v":"e-ST"},{"$f":"VLOOKUP(B176&D176,'[3]점검현황(전월)'!$D$2:$AG$241,25,0)","v":"2016-12-23"},{"$f":"VLOOKUP(B176&D176,'[3]점검현황(전월)'!$D$7:$AG$241,27,0)","v":"2016-12-23"},{"$f":"VLOOKUP(B176&D176,'[3]점검현황(전월)'!$D$7:$AG$241,23,0)","v":1224},{"$f":"VLOOKUP(B176&D176,'[3]점검현황(전월)'!$D$7:$AK$241,24,0)","v":"15:20:00"},{"$f":"VLOOKUP(B176&D176,'[3]점검현황(전월)'!$D$7:$AK$241,34,0)","v":0},120,{"$f":"VLOOKUP(B176&D176,'[3]점검현황(전월)'!$D$7:$AK$241,22,0)","v":"08:30:00"},{"$f":"VLOOKUP(B176&D176,'[3]점검현황(전월)'!$D$7:$AG$241,26,0)","v":"."}]
[null,"종합관",4,105,{"$f":"VLOOKUP(B177&D177,'[3]점검현황(전월)'!$D$7:$AG$241,2,0)","v":"멀티미디어 (자동녹화)"},{"$f":"VLOOKUP(B177&D177,'[3]점검현황(전월)'!$D$7:$AG$241,3,0)","v":"VX600"},{"$f":"VLOOKUP(B177&D177,'[3]점검현황(전월)'!$D$2:$AG$241,19,0)","v":"e-ST"},{"$f":"VLOOKUP(B177&D177,'[3]점검현황(전월)'!$D$2:$AG$241,25,0)","v":"2016-12-23"},{"$f":"VLOOKUP(B177&D177,'[3]점검현황(전월)'!$D$7:$AG$241,27,0)","v":"2016-12-23"},{"$f":"VLOOKUP(B177&D177,'[3]점검현황(전월)'!$D$7:$AG$241,23,0)","v":1224},{"$f":"VLOOKUP(B177&D177,'[3]점검현황(전월)'!$D$7:$AK$241,24,0)","v":"17:30:00"},{"$f":"VLOOKUP(B177&D177,'[3]점검현황(전월)'!$D$7:$AK$241,34,0)","v":0},120,{"$f":"VLOOKUP(B177&D177,'[3]점검현황(전월)'!$D$7:$AK$241,22,0)","v":"08:40:00"},{"$f":"VLOOKUP(B177&D177,'[3]점검현황(전월)'!$D$7:$AG$241,26,0)","v":"."}]
[null,"종합관",5,"202-2",{"$f":"VLOOKUP(B178&D178,'[3]점검현황(전월)'!$D$7:$AG$241,2,0)","v":"법전원"},{"$f":"VLOOKUP(B178&D178,'[3]점검현황(전월)'!$D$7:$AG$241,3,0)","v":"XT35K"},{"$f":"VLOOKUP(B178&D178,'[3]점검현황(전월)'!$D$2:$AG$241,19,0)","v":"자체"},{"$f":"VLOOKUP(B178&D178,'[3]점검현황(전월)'!$D$2:$AG$241,25,0)","v":"·"},{"$f":"VLOOKUP(B178&D178,'[3]점검현황(전월)'!$D$7:$AG$241,27,0)","v":"·"},{"$f":"VLOOKUP(B178&D178,'[3]점검현황(전월)'!$D$7:$AG$241,23,0)","v":1224},{"$f":"VLOOKUP(B178&D178,'[3]점검현황(전월)'!$D$7:$AK$241,24,0)","v":"11:30:00"},{"$f":"VLOOKUP(B178&D178,'[3]점검현황(전월)'!$D$7:$AK$241,34,0)","v":113},120,{"$f":"VLOOKUP(B178&D178,'[3]점검현황(전월)'!$D$7:$AK$241,22,0)","v":"08:50:00"},{"$f":"VLOOKUP(B178&D178,'[3]점검현황(전월)'!$D$7:$AG$241,26,0)","v":"."}]
[null,"종합관",6,301,{"$f":"VLOOKUP(B179&D179,'[3]점검현황(전월)'!$D$7:$AG$241,2,0)","v":"법전원"},{"$f":"VLOOKUP(B179&D179,'[3]점검현황(전월)'!$D$7:$AG$241,3,0)","v":"XU106K / XU106K"},{"$f":"VLOOKUP(B179&D179,'[3]점검현황(전월)'!$D$2:$AG$241,19,0)","v":"e-ST"},{"$f":"VLOOKUP(B179&D179,'[3]점검현황(전월)'!$D$2:$AG$241,25,0)","v":"2015-9-2/ ·"},{"$f":"VLOOKUP(B179&D179,'[3]점검현황(전월)'!$D$7:$AG$241,27,0)","v":"2015-04-27(2)"},{"$f":"VLOOKUP(B179&D179,'[3]점검현황(전월)'!$D$7:$AG$241,23,0)","v":1224},{"$f":"VLOOKUP(B179&D179,'[3]점검현황(전월)'!$D$7:$AK$241,24,0)","v":"11:40:00"},{"$f":"VLOOKUP(B179&D179,'[3]점검현황(전월)'!$D$7:$AK$241,34,0)","v":"729/1242"},120,{"$f":"VLOOKUP(B179&D179,'[3]점검현황(전월)'!$D$7:$AK$241,22,0)","v":"19:00:00"},{"$f":"VLOOKUP(B179&D179,'[3]점검현황(전월)'!$D$7:$AG$241,26,0)","v":"."}]
[null,"종합관",7,315,{"$f":"VLOOKUP(B180&D180,'[3]점검현황(전월)'!$D$7:$AG$241,2,0)","v":"법전원"},{"$f":"VLOOKUP(B180&D180,'[3]점검현황(전월)'!$D$7:$AG$241,3,0)","v":"XU105K"},{"$f":"VLOOKUP(B180&D180,'[3]점검현황(전월)'!$D$2:$AG$241,19,0)","v":"구"},{"$f":"VLOOKUP(B180&D180,'[3]점검현황(전월)'!$D$2:$AG$241,25,0)","v":"·"},{"$f":"VLOOKUP(B180&D180,'[3]점검현황(전월)'!$D$7:$AG$241,27,0)","v":"·"},{"$f":"VLOOKUP(B180&D180,'[3]점검현황(전월)'!$D$7:$AG$241,23,0)","v":1224},{"$f":"VLOOKUP(B180&D180,'[3]점검현황(전월)'!$D$7:$AK$241,24,0)","v":"11:50:00"},{"$f":"VLOOKUP(B180&D180,'[3]점검현황(전월)'!$D$7:$AK$241,34,0)","v":1274},120,{"$f":"VLOOKUP(B180&D180,'[3]점검현황(전월)'!$D$7:$AK$241,22,0)","v":"19:10:00"},{"$f":"VLOOKUP(B180&D180,'[3]점검현황(전월)'!$D$7:$AG$241,26,0)","v":"."}]
[null,"종합관",8,401,{"$f":"VLOOKUP(B181&D181,'[3]점검현황(전월)'!$D$7:$AG$241,2,0)","v":"법전원"},{"$f":"VLOOKUP(B181&D181,'[3]점검현황(전월)'!$D$7:$AG$241,3,0)","v":"XU106K"},{"$f":"VLOOKUP(B181&D181,'[3]점검현황(전월)'!$D$2:$AG$241,19,0)","v":"e-ST"},{"$f":"VLOOKUP(B181&D181,'[3]점검현황(전월)'!$D$2:$AG$241,25,0)","v":"2015-07-16"},{"$f":"VLOOKUP(B181&D181,'[3]점검현황(전월)'!$D$7:$AG$241,27,0)","v":"·"},{"$f":"VLOOKUP(B181&D181,'[3]점검현황(전월)'!$D$7:$AG$241,23,0)","v":1224},{"$f":"VLOOKUP(B181&D181,'[3]점검현황(전월)'!$D$7:$AK$241,24,0)","v":"12:00:00"},{"$f":"VLOOKUP(B181&D181,'[3]점검현황(전월)'!$D$7:$AK$241,34,0)","v":828},120,{"$f":"VLOOKUP(B181&D181,'[3]점검현황(전월)'!$D$7:$AK$241,22,0)","v":"19:20:00"},{"$f":"VLOOKUP(B181&D181,'[3]점검현황(전월)'!$D$7:$AG$241,26,0)","v":"."}]
[null,"종합관",9,412,{"$f":"VLOOKUP(B182&D182,'[3]점검현황(전월)'!$D$7:$AG$241,2,0)","v":"법전원"},{"$f":"VLOOKUP(B182&D182,'[3]점검현황(전월)'!$D$7:$AG$241,3,0)","v":"XU100K"},{"$f":"VLOOKUP(B182&D182,'[3]점검현황(전월)'!$D$2:$AG$241,19,0)","v":"구"},{"$f":"VLOOKUP(B182&D182,'[3]점검현황(전월)'!$D$2:$AG$241,25,0)","v":"."},{"$f":"VLOOKUP(B182&D182,'[3]점검현황(전월)'!$D$7:$AG$241,27,0)","v":"·"},{"$f":"VLOOKUP(B182&D182,'[3]점검현황(전월)'!$D$7:$AG$241,23,0)","v":1224},{"$f":"VLOOKUP(B182&D182,'[3]점검현황(전월)'!$D$7:$AK$241,24,0)","v":"13:00:00"},{"$f":"VLOOKUP(B182&D182,'[3]점검현황(전월)'!$D$7:$AK$241,34,0)","v":107},120,{"$f":"VLOOKUP(B182&D182,'[3]점검현황(전월)'!$D$7:$AK$241,22,0)","v":"08:30:00"},{"$f":"VLOOKUP(B182&D182,'[3]점검현황(전월)'!$D$7:$AG$241,26,0)","v":"."}]
[null,"종합관",10,413,{"$f":"VLOOKUP(B183&D183,'[3]점검현황(전월)'!$D$7:$AG$241,2,0)","v":"법전원"},{"$f":"VLOOKUP(B183&D183,'[3]점검현황(전월)'!$D$7:$AG$241,3,0)","v":"XU105K"},{"$f":"VLOOKUP(B183&D183,'[3]점검현황(전월)'!$D$2:$AG$241,19,0)","v":"구e-ST"},{"$f":"VLOOKUP(B183&D183,'[3]점검현황(전월)'!$D$2:$AG$241,25,0)","v":"2015-09-04"},{"$f":"VLOOKUP(B183&D183,'[3]점검현황(전월)'!$D$7:$AG$241,27,0)","v":"·"},{"$f":"VLOOKUP(B183&D183,'[3]점검현황(전월)'!$D$7:$AG$241,23,0)","v":1224},{"$f":"VLOOKUP(B183&D183,'[3]점검현황(전월)'!$D$7:$AK$241,24,0)","v":"13:10:00"},{"$f":"VLOOKUP(B183&D183,'[3]점검현황(전월)'!$D$7:$AK$241,34,0)","v":313},120,{"$f":"VLOOKUP(B183&D183,'[3]점검현황(전월)'!$D$7:$AK$241,22,0)","v":"08:40:00"},{"$f":"VLOOKUP(B183&D183,'[3]점검현황(전월)'!$D$7:$AG$241,26,0)","v":"20,"}]
[null,"종합관",11,501,{"$f":"VLOOKUP(B184&D184,'[3]점검현황(전월)'!$D$7:$AG$241,2,0)","v":"법전원"},{"$f":"VLOOKUP(B184&D184,'[3]점검현황(전월)'!$D$7:$AG$241,3,0)","v":"XU106K / XU106K"},{"$f":"VLOOKUP(B184&D184,'[3]점검현황(전월)'!$D$2:$AG$241,19,0)","v":"e-ST"},{"$f":"VLOOKUP(B184&D184,'[3]점검현황(전월)'!$D$2:$AG$241,25,0)","v":"· / 2015-03-27"},{"$f":"VLOOKUP(B184&D184,'[3]점검현황(전월)'!$D$7:$AG$241,27,0)","v":"· / 2015-04-27"},{"$f":"VLOOKUP(B184&D184,'[3]점검현황(전월)'!$D$7:$AG$241,23,0)","v":1224},{"$f":"VLOOKUP(B184&D184,'[3]점검현황(전월)'!$D$7:$AK$241,24,0)","v":"13:20:00"},{"$f":"VLOOKUP(B184&D184,'[3]점검현황(전월)'!$D$7:$AK$241,34,0)","v":"2325/1389"},121,{"$f":"VLOOKUP(B184&D184,'[3]점검현황(전월)'!$D$7:$AK$241,22,0)","v":"08:50:00"},{"$f":"VLOOKUP(B184&D184,'[3]점검현황(전월)'!$D$7:$AG$241,26,0)","v":"7,"}]
[null,"종합관",12,502,{"$f":"VLOOKUP(B185&D185,'[3]점검현황(전월)'!$D$7:$AG$241,2,0)","v":"멀티미디어 (자동녹화)"},{"$f":"VLOOKUP(B185&D185,'[3]점검현황(전월)'!$D$7:$AG$241,3,0)","v":"XU106K / XU106K"},{"$f":"VLOOKUP(B185&D185,'[3]점검현황(전월)'!$D$2:$AG$241,19,0)","v":"e-ST"},{"$f":"VLOOKUP(B185&D185,'[3]점검현황(전월)'!$D$2:$AG$241,25,0)","v":"2015-07-30 / 2016-06-08"},{"$f":"VLOOKUP(B185&D185,'[3]점검현황(전월)'!$D$7:$AG$241,27,0)","v":"2015-10-15"},{"$f":"VLOOKUP(B185&D185,'[3]점검현황(전월)'!$D$7:$AG$241,23,0)","v":1224},{"$f":"VLOOKUP(B185&D185,'[3]점검현황(전월)'!$D$7:$AK$241,24,0)","v":"09:30:00"},{"$f":"VLOOKUP(B185&D185,'[3]점검현황(전월)'!$D$7:$AK$241,34,0)","v":"1700/443"},121,{"$f":"VLOOKUP(B185&D185,'[3]점검현황(전월)'!$D$7:$AK$241,22,0)","v":"19:00:00"},{"$f":"VLOOKUP(B185&D185,'[3]점검현황(전월)'!$D$7:$AG$241,26,0)","v":"1,6,7"}]
[null,"종합관",13,503,{"$f":"VLOOKUP(B186&D186,'[3]점검현황(전월)'!$D$7:$AG$241,2,0)","v":"멀티미디어 (자동녹화)"},{"$f":"VLOOKUP(B186&D186,'[3]점검현황(전월)'!$D$7:$AG$241,3,0)","v":"XU106K / XU106K"},{"$f":"VLOOKUP(B186&D186,'[3]점검현황(전월)'!$D$2:$AG$241,19,0)","v":"e-ST"},{"$f":"VLOOKUP(B186&D186,'[3]점검현황(전월)'!$D$2:$AG$241,25,0)","v":"15-08-27/15-08-27"},{"$f":"VLOOKUP(B186&D186,'[3]점검현황(전월)'!$D$7:$AG$241,27,0)","v":"16-11-22/16-02-26"},{"$f":"VLOOKUP(B186&D186,'[3]점검현황(전월)'!$D$7:$AG$241,23,0)","v":1224},{"$f":"VLOOKUP(B186&D186,'[3]점검현황(전월)'!$D$7:$AK$241,24,0)","v":"13:40:00"},{"$f":"VLOOKUP(B186&D186,'[3]점검현황(전월)'!$D$7:$AK$241,34,0)","v":"1785/1467"},121,{"$f":"VLOOKUP(B186&D186,'[3]점검현황(전월)'!$D$7:$AK$241,22,0)","v":"19:10:00"},{"$f":"VLOOKUP(B186&D186,'[3]점검현황(전월)'!$D$7:$AG$241,26,0)","v":"8,21"}]
[null,"종합관",14,504,{"$f":"VLOOKUP(B187&D187,'[3]점검현황(전월)'!$D$7:$AG$241,2,0)","v":"법전원"},{"$f":"VLOOKUP(B187&D187,'[3]점검현황(전월)'!$D$7:$AG$241,3,0)","v":"XU106K"},{"$f":"VLOOKUP(B187&D187,'[3]점검현황(전월)'!$D$2:$AG$241,19,0)","v":"e-ST"},{"$f":"VLOOKUP(B187&D187,'[3]점검현황(전월)'!$D$2:$AG$241,25,0)","v":"·"},{"$f":"VLOOKUP(B187&D187,'[3]점검현황(전월)'!$D$7:$AG$241,27,0)","v":"·"},{"$f":"VLOOKUP(B187&D187,'[3]점검현황(전월)'!$D$7:$AG$241,23,0)","v":1226},{"$f":"VLOOKUP(B187&D187,'[3]점검현황(전월)'!$D$7:$AK$241,24,0)","v":"16:30:00"},{"$f":"VLOOKUP(B187&D187,'[3]점검현황(전월)'!$D$7:$AK$241,34,0)","v":1693},121,{"$f":"VLOOKUP(B187&D187,'[3]점검현황(전월)'!$D$7:$AK$241,22,0)","v":"19:20:00"},{"$f":"VLOOKUP(B187&D187,'[3]점검현황(전월)'!$D$7:$AG$241,26,0)","v":"."}]
[null,"종합관",15,506,{"$f":"VLOOKUP(B188&D188,'[3]점검현황(전월)'!$D$7:$AG$241,2,0)","v":"법전원 자동녹화"},{"$f":"VLOOKUP(B188&D188,'[3]점검현황(전월)'!$D$7:$AG$241,3,0)","v":"XU106K"},{"$f":"VLOOKUP(B188&D188,'[3]점검현황(전월)'!$D$2:$AG$241,19,0)","v":"e-ST"},{"$f":"VLOOKUP(B188&D188,'[3]점검현황(전월)'!$D$2:$AG$241,25,0)","v":"2015-05-14"},{"$f":"VLOOKUP(B188&D188,'[3]점검현황(전월)'!$D$7:$AG$241,27,0)","v":"·"},{"$f":"VLOOKUP(B188&D188,'[3]점검현황(전월)'!$D$7:$AG$241,23,0)","v":1226},{"$f":"VLOOKUP(B188&D188,'[3]점검현황(전월)'!$D$7:$AK$241,24,0)","v":"14:00:00"},{"$f":"VLOOKUP(B188&D188,'[3]점검현황(전월)'!$D$7:$AK$241,34,0)","v":1356},121,{"$f":"VLOOKUP(B188&D188,'[3]점검현황(전월)'!$D$7:$AK$241,22,0)","v":"08:30:00"},{"$f":"VLOOKUP(B188&D188,'[3]점검현황(전월)'!$D$7:$AG$241,26,0)","v":"."}]
[null,"종합관",16,507,{"$f":"VLOOKUP(B189&D189,'[3]점검현황(전월)'!$D$7:$AG$241,2,0)","v":"법전원 자동녹화"},{"$f":"VLOOKUP(B189&D189,'[3]점검현황(전월)'!$D$7:$AG$241,3,0)","v":"XU106K"},{"$f":"VLOOKUP(B189&D189,'[3]점검현황(전월)'!$D$2:$AG$241,19,0)","v":"e-ST"},{"$f":"VLOOKUP(B189&D189,'[3]점검현황(전월)'!$D$2:$AG$241,25,0)","v":"2015-05-14"},{"$f":"VLOOKUP(B189&D189,'[3]점검현황(전월)'!$D$7:$AG$241,27,0)","v":"2015-10-24"},{"$f":"VLOOKUP(B189&D189,'[3]점검현황(전월)'!$D$7:$AG$241,23,0)","v":1226},{"$f":"VLOOKUP(B189&D189,'[3]점검현황(전월)'!$D$7:$AK$241,24,0)","v":"19:30:00"},{"$f":"VLOOKUP(B189&D189,'[3]점검현황(전월)'!$D$7:$AK$241,34,0)","v":1156},121,{"$f":"VLOOKUP(B189&D189,'[3]점검현황(전월)'!$D$7:$AK$241,22,0)","v":"08:40:00"},{"$f":"VLOOKUP(B189&D189,'[3]점검현황(전월)'!$D$7:$AG$241,26,0)","v":"."}]
[null,"종합관",17,508,{"$f":"VLOOKUP(B190&D190,'[3]점검현황(전월)'!$D$7:$AG$241,2,0)","v":"멀티미디어 (자동녹화)"},{"$f":"VLOOKUP(B190&D190,'[3]점검현황(전월)'!$D$7:$AG$241,3,0)","v":"XU106K"},{"$f":"VLOOKUP(B190&D190,'[3]점검현황(전월)'!$D$2:$AG$241,19,0)","v":"e-ST"},{"$f":"VLOOKUP(B190&D190,'[3]점검현황(전월)'!$D$2:$AG$241,25,0)","v":"2015-07-16"},{"$f":"VLOOKUP(B190&D190,'[3]점검현황(전월)'!$D$7:$AG$241,27,0)","v":"2016-12-24"},{"$f":"VLOOKUP(B190&D190,'[3]점검현황(전월)'!$D$7:$AG$241,23,0)","v":1226},{"$f":"VLOOKUP(B190&D190,'[3]점검현황(전월)'!$D$7:$AK$241,24,0)","v":"08:40:00"},{"$f":"VLOOKUP(B190&D190,'[3]점검현황(전월)'!$D$7:$AK$241,34,0)","v":1336},121,{"$f":"VLOOKUP(B190&D190,'[3]점검현황(전월)'!$D$7:$AK$241,22,0)","v":"08:50:00"},{"$f":"VLOOKUP(B190&D190,'[3]점검현황(전월)'!$D$7:$AG$241,26,0)","v":"21,"}]
[null,"종합관",18,509,{"$f":"VLOOKUP(B191&D191,'[3]점검현황(전월)'!$D$7:$AG$241,2,0)","v":"멀티미디어"},{"$f":"VLOOKUP(B191&D191,'[3]점검현황(전월)'!$D$7:$AG$241,3,0)","v":"XU106K"},{"$f":"VLOOKUP(B191&D191,'[3]점검현황(전월)'!$D$2:$AG$241,19,0)","v":"e-ST"},{"$f":"VLOOKUP(B191&D191,'[3]점검현황(전월)'!$D$2:$AG$241,25,0)","v":"2016-04-04"},{"$f":"VLOOKUP(B191&D191,'[3]점검현황(전월)'!$D$7:$AG$241,27,0)","v":"2016-04-05"},{"$f":"VLOOKUP(B191&D191,'[3]점검현황(전월)'!$D$7:$AG$241,23,0)","v":1226},{"$f":"VLOOKUP(B191&D191,'[3]점검현황(전월)'!$D$7:$AK$241,24,0)","v":"08:50:00"},{"$f":"VLOOKUP(B191&D191,'[3]점검현황(전월)'!$D$7:$AK$241,34,0)","v":1394},121,{"$f":"VLOOKUP(B191&D191,'[3]점검현황(전월)'!$D$7:$AK$241,22,0)","v":"19:00:00"},{"$f":"VLOOKUP(B191&D191,'[3]점검현황(전월)'!$D$7:$AG$241,26,0)","v":"."}]
[null,"종합관",19,510,{"$f":"VLOOKUP(B192&D192,'[3]점검현황(전월)'!$D$7:$AG$241,2,0)","v":"법전원 세미나실"},{"$f":"VLOOKUP(B192&D192,'[3]점검현황(전월)'!$D$7:$AG$241,3,0)","v":"XU106K"},{"$f":"VLOOKUP(B192&D192,'[3]점검현황(전월)'!$D$2:$AG$241,19,0)","v":"e-ST"},{"$f":"VLOOKUP(B192&D192,'[3]점검현황(전월)'!$D$2:$AG$241,25,0)","v":"2015-07-17"},{"$f":"VLOOKUP(B192&D192,'[3]점검현황(전월)'!$D$7:$AG$241,27,0)","v":"2012-04-28"},{"$f":"VLOOKUP(B192&D192,'[3]점검현황(전월)'!$D$7:$AG$241,23,0)","v":1226},{"$f":"VLOOKUP(B192&D192,'[3]점검현황(전월)'!$D$7:$AK$241,24,0)","v":"19:00:00"},{"$f":"VLOOKUP(B192&D192,'[3]점검현황(전월)'!$D$7:$AK$241,34,0)","v":110},121,{"$f":"VLOOKUP(B192&D192,'[3]점검현황(전월)'!$D$7:$AK$241,22,0)","v":"19:10:00"},{"$f":"VLOOKUP(B192&D192,'[3]점검현황(전월)'!$D$7:$AG$241,26,0)","v":"."}]
[null,"종합관",20,601,{"$f":"VLOOKUP(B193&D193,'[3]점검현황(전월)'!$D$7:$AG$241,2,0)","v":"법전원"},{"$f":"VLOOKUP(B193&D193,'[3]점검현황(전월)'!$D$7:$AG$241,3,0)","v":"XT35K"},{"$f":"VLOOKUP(B193&D193,'[3]점검현황(전월)'!$D$2:$AG$241,19,0)","v":"자체"},{"$f":"VLOOKUP(B193&D193,'[3]점검현황(전월)'!$D$2:$AG$241,25,0)","v":"2014-12-01"},{"$f":"VLOOKUP(B193&D193,'[3]점검현황(전월)'!$D$7:$AG$241,27,0)","v":"·"},{"$f":"VLOOKUP(B193&D193,'[3]점검현황(전월)'!$D$7:$AG$241,23,0)","v":1227},{"$f":"VLOOKUP(B193&D193,'[3]점검현황(전월)'!$D$7:$AK$241,24,0)","v":"19:10:00"},{"$f":"VLOOKUP(B193&D193,'[3]점검현황(전월)'!$D$7:$AK$241,34,0)","v":145},121,{"$f":"VLOOKUP(B193&D193,'[3]점검현황(전월)'!$D$7:$AK$241,22,0)","v":"19:20:00"},{"$f":"VLOOKUP(B193&D193,'[3]점검현황(전월)'!$D$7:$AG$241,26,0)","v":"."}]
[null,"종합관",21,612,{"$f":"VLOOKUP(B194&D194,'[3]점검현황(전월)'!$D$7:$AG$241,2,0)","v":"멀티미디어"},{"$f":"VLOOKUP(B194&D194,'[3]점검현황(전월)'!$D$7:$AG$241,3,0)","v":"XU106K"},{"$f":"VLOOKUP(B194&D194,'[3]점검현황(전월)'!$D$2:$AG$241,19,0)","v":"e-ST"},{"$f":"VLOOKUP(B194&D194,'[3]점검현황(전월)'!$D$2:$AG$241,25,0)","v":"2016-07-30"},{"$f":"VLOOKUP(B194&D194,'[3]점검현황(전월)'!$D$7:$AG$241,27,0)","v":"2016-12-28"},{"$f":"VLOOKUP(B194&D194,'[3]점검현황(전월)'!$D$7:$AG$241,23,0)","v":1228},{"$f":"VLOOKUP(B194&D194,'[3]점검현황(전월)'!$D$7:$AK$241,24,0)","v":"19:40:00"},{"$f":"VLOOKUP(B194&D194,'[3]점검현황(전월)'!$D$7:$AK$241,34,0)","v":607},121,{"$f":"VLOOKUP(B194&D194,'[3]점검현황(전월)'!$D$7:$AK$241,22,0)","v":"08:30:00"},{"$f":"VLOOKUP(B194&D194,'[3]점검현황(전월)'!$D$7:$AG$241,26,0)","v":"28,"}]
[null,"종합관",22,613,{"$f":"VLOOKUP(B195&D195,'[3]점검현황(전월)'!$D$7:$AG$241,2,0)","v":"멀티미디어"},{"$f":"VLOOKUP(B195&D195,'[3]점검현황(전월)'!$D$7:$AG$241,3,0)","v":"XU106K"},{"$f":"VLOOKUP(B195&D195,'[3]점검현황(전월)'!$D$2:$AG$241,19,0)","v":"e-ST"},{"$f":"VLOOKUP(B195&D195,'[3]점검현황(전월)'!$D$2:$AG$241,25,0)","v":"2015-07-30"},{"$f":"VLOOKUP(B195&D195,'[3]점검현황(전월)'!$D$7:$AG$241,27,0)","v":"2016-05-04"},{"$f":"VLOOKUP(B195&D195,'[3]점검현황(전월)'!$D$7:$AG$241,23,0)","v":1227},{"$f":"VLOOKUP(B195&D195,'[3]점검현황(전월)'!$D$7:$AK$241,24,0)","v":"08:30:00"},{"$f":"VLOOKUP(B195&D195,'[3]점검현황(전월)'!$D$7:$AK$241,34,0)","v":1062},121,{"$f":"VLOOKUP(B195&D195,'[3]점검현황(전월)'!$D$7:$AK$241,22,0)","v":"08:40:00"},{"$f":"VLOOKUP(B195&D195,'[3]점검현황(전월)'!$D$7:$AG$241,26,0)","v":"."}]
[null,"종합관",23,704,{"$f":"VLOOKUP(B196&D196,'[3]점검현황(전월)'!$D$7:$AG$241,2,0)","v":"교육대학원"},{"$f":"VLOOKUP(B196&D196,'[3]점검현황(전월)'!$D$7:$AG$241,3,0)","v":"XU106K"},{"$f":"VLOOKUP(B196&D196,'[3]점검현황(전월)'!$D$2:$AG$241,19,0)","v":"자체"},{"$f":"VLOOKUP(B196&D196,'[3]점검현황(전월)'!$D$2:$AG$241,25,0)","v":"·"},{"$f":"VLOOKUP(B196&D196,'[3]점검현황(전월)'!$D$7:$AG$241,27,0)","v":"·"},{"$f":"VLOOKUP(B196&D196,'[3]점검현황(전월)'!$D$7:$AG$241,23,0)","v":1227},{"$f":"VLOOKUP(B196&D196,'[3]점검현황(전월)'!$D$7:$AK$241,24,0)","v":"08:40:00"},{"$f":"VLOOKUP(B196&D196,'[3]점검현황(전월)'!$D$7:$AK$241,34,0)","v":1017},121,{"$f":"VLOOKUP(B196&D196,'[3]점검현황(전월)'!$D$7:$AK$241,22,0)","v":"08:50:00"},{"$f":"VLOOKUP(B196&D196,'[3]점검현황(전월)'!$D$7:$AG$241,26,0)","v":"."}]
[null,"종합관",24,705,{"$f":"VLOOKUP(B197&D197,'[3]점검현황(전월)'!$D$7:$AG$241,2,0)","v":"교육대학원 (자동녹화)"},{"$f":"VLOOKUP(B197&D197,'[3]점검현황(전월)'!$D$7:$AG$241,3,0)","v":"XU350K"},{"$f":"VLOOKUP(B197&D197,'[3]점검현황(전월)'!$D$2:$AG$241,19,0)","v":"e-ST"},{"$f":"VLOOKUP(B197&D197,'[3]점검현황(전월)'!$D$2:$AG$241,25,0)","v":"2015-04-29"},{"$f":"VLOOKUP(B197&D197,'[3]점검현황(전월)'!$D$7:$AG$241,27,0)","v":"·"},{"$f":"VLOOKUP(B197&D197,'[3]점검현황(전월)'!$D$7:$AG$241,23,0)","v":1227},{"$f":"VLOOKUP(B197&D197,'[3]점검현황(전월)'!$D$7:$AK$241,24,0)","v":"08:50:00"},{"$f":"VLOOKUP(B197&D197,'[3]점검현황(전월)'!$D$7:$AK$241,34,0)","v":718},121,{"$f":"VLOOKUP(B197&D197,'[3]점검현황(전월)'!$D$7:$AK$241,22,0)","v":"19:00:00"},{"$f":"VLOOKUP(B197&D197,'[3]점검현황(전월)'!$D$7:$AG$241,26,0)","v":"."}]
[null,"종합관",25,706,{"$f":"VLOOKUP(B198&D198,'[3]점검현황(전월)'!$D$7:$AG$241,2,0)","v":"교육대학원 (자동녹화)"},{"$f":"VLOOKUP(B198&D198,'[3]점검현황(전월)'!$D$7:$AG$241,3,0)","v":"XU350K"},{"$f":"VLOOKUP(B198&D198,'[3]점검현황(전월)'!$D$2:$AG$241,19,0)","v":"e-ST"},{"$f":"VLOOKUP(B198&D198,'[3]점검현황(전월)'!$D$2:$AG$241,25,0)","v":"·"},{"$f":"VLOOKUP(B198&D198,'[3]점검현황(전월)'!$D$7:$AG$241,27,0)","v":"·"},{"$f":"VLOOKUP(B198&D198,'[3]점검현황(전월)'!$D$7:$AG$241,23,0)","v":1227},{"$f":"VLOOKUP(B198&D198,'[3]점검현황(전월)'!$D$7:$AK$241,24,0)","v":"19:00:00"},{"$f":"VLOOKUP(B198&D198,'[3]점검현황(전월)'!$D$7:$AK$241,34,0)","v":488},121,{"$f":"VLOOKUP(B198&D198,'[3]점검현황(전월)'!$D$7:$AK$241,22,0)","v":"19:10:00"},{"$f":"VLOOKUP(B198&D198,'[3]점검현황(전월)'!$D$7:$AG$241,26,0)","v":"."}]
[null,"종합관",26,707,{"$f":"VLOOKUP(B199&D199,'[3]점검현황(전월)'!$D$7:$AG$241,2,0)","v":"교육대학원"},{"$f":"VLOOKUP(B199&D199,'[3]점검현황(전월)'!$D$7:$AG$241,3,0)","v":"XU106K"},{"$f":"VLOOKUP(B199&D199,'[3]점검현황(전월)'!$D$2:$AG$241,19,0)","v":"e-ST"},{"$f":"VLOOKUP(B199&D199,'[3]점검현황(전월)'!$D$2:$AG$241,25,0)","v":"2015-11-26"},{"$f":"VLOOKUP(B199&D199,'[3]점검현황(전월)'!$D$7:$AG$241,27,0)","v":"·"},{"$f":"VLOOKUP(B199&D199,'[3]점검현황(전월)'!$D$7:$AG$241,23,0)","v":1228},{"$f":"VLOOKUP(B199&D199,'[3]점검현황(전월)'!$D$7:$AK$241,24,0)","v":"12:41:00"},{"$f":"VLOOKUP(B199&D199,'[3]점검현황(전월)'!$D$7:$AK$241,34,0)","v":220},121,{"$f":"VLOOKUP(B199&D199,'[3]점검현황(전월)'!$D$7:$AK$241,22,0)","v":"19:20:00"},{"$f":"VLOOKUP(B199&D199,'[3]점검현황(전월)'!$D$7:$AG$241,26,0)","v":"."}]
[null,"종합관",27,712,{"$f":"VLOOKUP(B200&D200,'[3]점검현황(전월)'!$D$7:$AG$241,2,0)","v":"전공세미나실 (자동녹화)"},{"$f":"VLOOKUP(B200&D200,'[3]점검현황(전월)'!$D$7:$AG$241,3,0)","v":"XU106K"},{"$f":"VLOOKUP(B200&D200,'[3]점검현황(전월)'!$D$2:$AG$241,19,0)","v":"e-ST"},{"$f":"VLOOKUP(B200&D200,'[3]점검현황(전월)'!$D$2:$AG$241,25,0)","v":"2016-01-11"},{"$f":"VLOOKUP(B200&D200,'[3]점검현황(전월)'!$D$7:$AG$241,27,0)","v":"·"},{"$f":"VLOOKUP(B200&D200,'[3]점검현황(전월)'!$D$7:$AG$241,23,0)","v":1228},{"$f":"VLOOKUP(B200&D200,'[3]점검현황(전월)'!$D$7:$AK$241,24,0)","v":"19:20:00"},{"$f":"VLOOKUP(B200&D200,'[3]점검현황(전월)'!$D$7:$AK$241,34,0)","v":534},121,{"$f":"VLOOKUP(B200&D200,'[3]점검현황(전월)'!$D$7:$AK$241,22,0)","v":"09:00:00"},{"$f":"VLOOKUP(B200&D200,'[3]점검현황(전월)'!$D$7:$AG$241,26,0)","v":"."}]
[null,"종합관",28,713,{"$f":"VLOOKUP(B201&D201,'[3]점검현황(전월)'!$D$7:$AG$241,2,0)","v":"전공세미나실 (자동녹화)"},{"$f":"VLOOKUP(B201&D201,'[3]점검현황(전월)'!$D$7:$AG$241,3,0)","v":"XU350K"},{"$f":"VLOOKUP(B201&D201,'[3]점검현황(전월)'!$D$2:$AG$241,19,0)","v":"e-ST"},{"$f":"VLOOKUP(B201&D201,'[3]점검현황(전월)'!$D$2:$AG$241,25,0)","v":"·"},{"$f":"VLOOKUP(B201&D201,'[3]점검현황(전월)'!$D$7:$AG$241,27,0)","v":"·"},{"$f":"VLOOKUP(B201&D201,'[3]점검현황(전월)'!$D$7:$AG$241,23,0)","v":1228},{"$f":"VLOOKUP(B201&D201,'[3]점검현황(전월)'!$D$7:$AK$241,24,0)","v":"08:30:00"},{"$f":"VLOOKUP(B201&D201,'[3]점검현황(전월)'!$D$7:$AK$241,34,0)","v":895},121,{"$f":"VLOOKUP(B201&D201,'[3]점검현황(전월)'!$D$7:$AK$241,22,0)","v":"09:10:00"},{"$f":"VLOOKUP(B201&D201,'[3]점검현황(전월)'!$D$7:$AG$241,26,0)","v":"."}]
[null,"종합관",29,801,{"$f":"VLOOKUP(B202&D202,'[3]점검현황(전월)'!$D$7:$AG$241,2,0)","v":"교육대학원 "},{"$f":"VLOOKUP(B202&D202,'[3]점검현황(전월)'!$D$7:$AG$241,3,0)","v":"VX421"},{"$f":"VLOOKUP(B202&D202,'[3]점검현황(전월)'!$D$2:$AG$241,19,0)","v":"자체"},{"$f":"VLOOKUP(B202&D202,'[3]점검현황(전월)'!$D$2:$AG$241,25,0)","v":"2016-02-29"},{"$f":"VLOOKUP(B202&D202,'[3]점검현황(전월)'!$D$7:$AG$241,27,0)","v":"2016-02-29"},{"$f":"VLOOKUP(B202&D202,'[3]점검현황(전월)'!$D$7:$AG$241,23,0)","v":1228},{"$f":"VLOOKUP(B202&D202,'[3]점검현황(전월)'!$D$7:$AK$241,24,0)","v":"08:40:00"},{"$f":"VLOOKUP(B202&D202,'[3]점검현황(전월)'!$D$7:$AK$241,34,0)","v":205},121,{"$f":"VLOOKUP(B202&D202,'[3]점검현황(전월)'!$D$7:$AK$241,22,0)","v":"09:15:00"},{"$f":"VLOOKUP(B202&D202,'[3]점검현황(전월)'!$D$7:$AG$241,26,0)","v":"."}]
[null,"종합관",30,802,{"$f":"VLOOKUP(B203&D203,'[3]점검현황(전월)'!$D$7:$AG$241,2,0)","v":"교육대학원 "},{"$f":"VLOOKUP(B203&D203,'[3]점검현황(전월)'!$D$7:$AG$241,3,0)","v":"XU106K"},{"$f":"VLOOKUP(B203&D203,'[3]점검현황(전월)'!$D$2:$AG$241,19,0)","v":"자체"},{"$f":"VLOOKUP(B203&D203,'[3]점검현황(전월)'!$D$2:$AG$241,25,0)","v":"2016-01-11"},{"$f":"VLOOKUP(B203&D203,'[3]점검현황(전월)'!$D$7:$AG$241,27,0)","v":"·"},{"$f":"VLOOKUP(B203&D203,'[3]점검현황(전월)'!$D$7:$AG$241,23,0)","v":1228},{"$f":"VLOOKUP(B203&D203,'[3]점검현황(전월)'!$D$7:$AK$241,24,0)","v":"09:10:00"},{"$f":"VLOOKUP(B203&D203,'[3]점검현황(전월)'!$D$7:$AK$241,34,0)","v":334},121,{"$f":"VLOOKUP(B203&D203,'[3]점검현황(전월)'!$D$7:$AK$241,22,0)","v":"09:20:00"},{"$f":"VLOOKUP(B203&D203,'[3]점검현황(전월)'!$D$7:$AG$241,26,0)","v":"."}]
[null,"종합관",31,803,{"$f":"VLOOKUP(B204&D204,'[3]점검현황(전월)'!$D$7:$AG$241,2,0)","v":"교육대학원 "},{"$f":"VLOOKUP(B204&D204,'[3]점검현황(전월)'!$D$7:$AG$241,3,0)","v":"XU106K"},{"$f":"VLOOKUP(B204&D204,'[3]점검현황(전월)'!$D$2:$AG$241,19,0)","v":"자체"},{"$f":"VLOOKUP(B204&D204,'[3]점검현황(전월)'!$D$2:$AG$241,25,0)","v":"2016-08-30"},{"$f":"VLOOKUP(B204&D204,'[3]점검현황(전월)'!$D$7:$AG$241,27,0)","v":"·"},{"$f":"VLOOKUP(B204&D204,'[3]점검현황(전월)'!$D$7:$AG$241,23,0)","v":1228},{"$f":"VLOOKUP(B204&D204,'[3]점검현황(전월)'!$D$7:$AK$241,24,0)","v":"09:30:00"},{"$f":"VLOOKUP(B204&D204,'[3]점검현황(전월)'!$D$7:$AK$241,34,0)","v":297},123,{"$f":"VLOOKUP(B204&D204,'[3]점검현황(전월)'!$D$7:$AK$241,22,0)","v":"09:30:00"},{"$f":"VLOOKUP(B204&D204,'[3]점검현황(전월)'!$D$7:$AG$241,26,0)","v":"."}]
[null,"종합관",32,804,{"$f":"VLOOKUP(B205&D205,'[3]점검현황(전월)'!$D$7:$AG$241,2,0)","v":"교육대학원 "},{"$f":"VLOOKUP(B205&D205,'[3]점검현황(전월)'!$D$7:$AG$241,3,0)","v":"XU106K"},{"$f":"VLOOKUP(B205&D205,'[3]점검현황(전월)'!$D$2:$AG$241,19,0)","v":"e-ST"},{"$f":"VLOOKUP(B205&D205,'[3]점검현황(전월)'!$D$2:$AG$241,25,0)","v":"·"},{"$f":"VLOOKUP(B205&D205,'[3]점검현황(전월)'!$D$7:$AG$241,27,0)","v":"·"},{"$f":"VLOOKUP(B205&D205,'[3]점검현황(전월)'!$D$7:$AG$241,23,0)","v":1229},{"$f":"VLOOKUP(B205&D205,'[3]점검현황(전월)'!$D$7:$AK$241,24,0)","v":"09:50:00"},{"$f":"VLOOKUP(B205&D205,'[3]점검현황(전월)'!$D$7:$AK$241,34,0)","v":1565},123,{"$f":"VLOOKUP(B205&D205,'[3]점검현황(전월)'!$D$7:$AK$241,22,0)","v":"09:40:00"},{"$f":"VLOOKUP(B205&D205,'[3]점검현황(전월)'!$D$7:$AG$241,26,0)","v":"."}]
[null,"종합관",33,805,{"$f":"VLOOKUP(B206&D206,'[3]점검현황(전월)'!$D$7:$AG$241,2,0)","v":"교육대학원 (자동녹화)"},{"$f":"VLOOKUP(B206&D206,'[3]점검현황(전월)'!$D$7:$AG$241,3,0)","v":"XU106K"},{"$f":"VLOOKUP(B206&D206,'[3]점검현황(전월)'!$D$2:$AG$241,19,0)","v":"e-ST"},{"$f":"VLOOKUP(B206&D206,'[3]점검현황(전월)'!$D$2:$AG$241,25,0)","v":"2016-01-11"},{"$f":"VLOOKUP(B206&D206,'[3]점검현황(전월)'!$D$7:$AG$241,27,0)","v":"·"},{"$f":"VLOOKUP(B206&D206,'[3]점검현황(전월)'!$D$7:$AG$241,23,0)","v":1229},{"$f":"VLOOKUP(B206&D206,'[3]점검현황(전월)'!$D$7:$AK$241,24,0)","v":"10:10:00"},{"$f":"VLOOKUP(B206&D206,'[3]점검현황(전월)'!$D$7:$AK$241,34,0)","v":808},123,{"$f":"VLOOKUP(B206&D206,'[3]점검현황(전월)'!$D$7:$AK$241,22,0)","v":"09:50:00"},{"$f":"VLOOKUP(B206&D206,'[3]점검현황(전월)'!$D$7:$AG$241,26,0)","v":"."}]
[null,"종합관",34,806,{"$f":"VLOOKUP(B207&D207,'[3]점검현황(전월)'!$D$7:$AG$241,2,0)","v":"교육대학원 "},{"$f":"VLOOKUP(B207&D207,'[3]점검현황(전월)'!$D$7:$AG$241,3,0)","v":"XU105K"},{"$f":"VLOOKUP(B207&D207,'[3]점검현황(전월)'!$D$2:$AG$241,19,0)","v":"e-ST"},{"$f":"VLOOKUP(B207&D207,'[3]점검현황(전월)'!$D$2:$AG$241,25,0)","v":"·"},{"$f":"VLOOKUP(B207&D207,'[3]점검현황(전월)'!$D$7:$AG$241,27,0)","v":"2015-08-28"},{"$f":"VLOOKUP(B207&D207,'[3]점검현황(전월)'!$D$7:$AG$241,23,0)","v":1229},{"$f":"VLOOKUP(B207&D207,'[3]점검현황(전월)'!$D$7:$AK$241,24,0)","v":"10:30:00"},{"$f":"VLOOKUP(B207&D207,'[3]점검현황(전월)'!$D$7:$AK$241,34,0)","v":495},123,{"$f":"VLOOKUP(B207&D207,'[3]점검현황(전월)'!$D$7:$AK$241,22,0)","v":"10:00:00"},{"$f":"VLOOKUP(B207&D207,'[3]점검현황(전월)'!$D$7:$AG$241,26,0)","v":"."}]
[null,"종합관",35,808,{"$f":"VLOOKUP(B208&D208,'[3]점검현황(전월)'!$D$7:$AG$241,2,0)","v":"교육대학원 "},{"$f":"VLOOKUP(B208&D208,'[3]점검현황(전월)'!$D$7:$AG$241,3,0)","v":"XU106K"},{"$f":"VLOOKUP(B208&D208,'[3]점검현황(전월)'!$D$2:$AG$241,19,0)","v":"자체"},{"$f":"VLOOKUP(B208&D208,'[3]점검현황(전월)'!$D$2:$AG$241,25,0)","v":"·"},{"$f":"VLOOKUP(B208&D208,'[3]점검현황(전월)'!$D$7:$AG$241,27,0)","v":"·"},{"$f":"VLOOKUP(B208&D208,'[3]점검현황(전월)'!$D$7:$AG$241,23,0)","v":1229},{"$f":"VLOOKUP(B208&D208,'[3]점검현황(전월)'!$D$7:$AK$241,24,0)","v":"13:58:00"},{"$f":"VLOOKUP(B208&D208,'[3]점검현황(전월)'!$D$7:$AK$241,34,0)","v":1432},123,{"$f":"VLOOKUP(B208&D208,'[3]점검현황(전월)'!$D$7:$AK$241,22,0)","v":"10:10:00"},{"$f":"VLOOKUP(B208&D208,'[3]점검현황(전월)'!$D$7:$AG$241,26,0)","v":"."}]
[null,"종합관",36,809,{"$f":"VLOOKUP(B209&D209,'[3]점검현황(전월)'!$D$7:$AG$241,2,0)","v":"교육대학원 "},{"$f":"VLOOKUP(B209&D209,'[3]점검현황(전월)'!$D$7:$AG$241,3,0)","v":"XU106K"},{"$f":"VLOOKUP(B209&D209,'[3]점검현황(전월)'!$D$2:$AG$241,19,0)","v":"자체"},{"$f":"VLOOKUP(B209&D209,'[3]점검현황(전월)'!$D$2:$AG$241,25,0)","v":"·"},{"$f":"VLOOKUP(B209&D209,'[3]점검현황(전월)'!$D$7:$AG$241,27,0)","v":"2016-03-24"},{"$f":"VLOOKUP(B209&D209,'[3]점검현황(전월)'!$D$7:$AG$241,23,0)","v":1229},{"$f":"VLOOKUP(B209&D209,'[3]점검현황(전월)'!$D$7:$AK$241,24,0)","v":"11:10:00"},{"$f":"VLOOKUP(B209&D209,'[3]점검현황(전월)'!$D$7:$AK$241,34,0)","v":1013},123,{"$f":"VLOOKUP(B209&D209,'[3]점검현황(전월)'!$D$7:$AK$241,22,0)","v":"10:20:00"},{"$f":"VLOOKUP(B209&D209,'[3]점검현황(전월)'!$D$7:$AG$241,26,0)","v":"."}]
[null,"종합관",37,810,{"$f":"VLOOKUP(B210&D210,'[3]점검현황(전월)'!$D$7:$AG$241,2,0)","v":"교육대학원 (자동녹화)"},{"$f":"VLOOKUP(B210&D210,'[3]점검현황(전월)'!$D$7:$AG$241,3,0)","v":"XU350K"},{"$f":"VLOOKUP(B210&D210,'[3]점검현황(전월)'!$D$2:$AG$241,19,0)","v":"e-ST"},{"$f":"VLOOKUP(B210&D210,'[3]점검현황(전월)'!$D$2:$AG$241,25,0)","v":"2015-10-06"},{"$f":"VLOOKUP(B210&D210,'[3]점검현황(전월)'!$D$7:$AG$241,27,0)","v":"·"},{"$f":"VLOOKUP(B210&D210,'[3]점검현황(전월)'!$D$7:$AG$241,23,0)","v":1229},{"$f":"VLOOKUP(B210&D210,'[3]점검현황(전월)'!$D$7:$AK$241,24,0)","v":"11:30:00"},{"$f":"VLOOKUP(B210&D210,'[3]점검현황(전월)'!$D$7:$AK$241,34,0)","v":457},123,{"$f":"VLOOKUP(B210&D210,'[3]점검현황(전월)'!$D$7:$AK$241,22,0)","v":"10:30:00"},{"$f":"VLOOKUP(B210&D210,'[3]점검현황(전월)'!$D$7:$AG$241,26,0)","v":"."}]
[null,"종합관",38,811,{"$f":"VLOOKUP(B211&D211,'[3]점검현황(전월)'!$D$7:$AG$241,2,0)","v":"교육대학원 (자동녹화)"},{"$f":"VLOOKUP(B211&D211,'[3]점검현황(전월)'!$D$7:$AG$241,3,0)","v":"XU106K"},{"$f":"VLOOKUP(B211&D211,'[3]점검현황(전월)'!$D$2:$AG$241,19,0)","v":"e-ST"},{"$f":"VLOOKUP(B211&D211,'[3]점검현황(전월)'!$D$2:$AG$241,25,0)","v":"2016-10-28"},{"$f":"VLOOKUP(B211&D211,'[3]점검현황(전월)'!$D$7:$AG$241,27,0)","v":"·"},{"$f":"VLOOKUP(B211&D211,'[3]점검현황(전월)'!$D$7:$AG$241,23,0)","v":1230},{"$f":"VLOOKUP(B211&D211,'[3]점검현황(전월)'!$D$7:$AK$241,24,0)","v":"11:50:00"},{"$f":"VLOOKUP(B211&D211,'[3]점검현황(전월)'!$D$7:$AK$241,34,0)","v":136},123,{"$f":"VLOOKUP(B211&D211,'[3]점검현황(전월)'!$D$7:$AK$241,22,0)","v":"10:40:00"},{"$f":"VLOOKUP(B211&D211,'[3]점검현황(전월)'!$D$7:$AG$241,26,0)","v":"."}]
[null,"종합관",39,812,{"$f":"VLOOKUP(B212&D212,'[3]점검현황(전월)'!$D$7:$AG$241,2,0)","v":"교육대학원 "},{"$f":"VLOOKUP(B212&D212,'[3]점검현황(전월)'!$D$7:$AG$241,3,0)","v":"XU105K"},{"$f":"VLOOKUP(B212&D212,'[3]점검현황(전월)'!$D$2:$AG$241,19,0)","v":"자체"},{"$f":"VLOOKUP(B212&D212,'[3]점검현황(전월)'!$D$2:$AG$241,25,0)","v":"2016-01-11"},{"$f":"VLOOKUP(B212&D212,'[3]점검현황(전월)'!$D$7:$AG$241,27,0)","v":"·"},{"$f":"VLOOKUP(B212&D212,'[3]점검현황(전월)'!$D$7:$AG$241,23,0)","v":1230},{"$f":"VLOOKUP(B212&D212,'[3]점검현황(전월)'!$D$7:$AK$241,24,0)","v":"13:10:00"},{"$f":"VLOOKUP(B212&D212,'[3]점검현황(전월)'!$D$7:$AK$241,34,0)","v":312},123,{"$f":"VLOOKUP(B212&D212,'[3]점검현황(전월)'!$D$7:$AK$241,22,0)","v":"10:50:00"},{"$f":"VLOOKUP(B212&D212,'[3]점검현황(전월)'!$D$7:$AG$241,26,0)","v":"."}]
[null,"종합관",40,1002,{"$f":"VLOOKUP(B213&D213,'[3]점검현황(전월)'!$D$7:$AG$241,2,0)","v":"공공정책대학원"},{"$f":"VLOOKUP(B213&D213,'[3]점검현황(전월)'!$D$7:$AG$241,3,0)","v":"XU106K"},{"$f":"VLOOKUP(B213&D213,'[3]점검현황(전월)'!$D$2:$AG$241,19,0)","v":"e-ST"},{"$f":"VLOOKUP(B213&D213,'[3]점검현황(전월)'!$D$2:$AG$241,25,0)","v":"·"},{"$f":"VLOOKUP(B213&D213,'[3]점검현황(전월)'!$D$7:$AG$241,27,0)","v":"·"},{"$f":"VLOOKUP(B213&D213,'[3]점검현황(전월)'!$D$7:$AG$241,23,0)","v":1230},{"$f":"VLOOKUP(B213&D213,'[3]점검현황(전월)'!$D$7:$AK$241,24,0)","v":"13:30:00"},{"$f":"VLOOKUP(B213&D213,'[3]점검현황(전월)'!$D$7:$AK$241,34,0)","v":889},123,{"$f":"VLOOKUP(B213&D213,'[3]점검현황(전월)'!$D$7:$AK$241,22,0)","v":"11:00:00"},{"$f":"VLOOKUP(B213&D213,'[3]점검현황(전월)'!$D$7:$AG$241,26,0)","v":"."}]
[null,"종합관",41,1003,{"$f":"VLOOKUP(B214&D214,'[3]점검현황(전월)'!$D$7:$AG$241,2,0)","v":"공공정책대학원"},{"$f":"VLOOKUP(B214&D214,'[3]점검현황(전월)'!$D$7:$AG$241,3,0)","v":"XU106K"},{"$f":"VLOOKUP(B214&D214,'[3]점검현황(전월)'!$D$2:$AG$241,19,0)","v":"e-ST"},{"$f":"VLOOKUP(B214&D214,'[3]점검현황(전월)'!$D$2:$AG$241,25,0)","v":"."},{"$f":"VLOOKUP(B214&D214,'[3]점검현황(전월)'!$D$7:$AG$241,27,0)","v":"·"},{"$f":"VLOOKUP(B214&D214,'[3]점검현황(전월)'!$D$7:$AG$241,23,0)","v":1230},{"$f":"VLOOKUP(B214&D214,'[3]점검현황(전월)'!$D$7:$AK$241,24,0)","v":"13:50:00"},{"$f":"VLOOKUP(B214&D214,'[3]점검현황(전월)'!$D$7:$AK$241,34,0)","v":749},124,{"$f":"VLOOKUP(B214&D214,'[3]점검현황(전월)'!$D$7:$AK$241,22,0)","v":"11:10:00"},{"$f":"VLOOKUP(B214&D214,'[3]점검현황(전월)'!$D$7:$AG$241,26,0)","v":"."}]
[null,"종합관",42,1004,{"$f":"VLOOKUP(B215&D215,'[3]점검현황(전월)'!$D$7:$AG$241,2,0)","v":"공공정책대학원"},{"$f":"VLOOKUP(B215&D215,'[3]점검현황(전월)'!$D$7:$AG$241,3,0)","v":"XU106K"},{"$f":"VLOOKUP(B215&D215,'[3]점검현황(전월)'!$D$2:$AG$241,19,0)","v":"e-ST"},{"$f":"VLOOKUP(B215&D215,'[3]점검현황(전월)'!$D$2:$AG$241,25,0)","v":"·"},{"$f":"VLOOKUP(B215&D215,'[3]점검현황(전월)'!$D$7:$AG$241,27,0)","v":"·"},{"$f":"VLOOKUP(B215&D215,'[3]점검현황(전월)'!$D$7:$AG$241,23,0)","v":1230},{"$f":"VLOOKUP(B215&D215,'[3]점검현황(전월)'!$D$7:$AK$241,24,0)","v":"15:10:00"},{"$f":"VLOOKUP(B215&D215,'[3]점검현황(전월)'!$D$7:$AK$241,34,0)","v":300},124,{"$f":"VLOOKUP(B215&D215,'[3]점검현황(전월)'!$D$7:$AK$241,22,0)","v":"11:20:00"},{"$f":"VLOOKUP(B215&D215,'[3]점검현황(전월)'!$D$7:$AG$241,26,0)","v":"."}]
[null,"종합관",43,1005,{"$f":"VLOOKUP(B216&D216,'[3]점검현황(전월)'!$D$7:$AG$241,2,0)","v":"공공정책대학원"},{"$f":"VLOOKUP(B216&D216,'[3]점검현황(전월)'!$D$7:$AG$241,3,0)","v":"XU106K"},{"$f":"VLOOKUP(B216&D216,'[3]점검현황(전월)'!$D$2:$AG$241,19,0)","v":"e-ST"},{"$f":"VLOOKUP(B216&D216,'[3]점검현황(전월)'!$D$2:$AG$241,25,0)","v":"2016-08-26"},{"$f":"VLOOKUP(B216&D216,'[3]점검현황(전월)'!$D$7:$AG$241,27,0)","v":"·"},{"$f":"VLOOKUP(B216&D216,'[3]점검현황(전월)'!$D$7:$AG$241,23,0)","v":1230},{"$f":"VLOOKUP(B216&D216,'[3]점검현황(전월)'!$D$7:$AK$241,24,0)","v":"15:30:00"},{"$f":"VLOOKUP(B216&D216,'[3]점검현황(전월)'!$D$7:$AK$241,34,0)","v":151},124,{"$f":"VLOOKUP(B216&D216,'[3]점검현황(전월)'!$D$7:$AK$241,22,0)","v":"11:30:00"},{"$f":"VLOOKUP(B216&D216,'[3]점검현황(전월)'!$D$7:$AG$241,26,0)","v":"."}]
[null,"종합관",44,1007,{"$f":"VLOOKUP(B217&D217,'[3]점검현황(전월)'!$D$7:$AG$241,2,0)","v":"공공정책대학원"},{"$f":"VLOOKUP(B217&D217,'[3]점검현황(전월)'!$D$7:$AG$241,3,0)","v":"XU106K"},{"$f":"VLOOKUP(B217&D217,'[3]점검현황(전월)'!$D$2:$AG$241,19,0)","v":"e-ST"},{"$f":"VLOOKUP(B217&D217,'[3]점검현황(전월)'!$D$2:$AG$241,25,0)","v":"·"},{"$f":"VLOOKUP(B217&D217,'[3]점검현황(전월)'!$D$7:$AG$241,27,0)","v":"·"},{"$f":"VLOOKUP(B217&D217,'[3]점검현황(전월)'!$D$7:$AG$241,23,0)","v":1230},{"$f":"VLOOKUP(B217&D217,'[3]점검현황(전월)'!$D$7:$AK$241,24,0)","v":"15:50:00"},{"$f":"VLOOKUP(B217&D217,'[3]점검현황(전월)'!$D$7:$AK$241,34,0)","v":1075},124,{"$f":"VLOOKUP(B217&D217,'[3]점검현황(전월)'!$D$7:$AK$241,22,0)","v":"11:40:00"},{"$f":"VLOOKUP(B217&D217,'[3]점검현황(전월)'!$D$7:$AG$241,26,0)","v":"."}]
[null,"종합관",45,1008,{"$f":"VLOOKUP(B218&D218,'[3]점검현황(전월)'!$D$7:$AG$241,2,0)","v":"공공정책대학원"},{"$f":"VLOOKUP(B218&D218,'[3]점검현황(전월)'!$D$7:$AG$241,3,0)","v":"XU106K"},{"$f":"VLOOKUP(B218&D218,'[3]점검현황(전월)'!$D$2:$AG$241,19,0)","v":"e-ST"},{"$f":"VLOOKUP(B218&D218,'[3]점검현황(전월)'!$D$2:$AG$241,25,0)","v":"2016-03-18"},{"$f":"VLOOKUP(B218&D218,'[3]점검현황(전월)'!$D$7:$AG$241,27,0)","v":"·"},{"$f":"VLOOKUP(B218&D218,'[3]점검현황(전월)'!$D$7:$AG$241,23,0)","v":1230},{"$f":"VLOOKUP(B218&D218,'[3]점검현황(전월)'!$D$7:$AK$241,24,0)","v":"16:10:00"},{"$f":"VLOOKUP(B218&D218,'[3]점검현황(전월)'!$D$7:$AK$241,34,0)","v":186},124,{"$f":"VLOOKUP(B218&D218,'[3]점검현황(전월)'!$D$7:$AK$241,22,0)","v":"11:50:00"},{"$f":"VLOOKUP(B218&D218,'[3]점검현황(전월)'!$D$7:$AG$241,26,0)","v":"."}]
[null,"종합관",46,1009,{"$f":"VLOOKUP(B219&D219,'[3]점검현황(전월)'!$D$7:$AG$241,2,0)","v":"공공정책대학원"},{"$f":"VLOOKUP(B219&D219,'[3]점검현황(전월)'!$D$7:$AG$241,3,0)","v":"XU106K"},{"$f":"VLOOKUP(B219&D219,'[3]점검현황(전월)'!$D$2:$AG$241,19,0)","v":"e-ST"},{"$f":"VLOOKUP(B219&D219,'[3]점검현황(전월)'!$D$2:$AG$241,25,0)","v":"·"},{"$f":"VLOOKUP(B219&D219,'[3]점검현황(전월)'!$D$7:$AG$241,27,0)","v":"·"},{"$f":"VLOOKUP(B219&D219,'[3]점검현황(전월)'!$D$7:$AG$241,23,0)","v":1230},{"$f":"VLOOKUP(B219&D219,'[3]점검현황(전월)'!$D$7:$AK$241,24,0)","v":"16:30:00"},{"$f":"VLOOKUP(B219&D219,'[3]점검현황(전월)'!$D$7:$AK$241,34,0)","v":860},124,{"$f":"VLOOKUP(B219&D219,'[3]점검현황(전월)'!$D$7:$AK$241,22,0)","v":"12:00:00"},{"$f":"VLOOKUP(B219&D219,'[3]점검현황(전월)'!$D$7:$AG$241,26,0)","v":"."}]
[null,"종합관",47,1101,{"$f":"VLOOKUP(B220&D220,'[3]점검현황(전월)'!$D$7:$AG$241,2,0)","v":"LINC사업단"},{"$f":"VLOOKUP(B220&D220,'[3]점검현황(전월)'!$D$7:$AG$241,3,0)","v":"VX410Z"},{"$f":"VLOOKUP(B220&D220,'[3]점검현황(전월)'!$D$2:$AG$241,19,0)","v":"-"},{"$f":"VLOOKUP(B220&D220,'[3]점검현황(전월)'!$D$2:$AG$241,25,0)","v":"."},{"$f":"VLOOKUP(B220&D220,'[3]점검현황(전월)'!$D$7:$AG$241,27,0)","v":"."},{"$f":"VLOOKUP(B220&D220,'[3]점검현황(전월)'!$D$7:$AG$241,23,0)","v":1230},{"$f":"VLOOKUP(B220&D220,'[3]점검현황(전월)'!$D$7:$AK$241,24,0)","v":"16:50:00"},{"$f":"VLOOKUP(B220&D220,'[3]점검현황(전월)'!$D$7:$AK$241,34,0)","v":530},124,{"$f":"VLOOKUP(B220&D220,'[3]점검현황(전월)'!$D$7:$AK$241,22,0)","v":"12:20:00"},{"$f":"VLOOKUP(B220&D220,'[3]점검현황(전월)'!$D$7:$AG$241,26,0)","v":"."}]
["약학관","약학관",1,105,{"$f":"VLOOKUP(B221&D221,'[3]점검현황(전월)'!$D$7:$AG$241,2,0)","v":"약학대"},{"$f":"VLOOKUP(B221&D221,'[3]점검현황(전월)'!$D$7:$AG$241,3,0)","v":"XU106K"},{"$f":"VLOOKUP(B221&D221,'[3]점검현황(전월)'!$D$2:$AG$241,19,0)","v":"e-ST"},{"$f":"VLOOKUP(B221&D221,'[3]점검현황(전월)'!$D$2:$AG$241,25,0)","v":"2015-07-31"},{"$f":"VLOOKUP(B221&D221,'[3]점검현황(전월)'!$D$7:$AG$241,27,0)","v":"·"},{"$f":"VLOOKUP(B221&D221,'[3]점검현황(전월)'!$D$7:$AG$241,23,0)","v":1230},{"$f":"VLOOKUP(B221&D221,'[3]점검현황(전월)'!$D$7:$AK$241,24,0)","v":"14:23:00"},{"$f":"VLOOKUP(B221&D221,'[3]점검현황(전월)'!$D$7:$AK$241,34,0)","v":1255},124,{"$f":"VLOOKUP(B221&D221,'[3]점검현황(전월)'!$D$7:$AK$241,22,0)","v":"13:00:00"},{"$f":"VLOOKUP(B221&D221,'[3]점검현황(전월)'!$D$7:$AG$241,26,0)","v":"."}]
[null,"약학관",2,106,{"$f":"VLOOKUP(B222&D222,'[3]점검현황(전월)'!$D$7:$AG$241,2,0)","v":"약학대"},{"$f":"VLOOKUP(B222&D222,'[3]점검현황(전월)'!$D$7:$AG$241,3,0)","v":"XU350K"},{"$f":"VLOOKUP(B222&D222,'[3]점검현황(전월)'!$D$2:$AG$241,19,0)","v":"e-ST"},{"$f":"VLOOKUP(B222&D222,'[3]점검현황(전월)'!$D$2:$AG$241,25,0)","v":"2016-02-29"},{"$f":"VLOOKUP(B222&D222,'[3]점검현황(전월)'!$D$7:$AG$241,27,0)","v":"·"},{"$f":"VLOOKUP(B222&D222,'[3]점검현황(전월)'!$D$7:$AG$241,23,0)","v":1230},{"$f":"VLOOKUP(B222&D222,'[3]점검현황(전월)'!$D$7:$AK$241,24,0)","v":"09:10:00"},{"$f":"VLOOKUP(B222&D222,'[3]점검현황(전월)'!$D$7:$AK$241,34,0)","v":880},124,{"$f":"VLOOKUP(B222&D222,'[3]점검현황(전월)'!$D$7:$AK$241,22,0)","v":"13:10:00"},{"$f":"VLOOKUP(B222&D222,'[3]점검현황(전월)'!$D$7:$AG$241,26,0)","v":"."}]
[null,"약학관",3,317,{"$f":"VLOOKUP(B223&D223,'[3]점검현황(전월)'!$D$7:$AG$241,2,0)","v":"약학대"},{"$f":"VLOOKUP(B223&D223,'[3]점검현황(전월)'!$D$7:$AG$241,3,0)","v":"XU350K"},{"$f":"VLOOKUP(B223&D223,'[3]점검현황(전월)'!$D$2:$AG$241,19,0)","v":"e-ST"},{"$f":"VLOOKUP(B223&D223,'[3]점검현황(전월)'!$D$2:$AG$241,25,0)","v":"·"},{"$f":"VLOOKUP(B223&D223,'[3]점검현황(전월)'!$D$7:$AG$241,27,0)","v":"·"},{"$f":"VLOOKUP(B223&D223,'[3]점검현황(전월)'!$D$7:$AG$241,23,0)","v":1230},{"$f":"VLOOKUP(B223&D223,'[3]점검현황(전월)'!$D$7:$AK$241,24,0)","v":"14:40:00"},{"$f":"VLOOKUP(B223&D223,'[3]점검현황(전월)'!$D$7:$AK$241,34,0)","v":1337},124,{"$f":"VLOOKUP(B223&D223,'[3]점검현황(전월)'!$D$7:$AK$241,22,0)","v":"13:20:00"},{"$f":"VLOOKUP(B223&D223,'[3]점검현황(전월)'!$D$7:$AG$241,26,0)","v":"16,"}]
["도서관","도서관",1,101,{"$f":"VLOOKUP(B224&D224,'[3]점검현황(전월)'!$D$7:$AG$241,2,0)","v":"소강당"},{"$f":"VLOOKUP(B224&D224,'[3]점검현황(전월)'!$D$7:$AG$241,3,0)","v":"VX600"},{"$f":"VLOOKUP(B224&D224,'[3]점검현황(전월)'!$D$2:$AG$241,19,0)","v":"구"},{"$f":"VLOOKUP(B224&D224,'[3]점검현황(전월)'!$D$2:$AG$241,25,0)","v":"2015-09-21"},{"$f":"VLOOKUP(B224&D224,'[3]점검현황(전월)'!$D$7:$AG$241,27,0)","v":"2015-09-21"},{"$f":"VLOOKUP(B224&D224,'[3]점검현황(전월)'!$D$7:$AG$241,23,0)","v":1230},{"$f":"VLOOKUP(B224&D224,'[3]점검현황(전월)'!$D$7:$AK$241,24,0)","v":"09:30:00"},{"$f":"VLOOKUP(B224&D224,'[3]점검현황(전월)'!$D$7:$AK$241,34,0)","v":600},125,{"$f":"VLOOKUP(B224&D224,'[3]점검현황(전월)'!$D$7:$AK$241,22,0)","v":"13:30:00"},{"$f":"VLOOKUP(B224&D224,'[3]점검현황(전월)'!$D$7:$AG$241,26,0)","v":"."}]
["캠퍼스           플라자","캠퍼스플라자",1,302,{"$f":"VLOOKUP(B225&D225,'[3]점검현황(전월)'!$D$7:$AG$241,2,0)","v":"평생교육원"},{"$f":"VLOOKUP(B225&D225,'[3]점검현황(전월)'!$D$7:$AG$241,3,0)","v":"LB-300"},{"$f":"VLOOKUP(B225&D225,'[3]점검현황(전월)'!$D$2:$AG$241,19,0)","v":"구"},{"$f":"VLOOKUP(B225&D225,'[3]점검현황(전월)'!$D$2:$AG$241,25,0)","v":"2015-04-16"},{"$f":"VLOOKUP(B225&D225,'[3]점검현황(전월)'!$D$7:$AG$241,27,0)","v":"·"},{"$f":"VLOOKUP(B225&D225,'[3]점검현황(전월)'!$D$7:$AG$241,23,0)","v":1230},{"$f":"VLOOKUP(B225&D225,'[3]점검현황(전월)'!$D$7:$AK$241,24,0)","v":"09:40:00"},{"$f":"VLOOKUP(B225&D225,'[3]점검현황(전월)'!$D$7:$AK$241,34,0)","v":637},125,{"$f":"VLOOKUP(B225&D225,'[3]점검현황(전월)'!$D$7:$AK$241,22,0)","v":"13:40:00"},{"$f":"VLOOKUP(B225&D225,'[3]점검현황(전월)'!$D$7:$AG$241,26,0)","v":"."}]
[null,"캠퍼스플라자",2,304,{"$f":"VLOOKUP(B226&D226,'[3]점검현황(전월)'!$D$7:$AG$241,2,0)","v":"평생교육원"},{"$f":"VLOOKUP(B226&D226,'[3]점검현황(전월)'!$D$7:$AG$241,3,0)","v":"XU300K"},{"$f":"VLOOKUP(B226&D226,'[3]점검현황(전월)'!$D$2:$AG$241,19,0)","v":"구"},{"$f":"VLOOKUP(B226&D226,'[3]점검현황(전월)'!$D$2:$AG$241,25,0)","v":"2016-11-16"},{"$f":"VLOOKUP(B226&D226,'[3]점검현황(전월)'!$D$7:$AG$241,27,0)","v":"·"},{"$f":"VLOOKUP(B226&D226,'[3]점검현황(전월)'!$D$7:$AG$241,23,0)","v":1230},{"$f":"VLOOKUP(B226&D226,'[3]점검현황(전월)'!$D$7:$AK$241,24,0)","v":"17:41:00"},{"$f":"VLOOKUP(B226&D226,'[3]점검현황(전월)'!$D$7:$AK$241,34,0)","v":170},125,{"$f":"VLOOKUP(B226&D226,'[3]점검현황(전월)'!$D$7:$AK$241,22,0)","v":"13:50:00"},{"$f":"VLOOKUP(B226&D226,'[3]점검현황(전월)'!$D$7:$AG$241,26,0)","v":"."}]
[null,"캠퍼스플라자",3,305,{"$f":"VLOOKUP(B227&D227,'[3]점검현황(전월)'!$D$7:$AG$241,2,0)","v":"평생교육원"},{"$f":"VLOOKUP(B227&D227,'[3]점검현황(전월)'!$D$7:$AG$241,3,0)","v":"XU300K"},{"$f":"VLOOKUP(B227&D227,'[3]점검현황(전월)'!$D$2:$AG$241,19,0)","v":"구"},{"$f":"VLOOKUP(B227&D227,'[3]점검현황(전월)'!$D$2:$AG$241,25,0)","v":"2015-05-18"},{"$f":"VLOOKUP(B227&D227,'[3]점검현황(전월)'!$D$7:$AG$241,27,0)","v":"·"},{"$f":"VLOOKUP(B227&D227,'[3]점검현황(전월)'!$D$7:$AG$241,23,0)","v":1230},{"$f":"VLOOKUP(B227&D227,'[3]점검현황(전월)'!$D$7:$AK$241,24,0)","v":"10:00:00"},{"$f":"VLOOKUP(B227&D227,'[3]점검현황(전월)'!$D$7:$AK$241,34,0)","v":845},125,{"$f":"VLOOKUP(B227&D227,'[3]점검현황(전월)'!$D$7:$AK$241,22,0)","v":"14:00:00"},{"$f":"VLOOKUP(B227&D227,'[3]점검현황(전월)'!$D$7:$AG$241,26,0)","v":"."}]
[null,"캠퍼스플라자",4,306,{"$f":"VLOOKUP(B228&D228,'[3]점검현황(전월)'!$D$7:$AG$241,2,0)","v":"평생교육원"},{"$f":"VLOOKUP(B228&D228,'[3]점검현황(전월)'!$D$7:$AG$241,3,0)","v":"VX410Z"},{"$f":"VLOOKUP(B228&D228,'[3]점검현황(전월)'!$D$2:$AG$241,19,0)","v":"e-ST"},{"$f":"VLOOKUP(B228&D228,'[3]점검현황(전월)'!$D$2:$AG$241,25,0)","v":"2016-04-22"},{"$f":"VLOOKUP(B228&D228,'[3]점검현황(전월)'!$D$7:$AG$241,27,0)","v":"·"},{"$f":"VLOOKUP(B228&D228,'[3]점검현황(전월)'!$D$7:$AG$241,23,0)","v":1230},{"$f":"VLOOKUP(B228&D228,'[3]점검현황(전월)'!$D$7:$AK$241,24,0)","v":"10:10:00"},{"$f":"VLOOKUP(B228&D228,'[3]점검현황(전월)'!$D$7:$AK$241,34,0)","v":625},125,{"$f":"VLOOKUP(B228&D228,'[3]점검현황(전월)'!$D$7:$AK$241,22,0)","v":"14:10:00"},{"$f":"VLOOKUP(B228&D228,'[3]점검현황(전월)'!$D$7:$AG$241,26,0)","v":"."}]
[null,"캠퍼스플라자",5,307,{"$f":"VLOOKUP(B229&D229,'[3]점검현황(전월)'!$D$7:$AG$241,2,0)","v":"평생교육원"},{"$f":"VLOOKUP(B229&D229,'[3]점검현황(전월)'!$D$7:$AG$241,3,0)","v":"XU300K"},{"$f":"VLOOKUP(B229&D229,'[3]점검현황(전월)'!$D$2:$AG$241,19,0)","v":"구"},{"$f":"VLOOKUP(B229&D229,'[3]점검현황(전월)'!$D$2:$AG$241,25,0)","v":"·"},{"$f":"VLOOKUP(B229&D229,'[3]점검현황(전월)'!$D$7:$AG$241,27,0)","v":"·"},{"$f":"VLOOKUP(B229&D229,'[3]점검현황(전월)'!$D$7:$AG$241,23,0)","v":1230},{"$f":"VLOOKUP(B229&D229,'[3]점검현황(전월)'!$D$7:$AK$241,24,0)","v":"10:20:00"},{"$f":"VLOOKUP(B229&D229,'[3]점검현황(전월)'!$D$7:$AK$241,34,0)","v":2827},125,{"$f":"VLOOKUP(B229&D229,'[3]점검현황(전월)'!$D$7:$AK$241,22,0)","v":"14:20:00"},{"$f":"VLOOKUP(B229&D229,'[3]점검현황(전월)'!$D$7:$AG$241,26,0)","v":"."}]
[null,"캠퍼스플라자",6,308,{"$f":"VLOOKUP(B230&D230,'[3]점검현황(전월)'!$D$7:$AG$241,2,0)","v":"평생교육원"},{"$f":"VLOOKUP(B230&D230,'[3]점검현황(전월)'!$D$7:$AG$241,3,0)","v":"XU300K"},{"$f":"VLOOKUP(B230&D230,'[3]점검현황(전월)'!$D$2:$AG$241,19,0)","v":"구"},{"$f":"VLOOKUP(B230&D230,'[3]점검현황(전월)'!$D$2:$AG$241,25,0)","v":"·"},{"$f":"VLOOKUP(B230&D230,'[3]점검현황(전월)'!$D$7:$AG$241,27,0)","v":"·"},{"$f":"VLOOKUP(B230&D230,'[3]점검현황(전월)'!$D$7:$AG$241,23,0)","v":1230},{"$f":"VLOOKUP(B230&D230,'[3]점검현황(전월)'!$D$7:$AK$241,24,0)","v":"10:20:00"},{"$f":"VLOOKUP(B230&D230,'[3]점검현황(전월)'!$D$7:$AK$241,34,0)","v":1211},125,{"$f":"VLOOKUP(B230&D230,'[3]점검현황(전월)'!$D$7:$AK$241,22,0)","v":"14:30:00"},{"$f":"VLOOKUP(B230&D230,'[3]점검현황(전월)'!$D$7:$AG$241,26,0)","v":"."}]
[null,"캠퍼스플라자",7,501,{"$f":"VLOOKUP(B231&D231,'[3]점검현황(전월)'!$D$7:$AG$241,2,0)","v":"아주심리센터"},{"$f":"VLOOKUP(B231&D231,'[3]점검현황(전월)'!$D$7:$AG$241,3,0)","v":"VX400"},{"$f":"VLOOKUP(B231&D231,'[3]점검현황(전월)'!$D$2:$AG$241,19,0)","v":"구"},{"$f":"VLOOKUP(B231&D231,'[3]점검현황(전월)'!$D$2:$AG$241,25,0)","v":"·"},{"$f":"VLOOKUP(B231&D231,'[3]점검현황(전월)'!$D$7:$AG$241,27,0)","v":"·"},{"$f":"VLOOKUP(B231&D231,'[3]점검현황(전월)'!$D$7:$AG$241,23,0)","v":1230},{"$f":"VLOOKUP(B231&D231,'[3]점검현황(전월)'!$D$7:$AK$241,24,0)","v":"10:40:00"},{"$f":"VLOOKUP(B231&D231,'[3]점검현황(전월)'!$D$7:$AK$241,34,0)","v":530},126,{"$f":"VLOOKUP(B231&D231,'[3]점검현황(전월)'!$D$7:$AK$241,22,0)","v":"14:40:00"},{"$f":"VLOOKUP(B231&D231,'[3]점검현황(전월)'!$D$7:$AG$241,26,0)","v":"."}]
["종합                        설계동","종합설계동",1,101,{"$f":"VLOOKUP(B232&D232,'[3]점검현황(전월)'!$D$7:$AG$241,2,0)","v":"정 통 컴"},{"$f":"VLOOKUP(B232&D232,'[3]점검현황(전월)'!$D$7:$AG$241,3,0)","v":"VX421"},{"$f":"VLOOKUP(B232&D232,'[3]점검현황(전월)'!$D$2:$AG$241,19,0)","v":"e-ST"},{"$f":"VLOOKUP(B232&D232,'[3]점검현황(전월)'!$D$2:$AG$241,25,0)","v":"2016-05-13"},{"$f":"VLOOKUP(B232&D232,'[3]점검현황(전월)'!$D$7:$AG$241,27,0)","v":"2016-05-13"},{"$f":"VLOOKUP(B232&D232,'[3]점검현황(전월)'!$D$7:$AG$241,23,0)","v":1230},{"$f":"VLOOKUP(B232&D232,'[3]점검현황(전월)'!$D$7:$AK$241,24,0)","v":"10:50:00"},{"$f":"VLOOKUP(B232&D232,'[3]점검현황(전월)'!$D$7:$AK$241,34,0)","v":745},126,{"$f":"VLOOKUP(B232&D232,'[3]점검현황(전월)'!$D$7:$AK$241,22,0)","v":"09:00:00"},{"$f":"VLOOKUP(B232&D232,'[3]점검현황(전월)'!$D$7:$AG$241,26,0)","v":"."}]
[null,"종합설계동",2,103,{"$f":"VLOOKUP(B233&D233,'[3]점검현황(전월)'!$D$7:$AG$241,2,0)","v":"산업정보"},{"$f":"VLOOKUP(B233&D233,'[3]점검현황(전월)'!$D$7:$AG$241,3,0)","v":"VX400 / VX400 / 샤프"},{"$f":"VLOOKUP(B233&D233,'[3]점검현황(전월)'!$D$2:$AG$241,19,0)","v":"자체"},{"$f":"VLOOKUP(B233&D233,'[3]점검현황(전월)'!$D$2:$AG$241,25,0)","v":"·"},{"$f":"VLOOKUP(B233&D233,'[3]점검현황(전월)'!$D$7:$AG$241,27,0)","v":"·"},{"$f":"VLOOKUP(B233&D233,'[3]점검현황(전월)'!$D$7:$AG$241,23,0)","v":1230},{"$f":"VLOOKUP(B233&D233,'[3]점검현황(전월)'!$D$7:$AK$241,24,0)","v":"11:00:00"},{"$f":"VLOOKUP(B233&D233,'[3]점검현황(전월)'!$D$7:$AK$241,34,0)","v":"872/5/55"},126,{"$f":"VLOOKUP(B233&D233,'[3]점검현황(전월)'!$D$7:$AK$241,22,0)","v":"09:10:00"},{"$f":"VLOOKUP(B233&D233,'[3]점검현황(전월)'!$D$7:$AG$241,26,0)","v":"."}]
[null,"종합설계동",3,106,{"$f":"VLOOKUP(B234&D234,'[3]점검현황(전월)'!$D$7:$AG$241,2,0)","v":"환경공학"},{"$f":"VLOOKUP(B234&D234,'[3]점검현황(전월)'!$D$7:$AG$241,3,0)","v":"XU300K / XU300K / XU300K"},{"$f":"VLOOKUP(B234&D234,'[3]점검현황(전월)'!$D$2:$AG$241,19,0)","v":"e-ST"},{"$f":"VLOOKUP(B234&D234,'[3]점검현황(전월)'!$D$2:$AG$241,25,0)","v":"·"},{"$f":"VLOOKUP(B234&D234,'[3]점검현황(전월)'!$D$7:$AG$241,27,0)","v":"·"},{"$f":"VLOOKUP(B234&D234,'[3]점검현황(전월)'!$D$7:$AG$241,23,0)","v":1230},{"$f":"VLOOKUP(B234&D234,'[3]점검현황(전월)'!$D$7:$AK$241,24,0)","v":"11:20:00"},{"$f":"VLOOKUP(B234&D234,'[3]점검현황(전월)'!$D$7:$AK$241,34,0)","v":"1401/310/237"},126,{"$f":"VLOOKUP(B234&D234,'[3]점검현황(전월)'!$D$7:$AK$241,22,0)","v":"09:20:00"},{"$f":"VLOOKUP(B234&D234,'[3]점검현황(전월)'!$D$7:$AG$241,26,0)","v":"."}]
[null,"화공실험동",1,101,{"$f":"VLOOKUP(B235&D235,'[3]점검현황(전월)'!$D$7:$AG$241,2,0)","v":"PC실"},{"$f":"VLOOKUP(B235&D235,'[3]점검현황(전월)'!$D$7:$AG$241,3,0)","v":"SHARP"},{"$f":"VLOOKUP(B235&D235,'[3]점검현황(전월)'!$D$2:$AG$241,19,0)","v":"자체"},{"$f":"VLOOKUP(B235&D235,'[3]점검현황(전월)'!$D$2:$AG$241,25,0)","v":"·"},{"$f":"VLOOKUP(B235&D235,'[3]점검현황(전월)'!$D$7:$AG$241,27,0)","v":"·"},{"$f":"VLOOKUP(B235&D235,'[3]점검현황(전월)'!$D$7:$AG$241,23,0)","v":1230},{"$f":"VLOOKUP(B235&D235,'[3]점검현황(전월)'!$D$7:$AK$241,24,0)","v":"11:50:00"},{"$f":"VLOOKUP(B235&D235,'[3]점검현황(전월)'!$D$7:$AK$241,34,0)","v":790},126,{"$f":"VLOOKUP(B235&D235,'[3]점검현황(전월)'!$D$7:$AK$241,22,0)","v":"09:50:00"},{"$f":"VLOOKUP(B235&D235,'[3]점검현황(전월)'!$D$7:$AG$241,26,0)","v":"2,"}]
["화공실험동","화공실험동",2,102,{"$f":"VLOOKUP(B236&D236,'[3]점검현황(전월)'!$D$7:$AG$241,2,0)","v":"실험실"},{"$f":"VLOOKUP(B236&D236,'[3]점검현황(전월)'!$D$7:$AG$241,3,0)","v":"EX500E"},{"$f":"VLOOKUP(B236&D236,'[3]점검현황(전월)'!$D$2:$AG$241,19,0)","v":"자체"},{"$f":"VLOOKUP(B236&D236,'[3]점검현황(전월)'!$D$2:$AG$241,25,0)","v":"·"},{"$f":"VLOOKUP(B236&D236,'[3]점검현황(전월)'!$D$7:$AG$241,27,0)","v":"·"},{"$f":"VLOOKUP(B236&D236,'[3]점검현황(전월)'!$D$7:$AG$241,23,0)","v":1230},{"$f":"VLOOKUP(B236&D236,'[3]점검현황(전월)'!$D$7:$AK$241,24,0)","v":"12:00:00"},{"$f":"VLOOKUP(B236&D236,'[3]점검현황(전월)'!$D$7:$AK$241,34,0)","v":291},126,{"$f":"VLOOKUP(B236&D236,'[3]점검현황(전월)'!$D$7:$AK$241,22,0)","v":"10:00:00"},{"$f":"VLOOKUP(B236&D236,'[3]점검현황(전월)'!$D$7:$AG$241,26,0)","v":"."}]
[null,"화공실험동",3,105,{"$f":"VLOOKUP(B237&D237,'[3]점검현황(전월)'!$D$7:$AG$241,2,0)","v":"실험실"},{"$f":"VLOOKUP(B237&D237,'[3]점검현황(전월)'!$D$7:$AG$241,3,0)","v":"XU106K"},{"$f":"VLOOKUP(B237&D237,'[3]점검현황(전월)'!$D$2:$AG$241,19,0)","v":"자체"},{"$f":"VLOOKUP(B237&D237,'[3]점검현황(전월)'!$D$2:$AG$241,25,0)","v":"·"},{"$f":"VLOOKUP(B237&D237,'[3]점검현황(전월)'!$D$7:$AG$241,27,0)","v":"·"},{"$f":"VLOOKUP(B237&D237,'[3]점검현황(전월)'!$D$7:$AG$241,23,0)","v":1230},{"$f":"VLOOKUP(B237&D237,'[3]점검현황(전월)'!$D$7:$AK$241,24,0)","v":"12:10:00"},{"$f":"VLOOKUP(B237&D237,'[3]점검현황(전월)'!$D$7:$AK$241,34,0)","v":599},126,{"$f":"VLOOKUP(B237&D237,'[3]점검현황(전월)'!$D$7:$AK$241,22,0)","v":"10:10:00"},{"$f":"VLOOKUP(B237&D237,'[3]점검현황(전월)'!$D$7:$AG$241,26,0)","v":"."}]
[null,"화공실험동",3,105,{"$f":"VLOOKUP(B238&D238,'[1]점검현황(금월)'!$D$7:$AG$240,2,0)","v":"실험실"},{"$f":"VLOOKUP(B238&D238,'[1]점검현황(금월)'!$D$7:$AG$240,3,0)","v":"XU106K"},{"$f":"VLOOKUP(B238&D238,'[1]점검현황(금월)'!$D$2:$AG$240,19,0)","v":"자체"},{"$f":"VLOOKUP(B238&D238,'[1]점검현황(금월)'!$D$2:$AG$240,25,0)","v":"·"},{"$f":"VLOOKUP(B238&D238,'[1]점검현황(금월)'!$D$7:$AG$240,27,0)","v":"·"},{"$f":"VLOOKUP(B238&D238,'[2]점검현황(금월)'!$D$7:$AG$240,23,0)","v":831},{"$f":"VLOOKUP(B238&D238,'[2]점검현황(금월)'!$D$7:$AK$240,24,0)","v":"12:10:00"},{"$f":"VLOOKUP(B238&D238,'[2]점검현황(금월)'!$D$7:$AK$240,34,0)","v":508},1130,{"$f":"VLOOKUP(B238&D238,'[2]점검현황(금월)'!$D$7:$AK$240,22,0)","v":"10:10:00"},{"$f":"VLOOKUP(B238&D238,'[2]점검현황(금월)'!$D$7:$AG$240,26,0)","v":"."}]
[]
[null,null,"※ 강의실 점검 내용"]
[null,null,"▶ 프로젝터 점검\n - 필터 크리닝 / 램프 사용시간 확인 / 램프 밝기 및 오염여부를 확인"]
[null,null,"▶ 스크린 점검\n - 동작 유무 확인(스크린Up, Down) / 낙서등의 오염 상태 육안으로 확인 / 손상 여부 확인"]
[null,null,"▶ PC점검\n -윈도우 보안 업데이트 확인 / 바이러스 검사 / PC하드웨어 점검(PC본체 및 모니터) / OS 및 프로그램 이상유무 확인"]
[null,null,"▶ 마이크 점검\n - 작동 여부 및 마이크 상태 확인 / 선 접지 확인 / 교탁 마이크 단자 및 거치대 확인"]
[null,null,"자동녹화"]
[null,null,"▶ 자동녹화 점검\n - e-motion 매니져 작동확인, e-motion 센서 작동 확인, 1:5 분배기 작동 확인, 자동녹화 프로그램 영상 및 음향 녹화, 카메라 및 모니터 정상 출력 확인"]