{"text_format":"2","workbook":"xlsx","n_sheets":1,"sheets":["점검계획"],"not_rendered":{"charts":0,"images":0,"macros":0,"external_links":1,"defined_names":0,"comments":0,"pivot_tables":0},"unopened":[],"bounds":{"document_bytes":16777216,"sheet_cells":100000,"run_cost":"one","rows_first":2000,"rows_last":500,"rows_between":2000,"halvings":0,"cell_chars":16384,"cell_head_chars":4096},"cells_cut":0,"cells_raw":0,"read":"whole","date_system":"1900"}

{"sheet":"점검계획","index":0,"n_rows":245,"n_cols":15,"rows_kept":245,"cut":false,"hidden":false,"merged":[[118,0,121,0],[122,0,152,0],[166,0,167,0],[107,0,117,0],[153,0,165,0],[0,0,0,14],[1,14,2,14],[83,0,106,0],[55,0,82,0],[31,0,54,0],[3,0,30,0],[1,0,2,0],[1,1,1,8],[1,9,1,11],[1,12,2,13],[2,9,2,10],[168,0,172,0],[173,0,219,0],[220,0,222,0],[246,3,246,7],[224,0,230,0],[242,2,242,13],[241,2,241,13],[240,2,240,13],[231,0,233,0],[247,3,247,9],[234,0,236,0],[238,2,238,12],[239,2,239,13],[244,2,244,13],[245,3,245,7]]}
["2017년 멀티미디어미디어 강의실 점검(2월) 및 계획(3월)"]
["건물","강의실 정보",{"$nulls":7},"램프사용시간",null,null,"점검예정일",null,"방문수리"]
[null,"건물","번호","강의실","구분","프로젝터","교탁","램프교체","정밀크리닝","최종확인일",null,"사용시간"]
["다산관","다산관",1,"B105","멀티미디어 (자동녹화)","EX600","구",{"$f":"VLOOKUP(B4&D4,'[1]점검현황(금월)'!$D$2:$AG$241,25,0)","v":"2016-04-06"},{"$f":"VLOOKUP(B4&D4,'[1]점검현황(금월)'!$D$7:$AG$241,27,0)","v":"2015-04-09"},201,"12:05:00",1190,302,"08:30:00","."]
[null,{"$f":"B4","v":"다산관"},2,"B106","경영대 (자동녹화)","EX600","e-ST",{"$f":"VLOOKUP(B5&D5,'[1]점검현황(금월)'!$D$2:$AG$241,25,0)","v":"2016-12-28"},{"$f":"VLOOKUP(B5&D5,'[1]점검현황(금월)'!$D$7:$AG$241,27,0)","v":"."},201,"11:53:00",126,302,"08:40:00","."]
[null,{"$f":"B5","v":"다산관"},3,"B107","경영대대학원","VX421/VX421","e-ST",{"$f":"VLOOKUP(B6&D6,'[1]점검현황(금월)'!$D$2:$AG$241,25,0)","v":"2016-12-23"},{"$f":"VLOOKUP(B6&D6,'[1]점검현황(금월)'!$D$7:$AG$241,27,0)","v":"2016-12-23"},201,"17:00:00",0,302,"08:50:00","."]
[null,"다산관",4,"B108","E-biz","EX600","e-ST",{"$f":"VLOOKUP(B7&D7,'[1]점검현황(금월)'!$D$2:$AG$241,25,0)","v":"2016-10-06"},{"$f":"VLOOKUP(B7&D7,'[1]점검현황(금월)'!$D$7:$AG$241,27,0)","v":"."},201,"13:20:00",435,302,"19:00:00","."]
[null,"다산관",5,"B109","멀티미디어","XU106K","구",{"$f":"VLOOKUP(B8&D8,'[1]점검현황(금월)'!$D$2:$AG$241,25,0)","v":"2016-09-23"},{"$f":"VLOOKUP(B8&D8,'[1]점검현황(금월)'!$D$7:$AG$241,27,0)","v":"2016-12-06"},201,"19:10:00",345,302,"19:10:00","."]
[null,"다산관",6,"B112","대학원","XD2200","e-ST",{"$f":"VLOOKUP(B9&D9,'[1]점검현황(금월)'!$D$2:$AG$241,25,0)","v":"2015-09-11"},{"$f":"VLOOKUP(B9&D9,'[1]점검현황(금월)'!$D$7:$AG$241,27,0)","v":"2015-09-11"},201,"19:30:00",267,302,"19:20:00","."]
[null,{"$f":"B8","v":"다산관"},7,"B115","대학원","LB280","e-ST",{"$f":"VLOOKUP(B10&D10,'[1]점검현황(금월)'!$D$2:$AG$241,25,0)","v":"2014-03-07"},{"$f":"VLOOKUP(B10&D10,'[1]점검현황(금월)'!$D$7:$AG$241,27,0)","v":"2014-03-07"},201,"08:30:00",750,302,"08:30:00","."]
[null,"다산관",8,"B121","대강당","XM5000","e-ST",{"$f":"VLOOKUP(B11&D11,'[1]점검현황(금월)'!$D$2:$AG$241,25,0)","v":"2016-11-04"},{"$f":"VLOOKUP(B11&D11,'[1]점검현황(금월)'!$D$7:$AG$241,27,0)","v":"·"},228,"17:10:00",205,303,"08:40:00","7,13,16,28(2)"]
[null,"다산관",9,105,"멀티미디어","VX421","e-ST",{"$f":"VLOOKUP(B12&D12,'[1]점검현황(금월)'!$D$2:$AG$241,25,0)","v":"2016-12-23"},{"$f":"VLOOKUP(B12&D12,'[1]점검현황(금월)'!$D$7:$AG$241,27,0)","v":"2016-12-23"},202,"08:50:00",1,303,"08:50:00","."]
[null,"다산관",10,106,"불어불문","VX421","e-ST",{"$f":"VLOOKUP(B13&D13,'[1]점검현황(금월)'!$D$2:$AG$241,25,0)","v":"2016-08-26"},{"$f":"VLOOKUP(B13&D13,'[1]점검현황(금월)'!$D$7:$AG$241,27,0)","v":"2016-08-26"},202,"19:00:00",454,303,"19:00:00","."]
[null,"다산관",11,107,"국어국문","VX421","e-ST",{"$f":"VLOOKUP(B14&D14,'[1]점검현황(금월)'!$D$2:$AG$241,25,0)","v":"2016-08-26"},{"$f":"VLOOKUP(B14&D14,'[1]점검현황(금월)'!$D$7:$AG$241,27,0)","v":"2016-08-26"},202,"19:10:00",529,303,"19:10:00","."]
[null,"다산관",12,108,"사학과","VX421","e-ST",{"$f":"VLOOKUP(B15&D15,'[1]점검현황(금월)'!$D$2:$AG$241,25,0)","v":"2016-08-26"},{"$f":"VLOOKUP(B15&D15,'[1]점검현황(금월)'!$D$7:$AG$241,27,0)","v":"2016-08-26"},202,"19:20:00",681,303,"19:20:00","."]
[null,"다산관",13,109,"멀티미디어 (자동녹화)","VX600","e-ST",{"$f":"VLOOKUP(B16&D16,'[1]점검현황(금월)'!$D$2:$AG$241,25,0)","v":"2015-08-31"},{"$f":"VLOOKUP(B16&D16,'[1]점검현황(금월)'!$D$7:$AG$241,27,0)","v":"2017-02-03"},203,"19:30:00",2397,303,"08:30:00","3,"]
[null,"다산관",14,110,"대학원","XU106K","e-ST",{"$f":"VLOOKUP(B17&D17,'[1]점검현황(금월)'!$D$2:$AG$241,25,0)","v":"2015-05-07"},{"$f":"VLOOKUP(B17&D17,'[1]점검현황(금월)'!$D$7:$AG$241,27,0)","v":"2015-07-20"},202,"08:40:00",1031,303,"08:40:00","."]
[null,"다산관",15,111,"경영대 (자동녹화)","EX600","구e-ST",{"$f":"VLOOKUP(B18&D18,'[1]점검현황(금월)'!$D$2:$AG$241,25,0)","v":"2016-12-06"},{"$f":"VLOOKUP(B18&D18,'[1]점검현황(금월)'!$D$7:$AG$241,27,0)","v":"2014-10-22"},210,"08:50:00",85,304,"08:50:00","10,"]
[null,"다산관",16,115,"멀티미디어","XU106K","구",{"$f":"VLOOKUP(B19&D19,'[1]점검현황(금월)'!$D$2:$AG$241,25,0)","v":"2016-11-15"},{"$f":"VLOOKUP(B19&D19,'[1]점검현황(금월)'!$D$7:$AG$241,27,0)","v":"2017-02-16"},216,"17:42:00",168,304,"19:00:00","16(2)"]
[null,"다산관",17,"205A","인문대 (PC실)","EX500E","e-ST",{"$f":"VLOOKUP(B20&D20,'[1]점검현황(금월)'!$D$2:$AG$241,25,0)","v":"2016-11-23"},{"$f":"VLOOKUP(B20&D20,'[1]점검현황(금월)'!$D$7:$AG$241,27,0)","v":"·"},203,"19:10:00",121,304,"19:10:00","."]
[null,"다산관",18,"205B","멀티미디어 (자동녹화)","VX600","구e-ST",{"$f":"VLOOKUP(B21&D21,'[1]점검현황(금월)'!$D$2:$AG$241,25,0)","v":"2015-08-31"},{"$f":"VLOOKUP(B21&D21,'[1]점검현황(금월)'!$D$7:$AG$241,27,0)","v":"2016-12-12"},220,"12:41:00",1927,304,"19:20:00","20,"]
[null,"다산관",19,307,"경영대(PC실)","EX510","구",{"$f":"VLOOKUP(B22&D22,'[1]점검현황(금월)'!$D$2:$AG$241,25,0)","v":"2015-11-06"},{"$f":"VLOOKUP(B22&D22,'[1]점검현황(금월)'!$D$7:$AG$241,27,0)","v":"."},203,"19:30:00",1025,304,"19:30:00","."]
[null,{"$f":"B21","v":"다산관"},20,308,"경영대 (PC실)","VX510","e-ST",{"$f":"VLOOKUP(B23&D23,'[1]점검현황(금월)'!$D$2:$AG$241,25,0)","v":"2014-05-16"},{"$f":"VLOOKUP(B23&D23,'[1]점검현황(금월)'!$D$7:$AG$241,27,0)","v":"·"},222,"08:30:00",2125,304,"08:30:00","3,22"]
[null,"다산관",21,309,"경영대학원(자동녹화)","EX500E","e-ST",{"$f":"VLOOKUP(B24&D24,'[1]점검현황(금월)'!$D$2:$AG$241,25,0)","v":"2017-02-03"},{"$f":"VLOOKUP(B24&D24,'[1]점검현황(금월)'!$D$7:$AG$241,27,0)","v":"·"},203,"08:40:00",0,304,"08:40:00","3,"]
[null,"다산관",22,310,"멀티미디어","VX410/VX410","e-ST",{"$f":"VLOOKUP(B25&D25,'[1]점검현황(금월)'!$D$2:$AG$241,25,0)","v":"15-04-15/15-08-06"},{"$f":"VLOOKUP(B25&D25,'[1]점검현황(금월)'!$D$7:$AG$241,27,0)","v":"·"},203,"08:50:00","601/671",304,"08:50:00","."]
[null,"다산관",23,311,"경영대대학원","VX410/VX400","e-ST",{"$f":"VLOOKUP(B26&D26,'[1]점검현황(금월)'!$D$2:$AG$241,25,0)","v":"16-08-26/16-08-26"},{"$f":"VLOOKUP(B26&D26,'[1]점검현황(금월)'!$D$7:$AG$241,27,0)","v":"·"},203,"19:00:00","352/550",304,"19:00:00","1,"]
[null,"다산관",24,406,"경영대대학원","XU106K","e-ST",{"$f":"VLOOKUP(B27&D27,'[1]점검현황(금월)'!$D$2:$AG$241,25,0)","v":"2015-08-03"},{"$f":"VLOOKUP(B27&D27,'[1]점검현황(금월)'!$D$7:$AG$241,27,0)","v":"·"},203,"19:10:00",447,304,"19:10:00","."]
[null,"다산관",25,433,"경영대대학원","LB280","e-ST",{"$f":"VLOOKUP(B28&D28,'[1]점검현황(금월)'!$D$2:$AG$241,25,0)","v":"2015-09-01"},{"$f":"VLOOKUP(B28&D28,'[1]점검현황(금월)'!$D$7:$AG$241,27,0)","v":"2015-09-01"},204,"19:15:00",764,304,"19:15:00","."]
[null,{"$f":"B28","v":"다산관"},26,505,"대학원","XU301K","e-ST",{"$f":"VLOOKUP(B29&D29,'[1]점검현황(금월)'!$D$2:$AG$241,25,0)","v":"2015-07-15"},{"$f":"VLOOKUP(B29&D29,'[1]점검현황(금월)'!$D$7:$AG$241,27,0)","v":"2015-04-09"},204,"19:20:00",1063,304,"19:20:00","."]
[null,"다산관",27,506,"멀티미디어","XU106K","구",{"$f":"VLOOKUP(B30&D30,'[1]점검현황(금월)'!$D$2:$AG$241,25,0)","v":"2016-01-08"},{"$f":"VLOOKUP(B30&D30,'[1]점검현황(금월)'!$D$7:$AG$241,27,0)","v":"2017-01-26"},204,"08:30:00",875,304,"09:00:00","."]
[null,"다산관",28,507,"멀티미디어 (자동녹화)","VX600","e-ST",{"$f":"VLOOKUP(B31&D31,'[1]점검현황(금월)'!$D$2:$AG$241,25,0)","v":"2016-12-23"},{"$f":"VLOOKUP(B31&D31,'[1]점검현황(금월)'!$D$7:$AG$241,27,0)","v":"2016-12-23"},204,"08:40:00",12,304,"09:10:00","."]
["율곡관","율곡관",1,150,"대강당","XF47","e-ST",{"$f":"VLOOKUP(B32&D32,'[1]점검현황(금월)'!$D$2:$AG$241,25,0)","v":"2015-05-06"},{"$f":"VLOOKUP(B32&D32,'[1]점검현황(금월)'!$D$7:$AG$241,27,0)","v":"·"},222,"13:30:00",1364,304,"09:20:00","15,16,22"]
[null,"율곡관",2,151,"영상회의실","EX500E","e-ST",{"$f":"VLOOKUP(B33&D33,'[1]점검현황(금월)'!$D$2:$AG$241,25,0)","v":"2016-07-12"},{"$f":"VLOOKUP(B33&D33,'[1]점검현황(금월)'!$D$7:$AG$241,27,0)","v":"2016-11-16"},204,"18:20:00",1670,304,"09:30:00","."]
[null,"율곡관",3,153,"멀티미디어 글로벌라운지","XU105K","e-ST",{"$f":"VLOOKUP(B34&D34,'[1]점검현황(금월)'!$D$2:$AG$241,25,0)","v":"2013-04-18"},{"$f":"VLOOKUP(B34&D34,'[1]점검현황(금월)'!$D$7:$AG$241,27,0)","v":"2016-04-18"},204,"14:10:00",1479,304,"09:40:00","."]
[null,"율곡관",4,154,"멀티미디어 국제대학원","XT35K","e-ST",{"$f":"VLOOKUP(B35&D35,'[1]점검현황(금월)'!$D$2:$AG$241,25,0)","v":"2016-06-03"},{"$f":"VLOOKUP(B35&D35,'[1]점검현황(금월)'!$D$7:$AG$241,27,0)","v":"2016-06-03"},204,"14:30:00",879,304,"09:50:00","."]
[null,"율곡관",5,157,"사회대 (PC실)","XU106K","e-ST",{"$f":"VLOOKUP(B36&D36,'[1]점검현황(금월)'!$D$2:$AG$241,25,0)","v":"2016-04-05"},{"$f":"VLOOKUP(B36&D36,'[1]점검현황(금월)'!$D$7:$AG$241,27,0)","v":"2015-04-16"},204,"09:00:00",657,304,"10:00:00","."]
[null,"율곡관",6,204,"제1회의실","XM100K","자체",{"$f":"VLOOKUP(B37&D37,'[1]점검현황(금월)'!$D$2:$AG$241,25,0)","v":"2014-08-20"},{"$f":"VLOOKUP(B37&D37,'[1]점검현황(금월)'!$D$7:$AG$241,27,0)","v":"."},204,"11:50:00",1009,304,"10:10:00","."]
[null,"율곡관",7,252,"정치외교","VX400","e-ST",{"$f":"VLOOKUP(B38&D38,'[1]점검현황(금월)'!$D$2:$AG$241,25,0)","v":"2013-11-24"},{"$f":"VLOOKUP(B38&D38,'[1]점검현황(금월)'!$D$7:$AG$241,27,0)","v":"·"},204,"09:20:00",2118,306,"10:20:00","."]
[null,"율곡관",8,253,"멀티미디어","XU106K","구",{"$f":"VLOOKUP(B39&D39,'[1]점검현황(금월)'!$D$2:$AG$241,25,0)","v":"2016-01-09"},{"$f":"VLOOKUP(B39&D39,'[1]점검현황(금월)'!$D$7:$AG$241,27,0)","v":"2017-01-11"},204,"09:30:00",1147,306,"10:30:00","3,"]
[null,"율곡관",9,254,"멀티미디어 (자동녹화)","XU106K","구e-ST",{"$f":"VLOOKUP(B40&D40,'[1]점검현황(금월)'!$D$2:$AG$241,25,0)","v":"2016-12-08"},{"$f":"VLOOKUP(B40&D40,'[1]점검현황(금월)'!$D$7:$AG$241,27,0)","v":"2016-12-08"},204,"09:40:00",201,306,"10:40:00","."]
[null,"율곡관",10,255,"행정학","EX500E","e-ST",{"$f":"VLOOKUP(B41&D41,'[1]점검현황(금월)'!$D$2:$AG$241,25,0)","v":"2016-04-07"},{"$f":"VLOOKUP(B41&D41,'[1]점검현황(금월)'!$D$7:$AG$241,27,0)","v":"·"},204,"09:50:00",990,306,"10:50:00","."]
[null,"율곡관",11,256,"심리학","EX500E","e-ST",{"$f":"VLOOKUP(B42&D42,'[1]점검현황(금월)'!$D$2:$AG$241,25,0)","v":"2015-09-15"},{"$f":"VLOOKUP(B42&D42,'[1]점검현황(금월)'!$D$7:$AG$241,27,0)","v":"·"},204,"10:25:00",1693,306,"11:00:00","."]
[null,"율곡관",12,257,"사회학","EX500E","e-ST",{"$f":"VLOOKUP(B43&D43,'[1]점검현황(금월)'!$D$2:$AG$241,25,0)","v":"2015-08-20"},{"$f":"VLOOKUP(B43&D43,'[1]점검현황(금월)'!$D$7:$AG$241,27,0)","v":"·"},204,"10:10:00",1492,306,"11:10:00","."]
[null,"율곡관",13,258,"멀티미디어 (자동녹화)","VX421","e-ST",{"$f":"VLOOKUP(B44&D44,'[1]점검현황(금월)'!$D$2:$AG$241,25,0)","v":"2015-08-31"},{"$f":"VLOOKUP(B44&D44,'[1]점검현황(금월)'!$D$7:$AG$241,27,0)","v":"2015-08-31"},204,"10:20:00",1362,306,"11:20:00","."]
[null,"율곡관",14,259,"멀티미디어","VX600","e-ST",{"$f":"VLOOKUP(B45&D45,'[1]점검현황(금월)'!$D$2:$AG$241,25,0)","v":"2016-01-05"},{"$f":"VLOOKUP(B45&D45,'[1]점검현황(금월)'!$D$7:$AG$241,27,0)","v":"2016-08-12"},204,"10:30:00",0,307,"11:30:00","."]
[null,"율곡관",15,260,"멀티미디어 (자동녹화)","XU106K","구e-ST",{"$f":"VLOOKUP(B46&D46,'[1]점검현황(금월)'!$D$2:$AG$241,25,0)","v":"2016-01-09"},{"$f":"VLOOKUP(B46&D46,'[1]점검현황(금월)'!$D$7:$AG$241,27,0)","v":"2016-07-14"},204,"10:15:00",987,307,"11:40:00","."]
[null,"율곡관",16,261,"멀티미디어 (자동녹화)","XU106K","구e-ST",{"$f":"VLOOKUP(B47&D47,'[1]점검현황(금월)'!$D$2:$AG$241,25,0)","v":"2016-01-09"},{"$f":"VLOOKUP(B47&D47,'[1]점검현황(금월)'!$D$7:$AG$241,27,0)","v":"2016-09-27"},224,"13:50:00",1133,307,"11:50:00","24,"]
[null,"율곡관",17,262,"멀티미디어","VX421","구",{"$f":"VLOOKUP(B48&D48,'[1]점검현황(금월)'!$D$2:$AG$241,25,0)","v":"2015-04-28"},{"$f":"VLOOKUP(B48&D48,'[1]점검현황(금월)'!$D$7:$AG$241,27,0)","v":"2016-10-25"},206,"11:00:00",503,307,"12:00:00","."]
[null,"율곡관",18,354,"대학원","LB280","e-ST",{"$f":"VLOOKUP(B49&D49,'[1]점검현황(금월)'!$D$2:$AG$241,25,0)","v":"2015-10-11"},{"$f":"VLOOKUP(B49&D49,'[1]점검현황(금월)'!$D$7:$AG$241,27,0)","v":"2015-07-15"},206,"15:37:00",858,307,"13:00:00","."]
[null,"율곡관",19,356,"경제학","EX500E","e-ST",{"$f":"VLOOKUP(B50&D50,'[1]점검현황(금월)'!$D$2:$AG$241,25,0)","v":"2015-11-23"},{"$f":"VLOOKUP(B50&D50,'[1]점검현황(금월)'!$D$7:$AG$241,27,0)","v":"·"},206,"11:20:00",1054,307,"13:10:00","."]
[null,"율곡관",20,357,"대학원","VX421","e-ST",{"$f":"VLOOKUP(B51&D51,'[1]점검현황(금월)'!$D$2:$AG$241,25,0)","v":"2016-02-28"},{"$f":"VLOOKUP(B51&D51,'[1]점검현황(금월)'!$D$7:$AG$241,27,0)","v":"2015-07-24"},206,"11:30:00",645,307,"13:20:00","."]
[null,"율곡관",21,358,"멀티미디어 (자동녹화)","VX600","e-ST",{"$f":"VLOOKUP(B52&D52,'[1]점검현황(금월)'!$D$2:$AG$241,25,0)","v":"2015-08-31"},{"$f":"VLOOKUP(B52&D52,'[1]점검현황(금월)'!$D$7:$AG$241,27,0)","v":"2015-08-31"},206,"13:20:00",1554,308,"13:30:00","."]
[null,"율곡관",22,359,"멀티미디어","VX600","e-ST",{"$f":"VLOOKUP(B53&D53,'[1]점검현황(금월)'!$D$2:$AG$241,25,0)","v":"2016-01-05"},{"$f":"VLOOKUP(B53&D53,'[1]점검현황(금월)'!$D$7:$AG$241,27,0)","v":"2016-09-09"},206,"14:47:00",68,308,"13:40:00","."]
[null,"율곡관",23,425,"대학원","VX421","e-ST",{"$f":"VLOOKUP(B54&D54,'[1]점검현황(금월)'!$D$2:$AG$241,25,0)","v":"2017-02-22"},{"$f":"VLOOKUP(B54&D54,'[1]점검현황(금월)'!$D$7:$AG$241,27,0)","v":"2017-02-22"},206,"12:00:00",361,308,"08:30:00","."]
[null,"율곡관",24,528,"대학원","VX421","e-ST",{"$f":"VLOOKUP(B55&D55,'[1]점검현황(금월)'!$D$2:$AG$241,25,0)","v":"2017-02-22"},{"$f":"VLOOKUP(B55&D55,'[1]점검현황(금월)'!$D$7:$AG$241,27,0)","v":"2017-02-22"},206,"12:00:00",484,308,"08:30:00","."]
["성호관","성호관",1,"소극장","소극장 135호","EX16KE","e-ST",{"$f":"VLOOKUP(B56&D56,'[1]점검현황(금월)'!$D$2:$AG$241,25,0)","v":"2014-04-15"},{"$f":"VLOOKUP(B56&D56,'[1]점검현황(금월)'!$D$7:$AG$241,27,0)","v":"·"},207,"10:00:00","1360/466/1360/466",308,"08:50:00","3,"]
[null,"성호관",2,103,"인문대 (PC실)","XT35K","e-ST",{"$f":"VLOOKUP(B57&D57,'[1]점검현황(금월)'!$D$2:$AG$241,25,0)","v":"2016-06-13"},{"$f":"VLOOKUP(B57&D57,'[1]점검현황(금월)'!$D$7:$AG$241,27,0)","v":"2014-12-19"},213,"13:20:00",447,308,"19:00:00","13,"]
[null,"성호관",3,104,"멀티미디어","XU106K","e-ST",{"$f":"VLOOKUP(B58&D58,'[1]점검현황(금월)'!$D$2:$AG$241,25,0)","v":"2016-11-15"},{"$f":"VLOOKUP(B58&D58,'[1]점검현황(금월)'!$D$7:$AG$241,27,0)","v":"2017-01-11"},207,"12:10:00",190,308,"19:10:00","."]
[null,"성호관",4,105,"멀티미디어","VX410Z","e-ST",{"$f":"VLOOKUP(B59&D59,'[1]점검현황(금월)'!$D$2:$AG$241,25,0)","v":"2014-12-23"},{"$f":"VLOOKUP(B59&D59,'[1]점검현황(금월)'!$D$7:$AG$241,27,0)","v":"2016-07-22"},207,"11:40:00",1868,309,"19:20:00","2,"]
[null,"성호관",5,131,"멀티미디어 (자동녹화)","VX600","e-ST",{"$f":"VLOOKUP(B60&D60,'[1]점검현황(금월)'!$D$2:$AG$241,25,0)","v":"2015-08-31"},{"$f":"VLOOKUP(B60&D60,'[1]점검현황(금월)'!$D$7:$AG$241,27,0)","v":"2016-12-16"},207,"10:35:00",1589,309,"08:30:00","."]
[null,"성호관",6,132,"멀티미디어","XU106K","e-ST",{"$f":"VLOOKUP(B61&D61,'[1]점검현황(금월)'!$D$2:$AG$241,25,0)","v":"2016-01-20"},{"$f":"VLOOKUP(B61&D61,'[1]점검현황(금월)'!$D$7:$AG$241,27,0)","v":"2016-08-30"},207,"19:30:00",1294,309,"08:40:00","."]
[null,"성호관",7,133,"멀티미디어","VX410Z","e-ST",{"$f":"VLOOKUP(B62&D62,'[1]점검현황(금월)'!$D$2:$AG$241,25,0)","v":"2014-12-23"},{"$f":"VLOOKUP(B62&D62,'[1]점검현황(금월)'!$D$7:$AG$241,27,0)","v":"2016-08-12"},207,"08:30:00",1653,309,"08:50:00","."]
[null,"성호관",8,201,"멀티미디어","XU106K","e-ST",{"$f":"VLOOKUP(B63&D63,'[1]점검현황(금월)'!$D$2:$AG$241,25,0)","v":"2016-10-18"},{"$f":"VLOOKUP(B63&D63,'[1]점검현황(금월)'!$D$7:$AG$241,27,0)","v":"2016-12-26"},207,"08:40:00",180,309,"19:00:00","."]
[null,"성호관",9,"201-1","멀티미디어","XU106K","e-ST",{"$f":"VLOOKUP(B64&D64,'[1]점검현황(금월)'!$D$2:$AG$241,25,0)","v":"2017-02-22"},{"$f":"VLOOKUP(B64&D64,'[1]점검현황(금월)'!$D$7:$AG$241,27,0)","v":"2017-02-22"},208,"18:50:00",1147,309,"19:10:00","."]
[null,"성호관",10,202,"멀티미디어","VX410Z","e-ST",{"$f":"VLOOKUP(B65&D65,'[1]점검현황(금월)'!$D$2:$AG$241,25,0)","v":"2014-12-23"},{"$f":"VLOOKUP(B65&D65,'[1]점검현황(금월)'!$D$7:$AG$241,27,0)","v":"2016-08-22"},208,"19:00:00",1082,309,"19:20:00","."]
[null,"성호관",11,203,"멀티미디어 (자동녹화)","VX421","e-ST",{"$f":"VLOOKUP(B66&D66,'[1]점검현황(금월)'!$D$2:$AG$241,25,0)","v":"2015-08-31"},{"$f":"VLOOKUP(B66&D66,'[1]점검현황(금월)'!$D$7:$AG$241,27,0)","v":"2016-11-07"},208,"17:22:00",1167,310,"08:30:00","."]
[null,"성호관",12,204,"멀티미디어 (자동녹화)","XU106K","e-ST",{"$f":"VLOOKUP(B67&D67,'[1]점검현황(금월)'!$D$2:$AG$241,25,0)","v":"2016-01-18"},{"$f":"VLOOKUP(B67&D67,'[1]점검현황(금월)'!$D$7:$AG$241,27,0)","v":"2016-12-26"},208,"19:20:00",769,310,"08:40:00","."]
[null,"성호관",13,205,"멀티미디어 (자동녹화)","XU106K","e-ST",{"$f":"VLOOKUP(B68&D68,'[1]점검현황(금월)'!$D$2:$AG$241,25,0)","v":"2016-08-23"},{"$f":"VLOOKUP(B68&D68,'[1]점검현황(금월)'!$D$7:$AG$241,27,0)","v":"2017-01-26"},208,"08:30:00",540,310,"08:50:00","2,"]
[null,"성호관",14,232,"멀티미디어","VX410Z","e-ST",{"$f":"VLOOKUP(B69&D69,'[1]점검현황(금월)'!$D$2:$AG$241,25,0)","v":"2014-12-23"},{"$f":"VLOOKUP(B69&D69,'[1]점검현황(금월)'!$D$7:$AG$241,27,0)","v":"2016-08-22"},208,"14:50:00",1912,310,"19:00:00","."]
[null,"성호관",15,233,"멀티미디어","XU106K","구",{"$f":"VLOOKUP(B70&D70,'[1]점검현황(금월)'!$D$2:$AG$241,25,0)","v":"2015-11-25"},{"$f":"VLOOKUP(B70&D70,'[1]점검현황(금월)'!$D$7:$AG$241,27,0)","v":"2016-07-09"},208,"08:50:00",901,310,"19:10:00","."]
[null,"성호관",16,234,"멀티미디어","XU106K","구",{"$f":"VLOOKUP(B71&D71,'[1]점검현황(금월)'!$D$2:$AG$241,25,0)","v":"2015-06-13"},{"$f":"VLOOKUP(B71&D71,'[1]점검현황(금월)'!$D$7:$AG$241,27,0)","v":"2017-01-18"},208,"19:00:00",1330,310,"19:20:00","."]
[null,"성호관",17,235,"멀티미디어","XU106K","구",{"$f":"VLOOKUP(B72&D72,'[1]점검현황(금월)'!$D$2:$AG$241,25,0)","v":"2016-01-18"},{"$f":"VLOOKUP(B72&D72,'[1]점검현황(금월)'!$D$7:$AG$241,27,0)","v":"2017-01-18"},209,"13:05:00",882,310,"08:30:00","."]
[null,"성호관",18,236,"멀티미디어","XU106K","구",{"$f":"VLOOKUP(B73&D73,'[1]점검현황(금월)'!$D$2:$AG$241,25,0)","v":"2015-08-03"},{"$f":"VLOOKUP(B73&D73,'[1]점검현황(금월)'!$D$7:$AG$241,27,0)","v":"2017-02-24"},224,"19:20:00",862,311,"08:40:00","24,"]
[null,"성호관",19,237,"멀티미디어","VX410Z","e-ST",{"$f":"VLOOKUP(B74&D74,'[1]점검현황(금월)'!$D$2:$AG$241,25,0)","v":"2014-12-23"},{"$f":"VLOOKUP(B74&D74,'[1]점검현황(금월)'!$D$7:$AG$241,27,0)","v":"2016-06-24"},209,"08:30:00",2060,311,"08:50:00","."]
[null,"성호관",20,303,"교수학습 (자동녹화)","XU106K","e-ST",{"$f":"VLOOKUP(B75&D75,'[1]점검현황(금월)'!$D$2:$AG$241,25,0)","v":"2015-07-03"},{"$f":"VLOOKUP(B75&D75,'[1]점검현황(금월)'!$D$7:$AG$241,27,0)","v":"."},209,"15:56:00",1247,311,"09:50:00","."]
[null,"성호관",21,304,"멀티미디어","VX600","e-ST",{"$f":"VLOOKUP(B76&D76,'[1]점검현황(금월)'!$D$2:$AG$241,25,0)","v":"2015-08-31"},{"$f":"VLOOKUP(B76&D76,'[1]점검현황(금월)'!$D$7:$AG$241,27,0)","v":"2016-09-13"},209,"13:47:00",1455,311,"19:10:00","."]
[null,"성호관",22,305,"멀티미디어 (자동녹화)","VX410Z","구e-ST",{"$f":"VLOOKUP(B77&D77,'[1]점검현황(금월)'!$D$2:$AG$241,25,0)","v":"2014-12-23"},{"$f":"VLOOKUP(B77&D77,'[1]점검현황(금월)'!$D$7:$AG$241,27,0)","v":"2016-09-13"},209,"19:00:00",1009,311,"19:20:00","."]
[null,"성호관",23,306,"멀티미디어","VX600","e-ST",{"$f":"VLOOKUP(B78&D78,'[1]점검현황(금월)'!$D$2:$AG$241,25,0)","v":"2014-12-23"},{"$f":"VLOOKUP(B78&D78,'[1]점검현황(금월)'!$D$7:$AG$241,27,0)","v":"2016-09-22"},209,"13:04:00",1465,311,"08:30:00","."]
[null,"성호관",24,332,"멀티미디어","XU106K","구",{"$f":"VLOOKUP(B79&D79,'[1]점검현황(금월)'!$D$2:$AG$241,25,0)","v":"2016-11-15"},{"$f":"VLOOKUP(B79&D79,'[1]점검현황(금월)'!$D$7:$AG$241,27,0)","v":"2017-02-16"},216,613,243,311,"08:50:00","16,"]
[null,"성호관",25,333,"멀티미디어","XU106K","구",{"$f":"VLOOKUP(B80&D80,'[1]점검현황(금월)'!$D$2:$AG$241,25,0)","v":"2015-07-30"},{"$f":"VLOOKUP(B80&D80,'[1]점검현황(금월)'!$D$7:$AG$241,27,0)","v":"2016-04-25"},224,"08:40:00",805,311,"19:00:00","24,"]
[null,"성호관",26,334,"멀티미디어","VX410Z","e-ST",{"$f":"VLOOKUP(B81&D81,'[1]점검현황(금월)'!$D$2:$AG$241,25,0)","v":"2014-12-23"},{"$f":"VLOOKUP(B81&D81,'[1]점검현황(금월)'!$D$7:$AG$241,27,0)","v":"2017-02-03"},210,"17:21:00",1381,311,"19:10:00","3,"]
[null,"성호관",27,337,"물리학과","VX510","구",{"$f":"VLOOKUP(B82&D82,'[1]점검현황(금월)'!$D$2:$AG$241,25,0)","v":"2014-08-01"},{"$f":"VLOOKUP(B82&D82,'[1]점검현황(금월)'!$D$7:$AG$241,27,0)","v":"·"},210,"19:00:00",1173,311,"19:20:00","."]
[null,"성호관",28,339,"대학원","VX421","e-ST",{"$f":"VLOOKUP(B83&D83,'[1]점검현황(금월)'!$D$2:$AG$241,25,0)","v":"2017-02-22"},{"$f":"VLOOKUP(B83&D83,'[1]점검현황(금월)'!$D$7:$AG$241,27,0)","v":"2017-02-22"},210,"19:10:00",727,311,"09:00:00","."]
["원천관","원천관",1,107,"전자공학","XT35K","자체",{"$f":"VLOOKUP(B84&D84,'[1]점검현황(금월)'!$D$2:$AG$241,25,0)","v":"2015-08-14"},{"$f":"VLOOKUP(B84&D84,'[1]점검현황(금월)'!$D$7:$AG$241,27,0)","v":"·"},210,"19:20:00",206,311,"09:10:00","."]
[null,"원천관",2,228,"전자공학","XU106K","e-ST",{"$f":"VLOOKUP(B85&D85,'[1]점검현황(금월)'!$D$2:$AG$241,25,0)","v":"2016-08-23"},{"$f":"VLOOKUP(B85&D85,'[1]점검현황(금월)'!$D$7:$AG$241,27,0)","v":"2016-09-02"},210,"20:20:00",207,311,"10:10:00","."]
[null,"원천관",3,237,"생명과학","VX421","구",{"$f":"VLOOKUP(B86&D86,'[1]점검현황(금월)'!$D$2:$AG$241,25,0)","v":"2015-11-23"},{"$f":"VLOOKUP(B86&D86,'[1]점검현황(금월)'!$D$7:$AG$241,27,0)","v":"2015-11-23"},210,"08:30:00",414,311,"09:20:00","."]
[null,"원천관",4,242,"대학원","XU301K","e-ST",{"$f":"VLOOKUP(B87&D87,'[1]점검현황(금월)'!$D$2:$AG$241,25,0)","v":"2016-12-07"},{"$f":"VLOOKUP(B87&D87,'[1]점검현황(금월)'!$D$7:$AG$241,27,0)","v":"·"},210,"08:40:00",32,311,"09:30:00","."]
[null,"원천관",5,243,"대학원","VX421","e-ST",{"$f":"VLOOKUP(B88&D88,'[1]점검현황(금월)'!$D$2:$AG$241,25,0)","v":"2017-02-22"},{"$f":"VLOOKUP(B88&D88,'[1]점검현황(금월)'!$D$7:$AG$241,27,0)","v":"2017-02-22"},211,"08:50:00",1153,311,"09:40:00","."]
[null,"원천관",6,251,"강당","DVM-070M","e-ST",{"$f":"VLOOKUP(B89&D89,'[1]점검현황(금월)'!$D$2:$AG$241,25,0)","v":"2015-07-15"},{"$f":"VLOOKUP(B89&D89,'[1]점검현황(금월)'!$D$7:$AG$241,27,0)","v":"·"},211,"19:29:00",2748,311,"09:50:00","."]
[null,"원천관",7,"317-1","전자공학","XU106K","e-ST",{"$f":"VLOOKUP(B90&D90,'[1]점검현황(금월)'!$D$2:$AG$241,25,0)","v":"2017-01-10"},{"$f":"VLOOKUP(B90&D90,'[1]점검현황(금월)'!$D$7:$AG$241,27,0)","v":"2017-01-10"},211,"19:10:00",55,311,"10:00:00","."]
[null,"원천관",8,318,"전자공학 (자동녹화)","XU105K","e-ST",{"$f":"VLOOKUP(B91&D91,'[1]점검현황(금월)'!$D$2:$AG$241,25,0)","v":"2016-08-23"},{"$f":"VLOOKUP(B91&D91,'[1]점검현황(금월)'!$D$7:$AG$241,27,0)","v":"2015-06-18"},211,"19:20:00",420,311,"10:10:00","."]
[null,"원천관",9,333,"전자공학","XU105K","자체",{"$f":"VLOOKUP(B92&D92,'[1]점검현황(금월)'!$D$2:$AG$241,25,0)","v":"."},{"$f":"VLOOKUP(B92&D92,'[1]점검현황(금월)'!$D$7:$AG$241,27,0)","v":"."},211,"20:20:00",1439,311,"11:10:00","."]
[null,"원천관",10,334,"전자공학","XU106K","자체",{"$f":"VLOOKUP(B93&D93,'[1]점검현황(금월)'!$D$2:$AG$241,25,0)","v":"2016-08-23"},{"$f":"VLOOKUP(B93&D93,'[1]점검현황(금월)'!$D$7:$AG$241,27,0)","v":"2014-11-19"},211,"09:00:00",38,313,"10:20:00","."]
[null,"원천관",11,340,"전자공학","XM100L","자체",{"$f":"VLOOKUP(B94&D94,'[1]점검현황(금월)'!$D$2:$AG$241,25,0)","v":"2015-06-10"},{"$f":"VLOOKUP(B94&D94,'[1]점검현황(금월)'!$D$7:$AG$241,27,0)","v":"·"},211,"09:05:00",855,313,"10:30:00","."]
[null,"원천관",12,502,"물리학과","XU106K","자체",{"$f":"VLOOKUP(B95&D95,'[1]점검현황(금월)'!$D$2:$AG$241,25,0)","v":"·"},{"$f":"VLOOKUP(B95&D95,'[1]점검현황(금월)'!$D$7:$AG$241,27,0)","v":"·"},228,"09:10:00",309,313,"10:40:00","28,"]
[null,"원천관",13,503,"물리학과","XU106K","자체",{"$f":"VLOOKUP(B96&D96,'[1]점검현황(금월)'!$D$2:$AG$241,25,0)","v":"·"},{"$f":"VLOOKUP(B96&D96,'[1]점검현황(금월)'!$D$7:$AG$241,27,0)","v":"·"},211,"09:15:00",717,313,"10:50:00","."]
[null,"원천관",14,504,"물리학과","XU106K","자체",{"$f":"VLOOKUP(B97&D97,'[1]점검현황(금월)'!$D$2:$AG$241,25,0)","v":"·"},{"$f":"VLOOKUP(B97&D97,'[1]점검현황(금월)'!$D$7:$AG$241,27,0)","v":"·"},211,"09:20:00",397,313,"11:00:00","2,"]
[null,"원천관",15,505,"물리학과","XU106K","자체",{"$f":"VLOOKUP(B98&D98,'[1]점검현황(금월)'!$D$2:$AG$241,25,0)","v":"·"},{"$f":"VLOOKUP(B98&D98,'[1]점검현황(금월)'!$D$7:$AG$241,27,0)","v":"·"},211,"09:25:00",419,313,"11:10:00","."]
[null,"원천관",16,506,"물리학과","XU106K","자체",{"$f":"VLOOKUP(B99&D99,'[1]점검현황(금월)'!$D$2:$AG$241,25,0)","v":"2015-07-01"},{"$f":"VLOOKUP(B99&D99,'[1]점검현황(금월)'!$D$7:$AG$241,27,0)","v":"·"},211,"09:30:00",203,313,"11:20:00","."]
[null,"원천관",17,507,"화학과","VX421","구",{"$f":"VLOOKUP(B100&D100,'[1]점검현황(금월)'!$D$2:$AG$241,25,0)","v":"2016-10-07"},{"$f":"VLOOKUP(B100&D100,'[1]점검현황(금월)'!$D$7:$AG$241,27,0)","v":"2016-10-07"},211,"09:35:00",149,314,"11:30:00","."]
[null,"원천관",18,508,"전자공학","XU106K","e-ST",{"$f":"VLOOKUP(B101&D101,'[1]점검현황(금월)'!$D$2:$AG$241,25,0)","v":"2016-08-23"},{"$f":"VLOOKUP(B101&D101,'[1]점검현황(금월)'!$D$7:$AG$241,27,0)","v":"2017-01-10"},211,"09:40:00",546,314,"11:40:00","."]
[null,"원천관",19,509,"전자공학","XU106K","e-ST",{"$f":"VLOOKUP(B102&D102,'[1]점검현황(금월)'!$D$2:$AG$241,25,0)","v":"2016-03-08"},{"$f":"VLOOKUP(B102&D102,'[1]점검현황(금월)'!$D$7:$AG$241,27,0)","v":"2016-09-03"},211,"17:35:00",837,314,"11:50:00","."]
[null,"원천관",20,"534-2","생명과학","XU106K","구",{"$f":"VLOOKUP(B103&D103,'[1]점검현황(금월)'!$D$2:$AG$241,25,0)","v":"2015-05-29"},{"$f":"VLOOKUP(B103&D103,'[1]점검현황(금월)'!$D$7:$AG$241,27,0)","v":"·"},211,"09:50:00",962,314,"12:00:00","."]
[null,"원천관",21,535,"전자공학 (자동녹화)","XM150K / XM150K","e-ST",{"$f":"VLOOKUP(B104&D104,'[1]점검현황(금월)'!$D$2:$AG$241,25,0)","v":"2015-10-07/2016-11-16"},{"$f":"VLOOKUP(B104&D104,'[1]점검현황(금월)'!$D$7:$AG$241,27,0)","v":"15-11-10/17-01-10"},211,"10:00:00","115/927",314,"13:00:00","."]
[null,"원천관",22,537,"전자공학","VX410Z","자체",{"$f":"VLOOKUP(B105&D105,'[1]점검현황(금월)'!$D$2:$AG$241,25,0)","v":"2015-04-15"},{"$f":"VLOOKUP(B105&D105,'[1]점검현황(금월)'!$D$7:$AG$241,27,0)","v":"·"},211,"10:10:00",350,314,"13:10:00","."]
[null,"원천관",23,539,"전자공학","XU100K","자체",{"$f":"VLOOKUP(B106&D106,'[1]점검현황(금월)'!$D$2:$AG$241,25,0)","v":"2016-03-07"},{"$f":"VLOOKUP(B106&D106,'[1]점검현황(금월)'!$D$7:$AG$241,27,0)","v":"·"},211,"10:20:00",103,314,"13:20:00","."]
[null,"원천관",24,540,"멀티미디어 PC실","XU106K","구",{"$f":"VLOOKUP(B107&D107,'[1]점검현황(금월)'!$D$2:$AG$241,25,0)","v":"2015-08-18"},{"$f":"VLOOKUP(B107&D107,'[1]점검현황(금월)'!$D$7:$AG$241,27,0)","v":"2016-04-30"},211,"18:00:00",1116,315,"13:30:00","."]
["서관","서관",1,107,"멀티미디어 (자동녹화)","VX600","e-ST",{"$f":"VLOOKUP(B108&D108,'[1]점검현황(금월)'!$D$2:$AG$241,25,0)","v":"2016-12-23"},{"$f":"VLOOKUP(B108&D108,'[1]점검현황(금월)'!$D$7:$AG$241,27,0)","v":"2016-12-23"},213,"10:40:00",11,315,"13:40:00","."]
[null,"서관",2,135,"기계공학 (자동녹화)","VX421","e-ST",{"$f":"VLOOKUP(B109&D109,'[1]점검현황(금월)'!$D$2:$AG$241,25,0)","v":"2016-02-29"},{"$f":"VLOOKUP(B109&D109,'[1]점검현황(금월)'!$D$7:$AG$241,27,0)","v":"2016-02-29"},213,"10:50:00",957,315,"08:30:00","."]
[null,"서관",3,239,"환경공학","VX421","구",{"$f":"VLOOKUP(B110&D110,'[1]점검현황(금월)'!$D$2:$AG$241,25,0)","v":"2016-02-17"},{"$f":"VLOOKUP(B110&D110,'[1]점검현황(금월)'!$D$7:$AG$241,27,0)","v":"2016-02-17"},213,"11:00:00",548,315,"08:40:00","2,"]
[null,"서관",4,302,"대학원","VX421","e-ST",{"$f":"VLOOKUP(B111&D111,'[1]점검현황(금월)'!$D$2:$AG$241,25,0)","v":"2017-02-22"},{"$f":"VLOOKUP(B111&D111,'[1]점검현황(금월)'!$D$7:$AG$241,27,0)","v":"2017-02-22"},213,"11:10:00",553,315,"08:50:00","."]
[null,"서관",5,303,"화학공학","XT35K","구",{"$f":"VLOOKUP(B112&D112,'[1]점검현황(금월)'!$D$2:$AG$241,25,0)","v":"2016-10-25"},{"$f":"VLOOKUP(B112&D112,'[1]점검현황(금월)'!$D$7:$AG$241,27,0)","v":"2016-04-05"},227,"11:20:00",210,315,"19:00:00","27,"]
[null,"서관",6,305,"기계공학","VX400","e-ST",{"$f":"VLOOKUP(B113&D113,'[1]점검현황(금월)'!$D$2:$AG$241,25,0)","v":"."},{"$f":"VLOOKUP(B113&D113,'[1]점검현황(금월)'!$D$7:$AG$241,27,0)","v":"."},213,"11:50:00",899,315,"20:00:00","10,"]
[null,"서관",7,307,"기계공학","VX421","e-ST",{"$f":"VLOOKUP(B114&D114,'[1]점검현황(금월)'!$D$2:$AG$241,25,0)","v":"2015-08-18"},{"$f":"VLOOKUP(B114&D114,'[1]점검현황(금월)'!$D$7:$AG$241,27,0)","v":"·"},213,"11:30:00",963,316,"19:10:00","."]
[null,"서관",8,331,"기계공학","XU106K","e-ST",{"$f":"VLOOKUP(B115&D115,'[1]점검현황(금월)'!$D$2:$AG$241,25,0)","v":"2015-05-15"},{"$f":"VLOOKUP(B115&D115,'[1]점검현황(금월)'!$D$7:$AG$241,27,0)","v":"2015-09-16"},213,"17:41:00",907,316,"19:20:00","."]
[null,"서관",9,332,"응 화 생","VX600","구",{"$f":"VLOOKUP(B116&D116,'[1]점검현황(금월)'!$D$2:$AG$241,25,0)","v":"2016-11-24"},{"$f":"VLOOKUP(B116&D116,'[1]점검현황(금월)'!$D$7:$AG$241,27,0)","v":"2016-11-24"},214,"11:50:00",126,316,"08:30:00","."]
[null,"서관",10,334,"멀티미디어","VX421","구",{"$f":"VLOOKUP(B117&D117,'[1]점검현황(금월)'!$D$2:$AG$241,25,0)","v":"2016-12-23"},{"$f":"VLOOKUP(B117&D117,'[1]점검현황(금월)'!$D$7:$AG$241,27,0)","v":"2016-12-23"},214,"12:00:00",10,316,"08:40:00","."]
[null,"서관",11,337,"환경공학","LG","자체",{"$f":"VLOOKUP(B118&D118,'[1]점검현황(금월)'!$D$2:$AG$241,25,0)","v":"."},{"$f":"VLOOKUP(B118&D118,'[1]점검현황(금월)'!$D$7:$AG$241,27,0)","v":"."},214,"13:00:00",910,316,"09:40:00","."]
["동관","동관",1,"104-1","기계공학","XU106K","e-ST",{"$f":"VLOOKUP(B119&D119,'[1]점검현황(금월)'!$D$2:$AG$241,25,0)","v":"2016-01-04"},{"$f":"VLOOKUP(B119&D119,'[1]점검현황(금월)'!$D$7:$AG$241,27,0)","v":"·"},227,"13:00:00",507,316,"08:50:00","27,"]
[null,"동관",2,"104-3","기계공학","XU106K","e-ST",{"$f":"VLOOKUP(B120&D120,'[1]점검현황(금월)'!$D$2:$AG$241,25,0)","v":"·"},{"$f":"VLOOKUP(B120&D120,'[1]점검현황(금월)'!$D$7:$AG$241,27,0)","v":"·"},214,"13:20:00",981,316,"19:10:00","."]
[null,"동관",3,212,"기계공학","XU106K","자체",{"$f":"VLOOKUP(B121&D121,'[1]점검현황(금월)'!$D$2:$AG$241,25,0)","v":"."},{"$f":"VLOOKUP(B121&D121,'[1]점검현황(금월)'!$D$7:$AG$241,27,0)","v":"."},214,"13:25:00","528/433/92/16",317,"19:15:00","."]
[null,"동관",4,331,"기계공학","VX400","e-ST",{"$f":"VLOOKUP(B122&D122,'[1]점검현황(금월)'!$D$2:$AG$241,25,0)","v":"2016-01-04"},{"$f":"VLOOKUP(B122&D122,'[1]점검현황(금월)'!$D$7:$AG$241,27,0)","v":"·"},214,"13:30:00",754,317,"19:20:00","."]
["팔달관","팔달관",1,107,"사이버보안(자동녹화,화상강의)","VX600","e-ST",{"$f":"VLOOKUP(B123&D123,'[1]점검현황(금월)'!$D$2:$AG$241,25,0)","v":"2015-08-31"},{"$f":"VLOOKUP(B123&D123,'[1]점검현황(금월)'!$D$7:$AG$241,27,0)","v":"2015-08-31"},215,"13:40:00",1596,317,"08:30:00","."]
[null,"팔달관",2,108,"멀티미디어 (자동녹화)","VX600","e-ST",{"$f":"VLOOKUP(B124&D124,'[1]점검현황(금월)'!$D$2:$AG$241,25,0)","v":"2016-12-23"},{"$f":"VLOOKUP(B124&D124,'[1]점검현황(금월)'!$D$7:$AG$241,27,0)","v":"2016-12-23"},215,"17:28:00",43,317,"08:40:00","."]
[null,"팔달관",3,110,"멀티미디어 (자동녹화)","VX600","e-ST",{"$f":"VLOOKUP(B125&D125,'[1]점검현황(금월)'!$D$2:$AG$241,25,0)","v":"2015-12-29"},{"$f":"VLOOKUP(B125&D125,'[1]점검현황(금월)'!$D$7:$AG$241,27,0)","v":"2016-07-20"},215,"14:00:00",1752,317,"08:50:00","."]
[null,"팔달관",4,111,"사이버보안 (자동녹화)","VX600","e-ST",{"$f":"VLOOKUP(B126&D126,'[1]점검현황(금월)'!$D$2:$AG$241,25,0)","v":"2015-09-16"},{"$f":"VLOOKUP(B126&D126,'[1]점검현황(금월)'!$D$7:$AG$241,27,0)","v":"2015-09-16"},215,"11:30:00",51,317,"19:00:00","."]
[null,"팔달관",5,207,"신소재","VX600","구",{"$f":"VLOOKUP(B127&D127,'[1]점검현황(금월)'!$D$2:$AG$241,25,0)","v":"2016-09-19"},{"$f":"VLOOKUP(B127&D127,'[1]점검현황(금월)'!$D$7:$AG$241,27,0)","v":"·"},215,"08:40:00",388,317,"19:10:00","."]
[null,"팔달관",6,211,"교통시스템","VX600","구",{"$f":"VLOOKUP(B128&D128,'[1]점검현황(금월)'!$D$2:$AG$241,25,0)","v":"2016-03-02"},{"$f":"VLOOKUP(B128&D128,'[1]점검현황(금월)'!$D$7:$AG$241,27,0)","v":"2016-03-02"},215,"08:50:00",847,318,"19:20:00","."]
[null,"팔달관",7,307,"산업정보","XT35K","구",{"$f":"VLOOKUP(B129&D129,'[1]점검현황(금월)'!$D$2:$AG$241,25,0)","v":"2016-11-29"},{"$f":"VLOOKUP(B129&D129,'[1]점검현황(금월)'!$D$7:$AG$241,27,0)","v":"2016-03-25"},215,"19:00:00",99,318,"08:30:00","."]
[null,"팔달관",8,308,"생명공학","XU106K","구",{"$f":"VLOOKUP(B130&D130,'[1]점검현황(금월)'!$D$2:$AG$241,25,0)","v":"2016-04-06"},{"$f":"VLOOKUP(B130&D130,'[1]점검현황(금월)'!$D$7:$AG$241,27,0)","v":"2014-12-06"},215,"19:10:00",1172,318,"08:40:00","."]
[null,"팔달관",9,309,"정통컴 (자동녹화)","VX600","e-ST",{"$f":"VLOOKUP(B131&D131,'[1]점검현황(금월)'!$D$2:$AG$241,25,0)","v":"2016-11-18"},{"$f":"VLOOKUP(B131&D131,'[1]점검현황(금월)'!$D$7:$AG$241,27,0)","v":"2016-11-18"},216,"19:20:00",170,318,"08:50:00","."]
[null,"팔달관",10,310,"건설시스템","XU106K","구",{"$f":"VLOOKUP(B132&D132,'[1]점검현황(금월)'!$D$2:$AG$241,25,0)","v":"2016-04-06"},{"$f":"VLOOKUP(B132&D132,'[1]점검현황(금월)'!$D$7:$AG$241,27,0)","v":"2016-04-06"},216,"08:30:00",847,318,"19:00:00","."]
[null,"팔달관",11,311,"수학과 (자동녹화)","EB-5900","e-ST",{"$f":"VLOOKUP(B133&D133,'[1]점검현황(금월)'!$D$2:$AG$241,25,0)","v":"2016-08-23"},{"$f":"VLOOKUP(B133&D133,'[1]점검현황(금월)'!$D$7:$AG$241,27,0)","v":"·"},216,"18:42:00",269,318,"19:10:00","."]
[null,"팔달관",12,317,"정통컴 (자동녹화)","VX421","e-ST",{"$f":"VLOOKUP(B134&D134,'[1]점검현황(금월)'!$D$2:$AG$241,25,0)","v":"2016-02-29"},{"$f":"VLOOKUP(B134&D134,'[1]점검현황(금월)'!$D$7:$AG$241,27,0)","v":"2016-02-29"},216,"19:20:00",229,318,"19:15:00","."]
[null,"팔달관",13,318,"정 통 컴","VX421","자체",{"$f":"VLOOKUP(B135&D135,'[1]점검현황(금월)'!$D$2:$AG$241,25,0)","v":"2016-11-24"},{"$f":"VLOOKUP(B135&D135,'[1]점검현황(금월)'!$D$7:$AG$241,27,0)","v":"2016-11-24"},216,"08:50:00",34,318,"19:20:00","."]
[null,"팔달관",14,323,"산업공학과","VX600 / VX600","e-ST",{"$f":"VLOOKUP(B136&D136,'[1]점검현황(금월)'!$D$2:$AG$241,25,0)","v":"2016-02-29"},{"$f":"VLOOKUP(B136&D136,'[1]점검현황(금월)'!$D$7:$AG$241,27,0)","v":"2016-02-29"},216,"10:50:00","278/276",318,"13:00:00","."]
[null,"팔달관",15,325,"정 통 컴","VX421","e-ST",{"$f":"VLOOKUP(B137&D137,'[1]점검현황(금월)'!$D$2:$AG$241,25,0)","v":"2016-08-23"},{"$f":"VLOOKUP(B137&D137,'[1]점검현황(금월)'!$D$7:$AG$241,27,0)","v":"2015-08-31"},216,"14:05:00",683,318,"08:30:00","."]
[null,"팔달관",16,328,"정 통 컴","XT35K","자체",{"$f":"VLOOKUP(B138&D138,'[1]점검현황(금월)'!$D$2:$AG$241,25,0)","v":"2016-11-24"},{"$f":"VLOOKUP(B138&D138,'[1]점검현황(금월)'!$D$7:$AG$241,27,0)","v":"2015-04-03"},216,"15:55:00",135,318,"08:40:00","2,"]
[null,"팔달관",17,333,"정 통 컴","VX410Z","구",{"$f":"VLOOKUP(B139&D139,'[1]점검현황(금월)'!$D$2:$AG$241,25,0)","v":"."},{"$f":"VLOOKUP(B139&D139,'[1]점검현황(금월)'!$D$7:$AG$241,27,0)","v":"."},217,"16:00:00",1335,318,"08:45:00","."]
[null,"팔달관",18,336,"정 통 컴","XT35K","자체",{"$f":"VLOOKUP(B140&D140,'[1]점검현황(금월)'!$D$2:$AG$241,25,0)","v":"·"},{"$f":"VLOOKUP(B140&D140,'[1]점검현황(금월)'!$D$7:$AG$241,27,0)","v":"·"},217,"19:20:00",528,318,"08:50:00","."]
[null,"팔달관",19,407,"SW특성화 (자동녹화)","EX600 / EX600 / EX600","e-ST",{"$f":"VLOOKUP(B141&D141,'[1]점검현황(금월)'!$D$2:$AG$241,25,0)","v":"././16-7-19"},{"$f":"VLOOKUP(B141&D141,'[1]점검현황(금월)'!$D$7:$AG$241,27,0)","v":"2016-03-19"},217,"08:40:00","1054/370/80",318,"19:10:00","."]
[null,"팔달관",20,409,"정통컴 (자동녹화)","XU106K","구",{"$f":"VLOOKUP(B142&D142,'[1]점검현황(금월)'!$D$2:$AG$241,25,0)","v":"2016-11-25"},{"$f":"VLOOKUP(B142&D142,'[1]점검현황(금월)'!$D$7:$AG$241,27,0)","v":"2015-05-13"},217,"08:50:00",129,318,"19:20:00","."]
[null,"팔달관",21,410,"정 통 컴","VX600","구",{"$f":"VLOOKUP(B143&D143,'[1]점검현황(금월)'!$D$2:$AG$241,25,0)","v":"2016-11-24"},{"$f":"VLOOKUP(B143&D143,'[1]점검현황(금월)'!$D$7:$AG$241,27,0)","v":"2016-11-24"},217,"09:00:00",155,318,"09:00:00","."]
[null,"팔달관",22,415,"교통시스템","XU300K","자체",{"$f":"VLOOKUP(B144&D144,'[1]점검현황(금월)'!$D$2:$AG$241,25,0)","v":"·"},{"$f":"VLOOKUP(B144&D144,'[1]점검현황(금월)'!$D$7:$AG$241,27,0)","v":"·"},217,"09:10:00",593,318,"09:10:00","."]
[null,"팔달관",23,435,"수학과 LAB","EW730 / XU105K","e-ST",{"$f":"VLOOKUP(B145&D145,'[1]점검현황(금월)'!$D$2:$AG$241,25,0)","v":"2016-08-16 / ."},{"$f":"VLOOKUP(B145&D145,'[1]점검현황(금월)'!$D$7:$AG$241,27,0)","v":"2016-08-16 / ."},217,"09:30:00","1113/7",318,"09:15:00","."]
[null,"팔달관",24,621,"수학과 LAB","EPSON EB-G5900","e-ST",{"$f":"VLOOKUP(B146&D146,'[1]점검현황(금월)'!$D$2:$AG$241,25,0)","v":"2016-05-27"},{"$f":"VLOOKUP(B146&D146,'[1]점검현황(금월)'!$D$7:$AG$241,27,0)","v":"·"},217,"19:00:00",171,318,"09:20:00","."]
[null,"팔달관",25,735,"대학원","VX421","e-ST",{"$f":"VLOOKUP(B147&D147,'[1]점검현황(금월)'!$D$2:$AG$241,25,0)","v":"2017-02-22"},{"$f":"VLOOKUP(B147&D147,'[1]점검현황(금월)'!$D$7:$AG$241,27,0)","v":"2017-02-22"},218,"19:10:00",1041,318,"09:30:00","."]
[null,"팔달관",26,1001,"대학원","VX421","e-ST",{"$f":"VLOOKUP(B148&D148,'[1]점검현황(금월)'!$D$2:$AG$241,25,0)","v":"2017-02-22"},{"$f":"VLOOKUP(B148&D148,'[1]점검현황(금월)'!$D$7:$AG$241,27,0)","v":"2017-02-22"},218,"19:20:00",128,320,"09:40:00","."]
[null,"팔달관",27,1002,"대학원","VX421","e-ST",{"$f":"VLOOKUP(B149&D149,'[1]점검현황(금월)'!$D$2:$AG$241,25,0)","v":"2017-02-22"},{"$f":"VLOOKUP(B149&D149,'[1]점검현황(금월)'!$D$7:$AG$241,27,0)","v":"2017-02-22"},220,"08:30:00",394,320,"09:50:00","20,"]
[null,"팔달관",28,1003,"SW특성화대학원","XU106K","구",{"$f":"VLOOKUP(B150&D150,'[1]점검현황(금월)'!$D$2:$AG$241,25,0)","v":"2015-09-17"},{"$f":"VLOOKUP(B150&D150,'[1]점검현황(금월)'!$D$7:$AG$241,27,0)","v":"·"},218,"08:40:00",260,320,"10:00:00","."]
[null,"팔달관",29,1020,"건설교통 (CAD실)","VX400","e-ST",{"$f":"VLOOKUP(B151&D151,'[1]점검현황(금월)'!$D$2:$AG$241,25,0)","v":"2015-03-13"},{"$f":"VLOOKUP(B151&D151,'[1]점검현황(금월)'!$D$7:$AG$241,27,0)","v":"·"},218,"08:50:00",724,320,"10:10:00","."]
[null,"팔달관",30,1024,"토목공학 (CAD실)","XU105K","구",{"$f":"VLOOKUP(B152&D152,'[1]점검현황(금월)'!$D$2:$AG$241,25,0)","v":"·"},{"$f":"VLOOKUP(B152&D152,'[1]점검현황(금월)'!$D$7:$AG$241,27,0)","v":"·"},218,"19:00:00",1202,320,"10:20:00","."]
[null,"팔달관",31,1025,"정 통 컴","VX600","자체",{"$f":"VLOOKUP(B153&D153,'[1]점검현황(금월)'!$D$2:$AG$241,25,0)","v":"2016-03-17"},{"$f":"VLOOKUP(B153&D153,'[1]점검현황(금월)'!$D$7:$AG$241,27,0)","v":"2016-03-17"},218,"19:10:00",1030,320,"10:30:00","."]
["산학원","산학원",1,"B103","미디어 (자동녹화)","EX500E / EX500E","e-ST",{"$f":"VLOOKUP(B154&D154,'[1]점검현황(금월)'!$D$2:$AG$241,25,0)","v":"2016-04-06"},{"$f":"VLOOKUP(B154&D154,'[1]점검현황(금월)'!$D$7:$AG$241,27,0)","v":"·"},218,"19:20:00","1578/827",320,"10:40:00","."]
[null,"산학원",2,415,"미디어 (PC실)","XU106K","e-ST",{"$f":"VLOOKUP(B155&D155,'[1]점검현황(금월)'!$D$2:$AG$241,25,0)","v":"2015-09-08"},{"$f":"VLOOKUP(B155&D155,'[1]점검현황(금월)'!$D$7:$AG$241,27,0)","v":"2015-11-12"},218,"08:30:00",791,321,"10:50:00","."]
[null,"산학원",3,419,"미디어 (PC실)","EX500E","e-ST",{"$f":"VLOOKUP(B156&D156,'[1]점검현황(금월)'!$D$2:$AG$241,25,0)","v":"2015-09-08"},{"$f":"VLOOKUP(B156&D156,'[1]점검현황(금월)'!$D$7:$AG$241,27,0)","v":"·"},218,"08:40:00",922,321,"11:00:00","."]
[null,"산학원",4,420,"미디어 (PC실)","EX500E","e-ST",{"$f":"VLOOKUP(B157&D157,'[1]점검현황(금월)'!$D$2:$AG$241,25,0)","v":"2015-06-10"},{"$f":"VLOOKUP(B157&D157,'[1]점검현황(금월)'!$D$7:$AG$241,27,0)","v":"·"},218,"08:50:00",831,321,"11:10:00","."]
[null,"산학원",5,421,"미디어 (PC실)","XU106K","e-ST",{"$f":"VLOOKUP(B158&D158,'[1]점검현황(금월)'!$D$2:$AG$241,25,0)","v":"2016-04-06"},{"$f":"VLOOKUP(B158&D158,'[1]점검현황(금월)'!$D$7:$AG$241,27,0)","v":"2015-11-12"},218,"19:00:00",813,321,"11:20:00","."]
[null,"산학원",6,422,"미디어 (자동녹화)","XU105K","구e-ST",{"$f":"VLOOKUP(B159&D159,'[1]점검현황(금월)'!$D$2:$AG$241,25,0)","v":"2014-06-10"},{"$f":"VLOOKUP(B159&D159,'[1]점검현황(금월)'!$D$7:$AG$241,27,0)","v":"2015-08-28"},218,"19:10:00",881,321,"11:30:00","."]
[null,"산학원",7,"422-1","미디어","OPTOMA","e-ST",{"$f":"VLOOKUP(B160&D160,'[1]점검현황(금월)'!$D$2:$AG$241,25,0)","v":"2016-08-30"},{"$f":"VLOOKUP(B160&D160,'[1]점검현황(금월)'!$D$7:$AG$241,27,0)","v":"2016-08-30"},218,"19:20:00",299,321,"11:40:00","."]
[null,"산학원",8,504,"대학원지식정보안학과","XU106K","자체",{"$f":"VLOOKUP(B161&D161,'[1]점검현황(금월)'!$D$2:$AG$241,25,0)","v":"2015-09-17"},{"$f":"VLOOKUP(B161&D161,'[1]점검현황(금월)'!$D$7:$AG$241,27,0)","v":"2013-09-10"},218,"09:00:00",394,321,"11:50:00","."]
[null,"산학원",9,505,"대학원지식정보안학과","XU106K","자체",{"$f":"VLOOKUP(B162&D162,'[1]점검현황(금월)'!$D$2:$AG$241,25,0)","v":"2015-08-27"},{"$f":"VLOOKUP(B162&D162,'[1]점검현황(금월)'!$D$7:$AG$241,27,0)","v":"2015-08-28"},218,"09:10:00",638,322,"12:00:00","."]
[null,"산학원",10,713,"회의실","XU106K","구",{"$f":"VLOOKUP(B163&D163,'[1]점검현황(금월)'!$D$2:$AG$241,25,0)","v":"·"},{"$f":"VLOOKUP(B163&D163,'[1]점검현황(금월)'!$D$7:$AG$241,27,0)","v":"2013-01-30"},218,"09:20:00",994,322,"13:00:00","."]
[null,"산학원",11,811,"회의실","VX410Z","자체",{"$f":"VLOOKUP(B164&D164,'[1]점검현황(금월)'!$D$2:$AG$241,25,0)","v":"2015-06-09"},{"$f":"VLOOKUP(B164&D164,'[1]점검현황(금월)'!$D$7:$AG$241,27,0)","v":"2015-06-09"},218,"16:30:00",205,322,"13:05:00","."]
[null,"산학원",12,825,"전공 - 건축","VX421","구",{"$f":"VLOOKUP(B165&D165,'[1]점검현황(금월)'!$D$2:$AG$241,25,0)","v":"2015-12-01"},{"$f":"VLOOKUP(B165&D165,'[1]점검현황(금월)'!$D$7:$AG$241,27,0)","v":"2015-12-01"},218,"09:30:00",401,322,"13:10:00","."]
[null,"산학원",13,827,"전공 - 건축","XU100K","자체",{"$f":"VLOOKUP(B166&D166,'[1]점검현황(금월)'!$D$2:$AG$241,25,0)","v":"2015-12-01"},{"$f":"VLOOKUP(B166&D166,'[1]점검현황(금월)'!$D$7:$AG$241,27,0)","v":"2016-03-28"},218,"09:40:00",828,322,"13:20:00","."]
["학군단","학군단",1,"1강의","멀티미디어","XT35K","구",{"$f":"VLOOKUP(B167&D167,'[1]점검현황(금월)'!$D$2:$AG$241,25,0)","v":"2015-12-23"},{"$f":"VLOOKUP(B167&D167,'[1]점검현황(금월)'!$D$7:$AG$241,27,0)","v":"2016-07-02"},220,"09:50:00",123,322,"13:30:00","."]
[null,"학군단",2,"2강의","멀티미디어","XT35K","구",{"$f":"VLOOKUP(B168&D168,'[1]점검현황(금월)'!$D$2:$AG$241,25,0)","v":"2015-06-25"},{"$f":"VLOOKUP(B168&D168,'[1]점검현황(금월)'!$D$7:$AG$241,27,0)","v":"2016-03-30"},220,"10:00:00",301,322,"13:40:00","."]
["전산원","전산원",1,101,"대학원","VX510","e-ST",{"$f":"VLOOKUP(B169&D169,'[1]점검현황(금월)'!$D$2:$AG$241,25,0)","v":"2015-08-31"},{"$f":"VLOOKUP(B169&D169,'[1]점검현황(금월)'!$D$7:$AG$241,27,0)","v":"2015-08-31"},220,"17:30:00",1236,323,"08:30:00","."]
[null,"전산원",2,509,"멀티미디어 PC실","XU106K","구",{"$f":"VLOOKUP(B170&D170,'[1]점검현황(금월)'!$D$2:$AG$241,25,0)","v":"2015-07-22"},{"$f":"VLOOKUP(B170&D170,'[1]점검현황(금월)'!$D$7:$AG$241,27,0)","v":"2016-05-24"},220,"10:20:00",1028,323,"08:40:00","."]
[null,"전산원",3,510,"멀티미디어 PC실","XU106K","구",{"$f":"VLOOKUP(B171&D171,'[1]점검현황(금월)'!$D$2:$AG$241,25,0)","v":"2016-10-06"},{"$f":"VLOOKUP(B171&D171,'[1]점검현황(금월)'!$D$7:$AG$241,27,0)","v":"2016-06-17"},220,"11:10:00",175,323,"08:50:00","."]
[null,"전산원",4,511,"미디어학과","VX600","e-ST",{"$f":"VLOOKUP(B172&D172,'[1]점검현황(금월)'!$D$2:$AG$241,25,0)","v":"2016-11-24"},{"$f":"VLOOKUP(B172&D172,'[1]점검현황(금월)'!$D$7:$AG$241,27,0)","v":"2016-11-24"},220,"11:10:00",5,323,"08:50:00","."]
[null,"전산원",5,514,"멀티미디어 PC실","XU106K","구",{"$f":"VLOOKUP(B173&D173,'[1]점검현황(금월)'!$D$2:$AG$241,25,0)","v":"2016-03-21"},{"$f":"VLOOKUP(B173&D173,'[1]점검현황(금월)'!$D$7:$AG$241,27,0)","v":"2016-11-25"},220,"13:18:00",705,323,"19:00:00","."]
["종합관","종합관",1,101,"대강당","EX16KE","e-ST",{"$f":"VLOOKUP(B174&D174,'[1]점검현황(금월)'!$D$2:$AG$241,25,0)","v":"2016-03-18"},{"$f":"VLOOKUP(B174&D174,'[1]점검현황(금월)'!$D$7:$AG$241,27,0)","v":"·"},221,"10:50:00","521/521/521/521",323,"19:10:00","15,20"]
[null,"종합관",2,102,"멀티미디어 (자동녹화)","VX600","e-ST",{"$f":"VLOOKUP(B175&D175,'[1]점검현황(금월)'!$D$2:$AG$241,25,0)","v":"2016-12-23"},{"$f":"VLOOKUP(B175&D175,'[1]점검현황(금월)'!$D$7:$AG$241,27,0)","v":"2016-12-23"},222,"11:00:00",59,323,"19:20:00","1,9,15,22"]
[null,"종합관",3,104,"멀티미디어 (자동녹화)","VX600","e-ST",{"$f":"VLOOKUP(B176&D176,'[1]점검현황(금월)'!$D$2:$AG$241,25,0)","v":"2016-12-23"},{"$f":"VLOOKUP(B176&D176,'[1]점검현황(금월)'!$D$7:$AG$241,27,0)","v":"2016-12-23"},221,"15:20:00",69,324,"08:30:00","3,"]
[null,"종합관",4,105,"멀티미디어 (자동녹화)","VX600","e-ST",{"$f":"VLOOKUP(B177&D177,'[1]점검현황(금월)'!$D$2:$AG$241,25,0)","v":"2016-12-23"},{"$f":"VLOOKUP(B177&D177,'[1]점검현황(금월)'!$D$7:$AG$241,27,0)","v":"2016-12-23"},221,"17:30:00",62,324,"08:40:00","."]
[null,"종합관",5,"202-2","법전원","XT35K","자체",{"$f":"VLOOKUP(B178&D178,'[1]점검현황(금월)'!$D$2:$AG$241,25,0)","v":"·"},{"$f":"VLOOKUP(B178&D178,'[1]점검현황(금월)'!$D$7:$AG$241,27,0)","v":"·"},221,"11:30:00",113,324,"08:50:00","."]
[null,"종합관",6,301,"법전원","XU106K / XU106K","e-ST",{"$f":"VLOOKUP(B179&D179,'[1]점검현황(금월)'!$D$2:$AG$241,25,0)","v":"2015-9-2/ ·"},{"$f":"VLOOKUP(B179&D179,'[1]점검현황(금월)'!$D$7:$AG$241,27,0)","v":"2015-04-27(2)"},221,"11:40:00","770/1251",324,"19:00:00","."]
[null,"종합관",7,315,"법전원","XU105K","구",{"$f":"VLOOKUP(B180&D180,'[1]점검현황(금월)'!$D$2:$AG$241,25,0)","v":"·"},{"$f":"VLOOKUP(B180&D180,'[1]점검현황(금월)'!$D$7:$AG$241,27,0)","v":"·"},221,"11:50:00",1258,324,"19:10:00","."]
[null,"종합관",8,401,"법전원","XU106K","e-ST",{"$f":"VLOOKUP(B181&D181,'[1]점검현황(금월)'!$D$2:$AG$241,25,0)","v":"2015-07-16"},{"$f":"VLOOKUP(B181&D181,'[1]점검현황(금월)'!$D$7:$AG$241,27,0)","v":"·"},221,"12:00:00",873,324,"19:20:00","."]
[null,"종합관",9,412,"법전원","XU100K","구",{"$f":"VLOOKUP(B182&D182,'[1]점검현황(금월)'!$D$2:$AG$241,25,0)","v":"."},{"$f":"VLOOKUP(B182&D182,'[1]점검현황(금월)'!$D$7:$AG$241,27,0)","v":"·"},222,"13:00:00",107,325,"08:30:00","."]
[null,"종합관",10,413,"법전원","XU105K","구e-ST",{"$f":"VLOOKUP(B183&D183,'[1]점검현황(금월)'!$D$2:$AG$241,25,0)","v":"2015-09-04"},{"$f":"VLOOKUP(B183&D183,'[1]점검현황(금월)'!$D$7:$AG$241,27,0)","v":"·"},222,"13:10:00",317,325,"08:40:00","."]
[null,"종합관",11,501,"법전원","XU106K / XU106K","e-ST",{"$f":"VLOOKUP(B184&D184,'[1]점검현황(금월)'!$D$2:$AG$241,25,0)","v":"· / 2015-03-27"},{"$f":"VLOOKUP(B184&D184,'[1]점검현황(금월)'!$D$7:$AG$241,27,0)","v":"· / 2015-04-27"},222,"13:20:00","2455/1474",325,"08:50:00","."]
[null,"종합관",12,502,"멀티미디어 (자동녹화)","XU106K / XU106K","e-ST",{"$f":"VLOOKUP(B185&D185,'[1]점검현황(금월)'!$D$2:$AG$241,25,0)","v":"2015-07-30 / 2016-06-08"},{"$f":"VLOOKUP(B185&D185,'[1]점검현황(금월)'!$D$7:$AG$241,27,0)","v":"2015-10-15"},222,"09:30:00","1748/460",325,"19:00:00","."]
[null,"종합관",13,503,"멀티미디어 (자동녹화)","XU106K / XU106K","e-ST",{"$f":"VLOOKUP(B186&D186,'[1]점검현황(금월)'!$D$2:$AG$241,25,0)","v":"15-08-27/15-08-27"},{"$f":"VLOOKUP(B186&D186,'[1]점검현황(금월)'!$D$7:$AG$241,27,0)","v":"16-11-22/16-02-26"},222,"13:40:00","1816/1493",325,"19:10:00","."]
[null,"종합관",14,504,"법전원","XU106K","e-ST",{"$f":"VLOOKUP(B187&D187,'[1]점검현황(금월)'!$D$2:$AG$241,25,0)","v":"·"},{"$f":"VLOOKUP(B187&D187,'[1]점검현황(금월)'!$D$7:$AG$241,27,0)","v":"·"},222,"16:30:00",1730,325,"19:20:00","."]
[null,"종합관",15,506,"법전원 자동녹화","XU106K","e-ST",{"$f":"VLOOKUP(B188&D188,'[1]점검현황(금월)'!$D$2:$AG$241,25,0)","v":"2015-05-14"},{"$f":"VLOOKUP(B188&D188,'[1]점검현황(금월)'!$D$7:$AG$241,27,0)","v":"·"},222,"14:00:00",1365,325,"08:30:00","."]
[null,"종합관",16,507,"법전원 자동녹화","XU106K","e-ST",{"$f":"VLOOKUP(B189&D189,'[1]점검현황(금월)'!$D$2:$AG$241,25,0)","v":"2015-05-14"},{"$f":"VLOOKUP(B189&D189,'[1]점검현황(금월)'!$D$7:$AG$241,27,0)","v":"2015-10-24"},222,"19:30:00",1170,325,"08:40:00","."]
[null,"종합관",17,508,"멀티미디어 (자동녹화)","XU106K","e-ST",{"$f":"VLOOKUP(B190&D190,'[1]점검현황(금월)'!$D$2:$AG$241,25,0)","v":"2015-07-16"},{"$f":"VLOOKUP(B190&D190,'[1]점검현황(금월)'!$D$7:$AG$241,27,0)","v":"2016-12-24"},223,"08:40:00",1344,325,"08:50:00","."]
[null,"종합관",18,509,"멀티미디어","XU106K","e-ST",{"$f":"VLOOKUP(B191&D191,'[1]점검현황(금월)'!$D$2:$AG$241,25,0)","v":"2016-04-04"},{"$f":"VLOOKUP(B191&D191,'[1]점검현황(금월)'!$D$7:$AG$241,27,0)","v":"2016-04-05"},223,"08:50:00",1398,325,"19:00:00","."]
[null,"종합관",19,510,"법전원 세미나실","XU106K","e-ST",{"$f":"VLOOKUP(B192&D192,'[1]점검현황(금월)'!$D$2:$AG$241,25,0)","v":"2015-07-17"},{"$f":"VLOOKUP(B192&D192,'[1]점검현황(금월)'!$D$7:$AG$241,27,0)","v":"2012-04-28"},223,"19:00:00",131,325,"19:10:00","."]
[null,"종합관",20,601,"법전원","XT35K","자체",{"$f":"VLOOKUP(B193&D193,'[1]점검현황(금월)'!$D$2:$AG$241,25,0)","v":"2014-12-01"},{"$f":"VLOOKUP(B193&D193,'[1]점검현황(금월)'!$D$7:$AG$241,27,0)","v":"·"},223,"19:10:00",151,325,"19:20:00","."]
[null,"종합관",21,612,"멀티미디어","XU106K","e-ST",{"$f":"VLOOKUP(B194&D194,'[1]점검현황(금월)'!$D$2:$AG$241,25,0)","v":"2016-07-30"},{"$f":"VLOOKUP(B194&D194,'[1]점검현황(금월)'!$D$7:$AG$241,27,0)","v":"2016-12-28"},223,"19:40:00",800,325,"08:30:00","."]
[null,"종합관",22,613,"멀티미디어","XU106K","e-ST",{"$f":"VLOOKUP(B195&D195,'[1]점검현황(금월)'!$D$2:$AG$241,25,0)","v":"2015-07-30"},{"$f":"VLOOKUP(B195&D195,'[1]점검현황(금월)'!$D$7:$AG$241,27,0)","v":"2017-01-18"},223,"08:30:00",1118,325,"08:40:00","."]
[null,"종합관",23,704,"교육대학원","XU106K","자체",{"$f":"VLOOKUP(B196&D196,'[1]점검현황(금월)'!$D$2:$AG$241,25,0)","v":"·"},{"$f":"VLOOKUP(B196&D196,'[1]점검현황(금월)'!$D$7:$AG$241,27,0)","v":"·"},223,"08:40:00",1018,325,"08:50:00","."]
[null,"종합관",24,705,"교육대학원 (자동녹화)","XU350K","e-ST",{"$f":"VLOOKUP(B197&D197,'[1]점검현황(금월)'!$D$2:$AG$241,25,0)","v":"2015-04-29"},{"$f":"VLOOKUP(B197&D197,'[1]점검현황(금월)'!$D$7:$AG$241,27,0)","v":"·"},223,"08:50:00",718,325,"19:00:00","."]
[null,"종합관",25,706,"교육대학원 (자동녹화)","XU350K","e-ST",{"$f":"VLOOKUP(B198&D198,'[1]점검현황(금월)'!$D$2:$AG$241,25,0)","v":"·"},{"$f":"VLOOKUP(B198&D198,'[1]점검현황(금월)'!$D$7:$AG$241,27,0)","v":"·"},224,"19:00:00",496,325,"19:10:00","."]
[null,"종합관",26,707,"교육대학원","XU106K","e-ST",{"$f":"VLOOKUP(B199&D199,'[1]점검현황(금월)'!$D$2:$AG$241,25,0)","v":"2015-11-26"},{"$f":"VLOOKUP(B199&D199,'[1]점검현황(금월)'!$D$7:$AG$241,27,0)","v":"·"},224,"12:41:00",220,325,"19:20:00","."]
[null,"종합관",27,712,"전공세미나실 (자동녹화)","XU106K","e-ST",{"$f":"VLOOKUP(B200&D200,'[1]점검현황(금월)'!$D$2:$AG$241,25,0)","v":"2016-01-11"},{"$f":"VLOOKUP(B200&D200,'[1]점검현황(금월)'!$D$7:$AG$241,27,0)","v":"·"},224,"19:20:00",555,325,"09:00:00","."]
[null,"종합관",28,713,"전공세미나실 (자동녹화)","XU350K","e-ST",{"$f":"VLOOKUP(B201&D201,'[1]점검현황(금월)'!$D$2:$AG$241,25,0)","v":"·"},{"$f":"VLOOKUP(B201&D201,'[1]점검현황(금월)'!$D$7:$AG$241,27,0)","v":"·"},224,"08:30:00",916,325,"09:10:00","."]
[null,"종합관",29,801,"교육대학원 ","VX421","자체",{"$f":"VLOOKUP(B202&D202,'[1]점검현황(금월)'!$D$2:$AG$241,25,0)","v":"2016-02-29"},{"$f":"VLOOKUP(B202&D202,'[1]점검현황(금월)'!$D$7:$AG$241,27,0)","v":"2016-02-29"},224,"08:40:00",206,327,"09:15:00","."]
[null,"종합관",30,802,"교육대학원 ","XU106K","자체",{"$f":"VLOOKUP(B203&D203,'[1]점검현황(금월)'!$D$2:$AG$241,25,0)","v":"2016-01-11"},{"$f":"VLOOKUP(B203&D203,'[1]점검현황(금월)'!$D$7:$AG$241,27,0)","v":"·"},224,"09:10:00",364,327,"09:20:00","."]
[null,"종합관",31,803,"교육대학원 ","XU106K","자체",{"$f":"VLOOKUP(B204&D204,'[1]점검현황(금월)'!$D$2:$AG$241,25,0)","v":"2016-08-30"},{"$f":"VLOOKUP(B204&D204,'[1]점검현황(금월)'!$D$7:$AG$241,27,0)","v":"·"},224,"09:30:00",336,327,"09:30:00","."]
[null,"종합관",32,804,"교육대학원 ","XU106K","e-ST",{"$f":"VLOOKUP(B205&D205,'[1]점검현황(금월)'!$D$2:$AG$241,25,0)","v":"·"},{"$f":"VLOOKUP(B205&D205,'[1]점검현황(금월)'!$D$7:$AG$241,27,0)","v":"·"},224,"09:50:00",1608,327,"09:40:00","."]
[null,"종합관",33,805,"교육대학원 (자동녹화)","XU106K","e-ST",{"$f":"VLOOKUP(B206&D206,'[1]점검현황(금월)'!$D$2:$AG$241,25,0)","v":"2016-01-11"},{"$f":"VLOOKUP(B206&D206,'[1]점검현황(금월)'!$D$7:$AG$241,27,0)","v":"·"},225,"10:10:00",816,327,"09:50:00","."]
[null,"종합관",34,806,"교육대학원 ","XU105K","e-ST",{"$f":"VLOOKUP(B207&D207,'[1]점검현황(금월)'!$D$2:$AG$241,25,0)","v":"·"},{"$f":"VLOOKUP(B207&D207,'[1]점검현황(금월)'!$D$7:$AG$241,27,0)","v":"2015-08-28"},225,"10:30:00",495,327,"10:00:00","."]
[null,"종합관",35,808,"교육대학원 ","XU106K","자체",{"$f":"VLOOKUP(B208&D208,'[1]점검현황(금월)'!$D$2:$AG$241,25,0)","v":"·"},{"$f":"VLOOKUP(B208&D208,'[1]점검현황(금월)'!$D$7:$AG$241,27,0)","v":"·"},225,"13:58:00",1442,327,"10:10:00","."]
[null,"종합관",36,809,"교육대학원 ","XU106K","자체",{"$f":"VLOOKUP(B209&D209,'[1]점검현황(금월)'!$D$2:$AG$241,25,0)","v":"·"},{"$f":"VLOOKUP(B209&D209,'[1]점검현황(금월)'!$D$7:$AG$241,27,0)","v":"2016-03-24"},225,"11:10:00",1021,328,"10:20:00","."]
[null,"종합관",37,810,"교육대학원 (자동녹화)","XU350K","e-ST",{"$f":"VLOOKUP(B210&D210,'[1]점검현황(금월)'!$D$2:$AG$241,25,0)","v":"2015-10-06"},{"$f":"VLOOKUP(B210&D210,'[1]점검현황(금월)'!$D$7:$AG$241,27,0)","v":"·"},228,"11:30:00",457,328,"10:30:00","28,"]
[null,"종합관",38,811,"교육대학원 (자동녹화)","XU106K","e-ST",{"$f":"VLOOKUP(B211&D211,'[1]점검현황(금월)'!$D$2:$AG$241,25,0)","v":"2016-10-28"},{"$f":"VLOOKUP(B211&D211,'[1]점검현황(금월)'!$D$7:$AG$241,27,0)","v":"·"},225,"11:50:00",151,328,"10:40:00","."]
[null,"종합관",39,812,"교육대학원 ","XU105K","자체",{"$f":"VLOOKUP(B212&D212,'[1]점검현황(금월)'!$D$2:$AG$241,25,0)","v":"2016-01-11"},{"$f":"VLOOKUP(B212&D212,'[1]점검현황(금월)'!$D$7:$AG$241,27,0)","v":"·"},225,"13:10:00",329,328,"10:50:00","."]
[null,"종합관",40,1002,"공공정책대학원","XU106K","e-ST",{"$f":"VLOOKUP(B213&D213,'[1]점검현황(금월)'!$D$2:$AG$241,25,0)","v":"·"},{"$f":"VLOOKUP(B213&D213,'[1]점검현황(금월)'!$D$7:$AG$241,27,0)","v":"·"},225,"13:30:00",910,328,"11:00:00","."]
[null,"종합관",41,1003,"공공정책대학원","XU106K","e-ST",{"$f":"VLOOKUP(B214&D214,'[1]점검현황(금월)'!$D$2:$AG$241,25,0)","v":"."},{"$f":"VLOOKUP(B214&D214,'[1]점검현황(금월)'!$D$7:$AG$241,27,0)","v":"·"},225,"13:50:00",831,328,"11:10:00","."]
[null,"종합관",42,1004,"공공정책대학원","XU106K","e-ST",{"$f":"VLOOKUP(B215&D215,'[1]점검현황(금월)'!$D$2:$AG$241,25,0)","v":"·"},{"$f":"VLOOKUP(B215&D215,'[1]점검현황(금월)'!$D$7:$AG$241,27,0)","v":"·"},225,"15:10:00",508,328,"11:20:00","."]
[null,"종합관",43,1005,"공공정책대학원","XU106K","e-ST",{"$f":"VLOOKUP(B216&D216,'[1]점검현황(금월)'!$D$2:$AG$241,25,0)","v":"2016-08-26"},{"$f":"VLOOKUP(B216&D216,'[1]점검현황(금월)'!$D$7:$AG$241,27,0)","v":"·"},225,"15:30:00",214,329,"11:30:00","."]
[null,"종합관",44,1007,"공공정책대학원","XU106K","e-ST",{"$f":"VLOOKUP(B217&D217,'[1]점검현황(금월)'!$D$2:$AG$241,25,0)","v":"·"},{"$f":"VLOOKUP(B217&D217,'[1]점검현황(금월)'!$D$7:$AG$241,27,0)","v":"·"},225,"15:50:00",1080,329,"11:40:00","."]
[null,"종합관",45,1008,"공공정책대학원","XU106K","e-ST",{"$f":"VLOOKUP(B218&D218,'[1]점검현황(금월)'!$D$2:$AG$241,25,0)","v":"2016-03-18"},{"$f":"VLOOKUP(B218&D218,'[1]점검현황(금월)'!$D$7:$AG$241,27,0)","v":"·"},225,"16:10:00",186,329,"11:50:00","."]
[null,"종합관",46,1009,"공공정책대학원","XU106K","e-ST",{"$f":"VLOOKUP(B219&D219,'[1]점검현황(금월)'!$D$2:$AG$241,25,0)","v":"·"},{"$f":"VLOOKUP(B219&D219,'[1]점검현황(금월)'!$D$7:$AG$241,27,0)","v":"·"},225,"16:30:00",876,329,"12:00:00","."]
[null,"종합관",47,1101,"LINC사업단","VX410Z","-",{"$f":"VLOOKUP(B220&D220,'[1]점검현황(금월)'!$D$2:$AG$241,25,0)","v":"."},{"$f":"VLOOKUP(B220&D220,'[1]점검현황(금월)'!$D$7:$AG$241,27,0)","v":"."},225,"16:50:00",530,329,"12:20:00","13,14"]
["약학관","약학관",1,105,"약학대","XU106K","e-ST",{"$f":"VLOOKUP(B221&D221,'[1]점검현황(금월)'!$D$2:$AG$241,25,0)","v":"2015-07-31"},{"$f":"VLOOKUP(B221&D221,'[1]점검현황(금월)'!$D$7:$AG$241,27,0)","v":"·"},225,"14:23:00",1367,329,"13:00:00","."]
[null,"약학관",2,106,"약학대","XU350K","e-ST",{"$f":"VLOOKUP(B222&D222,'[1]점검현황(금월)'!$D$2:$AG$241,25,0)","v":"2016-02-29"},{"$f":"VLOOKUP(B222&D222,'[1]점검현황(금월)'!$D$7:$AG$241,27,0)","v":"·"},225,"09:10:00",902,329,"13:10:00","."]
[null,"약학관",3,317,"약학대","XU350K","e-ST",{"$f":"VLOOKUP(B223&D223,'[1]점검현황(금월)'!$D$2:$AG$241,25,0)","v":"·"},{"$f":"VLOOKUP(B223&D223,'[1]점검현황(금월)'!$D$7:$AG$241,27,0)","v":"·"},225,"14:40:00",1340,329,"13:20:00","."]
["도서관","도서관",1,101,"소강당","VX600","구",{"$f":"VLOOKUP(B224&D224,'[1]점검현황(금월)'!$D$2:$AG$241,25,0)","v":"2015-09-21"},{"$f":"VLOOKUP(B224&D224,'[1]점검현황(금월)'!$D$7:$AG$241,27,0)","v":"2015-09-21"},225,"09:30:00",388,330,"13:30:00","."]
["캠퍼스           플라자","캠퍼스플라자",1,302,"평생교육원","LB-300","구",{"$f":"VLOOKUP(B225&D225,'[1]점검현황(금월)'!$D$2:$AG$241,25,0)","v":"2015-04-16"},{"$f":"VLOOKUP(B225&D225,'[1]점검현황(금월)'!$D$7:$AG$241,27,0)","v":"·"},227,"09:40:00",637,330,"13:40:00","."]
[null,"캠퍼스플라자",2,304,"평생교육원","XU300K","구",{"$f":"VLOOKUP(B226&D226,'[1]점검현황(금월)'!$D$2:$AG$241,25,0)","v":"2016-11-16"},{"$f":"VLOOKUP(B226&D226,'[1]점검현황(금월)'!$D$7:$AG$241,27,0)","v":"·"},227,"17:41:00",177,330,"13:50:00","."]
[null,"캠퍼스플라자",3,305,"평생교육원","XU300K","구",{"$f":"VLOOKUP(B227&D227,'[1]점검현황(금월)'!$D$2:$AG$241,25,0)","v":"2015-05-18"},{"$f":"VLOOKUP(B227&D227,'[1]점검현황(금월)'!$D$7:$AG$241,27,0)","v":"·"},227,"10:00:00",849,330,"14:00:00","."]
[null,"캠퍼스플라자",4,306,"평생교육원","VX410Z","e-ST",{"$f":"VLOOKUP(B228&D228,'[1]점검현황(금월)'!$D$2:$AG$241,25,0)","v":"2016-04-22"},{"$f":"VLOOKUP(B228&D228,'[1]점검현황(금월)'!$D$7:$AG$241,27,0)","v":"·"},227,"10:10:00",621,330,"14:10:00","."]
[null,"캠퍼스플라자",5,307,"평생교육원","XU300K","구",{"$f":"VLOOKUP(B229&D229,'[1]점검현황(금월)'!$D$2:$AG$241,25,0)","v":"·"},{"$f":"VLOOKUP(B229&D229,'[1]점검현황(금월)'!$D$7:$AG$241,27,0)","v":"·"},227,"10:20:00",2827,330,"14:20:00","."]
[null,"캠퍼스플라자",6,308,"평생교육원","XU300K","구",{"$f":"VLOOKUP(B230&D230,'[1]점검현황(금월)'!$D$2:$AG$241,25,0)","v":"·"},{"$f":"VLOOKUP(B230&D230,'[1]점검현황(금월)'!$D$7:$AG$241,27,0)","v":"·"},227,"10:20:00",1222,330,"14:30:00","."]
[null,"캠퍼스플라자",7,501,"아주심리센터","VX400","구",{"$f":"VLOOKUP(B231&D231,'[1]점검현황(금월)'!$D$2:$AG$241,25,0)","v":"·"},{"$f":"VLOOKUP(B231&D231,'[1]점검현황(금월)'!$D$7:$AG$241,27,0)","v":"·"},227,"10:40:00",530,331,"14:40:00","."]
["종합                        설계동","종합설계동",1,101,"정 통 컴","VX421","e-ST",{"$f":"VLOOKUP(B232&D232,'[1]점검현황(금월)'!$D$2:$AG$241,25,0)","v":"2016-05-13"},{"$f":"VLOOKUP(B232&D232,'[1]점검현황(금월)'!$D$7:$AG$241,27,0)","v":"2016-05-13"},228,"10:50:00",745,331,"09:00:00","."]
[null,"종합설계동",2,103,"산업정보","VX400 / VX400 / 샤프","자체",{"$f":"VLOOKUP(B233&D233,'[1]점검현황(금월)'!$D$2:$AG$241,25,0)","v":"·"},{"$f":"VLOOKUP(B233&D233,'[1]점검현황(금월)'!$D$7:$AG$241,27,0)","v":"·"},228,"11:00:00","880/5/55",331,"09:10:00","."]
[null,"종합설계동",3,106,"환경공학","XU300K / XU300K / XU300K","e-ST",{"$f":"VLOOKUP(B234&D234,'[1]점검현황(금월)'!$D$2:$AG$241,25,0)","v":"·"},{"$f":"VLOOKUP(B234&D234,'[1]점검현황(금월)'!$D$7:$AG$241,27,0)","v":"·"},228,"11:20:00","1401/310/237",331,"09:20:00","."]
["화공실험동","화공실험동",1,101,"PC실","SHARP","자체",{"$f":"VLOOKUP(B235&D235,'[1]점검현황(금월)'!$D$2:$AG$241,25,0)","v":"·"},{"$f":"VLOOKUP(B235&D235,'[1]점검현황(금월)'!$D$7:$AG$241,27,0)","v":"·"},228,"11:50:00",790,331,"09:50:00","."]
[null,"화공실험동",2,102,"실험실","EX500E","자체",{"$f":"VLOOKUP(B236&D236,'[1]점검현황(금월)'!$D$2:$AG$241,25,0)","v":"·"},{"$f":"VLOOKUP(B236&D236,'[1]점검현황(금월)'!$D$7:$AG$241,27,0)","v":"·"},228,"12:00:00",295,331,"10:00:00","."]
[null,"화공실험동",3,105,"실험실","XU106K","자체",{"$f":"VLOOKUP(B237&D237,'[1]점검현황(금월)'!$D$2:$AG$241,25,0)","v":"·"},{"$f":"VLOOKUP(B237&D237,'[1]점검현황(금월)'!$D$7:$AG$241,27,0)","v":"·"},228,"12:10:00",602,331,"10:10:00","."]
[]
[null,null,"※ 강의실 점검 내용"]
[null,null,"▶ 프로젝터 점검\n - 필터 크리닝 / 램프 사용시간 확인 / 램프 밝기 및 오염여부를 확인"]
[null,null,"▶ 스크린 점검\n - 동작 유무 확인(스크린Up, Down) / 낙서등의 오염 상태 육안으로 확인 / 손상 여부 확인"]
[null,null,"▶ PC점검\n -윈도우 보안 업데이트 확인 / 바이러스 검사 / PC하드웨어 점검(PC본체 및 모니터) / OS 및 프로그램 이상유무 확인"]
[null,null,"▶ 마이크 점검\n - 작동 여부 및 마이크 상태 확인 / 선 접지 확인 / 교탁 마이크 단자 및 거치대 확인"]
[null,null,"자동녹화"]
[null,null,"▶ 자동녹화 점검\n - e-motion 매니져 작동확인, e-motion 센서 작동 확인, 1:5 분배기 작동 확인, 자동녹화 프로그램 영상 및 음향 녹화, 카메라 및 모니터 정상 출력 확인"]