{"text_format":"2","workbook":"xlsx","n_sheets":1,"sheets":["점검계획"],"not_rendered":{"charts":0,"images":0,"macros":0,"external_links":1,"defined_names":3,"comments":0,"pivot_tables":0},"unopened":[],"bounds":{"document_bytes":16777216,"sheet_cells":100000,"run_cost":"one","rows_first":2000,"rows_last":500,"rows_between":2000,"halvings":0,"cell_chars":16384,"cell_head_chars":4096},"cells_cut":0,"cells_raw":0,"read":"whole","date_system":"1900"}

{"sheet":"점검계획","index":0,"n_rows":243,"n_cols":15,"rows_kept":243,"cut":false,"hidden":false,"merged":[[240,2,240,13],[242,2,242,13],[243,3,243,7],[244,3,244,7],[245,3,245,9],[239,2,239,13],[121,0,150,0],[151,0,169,0],[170,0,171,0],[172,0,178,0],[179,0,225,0],[226,0,228,0],[230,0,232,0],[233,0,235,0],[236,2,236,12],[237,2,237,13],[238,2,238,13],[117,0,120,0],[0,0,0,14],[1,0,2,0],[1,1,1,8],[1,9,1,11],[1,12,2,13],[1,14,2,14],[2,9,2,10],[3,0,30,0],[31,0,54,0],[55,0,82,0],[83,0,105,0],[106,0,116,0]]}
["2019년 멀티미디어미디어 강의실 점검(02월) 및 계획(03월)"]
["건물","강의실 정보",{"$nulls":7},"램프사용시간",null,null,"점검예정일",null,"방문수리"]
[null,"건물","번호","강의실","구분","프로젝터","교탁","램프교체","정밀클리닝","최종확인일",null,"사용시간"]
["다산관","다산관",1,"B105",{"$f":"VLOOKUP(B4&D4,'[1]점검현황(금월)'!$D$7:$AG$243,2,0)","v":"멀티미디어 (자동녹화)"},{"$f":"VLOOKUP(B4&D4,'[1]점검현황(금월)'!$D$7:$AG$243,3,0)","v":"EX600"},{"$f":"VLOOKUP(B4&D4,'[1]점검현황(금월)'!$D$2:$AG$243,19,0)","v":"구"},{"$f":"VLOOKUP(B4&D4,'[1]점검현황(금월)'!$D$2:$AG$243,25,0)","v":"2017-09-19"},{"$f":"VLOOKUP(B4&D4,'[1]점검현황(금월)'!$D$7:$AG$243,27,0)","v":"2015-04-09(클리닝 권고)"},{"$f":"VLOOKUP(B4&D4,'[1]점검현황(금월)'!$D$7:$AG$243,23,0)","v":201},{"$f":"VLOOKUP(B4&D4,'[1]점검현황(금월)'!$D$7:$AK$243,24,0)","v":"12:05:00"},{"$f":"VLOOKUP(B4&D4,'[1]점검현황(금월)'!$D$7:$AK$243,34,0)","v":1801},302,"08:30:00",{"$f":"VLOOKUP(B4&D4,'[1]점검현황(금월)'!$D$7:$AG$243,26,0)","v":"."}]
[null,{"$f":"B4","v":"다산관"},2,"B106",{"$f":"VLOOKUP(B5&D5,'[1]점검현황(금월)'!$D$7:$AG$243,2,0)","v":"경영대 (자동녹화)"},{"$f":"VLOOKUP(B5&D5,'[1]점검현황(금월)'!$D$7:$AG$243,3,0)","v":"EX600"},{"$f":"VLOOKUP(B5&D5,'[1]점검현황(금월)'!$D$2:$AG$243,19,0)","v":"e-ST"},{"$f":"VLOOKUP(B5&D5,'[1]점검현황(금월)'!$D$2:$AG$243,25,0)","v":"2017-11-17"},{"$f":"VLOOKUP(B5&D5,'[1]점검현황(금월)'!$D$7:$AG$243,27,0)","v":"날짜 확인 불가(클리닝 권고)"},{"$f":"VLOOKUP(B5&D5,'[1]점검현황(금월)'!$D$7:$AG$243,23,0)","v":201},{"$f":"VLOOKUP(B5&D5,'[1]점검현황(금월)'!$D$7:$AK$243,24,0)","v":"11:53:00"},{"$f":"VLOOKUP(B5&D5,'[1]점검현황(금월)'!$D$7:$AK$243,34,0)","v":1919},302,"08:40:00",{"$f":"VLOOKUP(B5&D5,'[1]점검현황(금월)'!$D$7:$AG$243,26,0)","v":"."}]
[null,{"$f":"B5","v":"다산관"},3,"B107",{"$f":"VLOOKUP(B6&D6,'[1]점검현황(금월)'!$D$7:$AG$243,2,0)","v":"경영대대학원"},{"$f":"VLOOKUP(B6&D6,'[1]점검현황(금월)'!$D$7:$AG$243,3,0)","v":"VX421 / VX421"},{"$f":"VLOOKUP(B6&D6,'[1]점검현황(금월)'!$D$2:$AG$243,19,0)","v":"e-ST"},{"$f":"VLOOKUP(B6&D6,'[1]점검현황(금월)'!$D$2:$AG$243,25,0)","v":"17-02-16 /17-02-16"},{"$f":"VLOOKUP(B6&D6,'[1]점검현황(금월)'!$D$7:$AG$243,27,0)","v":"17-02-16 /17-02-16"},{"$f":"VLOOKUP(B6&D6,'[1]점검현황(금월)'!$D$7:$AG$243,23,0)","v":201},{"$f":"VLOOKUP(B6&D6,'[1]점검현황(금월)'!$D$7:$AK$243,24,0)","v":"17:00:00"},{"$f":"VLOOKUP(B6&D6,'[1]점검현황(금월)'!$D$7:$AK$243,34,0)","v":"388/381"},302,"08:50:00",{"$f":"VLOOKUP(B6&D6,'[1]점검현황(금월)'!$D$7:$AG$243,26,0)","v":"."}]
[null,"다산관",4,"B108",{"$f":"VLOOKUP(B7&D7,'[1]점검현황(금월)'!$D$7:$AG$243,2,0)","v":"E-biz"},{"$f":"VLOOKUP(B7&D7,'[1]점검현황(금월)'!$D$7:$AG$243,3,0)","v":"EX600"},{"$f":"VLOOKUP(B7&D7,'[1]점검현황(금월)'!$D$2:$AG$243,19,0)","v":"e-ST"},{"$f":"VLOOKUP(B7&D7,'[1]점검현황(금월)'!$D$2:$AG$243,25,0)","v":"2018-05-17"},{"$f":"VLOOKUP(B7&D7,'[1]점검현황(금월)'!$D$7:$AG$243,27,0)","v":"날짜 확인 불가(클리닝 권고)"},{"$f":"VLOOKUP(B7&D7,'[1]점검현황(금월)'!$D$7:$AG$243,23,0)","v":201},{"$f":"VLOOKUP(B7&D7,'[1]점검현황(금월)'!$D$7:$AK$243,24,0)","v":"13:20:00"},{"$f":"VLOOKUP(B7&D7,'[1]점검현황(금월)'!$D$7:$AK$243,34,0)","v":902},302,"19:00:00",{"$f":"VLOOKUP(B7&D7,'[1]점검현황(금월)'!$D$7:$AG$243,26,0)","v":"."}]
[null,"다산관",5,"B109",{"$f":"VLOOKUP(B8&D8,'[1]점검현황(금월)'!$D$7:$AG$243,2,0)","v":"멀티미디어"},{"$f":"VLOOKUP(B8&D8,'[1]점검현황(금월)'!$D$7:$AG$243,3,0)","v":"XU106K"},{"$f":"VLOOKUP(B8&D8,'[1]점검현황(금월)'!$D$2:$AG$243,19,0)","v":"구"},{"$f":"VLOOKUP(B8&D8,'[1]점검현황(금월)'!$D$2:$AG$243,25,0)","v":"2018-03-03"},{"$f":"VLOOKUP(B8&D8,'[1]점검현황(금월)'!$D$7:$AG$243,27,0)","v":"2019-02-12"},{"$f":"VLOOKUP(B8&D8,'[1]점검현황(금월)'!$D$7:$AG$243,23,0)","v":212},{"$f":"VLOOKUP(B8&D8,'[1]점검현황(금월)'!$D$7:$AK$243,24,0)","v":"19:10:00"},{"$f":"VLOOKUP(B8&D8,'[1]점검현황(금월)'!$D$7:$AK$243,34,0)","v":976},302,"19:10:00",{"$f":"VLOOKUP(B8&D8,'[1]점검현황(금월)'!$D$7:$AG$243,26,0)","v":"12,"}]
[null,"다산관",6,"B112",{"$f":"VLOOKUP(B9&D9,'[1]점검현황(금월)'!$D$7:$AG$243,2,0)","v":"대학원"},{"$f":"VLOOKUP(B9&D9,'[1]점검현황(금월)'!$D$7:$AG$243,3,0)","v":"VX421"},{"$f":"VLOOKUP(B9&D9,'[1]점검현황(금월)'!$D$2:$AG$243,19,0)","v":"e-ST"},{"$f":"VLOOKUP(B9&D9,'[1]점검현황(금월)'!$D$2:$AG$243,25,0)","v":"2018-10-04"},{"$f":"VLOOKUP(B9&D9,'[1]점검현황(금월)'!$D$7:$AG$243,27,0)","v":"2018-10-04"},{"$f":"VLOOKUP(B9&D9,'[1]점검현황(금월)'!$D$7:$AG$243,23,0)","v":201},{"$f":"VLOOKUP(B9&D9,'[1]점검현황(금월)'!$D$7:$AK$243,24,0)","v":"19:30:00"},{"$f":"VLOOKUP(B9&D9,'[1]점검현황(금월)'!$D$7:$AK$243,34,0)","v":84},302,"19:20:00",{"$f":"VLOOKUP(B9&D9,'[1]점검현황(금월)'!$D$7:$AG$243,26,0)","v":"."}]
[null,{"$f":"B8","v":"다산관"},7,"B115",{"$f":"VLOOKUP(B10&D10,'[1]점검현황(금월)'!$D$7:$AG$243,2,0)","v":"대학원"},{"$f":"VLOOKUP(B10&D10,'[1]점검현황(금월)'!$D$7:$AG$243,3,0)","v":"LB280"},{"$f":"VLOOKUP(B10&D10,'[1]점검현황(금월)'!$D$2:$AG$243,19,0)","v":"e-ST"},{"$f":"VLOOKUP(B10&D10,'[1]점검현황(금월)'!$D$2:$AG$243,25,0)","v":"2014-03-07"},{"$f":"VLOOKUP(B10&D10,'[1]점검현황(금월)'!$D$7:$AG$243,27,0)","v":"2014-03-07(클리닝 권고)"},{"$f":"VLOOKUP(B10&D10,'[1]점검현황(금월)'!$D$7:$AG$243,23,0)","v":201},{"$f":"VLOOKUP(B10&D10,'[1]점검현황(금월)'!$D$7:$AK$243,24,0)","v":"08:30:00"},{"$f":"VLOOKUP(B10&D10,'[1]점검현황(금월)'!$D$7:$AK$243,34,0)","v":1128},302,"08:30:00",{"$f":"VLOOKUP(B10&D10,'[1]점검현황(금월)'!$D$7:$AG$243,26,0)","v":"."}]
[null,"다산관",8,"B121",{"$f":"VLOOKUP(B11&D11,'[1]점검현황(금월)'!$D$7:$AG$243,2,0)","v":"대강당"},{"$f":"VLOOKUP(B11&D11,'[1]점검현황(금월)'!$D$7:$AG$243,3,0)","v":"EX620"},{"$f":"VLOOKUP(B11&D11,'[1]점검현황(금월)'!$D$2:$AG$243,19,0)","v":"e-ST"},{"$f":"VLOOKUP(B11&D11,'[1]점검현황(금월)'!$D$2:$AG$243,25,0)","v":"2017-03-07"},{"$f":"VLOOKUP(B11&D11,'[1]점검현황(금월)'!$D$7:$AG$243,27,0)","v":"2017-03-07"},{"$f":"VLOOKUP(B11&D11,'[1]점검현황(금월)'!$D$7:$AG$243,23,0)","v":201},{"$f":"VLOOKUP(B11&D11,'[1]점검현황(금월)'!$D$7:$AK$243,24,0)","v":"17:10:00"},{"$f":"VLOOKUP(B11&D11,'[1]점검현황(금월)'!$D$7:$AK$243,34,0)","v":883},302,"08:40:00",{"$f":"VLOOKUP(B11&D11,'[1]점검현황(금월)'!$D$7:$AG$243,26,0)","v":"."}]
[null,"다산관",9,105,{"$f":"VLOOKUP(B12&D12,'[1]점검현황(금월)'!$D$7:$AG$243,2,0)","v":"멀티미디어"},{"$f":"VLOOKUP(B12&D12,'[1]점검현황(금월)'!$D$7:$AG$243,3,0)","v":"VX421"},{"$f":"VLOOKUP(B12&D12,'[1]점검현황(금월)'!$D$2:$AG$243,19,0)","v":"e-ST"},{"$f":"VLOOKUP(B12&D12,'[1]점검현황(금월)'!$D$2:$AG$243,25,0)","v":"2016-12-28"},{"$f":"VLOOKUP(B12&D12,'[1]점검현황(금월)'!$D$7:$AG$243,27,0)","v":"2018-12-11"},{"$f":"VLOOKUP(B12&D12,'[1]점검현황(금월)'!$D$7:$AG$243,23,0)","v":219},{"$f":"VLOOKUP(B12&D12,'[1]점검현황(금월)'!$D$7:$AK$243,24,0)","v":"08:50:00"},{"$f":"VLOOKUP(B12&D12,'[1]점검현황(금월)'!$D$7:$AK$243,34,0)","v":2268},302,"08:50:00",{"$f":"VLOOKUP(B12&D12,'[1]점검현황(금월)'!$D$7:$AG$243,26,0)","v":"19,"}]
[null,"다산관",10,106,{"$f":"VLOOKUP(B13&D13,'[1]점검현황(금월)'!$D$7:$AG$243,2,0)","v":"불어불문"},{"$f":"VLOOKUP(B13&D13,'[1]점검현황(금월)'!$D$7:$AG$243,3,0)","v":"VX421"},{"$f":"VLOOKUP(B13&D13,'[1]점검현황(금월)'!$D$2:$AG$243,19,0)","v":"e-ST"},{"$f":"VLOOKUP(B13&D13,'[1]점검현황(금월)'!$D$2:$AG$243,25,0)","v":"2016-08-26"},{"$f":"VLOOKUP(B13&D13,'[1]점검현황(금월)'!$D$7:$AG$243,27,0)","v":"2016-08-26(클리닝 권고)"},{"$f":"VLOOKUP(B13&D13,'[1]점검현황(금월)'!$D$7:$AG$243,23,0)","v":202},{"$f":"VLOOKUP(B13&D13,'[1]점검현황(금월)'!$D$7:$AK$243,24,0)","v":"19:00:00"},{"$f":"VLOOKUP(B13&D13,'[1]점검현황(금월)'!$D$7:$AK$243,34,0)","v":1806},302,"19:00:00",{"$f":"VLOOKUP(B13&D13,'[1]점검현황(금월)'!$D$7:$AG$243,26,0)","v":"."}]
[null,"다산관",11,107,{"$f":"VLOOKUP(B14&D14,'[1]점검현황(금월)'!$D$7:$AG$243,2,0)","v":"국어국문"},{"$f":"VLOOKUP(B14&D14,'[1]점검현황(금월)'!$D$7:$AG$243,3,0)","v":"VX421"},{"$f":"VLOOKUP(B14&D14,'[1]점검현황(금월)'!$D$2:$AG$243,19,0)","v":"e-ST"},{"$f":"VLOOKUP(B14&D14,'[1]점검현황(금월)'!$D$2:$AG$243,25,0)","v":"2018-08-31"},{"$f":"VLOOKUP(B14&D14,'[1]점검현황(금월)'!$D$7:$AG$243,27,0)","v":"2016-08-26(클리닝 권고)"},{"$f":"VLOOKUP(B14&D14,'[1]점검현황(금월)'!$D$7:$AG$243,23,0)","v":202},{"$f":"VLOOKUP(B14&D14,'[1]점검현황(금월)'!$D$7:$AK$243,24,0)","v":"19:10:00"},{"$f":"VLOOKUP(B14&D14,'[1]점검현황(금월)'!$D$7:$AK$243,34,0)","v":656},302,"19:10:00",{"$f":"VLOOKUP(B14&D14,'[1]점검현황(금월)'!$D$7:$AG$243,26,0)","v":"."}]
[null,"다산관",12,108,{"$f":"VLOOKUP(B15&D15,'[1]점검현황(금월)'!$D$7:$AG$243,2,0)","v":"사학과"},{"$f":"VLOOKUP(B15&D15,'[1]점검현황(금월)'!$D$7:$AG$243,3,0)","v":"VX421"},{"$f":"VLOOKUP(B15&D15,'[1]점검현황(금월)'!$D$2:$AG$243,19,0)","v":"e-ST"},{"$f":"VLOOKUP(B15&D15,'[1]점검현황(금월)'!$D$2:$AG$243,25,0)","v":"2018-08-31"},{"$f":"VLOOKUP(B15&D15,'[1]점검현황(금월)'!$D$7:$AG$243,27,0)","v":"2016-08-26(클리닝 권고)"},{"$f":"VLOOKUP(B15&D15,'[1]점검현황(금월)'!$D$7:$AG$243,23,0)","v":202},{"$f":"VLOOKUP(B15&D15,'[1]점검현황(금월)'!$D$7:$AK$243,24,0)","v":"19:20:00"},{"$f":"VLOOKUP(B15&D15,'[1]점검현황(금월)'!$D$7:$AK$243,34,0)","v":574},302,"19:20:00",{"$f":"VLOOKUP(B15&D15,'[1]점검현황(금월)'!$D$7:$AG$243,26,0)","v":"."}]
[null,"다산관",13,109,{"$f":"VLOOKUP(B16&D16,'[1]점검현황(금월)'!$D$7:$AG$243,2,0)","v":"멀티미디어 (자동녹화)"},{"$f":"VLOOKUP(B16&D16,'[1]점검현황(금월)'!$D$7:$AG$243,3,0)","v":"VX600"},{"$f":"VLOOKUP(B16&D16,'[1]점검현황(금월)'!$D$2:$AG$243,19,0)","v":"e-ST"},{"$f":"VLOOKUP(B16&D16,'[1]점검현황(금월)'!$D$2:$AG$243,25,0)","v":"2018-10-29"},{"$f":"VLOOKUP(B16&D16,'[1]점검현황(금월)'!$D$7:$AG$243,27,0)","v":"2018-11-20"},{"$f":"VLOOKUP(B16&D16,'[1]점검현황(금월)'!$D$7:$AG$243,23,0)","v":202},{"$f":"VLOOKUP(B16&D16,'[1]점검현황(금월)'!$D$7:$AK$243,24,0)","v":"19:30:00"},{"$f":"VLOOKUP(B16&D16,'[1]점검현황(금월)'!$D$7:$AK$243,34,0)","v":207},302,"08:30:00",{"$f":"VLOOKUP(B16&D16,'[1]점검현황(금월)'!$D$7:$AG$243,26,0)","v":"."}]
[null,"다산관",14,110,{"$f":"VLOOKUP(B17&D17,'[1]점검현황(금월)'!$D$7:$AG$243,2,0)","v":"대학원"},{"$f":"VLOOKUP(B17&D17,'[1]점검현황(금월)'!$D$7:$AG$243,3,0)","v":"XU106K"},{"$f":"VLOOKUP(B17&D17,'[1]점검현황(금월)'!$D$2:$AG$243,19,0)","v":"e-ST"},{"$f":"VLOOKUP(B17&D17,'[1]점검현황(금월)'!$D$2:$AG$243,25,0)","v":"2017-06-27"},{"$f":"VLOOKUP(B17&D17,'[1]점검현황(금월)'!$D$7:$AG$243,27,0)","v":"2017-04-20"},{"$f":"VLOOKUP(B17&D17,'[1]점검현황(금월)'!$D$7:$AG$243,23,0)","v":202},{"$f":"VLOOKUP(B17&D17,'[1]점검현황(금월)'!$D$7:$AK$243,24,0)","v":"08:40:00"},{"$f":"VLOOKUP(B17&D17,'[1]점검현황(금월)'!$D$7:$AK$243,34,0)","v":984},302,"08:40:00",{"$f":"VLOOKUP(B17&D17,'[1]점검현황(금월)'!$D$7:$AG$243,26,0)","v":"."}]
[null,"다산관",15,111,{"$f":"VLOOKUP(B18&D18,'[1]점검현황(금월)'!$D$7:$AG$243,2,0)","v":"경영대 (자동녹화)"},{"$f":"VLOOKUP(B18&D18,'[1]점검현황(금월)'!$D$7:$AG$243,3,0)","v":"EX600"},{"$f":"VLOOKUP(B18&D18,'[1]점검현황(금월)'!$D$2:$AG$243,19,0)","v":"e-ST"},{"$f":"VLOOKUP(B18&D18,'[1]점검현황(금월)'!$D$2:$AG$243,25,0)","v":"2018-05-21"},{"$f":"VLOOKUP(B18&D18,'[1]점검현황(금월)'!$D$7:$AG$243,27,0)","v":"2014-10-22(클리닝 권고)"},{"$f":"VLOOKUP(B18&D18,'[1]점검현황(금월)'!$D$7:$AG$243,23,0)","v":221},{"$f":"VLOOKUP(B18&D18,'[1]점검현황(금월)'!$D$7:$AK$243,24,0)","v":"08:50:00"},{"$f":"VLOOKUP(B18&D18,'[1]점검현황(금월)'!$D$7:$AK$243,34,0)","v":1021},302,"08:50:00",{"$f":"VLOOKUP(B18&D18,'[1]점검현황(금월)'!$D$7:$AG$243,26,0)","v":"21,"}]
[null,"다산관",16,115,{"$f":"VLOOKUP(B19&D19,'[1]점검현황(금월)'!$D$7:$AG$243,2,0)","v":"멀티미디어"},{"$f":"VLOOKUP(B19&D19,'[1]점검현황(금월)'!$D$7:$AG$243,3,0)","v":"XU106K"},{"$f":"VLOOKUP(B19&D19,'[1]점검현황(금월)'!$D$2:$AG$243,19,0)","v":"구"},{"$f":"VLOOKUP(B19&D19,'[1]점검현황(금월)'!$D$2:$AG$243,25,0)","v":"2018-06-05"},{"$f":"VLOOKUP(B19&D19,'[1]점검현황(금월)'!$D$7:$AG$243,27,0)","v":"2018-10-24"},{"$f":"VLOOKUP(B19&D19,'[1]점검현황(금월)'!$D$7:$AG$243,23,0)","v":202},{"$f":"VLOOKUP(B19&D19,'[1]점검현황(금월)'!$D$7:$AK$243,24,0)","v":"17:42:00"},{"$f":"VLOOKUP(B19&D19,'[1]점검현황(금월)'!$D$7:$AK$243,34,0)","v":478},302,"19:00:00",{"$f":"VLOOKUP(B19&D19,'[1]점검현황(금월)'!$D$7:$AG$243,26,0)","v":"."}]
[null,"다산관",17,"205A",{"$f":"VLOOKUP(B20&D20,'[1]점검현황(금월)'!$D$7:$AG$243,2,0)","v":"인문대 (PC실)"},{"$f":"VLOOKUP(B20&D20,'[1]점검현황(금월)'!$D$7:$AG$243,3,0)","v":"EX500E / VX600"},{"$f":"VLOOKUP(B20&D20,'[1]점검현황(금월)'!$D$2:$AG$243,19,0)","v":"e-ST"},{"$f":"VLOOKUP(B20&D20,'[1]점검현황(금월)'!$D$2:$AG$243,25,0)","v":"18-11-27 / 17-02-05"},{"$f":"VLOOKUP(B20&D20,'[1]점검현황(금월)'!$D$7:$AG$243,27,0)","v":"날짜 확인 불가(클리닝 권고) / 17-02-05"},{"$f":"VLOOKUP(B20&D20,'[1]점검현황(금월)'!$D$7:$AG$243,23,0)","v":227},{"$f":"VLOOKUP(B20&D20,'[1]점검현황(금월)'!$D$7:$AK$243,24,0)","v":"19:10:00"},{"$f":"VLOOKUP(B20&D20,'[1]점검현황(금월)'!$D$7:$AK$243,34,0)","v":"121/2244"},302,"19:10:00",{"$f":"VLOOKUP(B20&D20,'[1]점검현황(금월)'!$D$7:$AG$243,26,0)","v":"27,"}]
[null,"다산관",18,"205B",{"$f":"VLOOKUP(B21&D21,'[1]점검현황(금월)'!$D$7:$AG$243,2,0)","v":"멀티미디어 (자동녹화)"},{"$f":"VLOOKUP(B21&D21,'[1]점검현황(금월)'!$D$7:$AG$243,3,0)","v":"VX600"},{"$f":"VLOOKUP(B21&D21,'[1]점검현황(금월)'!$D$2:$AG$243,19,0)","v":"구e-ST"},{"$f":"VLOOKUP(B21&D21,'[1]점검현황(금월)'!$D$2:$AG$243,25,0)","v":"2018-01-09"},{"$f":"VLOOKUP(B21&D21,'[1]점검현황(금월)'!$D$7:$AG$243,27,0)","v":"2019-02-13"},{"$f":"VLOOKUP(B21&D21,'[1]점검현황(금월)'!$D$7:$AG$243,23,0)","v":213},{"$f":"VLOOKUP(B21&D21,'[1]점검현황(금월)'!$D$7:$AK$243,24,0)","v":"12:41:00"},{"$f":"VLOOKUP(B21&D21,'[1]점검현황(금월)'!$D$7:$AK$243,34,0)","v":799},302,"19:20:00",{"$f":"VLOOKUP(B21&D21,'[1]점검현황(금월)'!$D$7:$AG$243,26,0)","v":"13,"}]
[null,"다산관",19,307,{"$f":"VLOOKUP(B22&D22,'[1]점검현황(금월)'!$D$7:$AG$243,2,0)","v":"경영대(PC실)"},{"$f":"VLOOKUP(B22&D22,'[1]점검현황(금월)'!$D$7:$AG$243,3,0)","v":"EX510"},{"$f":"VLOOKUP(B22&D22,'[1]점검현황(금월)'!$D$2:$AG$243,19,0)","v":"e-ST"},{"$f":"VLOOKUP(B22&D22,'[1]점검현황(금월)'!$D$2:$AG$243,25,0)","v":"2015-11-06"},{"$f":"VLOOKUP(B22&D22,'[1]점검현황(금월)'!$D$7:$AG$243,27,0)","v":"날짜 확인 불가(클리닝 권고)"},{"$f":"VLOOKUP(B22&D22,'[1]점검현황(금월)'!$D$7:$AG$243,23,0)","v":202},{"$f":"VLOOKUP(B22&D22,'[1]점검현황(금월)'!$D$7:$AK$243,24,0)","v":"19:30:00"},{"$f":"VLOOKUP(B22&D22,'[1]점검현황(금월)'!$D$7:$AK$243,34,0)","v":1811},302,"19:30:00",{"$f":"VLOOKUP(B22&D22,'[1]점검현황(금월)'!$D$7:$AG$243,26,0)","v":"."}]
[null,{"$f":"B21","v":"다산관"},20,308,{"$f":"VLOOKUP(B23&D23,'[1]점검현황(금월)'!$D$7:$AG$243,2,0)","v":"경영대 (PC실)"},{"$f":"VLOOKUP(B23&D23,'[1]점검현황(금월)'!$D$7:$AG$243,3,0)","v":"VX510"},{"$f":"VLOOKUP(B23&D23,'[1]점검현황(금월)'!$D$2:$AG$243,19,0)","v":"e-ST"},{"$f":"VLOOKUP(B23&D23,'[1]점검현황(금월)'!$D$2:$AG$243,25,0)","v":"2017-09-18"},{"$f":"VLOOKUP(B23&D23,'[1]점검현황(금월)'!$D$7:$AG$243,27,0)","v":"날짜 확인 불가(클리닝 권고)"},{"$f":"VLOOKUP(B23&D23,'[1]점검현황(금월)'!$D$7:$AG$243,23,0)","v":202},{"$f":"VLOOKUP(B23&D23,'[1]점검현황(금월)'!$D$7:$AK$243,24,0)","v":"08:30:00"},{"$f":"VLOOKUP(B23&D23,'[1]점검현황(금월)'!$D$7:$AK$243,34,0)","v":2178},302,"08:30:00",{"$f":"VLOOKUP(B23&D23,'[1]점검현황(금월)'!$D$7:$AG$243,26,0)","v":"."}]
[null,"다산관",21,309,{"$f":"VLOOKUP(B24&D24,'[1]점검현황(금월)'!$D$7:$AG$243,2,0)","v":"경영대학원(자동녹화)"},{"$f":"VLOOKUP(B24&D24,'[1]점검현황(금월)'!$D$7:$AG$243,3,0)","v":"EX500E"},{"$f":"VLOOKUP(B24&D24,'[1]점검현황(금월)'!$D$2:$AG$243,19,0)","v":"e-ST"},{"$f":"VLOOKUP(B24&D24,'[1]점검현황(금월)'!$D$2:$AG$243,25,0)","v":"2018-12-11"},{"$f":"VLOOKUP(B24&D24,'[1]점검현황(금월)'!$D$7:$AG$243,27,0)","v":"날짜 확인 불가(클리닝 권고)"},{"$f":"VLOOKUP(B24&D24,'[1]점검현황(금월)'!$D$7:$AG$243,23,0)","v":202},{"$f":"VLOOKUP(B24&D24,'[1]점검현황(금월)'!$D$7:$AK$243,24,0)","v":"08:40:00"},{"$f":"VLOOKUP(B24&D24,'[1]점검현황(금월)'!$D$7:$AK$243,34,0)","v":31},304,"08:40:00",{"$f":"VLOOKUP(B24&D24,'[1]점검현황(금월)'!$D$7:$AG$243,26,0)","v":"."}]
[null,"다산관",22,310,{"$f":"VLOOKUP(B25&D25,'[1]점검현황(금월)'!$D$7:$AG$243,2,0)","v":"멀티미디어"},{"$f":"VLOOKUP(B25&D25,'[1]점검현황(금월)'!$D$7:$AG$243,3,0)","v":"VX410 / VX410"},{"$f":"VLOOKUP(B25&D25,'[1]점검현황(금월)'!$D$2:$AG$243,19,0)","v":"e-ST"},{"$f":"VLOOKUP(B25&D25,'[1]점검현황(금월)'!$D$2:$AG$243,25,0)","v":"18-04-13 / 18-09-21"},{"$f":"VLOOKUP(B25&D25,'[1]점검현황(금월)'!$D$7:$AG$243,27,0)","v":"18-10-18 / 18-10-25"},{"$f":"VLOOKUP(B25&D25,'[1]점검현황(금월)'!$D$7:$AG$243,23,0)","v":202},{"$f":"VLOOKUP(B25&D25,'[1]점검현황(금월)'!$D$7:$AK$243,24,0)","v":"08:50:00"},{"$f":"VLOOKUP(B25&D25,'[1]점검현황(금월)'!$D$7:$AK$243,34,0)","v":"561/7"},304,"08:50:00",{"$f":"VLOOKUP(B25&D25,'[1]점검현황(금월)'!$D$7:$AG$243,26,0)","v":"."}]
[null,"다산관",23,311,{"$f":"VLOOKUP(B26&D26,'[1]점검현황(금월)'!$D$7:$AG$243,2,0)","v":"경영대대학원"},{"$f":"VLOOKUP(B26&D26,'[1]점검현황(금월)'!$D$7:$AG$243,3,0)","v":"VX410 / VX400"},{"$f":"VLOOKUP(B26&D26,'[1]점검현황(금월)'!$D$2:$AG$243,19,0)","v":"e-ST"},{"$f":"VLOOKUP(B26&D26,'[1]점검현황(금월)'!$D$2:$AG$243,25,0)","v":"16-08-26 / 17-06-26"},{"$f":"VLOOKUP(B26&D26,'[1]점검현황(금월)'!$D$7:$AG$243,27,0)","v":"날짜 확인 불가(클리닝 권고)"},{"$f":"VLOOKUP(B26&D26,'[1]점검현황(금월)'!$D$7:$AG$243,23,0)","v":202},{"$f":"VLOOKUP(B26&D26,'[1]점검현황(금월)'!$D$7:$AK$243,24,0)","v":"19:00:00"},{"$f":"VLOOKUP(B26&D26,'[1]점검현황(금월)'!$D$7:$AK$243,34,0)","v":"2468/2119"},304,"19:00:00",{"$f":"VLOOKUP(B26&D26,'[1]점검현황(금월)'!$D$7:$AG$243,26,0)","v":"."}]
[null,"다산관",24,406,{"$f":"VLOOKUP(B27&D27,'[1]점검현황(금월)'!$D$7:$AG$243,2,0)","v":"경영대 (PC실)"},{"$f":"VLOOKUP(B27&D27,'[1]점검현황(금월)'!$D$7:$AG$243,3,0)","v":"XU106K"},{"$f":"VLOOKUP(B27&D27,'[1]점검현황(금월)'!$D$2:$AG$243,19,0)","v":"e-ST"},{"$f":"VLOOKUP(B27&D27,'[1]점검현황(금월)'!$D$2:$AG$243,25,0)","v":"2018-09-12"},{"$f":"VLOOKUP(B27&D27,'[1]점검현황(금월)'!$D$7:$AG$243,27,0)","v":"날짜 확인 불가(클리닝 권고)"},{"$f":"VLOOKUP(B27&D27,'[1]점검현황(금월)'!$D$7:$AG$243,23,0)","v":202},{"$f":"VLOOKUP(B27&D27,'[1]점검현황(금월)'!$D$7:$AK$243,24,0)","v":"19:10:00"},{"$f":"VLOOKUP(B27&D27,'[1]점검현황(금월)'!$D$7:$AK$243,34,0)","v":323},304,"19:10:00",{"$f":"VLOOKUP(B27&D27,'[1]점검현황(금월)'!$D$7:$AG$243,26,0)","v":"."}]
[null,"다산관",25,433,{"$f":"VLOOKUP(B28&D28,'[1]점검현황(금월)'!$D$7:$AG$243,2,0)","v":"경영대대학원"},{"$f":"VLOOKUP(B28&D28,'[1]점검현황(금월)'!$D$7:$AG$243,3,0)","v":"LB280"},{"$f":"VLOOKUP(B28&D28,'[1]점검현황(금월)'!$D$2:$AG$243,19,0)","v":"e-ST"},{"$f":"VLOOKUP(B28&D28,'[1]점검현황(금월)'!$D$2:$AG$243,25,0)","v":"2015-09-01"},{"$f":"VLOOKUP(B28&D28,'[1]점검현황(금월)'!$D$7:$AG$243,27,0)","v":"2015-09-01(클리닝 권고)"},{"$f":"VLOOKUP(B28&D28,'[1]점검현황(금월)'!$D$7:$AG$243,23,0)","v":202},{"$f":"VLOOKUP(B28&D28,'[1]점검현황(금월)'!$D$7:$AK$243,24,0)","v":"19:15:00"},{"$f":"VLOOKUP(B28&D28,'[1]점검현황(금월)'!$D$7:$AK$243,34,0)","v":1899},304,"19:15:00",{"$f":"VLOOKUP(B28&D28,'[1]점검현황(금월)'!$D$7:$AG$243,26,0)","v":"."}]
[null,{"$f":"B28","v":"다산관"},26,505,{"$f":"VLOOKUP(B29&D29,'[1]점검현황(금월)'!$D$7:$AG$243,2,0)","v":"대학원"},{"$f":"VLOOKUP(B29&D29,'[1]점검현황(금월)'!$D$7:$AG$243,3,0)","v":"XU301K"},{"$f":"VLOOKUP(B29&D29,'[1]점검현황(금월)'!$D$2:$AG$243,19,0)","v":"e-ST"},{"$f":"VLOOKUP(B29&D29,'[1]점검현황(금월)'!$D$2:$AG$243,25,0)","v":"2017-06-27"},{"$f":"VLOOKUP(B29&D29,'[1]점검현황(금월)'!$D$7:$AG$243,27,0)","v":"2017-08-30"},{"$f":"VLOOKUP(B29&D29,'[1]점검현황(금월)'!$D$7:$AG$243,23,0)","v":202},{"$f":"VLOOKUP(B29&D29,'[1]점검현황(금월)'!$D$7:$AK$243,24,0)","v":"19:20:00"},{"$f":"VLOOKUP(B29&D29,'[1]점검현황(금월)'!$D$7:$AK$243,34,0)","v":985},304,"19:20:00",{"$f":"VLOOKUP(B29&D29,'[1]점검현황(금월)'!$D$7:$AG$243,26,0)","v":"."}]
[null,"다산관",27,506,{"$f":"VLOOKUP(B30&D30,'[1]점검현황(금월)'!$D$7:$AG$243,2,0)","v":"멀티미디어"},{"$f":"VLOOKUP(B30&D30,'[1]점검현황(금월)'!$D$7:$AG$243,3,0)","v":"XU106K"},{"$f":"VLOOKUP(B30&D30,'[1]점검현황(금월)'!$D$2:$AG$243,19,0)","v":"구"},{"$f":"VLOOKUP(B30&D30,'[1]점검현황(금월)'!$D$2:$AG$243,25,0)","v":"2018-08-20"},{"$f":"VLOOKUP(B30&D30,'[1]점검현황(금월)'!$D$7:$AG$243,27,0)","v":"2018-12-04"},{"$f":"VLOOKUP(B30&D30,'[1]점검현황(금월)'!$D$7:$AG$243,23,0)","v":202},{"$f":"VLOOKUP(B30&D30,'[1]점검현황(금월)'!$D$7:$AK$243,24,0)","v":"08:30:00"},{"$f":"VLOOKUP(B30&D30,'[1]점검현황(금월)'!$D$7:$AK$243,34,0)","v":500},304,"09:00:00",{"$f":"VLOOKUP(B30&D30,'[1]점검현황(금월)'!$D$7:$AG$243,26,0)","v":"."}]
[null,"다산관",28,507,{"$f":"VLOOKUP(B31&D31,'[1]점검현황(금월)'!$D$7:$AG$243,2,0)","v":"멀티미디어 (자동녹화)"},{"$f":"VLOOKUP(B31&D31,'[1]점검현황(금월)'!$D$7:$AG$243,3,0)","v":"VX600"},{"$f":"VLOOKUP(B31&D31,'[1]점검현황(금월)'!$D$2:$AG$243,19,0)","v":"e-ST"},{"$f":"VLOOKUP(B31&D31,'[1]점검현황(금월)'!$D$2:$AG$243,25,0)","v":"2016-12-28"},{"$f":"VLOOKUP(B31&D31,'[1]점검현황(금월)'!$D$7:$AG$243,27,0)","v":"2019-02-18"},{"$f":"VLOOKUP(B31&D31,'[1]점검현황(금월)'!$D$7:$AG$243,23,0)","v":218},{"$f":"VLOOKUP(B31&D31,'[1]점검현황(금월)'!$D$7:$AK$243,24,0)","v":"08:40:00"},{"$f":"VLOOKUP(B31&D31,'[1]점검현황(금월)'!$D$7:$AK$243,34,0)","v":2601},304,"09:10:00",{"$f":"VLOOKUP(B31&D31,'[1]점검현황(금월)'!$D$7:$AG$243,26,0)","v":"18,"}]
["율곡관","율곡관",1,150,{"$f":"VLOOKUP(B32&D32,'[1]점검현황(금월)'!$D$7:$AG$243,2,0)","v":"대강당"},{"$f":"VLOOKUP(B32&D32,'[1]점검현황(금월)'!$D$7:$AG$243,3,0)","v":"XF47"},{"$f":"VLOOKUP(B32&D32,'[1]점검현황(금월)'!$D$2:$AG$243,19,0)","v":"e-ST"},{"$f":"VLOOKUP(B32&D32,'[1]점검현황(금월)'!$D$2:$AG$243,25,0)","v":"2017-05-26"},{"$f":"VLOOKUP(B32&D32,'[1]점검현황(금월)'!$D$7:$AG$243,27,0)","v":"2017-05-26"},{"$f":"VLOOKUP(B32&D32,'[1]점검현황(금월)'!$D$7:$AG$243,23,0)","v":202},{"$f":"VLOOKUP(B32&D32,'[1]점검현황(금월)'!$D$7:$AK$243,24,0)","v":"13:30:00"},{"$f":"VLOOKUP(B32&D32,'[1]점검현황(금월)'!$D$7:$AK$243,34,0)","v":"943/849"},304,"09:20:00",{"$f":"VLOOKUP(B32&D32,'[1]점검현황(금월)'!$D$7:$AG$243,26,0)","v":"."}]
[null,"율곡관",2,151,{"$f":"VLOOKUP(B33&D33,'[1]점검현황(금월)'!$D$7:$AG$243,2,0)","v":"영상회의실"},{"$f":"VLOOKUP(B33&D33,'[1]점검현황(금월)'!$D$7:$AG$243,3,0)","v":"EX500E"},{"$f":"VLOOKUP(B33&D33,'[1]점검현황(금월)'!$D$2:$AG$243,19,0)","v":"e-ST"},{"$f":"VLOOKUP(B33&D33,'[1]점검현황(금월)'!$D$2:$AG$243,25,0)","v":"2018-01-08"},{"$f":"VLOOKUP(B33&D33,'[1]점검현황(금월)'!$D$7:$AG$243,27,0)","v":"2018-09-10"},{"$f":"VLOOKUP(B33&D33,'[1]점검현황(금월)'!$D$7:$AG$243,23,0)","v":219},{"$f":"VLOOKUP(B33&D33,'[1]점검현황(금월)'!$D$7:$AK$243,24,0)","v":"18:20:00"},{"$f":"VLOOKUP(B33&D33,'[1]점검현황(금월)'!$D$7:$AK$243,34,0)","v":823},304,"09:30:00",{"$f":"VLOOKUP(B33&D33,'[1]점검현황(금월)'!$D$7:$AG$243,26,0)","v":"19,"}]
[null,"율곡관",3,153,{"$f":"VLOOKUP(B34&D34,'[1]점검현황(금월)'!$D$7:$AG$243,2,0)","v":"멀티미디어 글로벌라운지"},{"$f":"VLOOKUP(B34&D34,'[1]점검현황(금월)'!$D$7:$AG$243,3,0)","v":"XU105K"},{"$f":"VLOOKUP(B34&D34,'[1]점검현황(금월)'!$D$2:$AG$243,19,0)","v":"e-ST"},{"$f":"VLOOKUP(B34&D34,'[1]점검현황(금월)'!$D$2:$AG$243,25,0)","v":"2017-11-02"},{"$f":"VLOOKUP(B34&D34,'[1]점검현황(금월)'!$D$7:$AG$243,27,0)","v":"2018-11-07"},{"$f":"VLOOKUP(B34&D34,'[1]점검현황(금월)'!$D$7:$AG$243,23,0)","v":207},{"$f":"VLOOKUP(B34&D34,'[1]점검현황(금월)'!$D$7:$AK$243,24,0)","v":"14:10:00"},{"$f":"VLOOKUP(B34&D34,'[1]점검현황(금월)'!$D$7:$AK$243,34,0)","v":379},305,"09:40:00",{"$f":"VLOOKUP(B34&D34,'[1]점검현황(금월)'!$D$7:$AG$243,26,0)","v":"."}]
[null,"율곡관",4,154,{"$f":"VLOOKUP(B35&D35,'[1]점검현황(금월)'!$D$7:$AG$243,2,0)","v":"멀티미디어 국제대학원"},{"$f":"VLOOKUP(B35&D35,'[1]점검현황(금월)'!$D$7:$AG$243,3,0)","v":"VX421"},{"$f":"VLOOKUP(B35&D35,'[1]점검현황(금월)'!$D$2:$AG$243,19,0)","v":"e-ST"},{"$f":"VLOOKUP(B35&D35,'[1]점검현황(금월)'!$D$2:$AG$243,25,0)","v":"2017-09-05"},{"$f":"VLOOKUP(B35&D35,'[1]점검현황(금월)'!$D$7:$AG$243,27,0)","v":"2017-09-05"},{"$f":"VLOOKUP(B35&D35,'[1]점검현황(금월)'!$D$7:$AG$243,23,0)","v":207},{"$f":"VLOOKUP(B35&D35,'[1]점검현황(금월)'!$D$7:$AK$243,24,0)","v":"14:30:00"},{"$f":"VLOOKUP(B35&D35,'[1]점검현황(금월)'!$D$7:$AK$243,34,0)","v":1525},305,"09:50:00",{"$f":"VLOOKUP(B35&D35,'[1]점검현황(금월)'!$D$7:$AG$243,26,0)","v":"."}]
[null,"율곡관",5,157,{"$f":"VLOOKUP(B36&D36,'[1]점검현황(금월)'!$D$7:$AG$243,2,0)","v":"사회대 (PC실)"},{"$f":"VLOOKUP(B36&D36,'[1]점검현황(금월)'!$D$7:$AG$243,3,0)","v":"XU106K"},{"$f":"VLOOKUP(B36&D36,'[1]점검현황(금월)'!$D$2:$AG$243,19,0)","v":"e-ST"},{"$f":"VLOOKUP(B36&D36,'[1]점검현황(금월)'!$D$2:$AG$243,25,0)","v":"2018-07-24"},{"$f":"VLOOKUP(B36&D36,'[1]점검현황(금월)'!$D$7:$AG$243,27,0)","v":"2019-01-18"},{"$f":"VLOOKUP(B36&D36,'[1]점검현황(금월)'!$D$7:$AG$243,23,0)","v":207},{"$f":"VLOOKUP(B36&D36,'[1]점검현황(금월)'!$D$7:$AK$243,24,0)","v":"09:00:00"},{"$f":"VLOOKUP(B36&D36,'[1]점검현황(금월)'!$D$7:$AK$243,34,0)","v":650},305,"10:00:00",{"$f":"VLOOKUP(B36&D36,'[1]점검현황(금월)'!$D$7:$AG$243,26,0)","v":"."}]
[null,"율곡관",6,204,{"$f":"VLOOKUP(B37&D37,'[1]점검현황(금월)'!$D$7:$AG$243,2,0)","v":"제1회의실"},{"$f":"VLOOKUP(B37&D37,'[1]점검현황(금월)'!$D$7:$AG$243,3,0)","v":"XM100K"},{"$f":"VLOOKUP(B37&D37,'[1]점검현황(금월)'!$D$2:$AG$243,19,0)","v":"자체"},{"$f":"VLOOKUP(B37&D37,'[1]점검현황(금월)'!$D$2:$AG$243,25,0)","v":"2017-09-21"},{"$f":"VLOOKUP(B37&D37,'[1]점검현황(금월)'!$D$7:$AG$243,27,0)","v":"2019-02-18"},{"$f":"VLOOKUP(B37&D37,'[1]점검현황(금월)'!$D$7:$AG$243,23,0)","v":219},{"$f":"VLOOKUP(B37&D37,'[1]점검현황(금월)'!$D$7:$AK$243,24,0)","v":"11:50:00"},{"$f":"VLOOKUP(B37&D37,'[1]점검현황(금월)'!$D$7:$AK$243,34,0)","v":313},305,"10:10:00",{"$f":"VLOOKUP(B37&D37,'[1]점검현황(금월)'!$D$7:$AG$243,26,0)","v":"18,19"}]
[null,"율곡관",7,252,{"$f":"VLOOKUP(B38&D38,'[1]점검현황(금월)'!$D$7:$AG$243,2,0)","v":"정치외교"},{"$f":"VLOOKUP(B38&D38,'[1]점검현황(금월)'!$D$7:$AG$243,3,0)","v":"VX400"},{"$f":"VLOOKUP(B38&D38,'[1]점검현황(금월)'!$D$2:$AG$243,19,0)","v":"e-ST"},{"$f":"VLOOKUP(B38&D38,'[1]점검현황(금월)'!$D$2:$AG$243,25,0)","v":"2017-07-26"},{"$f":"VLOOKUP(B38&D38,'[1]점검현황(금월)'!$D$7:$AG$243,27,0)","v":"날짜 확인 불가(클리닝 권고)"},{"$f":"VLOOKUP(B38&D38,'[1]점검현황(금월)'!$D$7:$AG$243,23,0)","v":207},{"$f":"VLOOKUP(B38&D38,'[1]점검현황(금월)'!$D$7:$AK$243,24,0)","v":"09:20:00"},{"$f":"VLOOKUP(B38&D38,'[1]점검현황(금월)'!$D$7:$AK$243,34,0)","v":974},305,"10:20:00",{"$f":"VLOOKUP(B38&D38,'[1]점검현황(금월)'!$D$7:$AG$243,26,0)","v":"."}]
[null,"율곡관",8,253,{"$f":"VLOOKUP(B39&D39,'[1]점검현황(금월)'!$D$7:$AG$243,2,0)","v":"멀티미디어"},{"$f":"VLOOKUP(B39&D39,'[1]점검현황(금월)'!$D$7:$AG$243,3,0)","v":"XU106K"},{"$f":"VLOOKUP(B39&D39,'[1]점검현황(금월)'!$D$2:$AG$243,19,0)","v":"구"},{"$f":"VLOOKUP(B39&D39,'[1]점검현황(금월)'!$D$2:$AG$243,25,0)","v":"2018-08-20"},{"$f":"VLOOKUP(B39&D39,'[1]점검현황(금월)'!$D$7:$AG$243,27,0)","v":"2018-09-12"},{"$f":"VLOOKUP(B39&D39,'[1]점검현황(금월)'!$D$7:$AG$243,23,0)","v":207},{"$f":"VLOOKUP(B39&D39,'[1]점검현황(금월)'!$D$7:$AK$243,24,0)","v":"09:30:00"},{"$f":"VLOOKUP(B39&D39,'[1]점검현황(금월)'!$D$7:$AK$243,34,0)","v":373},305,"10:30:00",{"$f":"VLOOKUP(B39&D39,'[1]점검현황(금월)'!$D$7:$AG$243,26,0)","v":"."}]
[null,"율곡관",9,254,{"$f":"VLOOKUP(B40&D40,'[1]점검현황(금월)'!$D$7:$AG$243,2,0)","v":"멀티미디어 (자동녹화)"},{"$f":"VLOOKUP(B40&D40,'[1]점검현황(금월)'!$D$7:$AG$243,3,0)","v":"XU106K"},{"$f":"VLOOKUP(B40&D40,'[1]점검현황(금월)'!$D$2:$AG$243,19,0)","v":"구e-ST"},{"$f":"VLOOKUP(B40&D40,'[1]점검현황(금월)'!$D$2:$AG$243,25,0)","v":"2018-11-06"},{"$f":"VLOOKUP(B40&D40,'[1]점검현황(금월)'!$D$7:$AG$243,27,0)","v":"2019-01-15"},{"$f":"VLOOKUP(B40&D40,'[1]점검현황(금월)'!$D$7:$AG$243,23,0)","v":207},{"$f":"VLOOKUP(B40&D40,'[1]점검현황(금월)'!$D$7:$AK$243,24,0)","v":"09:40:00"},{"$f":"VLOOKUP(B40&D40,'[1]점검현황(금월)'!$D$7:$AK$243,34,0)","v":356},305,"10:40:00",{"$f":"VLOOKUP(B40&D40,'[1]점검현황(금월)'!$D$7:$AG$243,26,0)","v":"."}]
[null,"율곡관",10,255,{"$f":"VLOOKUP(B41&D41,'[1]점검현황(금월)'!$D$7:$AG$243,2,0)","v":"행정학"},{"$f":"VLOOKUP(B41&D41,'[1]점검현황(금월)'!$D$7:$AG$243,3,0)","v":"EX500E"},{"$f":"VLOOKUP(B41&D41,'[1]점검현황(금월)'!$D$2:$AG$243,19,0)","v":"e-ST"},{"$f":"VLOOKUP(B41&D41,'[1]점검현황(금월)'!$D$2:$AG$243,25,0)","v":"2018-04-07"},{"$f":"VLOOKUP(B41&D41,'[1]점검현황(금월)'!$D$7:$AG$243,27,0)","v":"날짜 확인 불가(클리닝 권고)"},{"$f":"VLOOKUP(B41&D41,'[1]점검현황(금월)'!$D$7:$AG$243,23,0)","v":207},{"$f":"VLOOKUP(B41&D41,'[1]점검현황(금월)'!$D$7:$AK$243,24,0)","v":"09:50:00"},{"$f":"VLOOKUP(B41&D41,'[1]점검현황(금월)'!$D$7:$AK$243,34,0)","v":703},305,"10:50:00",{"$f":"VLOOKUP(B41&D41,'[1]점검현황(금월)'!$D$7:$AG$243,26,0)","v":"."}]
[null,"율곡관",11,256,{"$f":"VLOOKUP(B42&D42,'[1]점검현황(금월)'!$D$7:$AG$243,2,0)","v":"심리학"},{"$f":"VLOOKUP(B42&D42,'[1]점검현황(금월)'!$D$7:$AG$243,3,0)","v":"EX500E"},{"$f":"VLOOKUP(B42&D42,'[1]점검현황(금월)'!$D$2:$AG$243,19,0)","v":"e-ST"},{"$f":"VLOOKUP(B42&D42,'[1]점검현황(금월)'!$D$2:$AG$243,25,0)","v":"2018-05-10"},{"$f":"VLOOKUP(B42&D42,'[1]점검현황(금월)'!$D$7:$AG$243,27,0)","v":"날짜 확인 불가(클리닝 권고)"},{"$f":"VLOOKUP(B42&D42,'[1]점검현황(금월)'!$D$7:$AG$243,23,0)","v":208},{"$f":"VLOOKUP(B42&D42,'[1]점검현황(금월)'!$D$7:$AK$243,24,0)","v":"10:25:00"},{"$f":"VLOOKUP(B42&D42,'[1]점검현황(금월)'!$D$7:$AK$243,34,0)","v":618},305,"11:00:00",{"$f":"VLOOKUP(B42&D42,'[1]점검현황(금월)'!$D$7:$AG$243,26,0)","v":"."}]
[null,"율곡관",12,257,{"$f":"VLOOKUP(B43&D43,'[1]점검현황(금월)'!$D$7:$AG$243,2,0)","v":"사회학"},{"$f":"VLOOKUP(B43&D43,'[1]점검현황(금월)'!$D$7:$AG$243,3,0)","v":"EX500E"},{"$f":"VLOOKUP(B43&D43,'[1]점검현황(금월)'!$D$2:$AG$243,19,0)","v":"e-ST"},{"$f":"VLOOKUP(B43&D43,'[1]점검현황(금월)'!$D$2:$AG$243,25,0)","v":"2017-07-12"},{"$f":"VLOOKUP(B43&D43,'[1]점검현황(금월)'!$D$7:$AG$243,27,0)","v":"날짜 확인 불가(클리닝 권고)"},{"$f":"VLOOKUP(B43&D43,'[1]점검현황(금월)'!$D$7:$AG$243,23,0)","v":208},{"$f":"VLOOKUP(B43&D43,'[1]점검현황(금월)'!$D$7:$AK$243,24,0)","v":"10:10:00"},{"$f":"VLOOKUP(B43&D43,'[1]점검현황(금월)'!$D$7:$AK$243,34,0)","v":1398},305,"11:10:00",{"$f":"VLOOKUP(B43&D43,'[1]점검현황(금월)'!$D$7:$AG$243,26,0)","v":"."}]
[null,"율곡관",13,258,{"$f":"VLOOKUP(B44&D44,'[1]점검현황(금월)'!$D$7:$AG$243,2,0)","v":"멀티미디어 (자동녹화)"},{"$f":"VLOOKUP(B44&D44,'[1]점검현황(금월)'!$D$7:$AG$243,3,0)","v":"VX421"},{"$f":"VLOOKUP(B44&D44,'[1]점검현황(금월)'!$D$2:$AG$243,19,0)","v":"e-ST"},{"$f":"VLOOKUP(B44&D44,'[1]점검현황(금월)'!$D$2:$AG$243,25,0)","v":"2017-10-20"},{"$f":"VLOOKUP(B44&D44,'[1]점검현황(금월)'!$D$7:$AG$243,27,0)","v":"2018-12-12"},{"$f":"VLOOKUP(B44&D44,'[1]점검현황(금월)'!$D$7:$AG$243,23,0)","v":208},{"$f":"VLOOKUP(B44&D44,'[1]점검현황(금월)'!$D$7:$AK$243,24,0)","v":"10:20:00"},{"$f":"VLOOKUP(B44&D44,'[1]점검현황(금월)'!$D$7:$AK$243,34,0)","v":753},306,"11:20:00",{"$f":"VLOOKUP(B44&D44,'[1]점검현황(금월)'!$D$7:$AG$243,26,0)","v":"."}]
[null,"율곡관",14,259,{"$f":"VLOOKUP(B45&D45,'[1]점검현황(금월)'!$D$7:$AG$243,2,0)","v":"멀티미디어"},{"$f":"VLOOKUP(B45&D45,'[1]점검현황(금월)'!$D$7:$AG$243,3,0)","v":"VX600"},{"$f":"VLOOKUP(B45&D45,'[1]점검현황(금월)'!$D$2:$AG$243,19,0)","v":"e-ST"},{"$f":"VLOOKUP(B45&D45,'[1]점검현황(금월)'!$D$2:$AG$243,25,0)","v":"2018-10-17"},{"$f":"VLOOKUP(B45&D45,'[1]점검현황(금월)'!$D$7:$AG$243,27,0)","v":"2019-01-14"},{"$f":"VLOOKUP(B45&D45,'[1]점검현황(금월)'!$D$7:$AG$243,23,0)","v":208},{"$f":"VLOOKUP(B45&D45,'[1]점검현황(금월)'!$D$7:$AK$243,24,0)","v":"10:30:00"},{"$f":"VLOOKUP(B45&D45,'[1]점검현황(금월)'!$D$7:$AK$243,34,0)","v":687},306,"11:30:00",{"$f":"VLOOKUP(B45&D45,'[1]점검현황(금월)'!$D$7:$AG$243,26,0)","v":"."}]
[null,"율곡관",15,260,{"$f":"VLOOKUP(B46&D46,'[1]점검현황(금월)'!$D$7:$AG$243,2,0)","v":"멀티미디어 (자동녹화)"},{"$f":"VLOOKUP(B46&D46,'[1]점검현황(금월)'!$D$7:$AG$243,3,0)","v":"XU106K"},{"$f":"VLOOKUP(B46&D46,'[1]점검현황(금월)'!$D$2:$AG$243,19,0)","v":"구e-ST"},{"$f":"VLOOKUP(B46&D46,'[1]점검현황(금월)'!$D$2:$AG$243,25,0)","v":"2018-07-04"},{"$f":"VLOOKUP(B46&D46,'[1]점검현황(금월)'!$D$7:$AG$243,27,0)","v":"2019-01-23"},{"$f":"VLOOKUP(B46&D46,'[1]점검현황(금월)'!$D$7:$AG$243,23,0)","v":208},{"$f":"VLOOKUP(B46&D46,'[1]점검현황(금월)'!$D$7:$AK$243,24,0)","v":"10:15:00"},{"$f":"VLOOKUP(B46&D46,'[1]점검현황(금월)'!$D$7:$AK$243,34,0)","v":416},306,"11:40:00",{"$f":"VLOOKUP(B46&D46,'[1]점검현황(금월)'!$D$7:$AG$243,26,0)","v":"."}]
[null,"율곡관",16,261,{"$f":"VLOOKUP(B47&D47,'[1]점검현황(금월)'!$D$7:$AG$243,2,0)","v":"멀티미디어 (자동녹화)"},{"$f":"VLOOKUP(B47&D47,'[1]점검현황(금월)'!$D$7:$AG$243,3,0)","v":"VX421"},{"$f":"VLOOKUP(B47&D47,'[1]점검현황(금월)'!$D$2:$AG$243,19,0)","v":"구e-ST"},{"$f":"VLOOKUP(B47&D47,'[1]점검현황(금월)'!$D$2:$AG$243,25,0)","v":"2017-12-21"},{"$f":"VLOOKUP(B47&D47,'[1]점검현황(금월)'!$D$7:$AG$243,27,0)","v":"2018-12-21"},{"$f":"VLOOKUP(B47&D47,'[1]점검현황(금월)'!$D$7:$AG$243,23,0)","v":208},{"$f":"VLOOKUP(B47&D47,'[1]점검현황(금월)'!$D$7:$AK$243,24,0)","v":"13:50:00"},{"$f":"VLOOKUP(B47&D47,'[1]점검현황(금월)'!$D$7:$AK$243,34,0)","v":832},306,"11:50:00",{"$f":"VLOOKUP(B47&D47,'[1]점검현황(금월)'!$D$7:$AG$243,26,0)","v":"."}]
[null,"율곡관",17,262,{"$f":"VLOOKUP(B48&D48,'[1]점검현황(금월)'!$D$7:$AG$243,2,0)","v":"멀티미디어"},{"$f":"VLOOKUP(B48&D48,'[1]점검현황(금월)'!$D$7:$AG$243,3,0)","v":"VX421"},{"$f":"VLOOKUP(B48&D48,'[1]점검현황(금월)'!$D$2:$AG$243,19,0)","v":"구"},{"$f":"VLOOKUP(B48&D48,'[1]점검현황(금월)'!$D$2:$AG$243,25,0)","v":"2015-04-28"},{"$f":"VLOOKUP(B48&D48,'[1]점검현황(금월)'!$D$7:$AG$243,27,0)","v":"2019-01-22"},{"$f":"VLOOKUP(B48&D48,'[1]점검현황(금월)'!$D$7:$AG$243,23,0)","v":208},{"$f":"VLOOKUP(B48&D48,'[1]점검현황(금월)'!$D$7:$AK$243,24,0)","v":"11:00:00"},{"$f":"VLOOKUP(B48&D48,'[1]점검현황(금월)'!$D$7:$AK$243,34,0)","v":1627},306,"12:00:00",{"$f":"VLOOKUP(B48&D48,'[1]점검현황(금월)'!$D$7:$AG$243,26,0)","v":"."}]
[null,"율곡관",18,354,{"$f":"VLOOKUP(B49&D49,'[1]점검현황(금월)'!$D$7:$AG$243,2,0)","v":"대학원"},{"$f":"VLOOKUP(B49&D49,'[1]점검현황(금월)'!$D$7:$AG$243,3,0)","v":"LB280"},{"$f":"VLOOKUP(B49&D49,'[1]점검현황(금월)'!$D$2:$AG$243,19,0)","v":"e-ST"},{"$f":"VLOOKUP(B49&D49,'[1]점검현황(금월)'!$D$2:$AG$243,25,0)","v":"2015-10-11"},{"$f":"VLOOKUP(B49&D49,'[1]점검현황(금월)'!$D$7:$AG$243,27,0)","v":"2015-07-15(클리닝 권고)"},{"$f":"VLOOKUP(B49&D49,'[1]점검현황(금월)'!$D$7:$AG$243,23,0)","v":208},{"$f":"VLOOKUP(B49&D49,'[1]점검현황(금월)'!$D$7:$AK$243,24,0)","v":"15:37:00"},{"$f":"VLOOKUP(B49&D49,'[1]점검현황(금월)'!$D$7:$AK$243,34,0)","v":1635},306,"13:00:00",{"$f":"VLOOKUP(B49&D49,'[1]점검현황(금월)'!$D$7:$AG$243,26,0)","v":"."}]
[null,"율곡관",19,356,{"$f":"VLOOKUP(B50&D50,'[1]점검현황(금월)'!$D$7:$AG$243,2,0)","v":"경제학"},{"$f":"VLOOKUP(B50&D50,'[1]점검현황(금월)'!$D$7:$AG$243,3,0)","v":"EX500E"},{"$f":"VLOOKUP(B50&D50,'[1]점검현황(금월)'!$D$2:$AG$243,19,0)","v":"e-ST"},{"$f":"VLOOKUP(B50&D50,'[1]점검현황(금월)'!$D$2:$AG$243,25,0)","v":"2017-12-12"},{"$f":"VLOOKUP(B50&D50,'[1]점검현황(금월)'!$D$7:$AG$243,27,0)","v":"날짜 확인 불가(클리닝 권고)"},{"$f":"VLOOKUP(B50&D50,'[1]점검현황(금월)'!$D$7:$AG$243,23,0)","v":208},{"$f":"VLOOKUP(B50&D50,'[1]점검현황(금월)'!$D$7:$AK$243,24,0)","v":"11:20:00"},{"$f":"VLOOKUP(B50&D50,'[1]점검현황(금월)'!$D$7:$AK$243,34,0)","v":878},306,"13:10:00",{"$f":"VLOOKUP(B50&D50,'[1]점검현황(금월)'!$D$7:$AG$243,26,0)","v":"."}]
[null,"율곡관",20,357,{"$f":"VLOOKUP(B51&D51,'[1]점검현황(금월)'!$D$7:$AG$243,2,0)","v":"대학원"},{"$f":"VLOOKUP(B51&D51,'[1]점검현황(금월)'!$D$7:$AG$243,3,0)","v":"VX421"},{"$f":"VLOOKUP(B51&D51,'[1]점검현황(금월)'!$D$2:$AG$243,19,0)","v":"e-ST"},{"$f":"VLOOKUP(B51&D51,'[1]점검현황(금월)'!$D$2:$AG$243,25,0)","v":"2016-02-16"},{"$f":"VLOOKUP(B51&D51,'[1]점검현황(금월)'!$D$7:$AG$243,27,0)","v":"2017-08-30"},{"$f":"VLOOKUP(B51&D51,'[1]점검현황(금월)'!$D$7:$AG$243,23,0)","v":209},{"$f":"VLOOKUP(B51&D51,'[1]점검현황(금월)'!$D$7:$AK$243,24,0)","v":"11:30:00"},{"$f":"VLOOKUP(B51&D51,'[1]점검현황(금월)'!$D$7:$AK$243,34,0)","v":2587},306,"13:20:00",{"$f":"VLOOKUP(B51&D51,'[1]점검현황(금월)'!$D$7:$AG$243,26,0)","v":"."}]
[null,"율곡관",21,"358-1",{"$f":"VLOOKUP(B52&D52,'[1]점검현황(금월)'!$D$7:$AG$243,2,0)","v":"멀티미디어 (자동녹화)"},{"$f":"VLOOKUP(B52&D52,'[1]점검현황(금월)'!$D$7:$AG$243,3,0)","v":"VX600"},{"$f":"VLOOKUP(B52&D52,'[1]점검현황(금월)'!$D$2:$AG$243,19,0)","v":"e-ST"},{"$f":"VLOOKUP(B52&D52,'[1]점검현황(금월)'!$D$2:$AG$243,25,0)","v":"2018-05-11"},{"$f":"VLOOKUP(B52&D52,'[1]점검현황(금월)'!$D$7:$AG$243,27,0)","v":"2018-11-06"},{"$f":"VLOOKUP(B52&D52,'[1]점검현황(금월)'!$D$7:$AG$243,23,0)","v":209},{"$f":"VLOOKUP(B52&D52,'[1]점검현황(금월)'!$D$7:$AK$243,24,0)","v":"13:20:00"},{"$f":"VLOOKUP(B52&D52,'[1]점검현황(금월)'!$D$7:$AK$243,34,0)","v":1564},306,"13:30:00",{"$f":"VLOOKUP(B52&D52,'[1]점검현황(금월)'!$D$7:$AG$243,26,0)","v":"."}]
[null,"율곡관",22,359,{"$f":"VLOOKUP(B53&D53,'[1]점검현황(금월)'!$D$7:$AG$243,2,0)","v":"멀티미디어"},{"$f":"VLOOKUP(B53&D53,'[1]점검현황(금월)'!$D$7:$AG$243,3,0)","v":"VX600"},{"$f":"VLOOKUP(B53&D53,'[1]점검현황(금월)'!$D$2:$AG$243,19,0)","v":"e-ST"},{"$f":"VLOOKUP(B53&D53,'[1]점검현황(금월)'!$D$2:$AG$243,25,0)","v":"2019-01-07"},{"$f":"VLOOKUP(B53&D53,'[1]점검현황(금월)'!$D$7:$AG$243,27,0)","v":"2019-01-07"},{"$f":"VLOOKUP(B53&D53,'[1]점검현황(금월)'!$D$7:$AG$243,23,0)","v":219},{"$f":"VLOOKUP(B53&D53,'[1]점검현황(금월)'!$D$7:$AK$243,24,0)","v":"14:47:00"},{"$f":"VLOOKUP(B53&D53,'[1]점검현황(금월)'!$D$7:$AK$243,34,0)","v":0},306,"13:40:00",{"$f":"VLOOKUP(B53&D53,'[1]점검현황(금월)'!$D$7:$AG$243,26,0)","v":".19,"}]
[null,"율곡관",23,425,{"$f":"VLOOKUP(B54&D54,'[1]점검현황(금월)'!$D$7:$AG$243,2,0)","v":"대학원"},{"$f":"VLOOKUP(B54&D54,'[1]점검현황(금월)'!$D$7:$AG$243,3,0)","v":"VX421"},{"$f":"VLOOKUP(B54&D54,'[1]점검현황(금월)'!$D$2:$AG$243,19,0)","v":"e-ST"},{"$f":"VLOOKUP(B54&D54,'[1]점검현황(금월)'!$D$2:$AG$243,25,0)","v":"2017-02-22"},{"$f":"VLOOKUP(B54&D54,'[1]점검현황(금월)'!$D$7:$AG$243,27,0)","v":"2017-02-22"},{"$f":"VLOOKUP(B54&D54,'[1]점검현황(금월)'!$D$7:$AG$243,23,0)","v":209},{"$f":"VLOOKUP(B54&D54,'[1]점검현황(금월)'!$D$7:$AK$243,24,0)","v":"12:00:00"},{"$f":"VLOOKUP(B54&D54,'[1]점검현황(금월)'!$D$7:$AK$243,34,0)","v":1101},307,"08:30:00",{"$f":"VLOOKUP(B54&D54,'[1]점검현황(금월)'!$D$7:$AG$243,26,0)","v":"."}]
[null,"율곡관",24,528,{"$f":"VLOOKUP(B55&D55,'[1]점검현황(금월)'!$D$7:$AG$243,2,0)","v":"대학원"},{"$f":"VLOOKUP(B55&D55,'[1]점검현황(금월)'!$D$7:$AG$243,3,0)","v":"VX421"},{"$f":"VLOOKUP(B55&D55,'[1]점검현황(금월)'!$D$2:$AG$243,19,0)","v":"e-ST"},{"$f":"VLOOKUP(B55&D55,'[1]점검현황(금월)'!$D$2:$AG$243,25,0)","v":"2017-02-22"},{"$f":"VLOOKUP(B55&D55,'[1]점검현황(금월)'!$D$7:$AG$243,27,0)","v":"2017-02-22"},{"$f":"VLOOKUP(B55&D55,'[1]점검현황(금월)'!$D$7:$AG$243,23,0)","v":209},{"$f":"VLOOKUP(B55&D55,'[1]점검현황(금월)'!$D$7:$AK$243,24,0)","v":"12:00:00"},{"$f":"VLOOKUP(B55&D55,'[1]점검현황(금월)'!$D$7:$AK$243,34,0)","v":854},307,"08:30:00",{"$f":"VLOOKUP(B55&D55,'[1]점검현황(금월)'!$D$7:$AG$243,26,0)","v":"."}]
["성호관","성호관",1,"소극장",{"$f":"VLOOKUP(B56&D56,'[1]점검현황(금월)'!$D$7:$AG$243,2,0)","v":"소극장 135호"},{"$f":"VLOOKUP(B56&D56,'[1]점검현황(금월)'!$D$7:$AG$243,3,0)","v":"EX16KE"},{"$f":"VLOOKUP(B56&D56,'[1]점검현황(금월)'!$D$2:$AG$243,19,0)","v":"e-ST"},{"$f":"VLOOKUP(B56&D56,'[1]점검현황(금월)'!$D$2:$AG$243,25,0)","v":"2018-03-08"},{"$f":"VLOOKUP(B56&D56,'[1]점검현황(금월)'!$D$7:$AG$243,27,0)","v":"날짜 확인 불가(클리닝 권고)"},{"$f":"VLOOKUP(B56&D56,'[1]점검현황(금월)'!$D$7:$AG$243,23,0)","v":221},{"$f":"VLOOKUP(B56&D56,'[1]점검현황(금월)'!$D$7:$AK$243,24,0)","v":"10:00:00"},{"$f":"VLOOKUP(B56&D56,'[1]점검현황(금월)'!$D$7:$AK$243,34,0)","v":"683/683"},307,"08:50:00",{"$f":"VLOOKUP(B56&D56,'[1]점검현황(금월)'!$D$7:$AG$243,26,0)","v":"21,"}]
[null,"성호관",2,103,{"$f":"VLOOKUP(B57&D57,'[1]점검현황(금월)'!$D$7:$AG$243,2,0)","v":"인문대 (PC실)"},{"$f":"VLOOKUP(B57&D57,'[1]점검현황(금월)'!$D$7:$AG$243,3,0)","v":"VX421"},{"$f":"VLOOKUP(B57&D57,'[1]점검현황(금월)'!$D$2:$AG$243,19,0)","v":"e-ST"},{"$f":"VLOOKUP(B57&D57,'[1]점검현황(금월)'!$D$2:$AG$243,25,0)","v":"2016-12-23"},{"$f":"VLOOKUP(B57&D57,'[1]점검현황(금월)'!$D$7:$AG$243,27,0)","v":"2016-12-23(클리닝 권고)"},{"$f":"VLOOKUP(B57&D57,'[1]점검현황(금월)'!$D$7:$AG$243,23,0)","v":209},{"$f":"VLOOKUP(B57&D57,'[1]점검현황(금월)'!$D$7:$AK$243,24,0)","v":"13:20:00"},{"$f":"VLOOKUP(B57&D57,'[1]점검현황(금월)'!$D$7:$AK$243,34,0)","v":1821},307,"19:00:00",{"$f":"VLOOKUP(B57&D57,'[1]점검현황(금월)'!$D$7:$AG$243,26,0)","v":"."}]
[null,"성호관",3,104,{"$f":"VLOOKUP(B58&D58,'[1]점검현황(금월)'!$D$7:$AG$243,2,0)","v":"멀티미디어"},{"$f":"VLOOKUP(B58&D58,'[1]점검현황(금월)'!$D$7:$AG$243,3,0)","v":"XU106K"},{"$f":"VLOOKUP(B58&D58,'[1]점검현황(금월)'!$D$2:$AG$243,19,0)","v":"e-ST"},{"$f":"VLOOKUP(B58&D58,'[1]점검현황(금월)'!$D$2:$AG$243,25,0)","v":"2018-03-21"},{"$f":"VLOOKUP(B58&D58,'[1]점검현황(금월)'!$D$7:$AG$243,27,0)","v":"2018-09-04"},{"$f":"VLOOKUP(B58&D58,'[1]점검현황(금월)'!$D$7:$AG$243,23,0)","v":209},{"$f":"VLOOKUP(B58&D58,'[1]점검현황(금월)'!$D$7:$AK$243,24,0)","v":"12:10:00"},{"$f":"VLOOKUP(B58&D58,'[1]점검현황(금월)'!$D$7:$AK$243,34,0)","v":981},307,"19:10:00",{"$f":"VLOOKUP(B58&D58,'[1]점검현황(금월)'!$D$7:$AG$243,26,0)","v":"."}]
[null,"성호관",4,105,{"$f":"VLOOKUP(B59&D59,'[1]점검현황(금월)'!$D$7:$AG$243,2,0)","v":"멀티미디어"},{"$f":"VLOOKUP(B59&D59,'[1]점검현황(금월)'!$D$7:$AG$243,3,0)","v":"VX410"},{"$f":"VLOOKUP(B59&D59,'[1]점검현황(금월)'!$D$2:$AG$243,19,0)","v":"e-ST"},{"$f":"VLOOKUP(B59&D59,'[1]점검현황(금월)'!$D$2:$AG$243,25,0)","v":"2018-08-04"},{"$f":"VLOOKUP(B59&D59,'[1]점검현황(금월)'!$D$7:$AG$243,27,0)","v":"2018-09-21"},{"$f":"VLOOKUP(B59&D59,'[1]점검현황(금월)'!$D$7:$AG$243,23,0)","v":209},{"$f":"VLOOKUP(B59&D59,'[1]점검현황(금월)'!$D$7:$AK$243,24,0)","v":"11:40:00"},{"$f":"VLOOKUP(B59&D59,'[1]점검현황(금월)'!$D$7:$AK$243,34,0)","v":541},307,"19:20:00",{"$f":"VLOOKUP(B59&D59,'[1]점검현황(금월)'!$D$7:$AG$243,26,0)","v":"."}]
[null,"성호관",5,131,{"$f":"VLOOKUP(B60&D60,'[1]점검현황(금월)'!$D$7:$AG$243,2,0)","v":"멀티미디어 (자동녹화)"},{"$f":"VLOOKUP(B60&D60,'[1]점검현황(금월)'!$D$7:$AG$243,3,0)","v":"VX600"},{"$f":"VLOOKUP(B60&D60,'[1]점검현황(금월)'!$D$2:$AG$243,19,0)","v":"e-ST"},{"$f":"VLOOKUP(B60&D60,'[1]점검현황(금월)'!$D$2:$AG$243,25,0)","v":"2017-04-18"},{"$f":"VLOOKUP(B60&D60,'[1]점검현황(금월)'!$D$7:$AG$243,27,0)","v":"2018-09-07"},{"$f":"VLOOKUP(B60&D60,'[1]점검현황(금월)'!$D$7:$AG$243,23,0)","v":215},{"$f":"VLOOKUP(B60&D60,'[1]점검현황(금월)'!$D$7:$AK$243,24,0)","v":"10:35:00"},{"$f":"VLOOKUP(B60&D60,'[1]점검현황(금월)'!$D$7:$AK$243,34,0)","v":1400},307,"08:30:00",{"$f":"VLOOKUP(B60&D60,'[1]점검현황(금월)'!$D$7:$AG$243,26,0)","v":".15,"}]
[null,"성호관",6,132,{"$f":"VLOOKUP(B61&D61,'[1]점검현황(금월)'!$D$7:$AG$243,2,0)","v":"멀티미디어"},{"$f":"VLOOKUP(B61&D61,'[1]점검현황(금월)'!$D$7:$AG$243,3,0)","v":"XU106K"},{"$f":"VLOOKUP(B61&D61,'[1]점검현황(금월)'!$D$2:$AG$243,19,0)","v":"e-ST"},{"$f":"VLOOKUP(B61&D61,'[1]점검현황(금월)'!$D$2:$AG$243,25,0)","v":"2018-07-13"},{"$f":"VLOOKUP(B61&D61,'[1]점검현황(금월)'!$D$7:$AG$243,27,0)","v":"2019-01-03"},{"$f":"VLOOKUP(B61&D61,'[1]점검현황(금월)'!$D$7:$AG$243,23,0)","v":209},{"$f":"VLOOKUP(B61&D61,'[1]점검현황(금월)'!$D$7:$AK$243,24,0)","v":"19:30:00"},{"$f":"VLOOKUP(B61&D61,'[1]점검현황(금월)'!$D$7:$AK$243,34,0)","v":688},307,"08:40:00",{"$f":"VLOOKUP(B61&D61,'[1]점검현황(금월)'!$D$7:$AG$243,26,0)","v":"."}]
[null,"성호관",7,133,{"$f":"VLOOKUP(B62&D62,'[1]점검현황(금월)'!$D$7:$AG$243,2,0)","v":"멀티미디어"},{"$f":"VLOOKUP(B62&D62,'[1]점검현황(금월)'!$D$7:$AG$243,3,0)","v":"VX410"},{"$f":"VLOOKUP(B62&D62,'[1]점검현황(금월)'!$D$2:$AG$243,19,0)","v":"e-ST"},{"$f":"VLOOKUP(B62&D62,'[1]점검현황(금월)'!$D$2:$AG$243,25,0)","v":"2017-04-18"},{"$f":"VLOOKUP(B62&D62,'[1]점검현황(금월)'!$D$7:$AG$243,27,0)","v":"2018-12-19"},{"$f":"VLOOKUP(B62&D62,'[1]점검현황(금월)'!$D$7:$AG$243,23,0)","v":209},{"$f":"VLOOKUP(B62&D62,'[1]점검현황(금월)'!$D$7:$AK$243,24,0)","v":"08:30:00"},{"$f":"VLOOKUP(B62&D62,'[1]점검현황(금월)'!$D$7:$AK$243,34,0)","v":1768},307,"08:50:00",{"$f":"VLOOKUP(B62&D62,'[1]점검현황(금월)'!$D$7:$AG$243,26,0)","v":"."}]
[null,"성호관",8,201,{"$f":"VLOOKUP(B63&D63,'[1]점검현황(금월)'!$D$7:$AG$243,2,0)","v":"멀티미디어"},{"$f":"VLOOKUP(B63&D63,'[1]점검현황(금월)'!$D$7:$AG$243,3,0)","v":"XU106K"},{"$f":"VLOOKUP(B63&D63,'[1]점검현황(금월)'!$D$2:$AG$243,19,0)","v":"e-ST"},{"$f":"VLOOKUP(B63&D63,'[1]점검현황(금월)'!$D$2:$AG$243,25,0)","v":"2018-02-01"},{"$f":"VLOOKUP(B63&D63,'[1]점검현황(금월)'!$D$7:$AG$243,27,0)","v":"2018-12-05"},{"$f":"VLOOKUP(B63&D63,'[1]점검현황(금월)'!$D$7:$AG$243,23,0)","v":209},{"$f":"VLOOKUP(B63&D63,'[1]점검현황(금월)'!$D$7:$AK$243,24,0)","v":"08:40:00"},{"$f":"VLOOKUP(B63&D63,'[1]점검현황(금월)'!$D$7:$AK$243,34,0)","v":1221},307,"19:00:00",{"$f":"VLOOKUP(B63&D63,'[1]점검현황(금월)'!$D$7:$AG$243,26,0)","v":"."}]
[null,"성호관",9,"201-1",{"$f":"VLOOKUP(B64&D64,'[1]점검현황(금월)'!$D$7:$AG$243,2,0)","v":"멀티미디어"},{"$f":"VLOOKUP(B64&D64,'[1]점검현황(금월)'!$D$7:$AG$243,3,0)","v":"VX421"},{"$f":"VLOOKUP(B64&D64,'[1]점검현황(금월)'!$D$2:$AG$243,19,0)","v":"e-ST"},{"$f":"VLOOKUP(B64&D64,'[1]점검현황(금월)'!$D$2:$AG$243,25,0)","v":"2017-02-22"},{"$f":"VLOOKUP(B64&D64,'[1]점검현황(금월)'!$D$7:$AG$243,27,0)","v":"2019-02-20"},{"$f":"VLOOKUP(B64&D64,'[1]점검현황(금월)'!$D$7:$AG$243,23,0)","v":220},{"$f":"VLOOKUP(B64&D64,'[1]점검현황(금월)'!$D$7:$AK$243,24,0)","v":"18:50:00"},{"$f":"VLOOKUP(B64&D64,'[1]점검현황(금월)'!$D$7:$AK$243,34,0)","v":2209},308,"19:10:00",{"$f":"VLOOKUP(B64&D64,'[1]점검현황(금월)'!$D$7:$AG$243,26,0)","v":"20,"}]
[null,"성호관",10,202,{"$f":"VLOOKUP(B65&D65,'[1]점검현황(금월)'!$D$7:$AG$243,2,0)","v":"멀티미디어"},{"$f":"VLOOKUP(B65&D65,'[1]점검현황(금월)'!$D$7:$AG$243,3,0)","v":"VX410"},{"$f":"VLOOKUP(B65&D65,'[1]점검현황(금월)'!$D$2:$AG$243,19,0)","v":"e-ST"},{"$f":"VLOOKUP(B65&D65,'[1]점검현황(금월)'!$D$2:$AG$243,25,0)","v":"2018-06-27"},{"$f":"VLOOKUP(B65&D65,'[1]점검현황(금월)'!$D$7:$AG$243,27,0)","v":"2018-12-27"},{"$f":"VLOOKUP(B65&D65,'[1]점검현황(금월)'!$D$7:$AG$243,23,0)","v":209},{"$f":"VLOOKUP(B65&D65,'[1]점검현황(금월)'!$D$7:$AK$243,24,0)","v":"19:00:00"},{"$f":"VLOOKUP(B65&D65,'[1]점검현황(금월)'!$D$7:$AK$243,34,0)","v":376},308,"19:20:00",{"$f":"VLOOKUP(B65&D65,'[1]점검현황(금월)'!$D$7:$AG$243,26,0)","v":"."}]
[null,"성호관",11,203,{"$f":"VLOOKUP(B66&D66,'[1]점검현황(금월)'!$D$7:$AG$243,2,0)","v":"멀티미디어 (자동녹화)"},{"$f":"VLOOKUP(B66&D66,'[1]점검현황(금월)'!$D$7:$AG$243,3,0)","v":"VX421"},{"$f":"VLOOKUP(B66&D66,'[1]점검현황(금월)'!$D$2:$AG$243,19,0)","v":"e-ST"},{"$f":"VLOOKUP(B66&D66,'[1]점검현황(금월)'!$D$2:$AG$243,25,0)","v":"2018-06-22"},{"$f":"VLOOKUP(B66&D66,'[1]점검현황(금월)'!$D$7:$AG$243,27,0)","v":"2018-12-28"},{"$f":"VLOOKUP(B66&D66,'[1]점검현황(금월)'!$D$7:$AG$243,23,0)","v":209},{"$f":"VLOOKUP(B66&D66,'[1]점검현황(금월)'!$D$7:$AK$243,24,0)","v":"17:22:00"},{"$f":"VLOOKUP(B66&D66,'[1]점검현황(금월)'!$D$7:$AK$243,34,0)","v":551},308,"08:30:00",{"$f":"VLOOKUP(B66&D66,'[1]점검현황(금월)'!$D$7:$AG$243,26,0)","v":"."}]
[null,"성호관",12,204,{"$f":"VLOOKUP(B67&D67,'[1]점검현황(금월)'!$D$7:$AG$243,2,0)","v":"멀티미디어 (자동녹화)"},{"$f":"VLOOKUP(B67&D67,'[1]점검현황(금월)'!$D$7:$AG$243,3,0)","v":"XU106K"},{"$f":"VLOOKUP(B67&D67,'[1]점검현황(금월)'!$D$2:$AG$243,19,0)","v":"e-ST"},{"$f":"VLOOKUP(B67&D67,'[1]점검현황(금월)'!$D$2:$AG$243,25,0)","v":"2018-11-21"},{"$f":"VLOOKUP(B67&D67,'[1]점검현황(금월)'!$D$7:$AG$243,27,0)","v":"2018-09-17"},{"$f":"VLOOKUP(B67&D67,'[1]점검현황(금월)'!$D$7:$AG$243,23,0)","v":209},{"$f":"VLOOKUP(B67&D67,'[1]점검현황(금월)'!$D$7:$AK$243,24,0)","v":"19:20:00"},{"$f":"VLOOKUP(B67&D67,'[1]점검현황(금월)'!$D$7:$AK$243,34,0)","v":137},308,"08:40:00",{"$f":"VLOOKUP(B67&D67,'[1]점검현황(금월)'!$D$7:$AG$243,26,0)","v":"."}]
[null,"성호관",13,205,{"$f":"VLOOKUP(B68&D68,'[1]점검현황(금월)'!$D$7:$AG$243,2,0)","v":"멀티미디어 (자동녹화)"},{"$f":"VLOOKUP(B68&D68,'[1]점검현황(금월)'!$D$7:$AG$243,3,0)","v":"XU106K"},{"$f":"VLOOKUP(B68&D68,'[1]점검현황(금월)'!$D$2:$AG$243,19,0)","v":"e-ST"},{"$f":"VLOOKUP(B68&D68,'[1]점검현황(금월)'!$D$2:$AG$243,25,0)","v":"2018-03-06"},{"$f":"VLOOKUP(B68&D68,'[1]점검현황(금월)'!$D$7:$AG$243,27,0)","v":"2018-09-19"},{"$f":"VLOOKUP(B68&D68,'[1]점검현황(금월)'!$D$7:$AG$243,23,0)","v":209},{"$f":"VLOOKUP(B68&D68,'[1]점검현황(금월)'!$D$7:$AK$243,24,0)","v":"08:30:00"},{"$f":"VLOOKUP(B68&D68,'[1]점검현황(금월)'!$D$7:$AK$243,34,0)","v":1030},308,"08:50:00",{"$f":"VLOOKUP(B68&D68,'[1]점검현황(금월)'!$D$7:$AG$243,26,0)","v":"."}]
[null,"성호관",14,232,{"$f":"VLOOKUP(B69&D69,'[1]점검현황(금월)'!$D$7:$AG$243,2,0)","v":"멀티미디어"},{"$f":"VLOOKUP(B69&D69,'[1]점검현황(금월)'!$D$7:$AG$243,3,0)","v":"VX410"},{"$f":"VLOOKUP(B69&D69,'[1]점검현황(금월)'!$D$2:$AG$243,19,0)","v":"e-ST"},{"$f":"VLOOKUP(B69&D69,'[1]점검현황(금월)'!$D$2:$AG$243,25,0)","v":"2018-11-26"},{"$f":"VLOOKUP(B69&D69,'[1]점검현황(금월)'!$D$7:$AG$243,27,0)","v":"2018-11-26"},{"$f":"VLOOKUP(B69&D69,'[1]점검현황(금월)'!$D$7:$AG$243,23,0)","v":209},{"$f":"VLOOKUP(B69&D69,'[1]점검현황(금월)'!$D$7:$AK$243,24,0)","v":"14:50:00"},{"$f":"VLOOKUP(B69&D69,'[1]점검현황(금월)'!$D$7:$AK$243,34,0)","v":225},308,"19:00:00",{"$f":"VLOOKUP(B69&D69,'[1]점검현황(금월)'!$D$7:$AG$243,26,0)","v":"."}]
[null,"성호관",15,233,{"$f":"VLOOKUP(B70&D70,'[1]점검현황(금월)'!$D$7:$AG$243,2,0)","v":"멀티미디어"},{"$f":"VLOOKUP(B70&D70,'[1]점검현황(금월)'!$D$7:$AG$243,3,0)","v":"XU106K"},{"$f":"VLOOKUP(B70&D70,'[1]점검현황(금월)'!$D$2:$AG$243,19,0)","v":"구"},{"$f":"VLOOKUP(B70&D70,'[1]점검현황(금월)'!$D$2:$AG$243,25,0)","v":"2017-09-22"},{"$f":"VLOOKUP(B70&D70,'[1]점검현황(금월)'!$D$7:$AG$243,27,0)","v":"2018-12-14"},{"$f":"VLOOKUP(B70&D70,'[1]점검현황(금월)'!$D$7:$AG$243,23,0)","v":209},{"$f":"VLOOKUP(B70&D70,'[1]점검현황(금월)'!$D$7:$AK$243,24,0)","v":"08:50:00"},{"$f":"VLOOKUP(B70&D70,'[1]점검현황(금월)'!$D$7:$AK$243,34,0)","v":1810},308,"19:10:00",{"$f":"VLOOKUP(B70&D70,'[1]점검현황(금월)'!$D$7:$AG$243,26,0)","v":"7,"}]
[null,"성호관",16,234,{"$f":"VLOOKUP(B71&D71,'[1]점검현황(금월)'!$D$7:$AG$243,2,0)","v":"멀티미디어"},{"$f":"VLOOKUP(B71&D71,'[1]점검현황(금월)'!$D$7:$AG$243,3,0)","v":"XU106K"},{"$f":"VLOOKUP(B71&D71,'[1]점검현황(금월)'!$D$2:$AG$243,19,0)","v":"구"},{"$f":"VLOOKUP(B71&D71,'[1]점검현황(금월)'!$D$2:$AG$243,25,0)","v":"2018-08-20"},{"$f":"VLOOKUP(B71&D71,'[1]점검현황(금월)'!$D$7:$AG$243,27,0)","v":"2018-09-11"},{"$f":"VLOOKUP(B71&D71,'[1]점검현황(금월)'!$D$7:$AG$243,23,0)","v":211},{"$f":"VLOOKUP(B71&D71,'[1]점검현황(금월)'!$D$7:$AK$243,24,0)","v":"19:00:00"},{"$f":"VLOOKUP(B71&D71,'[1]점검현황(금월)'!$D$7:$AK$243,34,0)","v":449},308,"19:20:00",{"$f":"VLOOKUP(B71&D71,'[1]점검현황(금월)'!$D$7:$AG$243,26,0)","v":"."}]
[null,"성호관",17,235,{"$f":"VLOOKUP(B72&D72,'[1]점검현황(금월)'!$D$7:$AG$243,2,0)","v":"멀티미디어"},{"$f":"VLOOKUP(B72&D72,'[1]점검현황(금월)'!$D$7:$AG$243,3,0)","v":"XU106K"},{"$f":"VLOOKUP(B72&D72,'[1]점검현황(금월)'!$D$2:$AG$243,19,0)","v":"구"},{"$f":"VLOOKUP(B72&D72,'[1]점검현황(금월)'!$D$2:$AG$243,25,0)","v":"2018-08-20"},{"$f":"VLOOKUP(B72&D72,'[1]점검현황(금월)'!$D$7:$AG$243,27,0)","v":"2018-09-13"},{"$f":"VLOOKUP(B72&D72,'[1]점검현황(금월)'!$D$7:$AG$243,23,0)","v":211},{"$f":"VLOOKUP(B72&D72,'[1]점검현황(금월)'!$D$7:$AK$243,24,0)","v":"13:05:00"},{"$f":"VLOOKUP(B72&D72,'[1]점검현황(금월)'!$D$7:$AK$243,34,0)","v":325},308,"08:30:00",{"$f":"VLOOKUP(B72&D72,'[1]점검현황(금월)'!$D$7:$AG$243,26,0)","v":"."}]
[null,"성호관",18,236,{"$f":"VLOOKUP(B73&D73,'[1]점검현황(금월)'!$D$7:$AG$243,2,0)","v":"멀티미디어"},{"$f":"VLOOKUP(B73&D73,'[1]점검현황(금월)'!$D$7:$AG$243,3,0)","v":"XU106K"},{"$f":"VLOOKUP(B73&D73,'[1]점검현황(금월)'!$D$2:$AG$243,19,0)","v":"구"},{"$f":"VLOOKUP(B73&D73,'[1]점검현황(금월)'!$D$2:$AG$243,25,0)","v":"2018-04-23"},{"$f":"VLOOKUP(B73&D73,'[1]점검현황(금월)'!$D$7:$AG$243,27,0)","v":"2018-10-17"},{"$f":"VLOOKUP(B73&D73,'[1]점검현황(금월)'!$D$7:$AG$243,23,0)","v":211},{"$f":"VLOOKUP(B73&D73,'[1]점검현황(금월)'!$D$7:$AK$243,24,0)","v":"19:20:00"},{"$f":"VLOOKUP(B73&D73,'[1]점검현황(금월)'!$D$7:$AK$243,34,0)","v":836},308,"08:40:00",{"$f":"VLOOKUP(B73&D73,'[1]점검현황(금월)'!$D$7:$AG$243,26,0)","v":"."}]
[null,"성호관",19,237,{"$f":"VLOOKUP(B74&D74,'[1]점검현황(금월)'!$D$7:$AG$243,2,0)","v":"멀티미디어"},{"$f":"VLOOKUP(B74&D74,'[1]점검현황(금월)'!$D$7:$AG$243,3,0)","v":"VX410"},{"$f":"VLOOKUP(B74&D74,'[1]점검현황(금월)'!$D$2:$AG$243,19,0)","v":"e-ST"},{"$f":"VLOOKUP(B74&D74,'[1]점검현황(금월)'!$D$2:$AG$243,25,0)","v":"2018-09-12"},{"$f":"VLOOKUP(B74&D74,'[1]점검현황(금월)'!$D$7:$AG$243,27,0)","v":"2019-01-29"},{"$f":"VLOOKUP(B74&D74,'[1]점검현황(금월)'!$D$7:$AG$243,23,0)","v":211},{"$f":"VLOOKUP(B74&D74,'[1]점검현황(금월)'!$D$7:$AK$243,24,0)","v":"08:30:00"},{"$f":"VLOOKUP(B74&D74,'[1]점검현황(금월)'!$D$7:$AK$243,34,0)","v":139},309,"08:50:00",{"$f":"VLOOKUP(B74&D74,'[1]점검현황(금월)'!$D$7:$AG$243,26,0)","v":"."}]
[null,"성호관",20,303,{"$f":"VLOOKUP(B75&D75,'[1]점검현황(금월)'!$D$7:$AG$243,2,0)","v":"교수학습 (자동녹화)"},{"$f":"VLOOKUP(B75&D75,'[1]점검현황(금월)'!$D$7:$AG$243,3,0)","v":"XU106K"},{"$f":"VLOOKUP(B75&D75,'[1]점검현황(금월)'!$D$2:$AG$243,19,0)","v":"e-ST"},{"$f":"VLOOKUP(B75&D75,'[1]점검현황(금월)'!$D$2:$AG$243,25,0)","v":"2018-08-27"},{"$f":"VLOOKUP(B75&D75,'[1]점검현황(금월)'!$D$7:$AG$243,27,0)","v":"2017-12-05"},{"$f":"VLOOKUP(B75&D75,'[1]점검현황(금월)'!$D$7:$AG$243,23,0)","v":211},{"$f":"VLOOKUP(B75&D75,'[1]점검현황(금월)'!$D$7:$AK$243,24,0)","v":"15:56:00"},{"$f":"VLOOKUP(B75&D75,'[1]점검현황(금월)'!$D$7:$AK$243,34,0)","v":168},309,"09:50:00",{"$f":"VLOOKUP(B75&D75,'[1]점검현황(금월)'!$D$7:$AG$243,26,0)","v":"."}]
[null,"성호관",21,304,{"$f":"VLOOKUP(B76&D76,'[1]점검현황(금월)'!$D$7:$AG$243,2,0)","v":"멀티미디어"},{"$f":"VLOOKUP(B76&D76,'[1]점검현황(금월)'!$D$7:$AG$243,3,0)","v":"VX600"},{"$f":"VLOOKUP(B76&D76,'[1]점검현황(금월)'!$D$2:$AG$243,19,0)","v":"e-ST"},{"$f":"VLOOKUP(B76&D76,'[1]점검현황(금월)'!$D$2:$AG$243,25,0)","v":"2018-08-04"},{"$f":"VLOOKUP(B76&D76,'[1]점검현황(금월)'!$D$7:$AG$243,27,0)","v":"2019-01-28"},{"$f":"VLOOKUP(B76&D76,'[1]점검현황(금월)'!$D$7:$AG$243,23,0)","v":211},{"$f":"VLOOKUP(B76&D76,'[1]점검현황(금월)'!$D$7:$AK$243,24,0)","v":"13:47:00"},{"$f":"VLOOKUP(B76&D76,'[1]점검현황(금월)'!$D$7:$AK$243,34,0)","v":113},309,"19:10:00",{"$f":"VLOOKUP(B76&D76,'[1]점검현황(금월)'!$D$7:$AG$243,26,0)","v":"."}]
[null,"성호관",22,305,{"$f":"VLOOKUP(B77&D77,'[1]점검현황(금월)'!$D$7:$AG$243,2,0)","v":"멀티미디어 (자동녹화)"},{"$f":"VLOOKUP(B77&D77,'[1]점검현황(금월)'!$D$7:$AG$243,3,0)","v":"VX410"},{"$f":"VLOOKUP(B77&D77,'[1]점검현황(금월)'!$D$2:$AG$243,19,0)","v":"구e-ST"},{"$f":"VLOOKUP(B77&D77,'[1]점검현황(금월)'!$D$2:$AG$243,25,0)","v":"2014-12-23"},{"$f":"VLOOKUP(B77&D77,'[1]점검현황(금월)'!$D$7:$AG$243,27,0)","v":"2019-02-26"},{"$f":"VLOOKUP(B77&D77,'[1]점검현황(금월)'!$D$7:$AG$243,23,0)","v":226},{"$f":"VLOOKUP(B77&D77,'[1]점검현황(금월)'!$D$7:$AK$243,24,0)","v":"19:00:00"},{"$f":"VLOOKUP(B77&D77,'[1]점검현황(금월)'!$D$7:$AK$243,34,0)","v":1732},309,"19:20:00",{"$f":"VLOOKUP(B77&D77,'[1]점검현황(금월)'!$D$7:$AG$243,26,0)","v":"26,"}]
[null,"성호관",23,306,{"$f":"VLOOKUP(B78&D78,'[1]점검현황(금월)'!$D$7:$AG$243,2,0)","v":"멀티미디어"},{"$f":"VLOOKUP(B78&D78,'[1]점검현황(금월)'!$D$7:$AG$243,3,0)","v":"VX600"},{"$f":"VLOOKUP(B78&D78,'[1]점검현황(금월)'!$D$2:$AG$243,19,0)","v":"e-ST"},{"$f":"VLOOKUP(B78&D78,'[1]점검현황(금월)'!$D$2:$AG$243,25,0)","v":"2018-07-13"},{"$f":"VLOOKUP(B78&D78,'[1]점검현황(금월)'!$D$7:$AG$243,27,0)","v":"2019-02-26"},{"$f":"VLOOKUP(B78&D78,'[1]점검현황(금월)'!$D$7:$AG$243,23,0)","v":226},{"$f":"VLOOKUP(B78&D78,'[1]점검현황(금월)'!$D$7:$AK$243,24,0)","v":"13:04:00"},{"$f":"VLOOKUP(B78&D78,'[1]점검현황(금월)'!$D$7:$AK$243,34,0)","v":180},309,"08:30:00",{"$f":"VLOOKUP(B78&D78,'[1]점검현황(금월)'!$D$7:$AG$243,26,0)","v":"26,"}]
[null,"성호관",24,332,{"$f":"VLOOKUP(B79&D79,'[1]점검현황(금월)'!$D$7:$AG$243,2,0)","v":"멀티미디어"},{"$f":"VLOOKUP(B79&D79,'[1]점검현황(금월)'!$D$7:$AG$243,3,0)","v":"VX431"},{"$f":"VLOOKUP(B79&D79,'[1]점검현황(금월)'!$D$2:$AG$243,19,0)","v":"e-ST"},{"$nulls":5},309,null,{"$f":"VLOOKUP(B79&D79,'[1]점검현황(금월)'!$D$7:$AG$243,26,0)","v":"."}]
[null,"성호관",25,333,{"$f":"VLOOKUP(B80&D80,'[1]점검현황(금월)'!$D$7:$AG$243,2,0)","v":"멀티미디어"},{"$f":"VLOOKUP(B80&D80,'[1]점검현황(금월)'!$D$7:$AG$243,3,0)","v":"XU106K"},{"$f":"VLOOKUP(B80&D80,'[1]점검현황(금월)'!$D$2:$AG$243,19,0)","v":"구"},{"$f":"VLOOKUP(B80&D80,'[1]점검현황(금월)'!$D$2:$AG$243,25,0)","v":"2019-01-21"},{"$f":"VLOOKUP(B80&D80,'[1]점검현황(금월)'!$D$7:$AG$243,27,0)","v":"2019-01-21"},{"$f":"VLOOKUP(B80&D80,'[1]점검현황(금월)'!$D$7:$AG$243,23,0)","v":212},{"$f":"VLOOKUP(B80&D80,'[1]점검현황(금월)'!$D$7:$AK$243,24,0)","v":"08:40:00"},{"$f":"VLOOKUP(B80&D80,'[1]점검현황(금월)'!$D$7:$AK$243,34,0)","v":0},309,"19:00:00",{"$f":"VLOOKUP(B80&D80,'[1]점검현황(금월)'!$D$7:$AG$243,26,0)","v":"."}]
[null,"성호관",26,334,{"$f":"VLOOKUP(B81&D81,'[1]점검현황(금월)'!$D$7:$AG$243,2,0)","v":"멀티미디어"},{"$f":"VLOOKUP(B81&D81,'[1]점검현황(금월)'!$D$7:$AG$243,3,0)","v":"VX410"},{"$f":"VLOOKUP(B81&D81,'[1]점검현황(금월)'!$D$2:$AG$243,19,0)","v":"e-ST"},{"$f":"VLOOKUP(B81&D81,'[1]점검현황(금월)'!$D$2:$AG$243,25,0)","v":"2018-06-19"},{"$f":"VLOOKUP(B81&D81,'[1]점검현황(금월)'!$D$7:$AG$243,27,0)","v":"2018-12-20"},{"$f":"VLOOKUP(B81&D81,'[1]점검현황(금월)'!$D$7:$AG$243,23,0)","v":212},{"$f":"VLOOKUP(B81&D81,'[1]점검현황(금월)'!$D$7:$AK$243,24,0)","v":"17:21:00"},{"$f":"VLOOKUP(B81&D81,'[1]점검현황(금월)'!$D$7:$AK$243,34,0)","v":419},309,"19:10:00",{"$f":"VLOOKUP(B81&D81,'[1]점검현황(금월)'!$D$7:$AG$243,26,0)","v":"."}]
[null,"성호관",27,337,{"$f":"VLOOKUP(B82&D82,'[1]점검현황(금월)'!$D$7:$AG$243,2,0)","v":"물리학과"},{"$f":"VLOOKUP(B82&D82,'[1]점검현황(금월)'!$D$7:$AG$243,3,0)","v":"VX510"},{"$f":"VLOOKUP(B82&D82,'[1]점검현황(금월)'!$D$2:$AG$243,19,0)","v":"구"},{"$f":"VLOOKUP(B82&D82,'[1]점검현황(금월)'!$D$2:$AG$243,25,0)","v":"2014-10-20"},{"$f":"VLOOKUP(B82&D82,'[1]점검현황(금월)'!$D$7:$AG$243,27,0)","v":"날짜 확인 불가(클리닝 권고)"},{"$f":"VLOOKUP(B82&D82,'[1]점검현황(금월)'!$D$7:$AG$243,23,0)","v":212},{"$f":"VLOOKUP(B82&D82,'[1]점검현황(금월)'!$D$7:$AK$243,24,0)","v":"19:00:00"},{"$f":"VLOOKUP(B82&D82,'[1]점검현황(금월)'!$D$7:$AK$243,34,0)","v":2175},309,"19:20:00",{"$f":"VLOOKUP(B82&D82,'[1]점검현황(금월)'!$D$7:$AG$243,26,0)","v":"."}]
[null,"성호관",28,339,{"$f":"VLOOKUP(B83&D83,'[1]점검현황(금월)'!$D$7:$AG$243,2,0)","v":"대학원"},{"$f":"VLOOKUP(B83&D83,'[1]점검현황(금월)'!$D$7:$AG$243,3,0)","v":"VX421"},{"$f":"VLOOKUP(B83&D83,'[1]점검현황(금월)'!$D$2:$AG$243,19,0)","v":"e-ST"},{"$f":"VLOOKUP(B83&D83,'[1]점검현황(금월)'!$D$2:$AG$243,25,0)","v":"2017-02-22"},{"$f":"VLOOKUP(B83&D83,'[1]점검현황(금월)'!$D$7:$AG$243,27,0)","v":"2017-02-22"},{"$f":"VLOOKUP(B83&D83,'[1]점검현황(금월)'!$D$7:$AG$243,23,0)","v":212},{"$f":"VLOOKUP(B83&D83,'[1]점검현황(금월)'!$D$7:$AK$243,24,0)","v":"19:10:00"},{"$f":"VLOOKUP(B83&D83,'[1]점검현황(금월)'!$D$7:$AK$243,34,0)","v":106},309,"09:00:00",{"$f":"VLOOKUP(B83&D83,'[1]점검현황(금월)'!$D$7:$AG$243,26,0)","v":"."}]
["원천관","원천관",1,107,{"$f":"VLOOKUP(B84&D84,'[1]점검현황(금월)'!$D$7:$AG$243,2,0)","v":"전자공학"},{"$f":"VLOOKUP(B84&D84,'[1]점검현황(금월)'!$D$7:$AG$243,3,0)","v":"XT35K"},{"$f":"VLOOKUP(B84&D84,'[1]점검현황(금월)'!$D$2:$AG$243,19,0)","v":"자체"},{"$f":"VLOOKUP(B84&D84,'[1]점검현황(금월)'!$D$2:$AG$243,25,0)","v":"2015-08-14"},{"$f":"VLOOKUP(B84&D84,'[1]점검현황(금월)'!$D$7:$AG$243,27,0)","v":"날짜 확인 불가(클리닝 권고)"},{"$f":"VLOOKUP(B84&D84,'[1]점검현황(금월)'!$D$7:$AG$243,23,0)","v":212},{"$f":"VLOOKUP(B84&D84,'[1]점검현황(금월)'!$D$7:$AK$243,24,0)","v":"19:20:00"},{"$f":"VLOOKUP(B84&D84,'[1]점검현황(금월)'!$D$7:$AK$243,34,0)","v":502},309,"09:10:00",{"$f":"VLOOKUP(B84&D84,'[1]점검현황(금월)'!$D$7:$AG$243,26,0)","v":"."}]
[null,"원천관",2,228,{"$f":"VLOOKUP(B85&D85,'[1]점검현황(금월)'!$D$7:$AG$243,2,0)","v":"전자공학"},{"$f":"VLOOKUP(B85&D85,'[1]점검현황(금월)'!$D$7:$AG$243,3,0)","v":"VX431"},{"$f":"VLOOKUP(B85&D85,'[1]점검현황(금월)'!$D$2:$AG$243,19,0)","v":"e-ST"},{"$nulls":5},309,null,{"$f":"VLOOKUP(B85&D85,'[1]점검현황(금월)'!$D$7:$AG$243,26,0)","v":"."}]
[null,"원천관",3,237,{"$f":"VLOOKUP(B86&D86,'[1]점검현황(금월)'!$D$7:$AG$243,2,0)","v":"생명과학"},{"$f":"VLOOKUP(B86&D86,'[1]점검현황(금월)'!$D$7:$AG$243,3,0)","v":"VX421"},{"$f":"VLOOKUP(B86&D86,'[1]점검현황(금월)'!$D$2:$AG$243,19,0)","v":"구"},{"$f":"VLOOKUP(B86&D86,'[1]점검현황(금월)'!$D$2:$AG$243,25,0)","v":"2015-11-23"},{"$f":"VLOOKUP(B86&D86,'[1]점검현황(금월)'!$D$7:$AG$243,27,0)","v":"2015-11-23(클리닝 권고)"},{"$f":"VLOOKUP(B86&D86,'[1]점검현황(금월)'!$D$7:$AG$243,23,0)","v":212},{"$f":"VLOOKUP(B86&D86,'[1]점검현황(금월)'!$D$7:$AK$243,24,0)","v":"08:30:00"},{"$f":"VLOOKUP(B86&D86,'[1]점검현황(금월)'!$D$7:$AK$243,34,0)","v":1402},309,"09:20:00",{"$f":"VLOOKUP(B86&D86,'[1]점검현황(금월)'!$D$7:$AG$243,26,0)","v":"."}]
[null,"원천관",4,242,{"$f":"VLOOKUP(B87&D87,'[1]점검현황(금월)'!$D$7:$AG$243,2,0)","v":"대학원"},{"$f":"VLOOKUP(B87&D87,'[1]점검현황(금월)'!$D$7:$AG$243,3,0)","v":"XU301K"},{"$f":"VLOOKUP(B87&D87,'[1]점검현황(금월)'!$D$2:$AG$243,19,0)","v":"e-ST"},{"$f":"VLOOKUP(B87&D87,'[1]점검현황(금월)'!$D$2:$AG$243,25,0)","v":"2018-05-25"},{"$f":"VLOOKUP(B87&D87,'[1]점검현황(금월)'!$D$7:$AG$243,27,0)","v":"2018-10-29"},{"$f":"VLOOKUP(B87&D87,'[1]점검현황(금월)'!$D$7:$AG$243,23,0)","v":212},{"$f":"VLOOKUP(B87&D87,'[1]점검현황(금월)'!$D$7:$AK$243,24,0)","v":"08:40:00"},{"$f":"VLOOKUP(B87&D87,'[1]점검현황(금월)'!$D$7:$AK$243,34,0)","v":334},309,"09:30:00",{"$f":"VLOOKUP(B87&D87,'[1]점검현황(금월)'!$D$7:$AG$243,26,0)","v":"."}]
[null,"원천관",5,243,{"$f":"VLOOKUP(B88&D88,'[1]점검현황(금월)'!$D$7:$AG$243,2,0)","v":"대학원"},{"$f":"VLOOKUP(B88&D88,'[1]점검현황(금월)'!$D$7:$AG$243,3,0)","v":"VX421"},{"$f":"VLOOKUP(B88&D88,'[1]점검현황(금월)'!$D$2:$AG$243,19,0)","v":"e-ST"},{"$f":"VLOOKUP(B88&D88,'[1]점검현황(금월)'!$D$2:$AG$243,25,0)","v":"2017-02-22"},{"$f":"VLOOKUP(B88&D88,'[1]점검현황(금월)'!$D$7:$AG$243,27,0)","v":"2017-02-22"},{"$f":"VLOOKUP(B88&D88,'[1]점검현황(금월)'!$D$7:$AG$243,23,0)","v":212},{"$f":"VLOOKUP(B88&D88,'[1]점검현황(금월)'!$D$7:$AK$243,24,0)","v":"08:50:00"},{"$f":"VLOOKUP(B88&D88,'[1]점검현황(금월)'!$D$7:$AK$243,34,0)","v":1255},309,"09:40:00",{"$f":"VLOOKUP(B88&D88,'[1]점검현황(금월)'!$D$7:$AG$243,26,0)","v":"."}]
[null,"원천관",6,251,{"$f":"VLOOKUP(B89&D89,'[1]점검현황(금월)'!$D$7:$AG$243,2,0)","v":"강당"},{"$f":"VLOOKUP(B89&D89,'[1]점검현황(금월)'!$D$7:$AG$243,3,0)","v":"DVM-070M"},{"$f":"VLOOKUP(B89&D89,'[1]점검현황(금월)'!$D$2:$AG$243,19,0)","v":"e-ST"},{"$f":"VLOOKUP(B89&D89,'[1]점검현황(금월)'!$D$2:$AG$243,25,0)","v":"2017-06-27"},{"$f":"VLOOKUP(B89&D89,'[1]점검현황(금월)'!$D$7:$AG$243,27,0)","v":"2017-06-27"},{"$f":"VLOOKUP(B89&D89,'[1]점검현황(금월)'!$D$7:$AG$243,23,0)","v":221},{"$f":"VLOOKUP(B89&D89,'[1]점검현황(금월)'!$D$7:$AK$243,24,0)","v":"19:29:00"},{"$f":"VLOOKUP(B89&D89,'[1]점검현황(금월)'!$D$7:$AK$243,34,0)","v":"987/987"},309,"09:50:00",{"$f":"VLOOKUP(B89&D89,'[1]점검현황(금월)'!$D$7:$AG$243,26,0)","v":"21,"}]
[null,"원천관",7,"317-1",{"$f":"VLOOKUP(B90&D90,'[1]점검현황(금월)'!$D$7:$AG$243,2,0)","v":"전자공학"},{"$f":"VLOOKUP(B90&D90,'[1]점검현황(금월)'!$D$7:$AG$243,3,0)","v":"XU106K"},{"$f":"VLOOKUP(B90&D90,'[1]점검현황(금월)'!$D$2:$AG$243,19,0)","v":"e-ST"},{"$f":"VLOOKUP(B90&D90,'[1]점검현황(금월)'!$D$2:$AG$243,25,0)","v":"2017-01-10"},{"$f":"VLOOKUP(B90&D90,'[1]점검현황(금월)'!$D$7:$AG$243,27,0)","v":"2017-01-10"},{"$f":"VLOOKUP(B90&D90,'[1]점검현황(금월)'!$D$7:$AG$243,23,0)","v":213},{"$f":"VLOOKUP(B90&D90,'[1]점검현황(금월)'!$D$7:$AK$243,24,0)","v":"19:10:00"},{"$f":"VLOOKUP(B90&D90,'[1]점검현황(금월)'!$D$7:$AK$243,34,0)","v":1300},309,"10:00:00",{"$f":"VLOOKUP(B90&D90,'[1]점검현황(금월)'!$D$7:$AG$243,26,0)","v":"."}]
[null,"원천관",8,333,{"$f":"VLOOKUP(B91&D91,'[1]점검현황(금월)'!$D$7:$AG$243,2,0)","v":"전자공학"},{"$f":"VLOOKUP(B91&D91,'[1]점검현황(금월)'!$D$7:$AG$243,3,0)","v":"XU106K"},{"$f":"VLOOKUP(B91&D91,'[1]점검현황(금월)'!$D$2:$AG$243,19,0)","v":"자체"},{"$f":"VLOOKUP(B91&D91,'[1]점검현황(금월)'!$D$2:$AG$243,25,0)","v":"2010-08-11"},{"$f":"VLOOKUP(B91&D91,'[1]점검현황(금월)'!$D$7:$AG$243,27,0)","v":"날짜 확인 불가(클리닝 권고)"},{"$f":"VLOOKUP(B91&D91,'[1]점검현황(금월)'!$D$7:$AG$243,23,0)","v":213},{"$f":"VLOOKUP(B91&D91,'[1]점검현황(금월)'!$D$7:$AK$243,24,0)","v":"20:20:00"},{"$f":"VLOOKUP(B91&D91,'[1]점검현황(금월)'!$D$7:$AK$243,34,0)","v":1322},309,"11:10:00",{"$f":"VLOOKUP(B91&D91,'[1]점검현황(금월)'!$D$7:$AG$243,26,0)","v":"."}]
[null,"원천관",9,334,{"$f":"VLOOKUP(B92&D92,'[1]점검현황(금월)'!$D$7:$AG$243,2,0)","v":"전자공학"},{"$f":"VLOOKUP(B92&D92,'[1]점검현황(금월)'!$D$7:$AG$243,3,0)","v":"XU106K"},{"$f":"VLOOKUP(B92&D92,'[1]점검현황(금월)'!$D$2:$AG$243,19,0)","v":"자체"},{"$f":"VLOOKUP(B92&D92,'[1]점검현황(금월)'!$D$2:$AG$243,25,0)","v":"2016-08-23"},{"$f":"VLOOKUP(B92&D92,'[1]점검현황(금월)'!$D$7:$AG$243,27,0)","v":"2014-11-19(클리닝 권고)"},{"$f":"VLOOKUP(B92&D92,'[1]점검현황(금월)'!$D$7:$AG$243,23,0)","v":213},{"$f":"VLOOKUP(B92&D92,'[1]점검현황(금월)'!$D$7:$AK$243,24,0)","v":"09:00:00"},{"$f":"VLOOKUP(B92&D92,'[1]점검현황(금월)'!$D$7:$AK$243,34,0)","v":154},309,"10:20:00",{"$f":"VLOOKUP(B92&D92,'[1]점검현황(금월)'!$D$7:$AG$243,26,0)","v":"."}]
[null,"원천관",10,340,{"$f":"VLOOKUP(B93&D93,'[1]점검현황(금월)'!$D$7:$AG$243,2,0)","v":"전자공학"},{"$f":"VLOOKUP(B93&D93,'[1]점검현황(금월)'!$D$7:$AG$243,3,0)","v":"PT-VX610"},{"$f":"VLOOKUP(B93&D93,'[1]점검현황(금월)'!$D$2:$AG$243,19,0)","v":"자체"},{"$nulls":5},309,null,{"$f":"VLOOKUP(B93&D93,'[1]점검현황(금월)'!$D$7:$AG$243,26,0)","v":"."}]
[null,"원천관",11,502,{"$f":"VLOOKUP(B94&D94,'[1]점검현황(금월)'!$D$7:$AG$243,2,0)","v":"물리학과"},{"$f":"VLOOKUP(B94&D94,'[1]점검현황(금월)'!$D$7:$AG$243,3,0)","v":"XU106K"},{"$f":"VLOOKUP(B94&D94,'[1]점검현황(금월)'!$D$2:$AG$243,19,0)","v":"자체"},{"$f":"VLOOKUP(B94&D94,'[1]점검현황(금월)'!$D$2:$AG$243,25,0)","v":"2010-08-11"},{"$f":"VLOOKUP(B94&D94,'[1]점검현황(금월)'!$D$7:$AG$243,27,0)","v":"날짜 확인 불가(클리닝 권고)"},{"$f":"VLOOKUP(B94&D94,'[1]점검현황(금월)'!$D$7:$AG$243,23,0)","v":228},{"$f":"VLOOKUP(B94&D94,'[1]점검현황(금월)'!$D$7:$AK$243,24,0)","v":"09:10:00"},{"$f":"VLOOKUP(B94&D94,'[1]점검현황(금월)'!$D$7:$AK$243,34,0)","v":539},311,"10:40:00",{"$f":"VLOOKUP(B94&D94,'[1]점검현황(금월)'!$D$7:$AG$243,26,0)","v":"28,"}]
[null,"원천관",12,503,{"$f":"VLOOKUP(B95&D95,'[1]점검현황(금월)'!$D$7:$AG$243,2,0)","v":"물리학과"},{"$f":"VLOOKUP(B95&D95,'[1]점검현황(금월)'!$D$7:$AG$243,3,0)","v":"XU106K"},{"$f":"VLOOKUP(B95&D95,'[1]점검현황(금월)'!$D$2:$AG$243,19,0)","v":"자체"},{"$f":"VLOOKUP(B95&D95,'[1]점검현황(금월)'!$D$2:$AG$243,25,0)","v":"2010-08-11"},{"$f":"VLOOKUP(B95&D95,'[1]점검현황(금월)'!$D$7:$AG$243,27,0)","v":"날짜 확인 불가(클리닝 권고)"},{"$f":"VLOOKUP(B95&D95,'[1]점검현황(금월)'!$D$7:$AG$243,23,0)","v":213},{"$f":"VLOOKUP(B95&D95,'[1]점검현황(금월)'!$D$7:$AK$243,24,0)","v":"09:15:00"},{"$f":"VLOOKUP(B95&D95,'[1]점검현황(금월)'!$D$7:$AK$243,34,0)","v":878},311,"10:50:00",{"$f":"VLOOKUP(B95&D95,'[1]점검현황(금월)'!$D$7:$AG$243,26,0)","v":"."}]
[null,"원천관",13,504,{"$f":"VLOOKUP(B96&D96,'[1]점검현황(금월)'!$D$7:$AG$243,2,0)","v":"물리학과"},{"$f":"VLOOKUP(B96&D96,'[1]점검현황(금월)'!$D$7:$AG$243,3,0)","v":"XU106K"},{"$f":"VLOOKUP(B96&D96,'[1]점검현황(금월)'!$D$2:$AG$243,19,0)","v":"자체"},{"$f":"VLOOKUP(B96&D96,'[1]점검현황(금월)'!$D$2:$AG$243,25,0)","v":"2010-08-11"},{"$f":"VLOOKUP(B96&D96,'[1]점검현황(금월)'!$D$7:$AG$243,27,0)","v":"날짜 확인 불가(클리닝 권고)"},{"$f":"VLOOKUP(B96&D96,'[1]점검현황(금월)'!$D$7:$AG$243,23,0)","v":213},{"$f":"VLOOKUP(B96&D96,'[1]점검현황(금월)'!$D$7:$AK$243,24,0)","v":"09:20:00"},{"$f":"VLOOKUP(B96&D96,'[1]점검현황(금월)'!$D$7:$AK$243,34,0)","v":616},311,"11:00:00",{"$f":"VLOOKUP(B96&D96,'[1]점검현황(금월)'!$D$7:$AG$243,26,0)","v":"."}]
[null,"원천관",14,505,{"$f":"VLOOKUP(B97&D97,'[1]점검현황(금월)'!$D$7:$AG$243,2,0)","v":"물리학과"},{"$f":"VLOOKUP(B97&D97,'[1]점검현황(금월)'!$D$7:$AG$243,3,0)","v":"XU106K"},{"$f":"VLOOKUP(B97&D97,'[1]점검현황(금월)'!$D$2:$AG$243,19,0)","v":"자체"},{"$f":"VLOOKUP(B97&D97,'[1]점검현황(금월)'!$D$2:$AG$243,25,0)","v":"2018-03-20"},{"$f":"VLOOKUP(B97&D97,'[1]점검현황(금월)'!$D$7:$AG$243,27,0)","v":"날짜 확인 불가(클리닝 권고)"},{"$f":"VLOOKUP(B97&D97,'[1]점검현황(금월)'!$D$7:$AG$243,23,0)","v":213},{"$f":"VLOOKUP(B97&D97,'[1]점검현황(금월)'!$D$7:$AK$243,24,0)","v":"09:25:00"},{"$f":"VLOOKUP(B97&D97,'[1]점검현황(금월)'!$D$7:$AK$243,34,0)","v":110},311,"11:10:00",{"$f":"VLOOKUP(B97&D97,'[1]점검현황(금월)'!$D$7:$AG$243,26,0)","v":"."}]
[null,"원천관",15,506,{"$f":"VLOOKUP(B98&D98,'[1]점검현황(금월)'!$D$7:$AG$243,2,0)","v":"물리학과"},{"$f":"VLOOKUP(B98&D98,'[1]점검현황(금월)'!$D$7:$AG$243,3,0)","v":"XU106K"},{"$f":"VLOOKUP(B98&D98,'[1]점검현황(금월)'!$D$2:$AG$243,19,0)","v":"자체"},{"$f":"VLOOKUP(B98&D98,'[1]점검현황(금월)'!$D$2:$AG$243,25,0)","v":"2018-03-16"},{"$f":"VLOOKUP(B98&D98,'[1]점검현황(금월)'!$D$7:$AG$243,27,0)","v":"날짜 확인 불가(클리닝 권고)"},{"$f":"VLOOKUP(B98&D98,'[1]점검현황(금월)'!$D$7:$AG$243,23,0)","v":214},{"$f":"VLOOKUP(B98&D98,'[1]점검현황(금월)'!$D$7:$AK$243,24,0)","v":"09:30:00"},{"$f":"VLOOKUP(B98&D98,'[1]점검현황(금월)'!$D$7:$AK$243,34,0)","v":85},311,"11:20:00",{"$f":"VLOOKUP(B98&D98,'[1]점검현황(금월)'!$D$7:$AG$243,26,0)","v":"."}]
[null,"원천관",16,507,{"$f":"VLOOKUP(B99&D99,'[1]점검현황(금월)'!$D$7:$AG$243,2,0)","v":"화학과"},{"$f":"VLOOKUP(B99&D99,'[1]점검현황(금월)'!$D$7:$AG$243,3,0)","v":"VX421"},{"$f":"VLOOKUP(B99&D99,'[1]점검현황(금월)'!$D$2:$AG$243,19,0)","v":"구"},{"$f":"VLOOKUP(B99&D99,'[1]점검현황(금월)'!$D$2:$AG$243,25,0)","v":"2016-10-07"},{"$f":"VLOOKUP(B99&D99,'[1]점검현황(금월)'!$D$7:$AG$243,27,0)","v":"2016-10-07(클리닝 권고)"},{"$f":"VLOOKUP(B99&D99,'[1]점검현황(금월)'!$D$7:$AG$243,23,0)","v":214},{"$f":"VLOOKUP(B99&D99,'[1]점검현황(금월)'!$D$7:$AK$243,24,0)","v":"09:35:00"},{"$f":"VLOOKUP(B99&D99,'[1]점검현황(금월)'!$D$7:$AK$243,34,0)","v":800},311,"11:30:00",{"$f":"VLOOKUP(B99&D99,'[1]점검현황(금월)'!$D$7:$AG$243,26,0)","v":"."}]
[null,"원천관",17,508,{"$f":"VLOOKUP(B100&D100,'[1]점검현황(금월)'!$D$7:$AG$243,2,0)","v":"전자공학"},{"$f":"VLOOKUP(B100&D100,'[1]점검현황(금월)'!$D$7:$AG$243,3,0)","v":"VX610"},{"$f":"VLOOKUP(B100&D100,'[1]점검현황(금월)'!$D$2:$AG$243,19,0)","v":"e-ST"},{"$f":"VLOOKUP(B100&D100,'[1]점검현황(금월)'!$D$2:$AG$243,25,0)","v":"2018-01-18"},{"$f":"VLOOKUP(B100&D100,'[1]점검현황(금월)'!$D$7:$AG$243,27,0)","v":"2018-01-18"},{"$f":"VLOOKUP(B100&D100,'[1]점검현황(금월)'!$D$7:$AG$243,23,0)","v":214},{"$f":"VLOOKUP(B100&D100,'[1]점검현황(금월)'!$D$7:$AK$243,24,0)","v":"09:40:00"},{"$f":"VLOOKUP(B100&D100,'[1]점검현황(금월)'!$D$7:$AK$243,34,0)","v":223},311,"11:40:00",{"$f":"VLOOKUP(B100&D100,'[1]점검현황(금월)'!$D$7:$AG$243,26,0)","v":"."}]
[null,"원천관",18,509,{"$f":"VLOOKUP(B101&D101,'[1]점검현황(금월)'!$D$7:$AG$243,2,0)","v":"전자공학"},{"$f":"VLOOKUP(B101&D101,'[1]점검현황(금월)'!$D$7:$AG$243,3,0)","v":"XU106K"},{"$f":"VLOOKUP(B101&D101,'[1]점검현황(금월)'!$D$2:$AG$243,19,0)","v":"e-ST"},{"$f":"VLOOKUP(B101&D101,'[1]점검현황(금월)'!$D$2:$AG$243,25,0)","v":"2016-03-08"},{"$f":"VLOOKUP(B101&D101,'[1]점검현황(금월)'!$D$7:$AG$243,27,0)","v":"2017-04-28"},{"$f":"VLOOKUP(B101&D101,'[1]점검현황(금월)'!$D$7:$AG$243,23,0)","v":214},{"$f":"VLOOKUP(B101&D101,'[1]점검현황(금월)'!$D$7:$AK$243,24,0)","v":"17:35:00"},{"$f":"VLOOKUP(B101&D101,'[1]점검현황(금월)'!$D$7:$AK$243,34,0)","v":1120},311,"11:50:00",{"$f":"VLOOKUP(B101&D101,'[1]점검현황(금월)'!$D$7:$AG$243,26,0)","v":"."}]
[null,"원천관",19,"534-2",{"$f":"VLOOKUP(B102&D102,'[1]점검현황(금월)'!$D$7:$AG$243,2,0)","v":"생명과학"},{"$f":"VLOOKUP(B102&D102,'[1]점검현황(금월)'!$D$7:$AG$243,3,0)","v":"XU106K"},{"$f":"VLOOKUP(B102&D102,'[1]점검현황(금월)'!$D$2:$AG$243,19,0)","v":"구"},{"$f":"VLOOKUP(B102&D102,'[1]점검현황(금월)'!$D$2:$AG$243,25,0)","v":"2018-08-24"},{"$f":"VLOOKUP(B102&D102,'[1]점검현황(금월)'!$D$7:$AG$243,27,0)","v":"날짜 확인 불가(클리닝 권고)"},{"$f":"VLOOKUP(B102&D102,'[1]점검현황(금월)'!$D$7:$AG$243,23,0)","v":214},{"$f":"VLOOKUP(B102&D102,'[1]점검현황(금월)'!$D$7:$AK$243,24,0)","v":"09:50:00"},{"$f":"VLOOKUP(B102&D102,'[1]점검현황(금월)'!$D$7:$AK$243,34,0)","v":192},311,"12:00:00",{"$f":"VLOOKUP(B102&D102,'[1]점검현황(금월)'!$D$7:$AG$243,26,0)","v":"."}]
[null,"원천관",20,535,{"$f":"VLOOKUP(B103&D103,'[1]점검현황(금월)'!$D$7:$AG$243,2,0)","v":"전자공학 (자동녹화)"},{"$f":"VLOOKUP(B103&D103,'[1]점검현황(금월)'!$D$7:$AG$243,3,0)","v":"VX610/VX610/VX610"},{"$f":"VLOOKUP(B103&D103,'[1]점검현황(금월)'!$D$2:$AG$243,19,0)","v":"e-ST"},{"$f":"VLOOKUP(B103&D103,'[1]점검현황(금월)'!$D$2:$AG$243,25,0)","v":"18-02-18/18-02-18/18-02-18"},{"$f":"VLOOKUP(B103&D103,'[1]점검현황(금월)'!$D$7:$AG$243,27,0)","v":"18-02-18/18-02-18/18-02-18"},{"$f":"VLOOKUP(B103&D103,'[1]점검현황(금월)'!$D$7:$AG$243,23,0)","v":214},{"$f":"VLOOKUP(B103&D103,'[1]점검현황(금월)'!$D$7:$AK$243,24,0)","v":"10:00:00"},{"$f":"VLOOKUP(B103&D103,'[1]점검현황(금월)'!$D$7:$AK$243,34,0)","v":"542/164/534"},311,"13:00:00",{"$f":"VLOOKUP(B103&D103,'[1]점검현황(금월)'!$D$7:$AG$243,26,0)","v":"."}]
[null,"원천관",21,537,{"$f":"VLOOKUP(B104&D104,'[1]점검현황(금월)'!$D$7:$AG$243,2,0)","v":"전자공학"},{"$f":"VLOOKUP(B104&D104,'[1]점검현황(금월)'!$D$7:$AG$243,3,0)","v":"VX410"},{"$f":"VLOOKUP(B104&D104,'[1]점검현황(금월)'!$D$2:$AG$243,19,0)","v":"자체"},{"$f":"VLOOKUP(B104&D104,'[1]점검현황(금월)'!$D$2:$AG$243,25,0)","v":"2015-03-13"},{"$f":"VLOOKUP(B104&D104,'[1]점검현황(금월)'!$D$7:$AG$243,27,0)","v":"날짜 확인 불가(클리닝 권고)"},{"$f":"VLOOKUP(B104&D104,'[1]점검현황(금월)'!$D$7:$AG$243,23,0)","v":214},{"$f":"VLOOKUP(B104&D104,'[1]점검현황(금월)'!$D$7:$AK$243,24,0)","v":"10:10:00"},{"$f":"VLOOKUP(B104&D104,'[1]점검현황(금월)'!$D$7:$AK$243,34,0)","v":448},312,"13:10:00",{"$f":"VLOOKUP(B104&D104,'[1]점검현황(금월)'!$D$7:$AG$243,26,0)","v":"."}]
[null,"원천관",22,539,{"$f":"VLOOKUP(B105&D105,'[1]점검현황(금월)'!$D$7:$AG$243,2,0)","v":"전자공학"},{"$f":"VLOOKUP(B105&D105,'[1]점검현황(금월)'!$D$7:$AG$243,3,0)","v":"XU100K"},{"$f":"VLOOKUP(B105&D105,'[1]점검현황(금월)'!$D$2:$AG$243,19,0)","v":"자체"},{"$f":"VLOOKUP(B105&D105,'[1]점검현황(금월)'!$D$2:$AG$243,25,0)","v":"2017-10-27"},{"$f":"VLOOKUP(B105&D105,'[1]점검현황(금월)'!$D$7:$AG$243,27,0)","v":"날짜 확인 불가(클리닝 권고)"},{"$f":"VLOOKUP(B105&D105,'[1]점검현황(금월)'!$D$7:$AG$243,23,0)","v":214},{"$f":"VLOOKUP(B105&D105,'[1]점검현황(금월)'!$D$7:$AK$243,24,0)","v":"10:20:00"},{"$f":"VLOOKUP(B105&D105,'[1]점검현황(금월)'!$D$7:$AK$243,34,0)","v":717},312,"13:20:00",{"$f":"VLOOKUP(B105&D105,'[1]점검현황(금월)'!$D$7:$AG$243,26,0)","v":"."}]
[null,"원천관",23,540,{"$f":"VLOOKUP(B106&D106,'[1]점검현황(금월)'!$D$7:$AG$243,2,0)","v":"멀티미디어 PC실"},{"$f":"VLOOKUP(B106&D106,'[1]점검현황(금월)'!$D$7:$AG$243,3,0)","v":"XU106K"},{"$f":"VLOOKUP(B106&D106,'[1]점검현황(금월)'!$D$2:$AG$243,19,0)","v":"구"},{"$f":"VLOOKUP(B106&D106,'[1]점검현황(금월)'!$D$2:$AG$243,25,0)","v":"2018-07-19"},{"$f":"VLOOKUP(B106&D106,'[1]점검현황(금월)'!$D$7:$AG$243,27,0)","v":"2019-01-11"},{"$f":"VLOOKUP(B106&D106,'[1]점검현황(금월)'!$D$7:$AG$243,23,0)","v":214},{"$f":"VLOOKUP(B106&D106,'[1]점검현황(금월)'!$D$7:$AK$243,24,0)","v":"18:00:00"},{"$f":"VLOOKUP(B106&D106,'[1]점검현황(금월)'!$D$7:$AK$243,34,0)","v":340},312,"13:30:00",{"$f":"VLOOKUP(B106&D106,'[1]점검현황(금월)'!$D$7:$AG$243,26,0)","v":"."}]
["서관","서관",1,107,{"$f":"VLOOKUP(B107&D107,'[1]점검현황(금월)'!$D$7:$AG$243,2,0)","v":"멀티미디어 (자동녹화)"},{"$f":"VLOOKUP(B107&D107,'[1]점검현황(금월)'!$D$7:$AG$243,3,0)","v":"VX421"},{"$f":"VLOOKUP(B107&D107,'[1]점검현황(금월)'!$D$2:$AG$243,19,0)","v":"e-ST"},{"$f":"VLOOKUP(B107&D107,'[1]점검현황(금월)'!$D$2:$AG$243,25,0)","v":"2016-12-23"},{"$f":"VLOOKUP(B107&D107,'[1]점검현황(금월)'!$D$7:$AG$243,27,0)","v":"2018-10-04"},{"$f":"VLOOKUP(B107&D107,'[1]점검현황(금월)'!$D$7:$AG$243,23,0)","v":215},{"$f":"VLOOKUP(B107&D107,'[1]점검현황(금월)'!$D$7:$AK$243,24,0)","v":"10:40:00"},{"$f":"VLOOKUP(B107&D107,'[1]점검현황(금월)'!$D$7:$AK$243,34,0)","v":2341},312,"13:40:00",{"$f":"VLOOKUP(B107&D107,'[1]점검현황(금월)'!$D$7:$AG$243,26,0)","v":"."}]
[null,"서관",2,135,{"$f":"VLOOKUP(B108&D108,'[1]점검현황(금월)'!$D$7:$AG$243,2,0)","v":"기계공학 (자동녹화)"},{"$f":"VLOOKUP(B108&D108,'[1]점검현황(금월)'!$D$7:$AG$243,3,0)","v":"VX421"},{"$f":"VLOOKUP(B108&D108,'[1]점검현황(금월)'!$D$2:$AG$243,19,0)","v":"e-ST"},{"$f":"VLOOKUP(B108&D108,'[1]점검현황(금월)'!$D$2:$AG$243,25,0)","v":"2016-02-29"},{"$f":"VLOOKUP(B108&D108,'[1]점검현황(금월)'!$D$7:$AG$243,27,0)","v":"2016-02-29(클리닝 권고)"},{"$f":"VLOOKUP(B108&D108,'[1]점검현황(금월)'!$D$7:$AG$243,23,0)","v":215},{"$f":"VLOOKUP(B108&D108,'[1]점검현황(금월)'!$D$7:$AK$243,24,0)","v":"10:50:00"},{"$f":"VLOOKUP(B108&D108,'[1]점검현황(금월)'!$D$7:$AK$243,34,0)","v":2985},312,"08:30:00",{"$f":"VLOOKUP(B108&D108,'[1]점검현황(금월)'!$D$7:$AG$243,26,0)","v":"."}]
[null,"서관",3,239,{"$f":"VLOOKUP(B109&D109,'[1]점검현황(금월)'!$D$7:$AG$243,2,0)","v":"환경공학"},{"$f":"VLOOKUP(B109&D109,'[1]점검현황(금월)'!$D$7:$AG$243,3,0)","v":"VX421"},{"$f":"VLOOKUP(B109&D109,'[1]점검현황(금월)'!$D$2:$AG$243,19,0)","v":"e-ST"},{"$f":"VLOOKUP(B109&D109,'[1]점검현황(금월)'!$D$2:$AG$243,25,0)","v":"2018-12-07"},{"$f":"VLOOKUP(B109&D109,'[1]점검현황(금월)'!$D$7:$AG$243,27,0)","v":"2016-02-17(클리닝 권고)"},{"$f":"VLOOKUP(B109&D109,'[1]점검현황(금월)'!$D$7:$AG$243,23,0)","v":215},{"$f":"VLOOKUP(B109&D109,'[1]점검현황(금월)'!$D$7:$AK$243,24,0)","v":"11:00:00"},{"$f":"VLOOKUP(B109&D109,'[1]점검현황(금월)'!$D$7:$AK$243,34,0)","v":20},312,"08:40:00",{"$f":"VLOOKUP(B109&D109,'[1]점검현황(금월)'!$D$7:$AG$243,26,0)","v":"."}]
[null,"서관",4,302,{"$f":"VLOOKUP(B110&D110,'[1]점검현황(금월)'!$D$7:$AG$243,2,0)","v":"대학원"},{"$f":"VLOOKUP(B110&D110,'[1]점검현황(금월)'!$D$7:$AG$243,3,0)","v":"VX421"},{"$f":"VLOOKUP(B110&D110,'[1]점검현황(금월)'!$D$2:$AG$243,19,0)","v":"e-ST"},{"$f":"VLOOKUP(B110&D110,'[1]점검현황(금월)'!$D$2:$AG$243,25,0)","v":"2017-02-22"},{"$f":"VLOOKUP(B110&D110,'[1]점검현황(금월)'!$D$7:$AG$243,27,0)","v":"2017-02-22"},{"$f":"VLOOKUP(B110&D110,'[1]점검현황(금월)'!$D$7:$AG$243,23,0)","v":215},{"$f":"VLOOKUP(B110&D110,'[1]점검현황(금월)'!$D$7:$AK$243,24,0)","v":"11:10:00"},{"$f":"VLOOKUP(B110&D110,'[1]점검현황(금월)'!$D$7:$AK$243,34,0)","v":396},312,"08:50:00",{"$f":"VLOOKUP(B110&D110,'[1]점검현황(금월)'!$D$7:$AG$243,26,0)","v":"."}]
[null,"서관",5,303,{"$f":"VLOOKUP(B111&D111,'[1]점검현황(금월)'!$D$7:$AG$243,2,0)","v":"화학공학"},{"$f":"VLOOKUP(B111&D111,'[1]점검현황(금월)'!$D$7:$AG$243,3,0)","v":"XT35K"},{"$f":"VLOOKUP(B111&D111,'[1]점검현황(금월)'!$D$2:$AG$243,19,0)","v":"구"},{"$f":"VLOOKUP(B111&D111,'[1]점검현황(금월)'!$D$2:$AG$243,25,0)","v":"2019-01-28"},{"$f":"VLOOKUP(B111&D111,'[1]점검현황(금월)'!$D$7:$AG$243,27,0)","v":"2016-04-05(클리닝 권고)"},{"$f":"VLOOKUP(B111&D111,'[1]점검현황(금월)'!$D$7:$AG$243,23,0)","v":215},{"$f":"VLOOKUP(B111&D111,'[1]점검현황(금월)'!$D$7:$AK$243,24,0)","v":"11:20:00"},{"$f":"VLOOKUP(B111&D111,'[1]점검현황(금월)'!$D$7:$AK$243,34,0)","v":0},312,"19:00:00",{"$f":"VLOOKUP(B111&D111,'[1]점검현황(금월)'!$D$7:$AG$243,26,0)","v":"."}]
[null,"서관",6,305,{"$f":"VLOOKUP(B112&D112,'[1]점검현황(금월)'!$D$7:$AG$243,2,0)","v":"기계공학"},{"$f":"VLOOKUP(B112&D112,'[1]점검현황(금월)'!$D$7:$AG$243,3,0)","v":"VX400"},{"$f":"VLOOKUP(B112&D112,'[1]점검현황(금월)'!$D$2:$AG$243,19,0)","v":"e-ST"},{"$f":"VLOOKUP(B112&D112,'[1]점검현황(금월)'!$D$2:$AG$243,25,0)","v":"2016-02-02"},{"$f":"VLOOKUP(B112&D112,'[1]점검현황(금월)'!$D$7:$AG$243,27,0)","v":"날짜 확인 불가(클리닝 권고)"},{"$f":"VLOOKUP(B112&D112,'[1]점검현황(금월)'!$D$7:$AG$243,23,0)","v":215},{"$f":"VLOOKUP(B112&D112,'[1]점검현황(금월)'!$D$7:$AK$243,24,0)","v":"11:50:00"},{"$f":"VLOOKUP(B112&D112,'[1]점검현황(금월)'!$D$7:$AK$243,34,0)","v":2204},312,"20:00:00",{"$f":"VLOOKUP(B112&D112,'[1]점검현황(금월)'!$D$7:$AG$243,26,0)","v":"."}]
[null,"서관",7,307,{"$f":"VLOOKUP(B113&D113,'[1]점검현황(금월)'!$D$7:$AG$243,2,0)","v":"기계공학"},{"$f":"VLOOKUP(B113&D113,'[1]점검현황(금월)'!$D$7:$AG$243,3,0)","v":"VX421"},{"$f":"VLOOKUP(B113&D113,'[1]점검현황(금월)'!$D$2:$AG$243,19,0)","v":"e-ST"},{"$f":"VLOOKUP(B113&D113,'[1]점검현황(금월)'!$D$2:$AG$243,25,0)","v":"2015-08-18"},{"$f":"VLOOKUP(B113&D113,'[1]점검현황(금월)'!$D$7:$AG$243,27,0)","v":"날짜 확인 불가(클리닝 권고)"},{"$f":"VLOOKUP(B113&D113,'[1]점검현황(금월)'!$D$7:$AG$243,23,0)","v":215},{"$f":"VLOOKUP(B113&D113,'[1]점검현황(금월)'!$D$7:$AK$243,24,0)","v":"11:30:00"},{"$f":"VLOOKUP(B113&D113,'[1]점검현황(금월)'!$D$7:$AK$243,34,0)","v":2724},312,"19:10:00",{"$f":"VLOOKUP(B113&D113,'[1]점검현황(금월)'!$D$7:$AG$243,26,0)","v":"."}]
[null,"서관",8,331,{"$f":"VLOOKUP(B114&D114,'[1]점검현황(금월)'!$D$7:$AG$243,2,0)","v":"기계공학"},{"$f":"VLOOKUP(B114&D114,'[1]점검현황(금월)'!$D$7:$AG$243,3,0)","v":"VX421"},{"$f":"VLOOKUP(B114&D114,'[1]점검현황(금월)'!$D$2:$AG$243,19,0)","v":"e-ST"},{"$f":"VLOOKUP(B114&D114,'[1]점검현황(금월)'!$D$2:$AG$243,25,0)","v":"2018-02-01"},{"$f":"VLOOKUP(B114&D114,'[1]점검현황(금월)'!$D$7:$AG$243,27,0)","v":"2018-02-01"},{"$f":"VLOOKUP(B114&D114,'[1]점검현황(금월)'!$D$7:$AG$243,23,0)","v":215},{"$f":"VLOOKUP(B114&D114,'[1]점검현황(금월)'!$D$7:$AK$243,24,0)","v":"17:41:00"},{"$f":"VLOOKUP(B114&D114,'[1]점검현황(금월)'!$D$7:$AK$243,34,0)","v":655},313,"19:20:00",{"$f":"VLOOKUP(B114&D114,'[1]점검현황(금월)'!$D$7:$AG$243,26,0)","v":"."}]
[null,"서관",9,332,{"$f":"VLOOKUP(B115&D115,'[1]점검현황(금월)'!$D$7:$AG$243,2,0)","v":"응 화 생"},{"$f":"VLOOKUP(B115&D115,'[1]점검현황(금월)'!$D$7:$AG$243,3,0)","v":"VX600"},{"$f":"VLOOKUP(B115&D115,'[1]점검현황(금월)'!$D$2:$AG$243,19,0)","v":"구"},{"$f":"VLOOKUP(B115&D115,'[1]점검현황(금월)'!$D$2:$AG$243,25,0)","v":"2016-11-24"},{"$f":"VLOOKUP(B115&D115,'[1]점검현황(금월)'!$D$7:$AG$243,27,0)","v":"2016-11-24(클리닝 권고)"},{"$f":"VLOOKUP(B115&D115,'[1]점검현황(금월)'!$D$7:$AG$243,23,0)","v":215},{"$f":"VLOOKUP(B115&D115,'[1]점검현황(금월)'!$D$7:$AK$243,24,0)","v":"11:50:00"},{"$f":"VLOOKUP(B115&D115,'[1]점검현황(금월)'!$D$7:$AK$243,34,0)","v":2359},313,"08:30:00",{"$f":"VLOOKUP(B115&D115,'[1]점검현황(금월)'!$D$7:$AG$243,26,0)","v":"."}]
[null,"서관",10,334,{"$f":"VLOOKUP(B116&D116,'[1]점검현황(금월)'!$D$7:$AG$243,2,0)","v":"멀티미디어"},{"$f":"VLOOKUP(B116&D116,'[1]점검현황(금월)'!$D$7:$AG$243,3,0)","v":"VX421"},{"$f":"VLOOKUP(B116&D116,'[1]점검현황(금월)'!$D$2:$AG$243,19,0)","v":"e-ST"},{"$f":"VLOOKUP(B116&D116,'[1]점검현황(금월)'!$D$2:$AG$243,25,0)","v":"2016-12-28"},{"$f":"VLOOKUP(B116&D116,'[1]점검현황(금월)'!$D$7:$AG$243,27,0)","v":"2018-12-13"},{"$f":"VLOOKUP(B116&D116,'[1]점검현황(금월)'!$D$7:$AG$243,23,0)","v":216},{"$f":"VLOOKUP(B116&D116,'[1]점검현황(금월)'!$D$7:$AK$243,24,0)","v":"12:00:00"},{"$f":"VLOOKUP(B116&D116,'[1]점검현황(금월)'!$D$7:$AK$243,34,0)","v":1714},313,"08:40:00",{"$f":"VLOOKUP(B116&D116,'[1]점검현황(금월)'!$D$7:$AG$243,26,0)","v":"."}]
[null,"서관",11,337,{"$f":"VLOOKUP(B117&D117,'[1]점검현황(금월)'!$D$7:$AG$243,2,0)","v":"환경공학"},{"$f":"VLOOKUP(B117&D117,'[1]점검현황(금월)'!$D$7:$AG$243,3,0)","v":"LG DX630B"},{"$f":"VLOOKUP(B117&D117,'[1]점검현황(금월)'!$D$2:$AG$243,19,0)","v":"자체"},{"$f":"VLOOKUP(B117&D117,'[1]점검현황(금월)'!$D$2:$AG$243,25,0)","v":"2018-11-27"},{"$f":"VLOOKUP(B117&D117,'[1]점검현황(금월)'!$D$7:$AG$243,27,0)","v":"날짜 확인 불가(클리닝 권고)"},{"$f":"VLOOKUP(B117&D117,'[1]점검현황(금월)'!$D$7:$AG$243,23,0)","v":216},{"$f":"VLOOKUP(B117&D117,'[1]점검현황(금월)'!$D$7:$AK$243,24,0)","v":"13:00:00"},{"$f":"VLOOKUP(B117&D117,'[1]점검현황(금월)'!$D$7:$AK$243,34,0)","v":41},313,"09:40:00",{"$f":"VLOOKUP(B117&D117,'[1]점검현황(금월)'!$D$7:$AG$243,26,0)","v":"."}]
["동관","동관",1,"104-1",{"$f":"VLOOKUP(B118&D118,'[1]점검현황(금월)'!$D$7:$AG$243,2,0)","v":"기계공학"},{"$f":"VLOOKUP(B118&D118,'[1]점검현황(금월)'!$D$7:$AG$243,3,0)","v":"XU106K"},{"$f":"VLOOKUP(B118&D118,'[1]점검현황(금월)'!$D$2:$AG$243,19,0)","v":"e-ST"},{"$f":"VLOOKUP(B118&D118,'[1]점검현황(금월)'!$D$2:$AG$243,25,0)","v":"2017-09-05"},{"$f":"VLOOKUP(B118&D118,'[1]점검현황(금월)'!$D$7:$AG$243,27,0)","v":"날짜 확인 불가(클리닝 권고)"},{"$f":"VLOOKUP(B118&D118,'[1]점검현황(금월)'!$D$7:$AG$243,23,0)","v":216},{"$f":"VLOOKUP(B118&D118,'[1]점검현황(금월)'!$D$7:$AK$243,24,0)","v":"13:00:00"},{"$f":"VLOOKUP(B118&D118,'[1]점검현황(금월)'!$D$7:$AK$243,34,0)","v":455},313,"08:50:00",{"$f":"VLOOKUP(B118&D118,'[1]점검현황(금월)'!$D$7:$AG$243,26,0)","v":"."}]
[null,"동관",2,"104-3",{"$f":"VLOOKUP(B119&D119,'[1]점검현황(금월)'!$D$7:$AG$243,2,0)","v":"기계공학"},{"$f":"VLOOKUP(B119&D119,'[1]점검현황(금월)'!$D$7:$AG$243,3,0)","v":"XU106K"},{"$f":"VLOOKUP(B119&D119,'[1]점검현황(금월)'!$D$2:$AG$243,19,0)","v":"e-ST"},{"$f":"VLOOKUP(B119&D119,'[1]점검현황(금월)'!$D$2:$AG$243,25,0)","v":"2011-09-19"},{"$f":"VLOOKUP(B119&D119,'[1]점검현황(금월)'!$D$7:$AG$243,27,0)","v":"날짜 확인 불가(클리닝 권고)"},{"$f":"VLOOKUP(B119&D119,'[1]점검현황(금월)'!$D$7:$AG$243,23,0)","v":216},{"$f":"VLOOKUP(B119&D119,'[1]점검현황(금월)'!$D$7:$AK$243,24,0)","v":"13:20:00"},{"$f":"VLOOKUP(B119&D119,'[1]점검현황(금월)'!$D$7:$AK$243,34,0)","v":1191},313,"19:10:00",{"$f":"VLOOKUP(B119&D119,'[1]점검현황(금월)'!$D$7:$AG$243,26,0)","v":"."}]
[null,"동관",3,212,{"$f":"VLOOKUP(B120&D120,'[1]점검현황(금월)'!$D$7:$AG$243,2,0)","v":"기계공학"},{"$f":"VLOOKUP(B120&D120,'[1]점검현황(금월)'!$D$7:$AG$243,3,0)","v":"XU106K"},{"$f":"VLOOKUP(B120&D120,'[1]점검현황(금월)'!$D$2:$AG$243,19,0)","v":"자체"},{"$f":"VLOOKUP(B120&D120,'[1]점검현황(금월)'!$D$2:$AG$243,25,0)","v":"11-2-22/11-2-22/11-2-22/17-9-27"},{"$f":"VLOOKUP(B120&D120,'[1]점검현황(금월)'!$D$7:$AG$243,27,0)","v":"18-1-11/날짜확인불가/날짜확인불가/날짜확인불가"},{"$f":"VLOOKUP(B120&D120,'[1]점검현황(금월)'!$D$7:$AG$243,23,0)","v":216},{"$f":"VLOOKUP(B120&D120,'[1]점검현황(금월)'!$D$7:$AK$243,24,0)","v":"13:25:00"},{"$f":"VLOOKUP(B120&D120,'[1]점검현황(금월)'!$D$7:$AK$243,34,0)","v":"775/439/96/16"},313,"19:15:00",{"$f":"VLOOKUP(B120&D120,'[1]점검현황(금월)'!$D$7:$AG$243,26,0)","v":"."}]
[null,"동관",4,331,{"$f":"VLOOKUP(B121&D121,'[1]점검현황(금월)'!$D$7:$AG$243,2,0)","v":"기계공학"},{"$f":"VLOOKUP(B121&D121,'[1]점검현황(금월)'!$D$7:$AG$243,3,0)","v":"VX400"},{"$f":"VLOOKUP(B121&D121,'[1]점검현황(금월)'!$D$2:$AG$243,19,0)","v":"e-ST"},{"$f":"VLOOKUP(B121&D121,'[1]점검현황(금월)'!$D$2:$AG$243,25,0)","v":"2018-01-15"},{"$f":"VLOOKUP(B121&D121,'[1]점검현황(금월)'!$D$7:$AG$243,27,0)","v":"날짜 확인 불가(클리닝 권고)"},{"$f":"VLOOKUP(B121&D121,'[1]점검현황(금월)'!$D$7:$AG$243,23,0)","v":216},{"$f":"VLOOKUP(B121&D121,'[1]점검현황(금월)'!$D$7:$AK$243,24,0)","v":"13:30:00"},{"$f":"VLOOKUP(B121&D121,'[1]점검현황(금월)'!$D$7:$AK$243,34,0)","v":429},313,"19:20:00",{"$f":"VLOOKUP(B121&D121,'[1]점검현황(금월)'!$D$7:$AG$243,26,0)","v":"."}]
["팔달관","팔달관",1,107,{"$f":"VLOOKUP(B122&D122,'[1]점검현황(금월)'!$D$7:$AG$243,2,0)","v":"멀티미디어 (자동녹화)"},{"$f":"VLOOKUP(B122&D122,'[1]점검현황(금월)'!$D$7:$AG$243,3,0)","v":"VX600"},{"$f":"VLOOKUP(B122&D122,'[1]점검현황(금월)'!$D$2:$AG$243,19,0)","v":"e-ST"},{"$f":"VLOOKUP(B122&D122,'[1]점검현황(금월)'!$D$2:$AG$243,25,0)","v":"2018-05-15"},{"$f":"VLOOKUP(B122&D122,'[1]점검현황(금월)'!$D$7:$AG$243,27,0)","v":"2018-11-09"},{"$f":"VLOOKUP(B122&D122,'[1]점검현황(금월)'!$D$7:$AG$243,23,0)","v":220},{"$f":"VLOOKUP(B122&D122,'[1]점검현황(금월)'!$D$7:$AK$243,24,0)","v":"13:40:00"},{"$f":"VLOOKUP(B122&D122,'[1]점검현황(금월)'!$D$7:$AK$243,34,0)","v":1027},313,"08:30:00",{"$f":"VLOOKUP(B122&D122,'[1]점검현황(금월)'!$D$7:$AG$243,26,0)","v":"19,20"}]
[null,"팔달관",2,108,{"$f":"VLOOKUP(B123&D123,'[1]점검현황(금월)'!$D$7:$AG$243,2,0)","v":"멀티미디어 (자동녹화)"},{"$f":"VLOOKUP(B123&D123,'[1]점검현황(금월)'!$D$7:$AG$243,3,0)","v":"VX600"},{"$f":"VLOOKUP(B123&D123,'[1]점검현황(금월)'!$D$2:$AG$243,19,0)","v":"e-ST"},{"$f":"VLOOKUP(B123&D123,'[1]점검현황(금월)'!$D$2:$AG$243,25,0)","v":"2018-05-09"},{"$f":"VLOOKUP(B123&D123,'[1]점검현황(금월)'!$D$7:$AG$243,27,0)","v":"2018-11-15"},{"$f":"VLOOKUP(B123&D123,'[1]점검현황(금월)'!$D$7:$AG$243,23,0)","v":216},{"$f":"VLOOKUP(B123&D123,'[1]점검현황(금월)'!$D$7:$AK$243,24,0)","v":"17:28:00"},{"$f":"VLOOKUP(B123&D123,'[1]점검현황(금월)'!$D$7:$AK$243,34,0)","v":1148},313,"08:40:00",{"$f":"VLOOKUP(B123&D123,'[1]점검현황(금월)'!$D$7:$AG$243,26,0)","v":"."}]
[null,"팔달관",3,110,{"$f":"VLOOKUP(B124&D124,'[1]점검현황(금월)'!$D$7:$AG$243,2,0)","v":"멀티미디어 (자동녹화)"},{"$f":"VLOOKUP(B124&D124,'[1]점검현황(금월)'!$D$7:$AG$243,3,0)","v":"VX600"},{"$f":"VLOOKUP(B124&D124,'[1]점검현황(금월)'!$D$2:$AG$243,19,0)","v":"e-ST"},{"$f":"VLOOKUP(B124&D124,'[1]점검현황(금월)'!$D$2:$AG$243,25,0)","v":"2017-09-11"},{"$f":"VLOOKUP(B124&D124,'[1]점검현황(금월)'!$D$7:$AG$243,27,0)","v":"2019-02-27"},{"$f":"VLOOKUP(B124&D124,'[1]점검현황(금월)'!$D$7:$AG$243,23,0)","v":227},{"$f":"VLOOKUP(B124&D124,'[1]점검현황(금월)'!$D$7:$AK$243,24,0)","v":"14:00:00"},{"$f":"VLOOKUP(B124&D124,'[1]점검현황(금월)'!$D$7:$AK$243,34,0)","v":2012},314,"08:50:00",{"$f":"VLOOKUP(B124&D124,'[1]점검현황(금월)'!$D$7:$AG$243,26,0)","v":"27(2)"}]
[null,"팔달관",4,111,{"$f":"VLOOKUP(B125&D125,'[1]점검현황(금월)'!$D$7:$AG$243,2,0)","v":"사이버보안 (자동녹화)"},{"$f":"VLOOKUP(B125&D125,'[1]점검현황(금월)'!$D$7:$AG$243,3,0)","v":"VX600"},{"$f":"VLOOKUP(B125&D125,'[1]점검현황(금월)'!$D$2:$AG$243,19,0)","v":"e-ST"},{"$f":"VLOOKUP(B125&D125,'[1]점검현황(금월)'!$D$2:$AG$243,25,0)","v":"2015-09-16"},{"$f":"VLOOKUP(B125&D125,'[1]점검현황(금월)'!$D$7:$AG$243,27,0)","v":"2015-09-16(클리닝 권고)"},{"$f":"VLOOKUP(B125&D125,'[1]점검현황(금월)'!$D$7:$AG$243,23,0)","v":216},{"$f":"VLOOKUP(B125&D125,'[1]점검현황(금월)'!$D$7:$AK$243,24,0)","v":"11:30:00"},{"$f":"VLOOKUP(B125&D125,'[1]점검현황(금월)'!$D$7:$AK$243,34,0)","v":196},314,"19:00:00",{"$f":"VLOOKUP(B125&D125,'[1]점검현황(금월)'!$D$7:$AG$243,26,0)","v":"."}]
[null,"팔달관",5,207,{"$f":"VLOOKUP(B126&D126,'[1]점검현황(금월)'!$D$7:$AG$243,2,0)","v":"신소재"},{"$f":"VLOOKUP(B126&D126,'[1]점검현황(금월)'!$D$7:$AG$243,3,0)","v":"VX600"},{"$f":"VLOOKUP(B126&D126,'[1]점검현황(금월)'!$D$2:$AG$243,19,0)","v":"구"},{"$f":"VLOOKUP(B126&D126,'[1]점검현황(금월)'!$D$2:$AG$243,25,0)","v":"2016-09-19"},{"$f":"VLOOKUP(B126&D126,'[1]점검현황(금월)'!$D$7:$AG$243,27,0)","v":"날짜 확인 불가(클리닝 권고)"},{"$f":"VLOOKUP(B126&D126,'[1]점검현황(금월)'!$D$7:$AG$243,23,0)","v":216},{"$f":"VLOOKUP(B126&D126,'[1]점검현황(금월)'!$D$7:$AK$243,24,0)","v":"08:40:00"},{"$f":"VLOOKUP(B126&D126,'[1]점검현황(금월)'!$D$7:$AK$243,34,0)","v":2992},314,"19:10:00",{"$f":"VLOOKUP(B126&D126,'[1]점검현황(금월)'!$D$7:$AG$243,26,0)","v":"."}]
[null,"팔달관",6,211,{"$f":"VLOOKUP(B127&D127,'[1]점검현황(금월)'!$D$7:$AG$243,2,0)","v":"교통시스템"},{"$f":"VLOOKUP(B127&D127,'[1]점검현황(금월)'!$D$7:$AG$243,3,0)","v":"VX600"},{"$f":"VLOOKUP(B127&D127,'[1]점검현황(금월)'!$D$2:$AG$243,19,0)","v":"e-ST"},{"$f":"VLOOKUP(B127&D127,'[1]점검현황(금월)'!$D$2:$AG$243,25,0)","v":"2016-03-02"},{"$f":"VLOOKUP(B127&D127,'[1]점검현황(금월)'!$D$7:$AG$243,27,0)","v":"2016-03-02(클리닝 권고)"},{"$f":"VLOOKUP(B127&D127,'[1]점검현황(금월)'!$D$7:$AG$243,23,0)","v":216},{"$f":"VLOOKUP(B127&D127,'[1]점검현황(금월)'!$D$7:$AK$243,24,0)","v":"08:50:00"},{"$f":"VLOOKUP(B127&D127,'[1]점검현황(금월)'!$D$7:$AK$243,34,0)","v":3088},314,"19:20:00",{"$f":"VLOOKUP(B127&D127,'[1]점검현황(금월)'!$D$7:$AG$243,26,0)","v":"."}]
[null,"팔달관",7,307,{"$f":"VLOOKUP(B128&D128,'[1]점검현황(금월)'!$D$7:$AG$243,2,0)","v":"산업공학"},{"$f":"VLOOKUP(B128&D128,'[1]점검현황(금월)'!$D$7:$AG$243,3,0)","v":"VX600"},{"$f":"VLOOKUP(B128&D128,'[1]점검현황(금월)'!$D$2:$AG$243,19,0)","v":"e-ST"},{"$f":"VLOOKUP(B128&D128,'[1]점검현황(금월)'!$D$2:$AG$243,25,0)","v":"2016-11-29"},{"$f":"VLOOKUP(B128&D128,'[1]점검현황(금월)'!$D$7:$AG$243,27,0)","v":"2016-11-29(클리닝 권고)"},{"$f":"VLOOKUP(B128&D128,'[1]점검현황(금월)'!$D$7:$AG$243,23,0)","v":216},{"$f":"VLOOKUP(B128&D128,'[1]점검현황(금월)'!$D$7:$AK$243,24,0)","v":"19:00:00"},{"$f":"VLOOKUP(B128&D128,'[1]점검현황(금월)'!$D$7:$AK$243,34,0)","v":1959},314,"08:30:00",{"$f":"VLOOKUP(B128&D128,'[1]점검현황(금월)'!$D$7:$AG$243,26,0)","v":"."}]
[null,"팔달관",8,308,{"$f":"VLOOKUP(B129&D129,'[1]점검현황(금월)'!$D$7:$AG$243,2,0)","v":"생명과학"},{"$f":"VLOOKUP(B129&D129,'[1]점검현황(금월)'!$D$7:$AG$243,3,0)","v":"XU105K"},{"$f":"VLOOKUP(B129&D129,'[1]점검현황(금월)'!$D$2:$AG$243,19,0)","v":"구"},{"$f":"VLOOKUP(B129&D129,'[1]점검현황(금월)'!$D$2:$AG$243,25,0)","v":"2016-11-29"},{"$f":"VLOOKUP(B129&D129,'[1]점검현황(금월)'!$D$7:$AG$243,27,0)","v":"2016-11-29(클리닝 권고)"},{"$f":"VLOOKUP(B129&D129,'[1]점검현황(금월)'!$D$7:$AG$243,23,0)","v":216},{"$f":"VLOOKUP(B129&D129,'[1]점검현황(금월)'!$D$7:$AK$243,24,0)","v":"19:10:00"},{"$f":"VLOOKUP(B129&D129,'[1]점검현황(금월)'!$D$7:$AK$243,34,0)","v":814},314,"08:40:00",{"$f":"VLOOKUP(B129&D129,'[1]점검현황(금월)'!$D$7:$AG$243,26,0)","v":"."}]
[null,"팔달관",9,309,{"$f":"VLOOKUP(B130&D130,'[1]점검현황(금월)'!$D$7:$AG$243,2,0)","v":"정통컴 (자동녹화)"},{"$f":"VLOOKUP(B130&D130,'[1]점검현황(금월)'!$D$7:$AG$243,3,0)","v":"VX600"},{"$f":"VLOOKUP(B130&D130,'[1]점검현황(금월)'!$D$2:$AG$243,19,0)","v":"e-ST"},{"$f":"VLOOKUP(B130&D130,'[1]점검현황(금월)'!$D$2:$AG$243,25,0)","v":"2018-08-22"},{"$f":"VLOOKUP(B130&D130,'[1]점검현황(금월)'!$D$7:$AG$243,27,0)","v":"2016-11-18(클리닝 권고)"},{"$f":"VLOOKUP(B130&D130,'[1]점검현황(금월)'!$D$7:$AG$243,23,0)","v":216},{"$f":"VLOOKUP(B130&D130,'[1]점검현황(금월)'!$D$7:$AK$243,24,0)","v":"19:20:00"},{"$f":"VLOOKUP(B130&D130,'[1]점검현황(금월)'!$D$7:$AK$243,34,0)","v":597},314,"08:50:00",{"$f":"VLOOKUP(B130&D130,'[1]점검현황(금월)'!$D$7:$AG$243,26,0)","v":"."}]
[null,"팔달관",10,310,{"$f":"VLOOKUP(B131&D131,'[1]점검현황(금월)'!$D$7:$AG$243,2,0)","v":"건설시스템"},{"$f":"VLOOKUP(B131&D131,'[1]점검현황(금월)'!$D$7:$AG$243,3,0)","v":"XU106K"},{"$f":"VLOOKUP(B131&D131,'[1]점검현황(금월)'!$D$2:$AG$243,19,0)","v":"구"},{"$f":"VLOOKUP(B131&D131,'[1]점검현황(금월)'!$D$2:$AG$243,25,0)","v":"2017-08-29"},{"$f":"VLOOKUP(B131&D131,'[1]점검현황(금월)'!$D$7:$AG$243,27,0)","v":"2016-04-06(클리닝 권고)"},{"$f":"VLOOKUP(B131&D131,'[1]점검현황(금월)'!$D$7:$AG$243,23,0)","v":216},{"$f":"VLOOKUP(B131&D131,'[1]점검현황(금월)'!$D$7:$AK$243,24,0)","v":"08:30:00"},{"$f":"VLOOKUP(B131&D131,'[1]점검현황(금월)'!$D$7:$AK$243,34,0)","v":1401},314,"19:00:00",{"$f":"VLOOKUP(B131&D131,'[1]점검현황(금월)'!$D$7:$AG$243,26,0)","v":"."}]
[null,"팔달관",11,311,{"$f":"VLOOKUP(B132&D132,'[1]점검현황(금월)'!$D$7:$AG$243,2,0)","v":"수학과 (자동녹화)"},{"$f":"VLOOKUP(B132&D132,'[1]점검현황(금월)'!$D$7:$AG$243,3,0)","v":"EB-5900"},{"$f":"VLOOKUP(B132&D132,'[1]점검현황(금월)'!$D$2:$AG$243,19,0)","v":"e-ST"},{"$f":"VLOOKUP(B132&D132,'[1]점검현황(금월)'!$D$2:$AG$243,25,0)","v":"2016-08-23"},{"$f":"VLOOKUP(B132&D132,'[1]점검현황(금월)'!$D$7:$AG$243,27,0)","v":"날짜 확인 불가(클리닝 권고)"},{"$f":"VLOOKUP(B132&D132,'[1]점검현황(금월)'!$D$7:$AG$243,23,0)","v":219},{"$f":"VLOOKUP(B132&D132,'[1]점검현황(금월)'!$D$7:$AK$243,24,0)","v":"18:42:00"},{"$f":"VLOOKUP(B132&D132,'[1]점검현황(금월)'!$D$7:$AK$243,34,0)","v":1572},314,"19:10:00",{"$f":"VLOOKUP(B132&D132,'[1]점검현황(금월)'!$D$7:$AG$243,26,0)","v":"19,"}]
[null,"팔달관",12,317,{"$f":"VLOOKUP(B133&D133,'[1]점검현황(금월)'!$D$7:$AG$243,2,0)","v":"정통컴 (자동녹화)"},{"$f":"VLOOKUP(B133&D133,'[1]점검현황(금월)'!$D$7:$AG$243,3,0)","v":"VX421"},{"$f":"VLOOKUP(B133&D133,'[1]점검현황(금월)'!$D$2:$AG$243,19,0)","v":"e-ST"},{"$f":"VLOOKUP(B133&D133,'[1]점검현황(금월)'!$D$2:$AG$243,25,0)","v":"2016-02-29"},{"$f":"VLOOKUP(B133&D133,'[1]점검현황(금월)'!$D$7:$AG$243,27,0)","v":"2016-02-29(클리닝 권고)"},{"$f":"VLOOKUP(B133&D133,'[1]점검현황(금월)'!$D$7:$AG$243,23,0)","v":216},{"$f":"VLOOKUP(B133&D133,'[1]점검현황(금월)'!$D$7:$AK$243,24,0)","v":"19:20:00"},{"$f":"VLOOKUP(B133&D133,'[1]점검현황(금월)'!$D$7:$AK$243,34,0)","v":951},314,"19:15:00",{"$f":"VLOOKUP(B133&D133,'[1]점검현황(금월)'!$D$7:$AG$243,26,0)","v":"."}]
[null,"팔달관",13,318,{"$f":"VLOOKUP(B134&D134,'[1]점검현황(금월)'!$D$7:$AG$243,2,0)","v":"정 통 컴"},{"$f":"VLOOKUP(B134&D134,'[1]점검현황(금월)'!$D$7:$AG$243,3,0)","v":"VX421"},{"$f":"VLOOKUP(B134&D134,'[1]점검현황(금월)'!$D$2:$AG$243,19,0)","v":"e-ST"},{"$f":"VLOOKUP(B134&D134,'[1]점검현황(금월)'!$D$2:$AG$243,25,0)","v":"2016-11-24"},{"$f":"VLOOKUP(B134&D134,'[1]점검현황(금월)'!$D$7:$AG$243,27,0)","v":"2016-11-24(클리닝 권고)"},{"$f":"VLOOKUP(B134&D134,'[1]점검현황(금월)'!$D$7:$AG$243,23,0)","v":225},{"$f":"VLOOKUP(B134&D134,'[1]점검현황(금월)'!$D$7:$AK$243,24,0)","v":"08:50:00"},{"$f":"VLOOKUP(B134&D134,'[1]점검현황(금월)'!$D$7:$AK$243,34,0)","v":1006},315,"19:20:00",{"$f":"VLOOKUP(B134&D134,'[1]점검현황(금월)'!$D$7:$AG$243,26,0)","v":"25,"}]
[null,"팔달관",14,323,{"$f":"VLOOKUP(B135&D135,'[1]점검현황(금월)'!$D$7:$AG$243,2,0)","v":"산업공학"},{"$f":"VLOOKUP(B135&D135,'[1]점검현황(금월)'!$D$7:$AG$243,3,0)","v":"VX600 / VX600"},{"$f":"VLOOKUP(B135&D135,'[1]점검현황(금월)'!$D$2:$AG$243,19,0)","v":"e-ST"},{"$f":"VLOOKUP(B135&D135,'[1]점검현황(금월)'!$D$2:$AG$243,25,0)","v":"18-11-12/16-02-19"},{"$f":"VLOOKUP(B135&D135,'[1]점검현황(금월)'!$D$7:$AG$243,27,0)","v":"16-02-29 / 16-02-19"},{"$f":"VLOOKUP(B135&D135,'[1]점검현황(금월)'!$D$7:$AG$243,23,0)","v":216},{"$f":"VLOOKUP(B135&D135,'[1]점검현황(금월)'!$D$7:$AK$243,24,0)","v":"10:50:00"},{"$f":"VLOOKUP(B135&D135,'[1]점검현황(금월)'!$D$7:$AK$243,34,0)","v":"202/1629"},315,"13:00:00",{"$f":"VLOOKUP(B135&D135,'[1]점검현황(금월)'!$D$7:$AG$243,26,0)","v":"."}]
[null,"팔달관",15,325,{"$f":"VLOOKUP(B136&D136,'[1]점검현황(금월)'!$D$7:$AG$243,2,0)","v":"멀티미디어 (자동녹화)"},{"$f":"VLOOKUP(B136&D136,'[1]점검현황(금월)'!$D$7:$AG$243,3,0)","v":"VX421"},{"$f":"VLOOKUP(B136&D136,'[1]점검현황(금월)'!$D$2:$AG$243,19,0)","v":"e-ST"},{"$f":"VLOOKUP(B136&D136,'[1]점검현황(금월)'!$D$2:$AG$243,25,0)","v":"2017-11-17"},{"$f":"VLOOKUP(B136&D136,'[1]점검현황(금월)'!$D$7:$AG$243,27,0)","v":"2018-11-22"},{"$f":"VLOOKUP(B136&D136,'[1]점검현황(금월)'!$D$7:$AG$243,23,0)","v":218},{"$f":"VLOOKUP(B136&D136,'[1]점검현황(금월)'!$D$7:$AK$243,24,0)","v":"14:05:00"},{"$f":"VLOOKUP(B136&D136,'[1]점검현황(금월)'!$D$7:$AK$243,34,0)","v":911},315,"08:30:00",{"$f":"VLOOKUP(B136&D136,'[1]점검현황(금월)'!$D$7:$AG$243,26,0)","v":"."}]
[null,"팔달관",16,328,{"$f":"VLOOKUP(B137&D137,'[1]점검현황(금월)'!$D$7:$AG$243,2,0)","v":"정 통 컴"},{"$f":"VLOOKUP(B137&D137,'[1]점검현황(금월)'!$D$7:$AG$243,3,0)","v":"VX421"},{"$f":"VLOOKUP(B137&D137,'[1]점검현황(금월)'!$D$2:$AG$243,19,0)","v":"e-ST"},{"$f":"VLOOKUP(B137&D137,'[1]점검현황(금월)'!$D$2:$AG$243,25,0)","v":"2017-11-23"},{"$f":"VLOOKUP(B137&D137,'[1]점검현황(금월)'!$D$7:$AG$243,27,0)","v":"2017-11-23"},{"$f":"VLOOKUP(B137&D137,'[1]점검현황(금월)'!$D$7:$AG$243,23,0)","v":218},{"$f":"VLOOKUP(B137&D137,'[1]점검현황(금월)'!$D$7:$AK$243,24,0)","v":"15:55:00"},{"$f":"VLOOKUP(B137&D137,'[1]점검현황(금월)'!$D$7:$AK$243,34,0)","v":707},315,"08:40:00",{"$f":"VLOOKUP(B137&D137,'[1]점검현황(금월)'!$D$7:$AG$243,26,0)","v":"."}]
[null,"팔달관",17,333,{"$f":"VLOOKUP(B138&D138,'[1]점검현황(금월)'!$D$7:$AG$243,2,0)","v":"정 통 컴"},{"$f":"VLOOKUP(B138&D138,'[1]점검현황(금월)'!$D$7:$AG$243,3,0)","v":"VX410"},{"$f":"VLOOKUP(B138&D138,'[1]점검현황(금월)'!$D$2:$AG$243,19,0)","v":"e-ST"},{"$f":"VLOOKUP(B138&D138,'[1]점검현황(금월)'!$D$2:$AG$243,25,0)","v":"2017-08-03"},{"$f":"VLOOKUP(B138&D138,'[1]점검현황(금월)'!$D$7:$AG$243,27,0)","v":"2017-08-03"},{"$f":"VLOOKUP(B138&D138,'[1]점검현황(금월)'!$D$7:$AG$243,23,0)","v":218},{"$f":"VLOOKUP(B138&D138,'[1]점검현황(금월)'!$D$7:$AK$243,24,0)","v":"16:00:00"},{"$f":"VLOOKUP(B138&D138,'[1]점검현황(금월)'!$D$7:$AK$243,34,0)","v":995},315,"08:45:00",{"$f":"VLOOKUP(B138&D138,'[1]점검현황(금월)'!$D$7:$AG$243,26,0)","v":"."}]
[null,"팔달관",18,336,{"$f":"VLOOKUP(B139&D139,'[1]점검현황(금월)'!$D$7:$AG$243,2,0)","v":"정 통 컴"},{"$f":"VLOOKUP(B139&D139,'[1]점검현황(금월)'!$D$7:$AG$243,3,0)","v":"VX421"},{"$f":"VLOOKUP(B139&D139,'[1]점검현황(금월)'!$D$2:$AG$243,19,0)","v":"자체"},{"$f":"VLOOKUP(B139&D139,'[1]점검현황(금월)'!$D$2:$AG$243,25,0)","v":"2017-08-28"},{"$f":"VLOOKUP(B139&D139,'[1]점검현황(금월)'!$D$7:$AG$243,27,0)","v":"2017-08-28"},{"$f":"VLOOKUP(B139&D139,'[1]점검현황(금월)'!$D$7:$AG$243,23,0)","v":218},{"$f":"VLOOKUP(B139&D139,'[1]점검현황(금월)'!$D$7:$AK$243,24,0)","v":"19:20:00"},{"$f":"VLOOKUP(B139&D139,'[1]점검현황(금월)'!$D$7:$AK$243,34,0)","v":56},315,"08:50:00",{"$f":"VLOOKUP(B139&D139,'[1]점검현황(금월)'!$D$7:$AG$243,26,0)","v":"."}]
[null,"팔달관",19,407,{"$f":"VLOOKUP(B140&D140,'[1]점검현황(금월)'!$D$7:$AG$243,2,0)","v":"SW특성화 (자동녹화)"},{"$f":"VLOOKUP(B140&D140,'[1]점검현황(금월)'!$D$7:$AG$243,3,0)","v":"EX600 / EX600 / EX600"},{"$f":"VLOOKUP(B140&D140,'[1]점검현황(금월)'!$D$2:$AG$243,19,0)","v":"e-ST"},{"$f":"VLOOKUP(B140&D140,'[1]점검현황(금월)'!$D$2:$AG$243,25,0)","v":"13-02-18/13-02-18/16-7-19"},{"$f":"VLOOKUP(B140&D140,'[1]점검현황(금월)'!$D$7:$AG$243,27,0)","v":"13-02-18/13-02-18/16-03-19"},{"$f":"VLOOKUP(B140&D140,'[1]점검현황(금월)'!$D$7:$AG$243,23,0)","v":218},{"$f":"VLOOKUP(B140&D140,'[1]점검현황(금월)'!$D$7:$AK$243,24,0)","v":"08:40:00"},{"$f":"VLOOKUP(B140&D140,'[1]점검현황(금월)'!$D$7:$AK$243,34,0)","v":"1697/1094/778"},315,"19:10:00",{"$f":"VLOOKUP(B140&D140,'[1]점검현황(금월)'!$D$7:$AG$243,26,0)","v":"."}]
[null,"팔달관",20,409,{"$f":"VLOOKUP(B141&D141,'[1]점검현황(금월)'!$D$7:$AG$243,2,0)","v":"정통컴 (자동녹화)"},{"$f":"VLOOKUP(B141&D141,'[1]점검현황(금월)'!$D$7:$AG$243,3,0)","v":"VX421"},{"$f":"VLOOKUP(B141&D141,'[1]점검현황(금월)'!$D$2:$AG$243,19,0)","v":"구"},{"$f":"VLOOKUP(B141&D141,'[1]점검현황(금월)'!$D$2:$AG$243,25,0)","v":"2017-11-23"},{"$f":"VLOOKUP(B141&D141,'[1]점검현황(금월)'!$D$7:$AG$243,27,0)","v":"2017-11-23"},{"$f":"VLOOKUP(B141&D141,'[1]점검현황(금월)'!$D$7:$AG$243,23,0)","v":218},{"$f":"VLOOKUP(B141&D141,'[1]점검현황(금월)'!$D$7:$AK$243,24,0)","v":"08:50:00"},{"$f":"VLOOKUP(B141&D141,'[1]점검현황(금월)'!$D$7:$AK$243,34,0)","v":1387},315,"19:20:00",{"$f":"VLOOKUP(B141&D141,'[1]점검현황(금월)'!$D$7:$AG$243,26,0)","v":"."}]
[null,"팔달관",21,410,{"$f":"VLOOKUP(B142&D142,'[1]점검현황(금월)'!$D$7:$AG$243,2,0)","v":"정 통 컴"},{"$f":"VLOOKUP(B142&D142,'[1]점검현황(금월)'!$D$7:$AG$243,3,0)","v":"VX600"},{"$f":"VLOOKUP(B142&D142,'[1]점검현황(금월)'!$D$2:$AG$243,19,0)","v":"구"},{"$f":"VLOOKUP(B142&D142,'[1]점검현황(금월)'!$D$2:$AG$243,25,0)","v":"2018-08-22"},{"$f":"VLOOKUP(B142&D142,'[1]점검현황(금월)'!$D$7:$AG$243,27,0)","v":"2016-11-24(클리닝 권고)"},{"$f":"VLOOKUP(B142&D142,'[1]점검현황(금월)'!$D$7:$AG$243,23,0)","v":218},{"$f":"VLOOKUP(B142&D142,'[1]점검현황(금월)'!$D$7:$AK$243,24,0)","v":"09:00:00"},{"$f":"VLOOKUP(B142&D142,'[1]점검현황(금월)'!$D$7:$AK$243,34,0)","v":105},315,"09:00:00",{"$f":"VLOOKUP(B142&D142,'[1]점검현황(금월)'!$D$7:$AG$243,26,0)","v":"."}]
[null,"팔달관",22,415,{"$f":"VLOOKUP(B143&D143,'[1]점검현황(금월)'!$D$7:$AG$243,2,0)","v":"교통시스템"},{"$f":"VLOOKUP(B143&D143,'[1]점검현황(금월)'!$D$7:$AG$243,3,0)","v":"LB353"},{"$f":"VLOOKUP(B143&D143,'[1]점검현황(금월)'!$D$2:$AG$243,19,0)","v":"자체"},{"$f":"VLOOKUP(B143&D143,'[1]점검현황(금월)'!$D$2:$AG$243,25,0)","v":"2017-12-06"},{"$f":"VLOOKUP(B143&D143,'[1]점검현황(금월)'!$D$7:$AG$243,27,0)","v":"2017-12-06"},{"$f":"VLOOKUP(B143&D143,'[1]점검현황(금월)'!$D$7:$AG$243,23,0)","v":218},{"$f":"VLOOKUP(B143&D143,'[1]점검현황(금월)'!$D$7:$AK$243,24,0)","v":"09:10:00"},{"$f":"VLOOKUP(B143&D143,'[1]점검현황(금월)'!$D$7:$AK$243,34,0)","v":100},315,"09:10:00",{"$f":"VLOOKUP(B143&D143,'[1]점검현황(금월)'!$D$7:$AG$243,26,0)","v":"."}]
[null,"팔달관",23,435,{"$f":"VLOOKUP(B144&D144,'[1]점검현황(금월)'!$D$7:$AG$243,2,0)","v":"수학과 LAB"},{"$f":"VLOOKUP(B144&D144,'[1]점검현황(금월)'!$D$7:$AG$243,3,0)","v":"EW730 / XU105K"},{"$f":"VLOOKUP(B144&D144,'[1]점검현황(금월)'!$D$2:$AG$243,19,0)","v":"e-ST"},{"$f":"VLOOKUP(B144&D144,'[1]점검현황(금월)'!$D$2:$AG$243,25,0)","v":"16-08-16 / 15-09-16"},{"$f":"VLOOKUP(B144&D144,'[1]점검현황(금월)'!$D$7:$AG$243,27,0)","v":"16-08-16 / 날짜 확인 불가(클리닝 권고)"},{"$f":"VLOOKUP(B144&D144,'[1]점검현황(금월)'!$D$7:$AG$243,23,0)","v":218},{"$f":"VLOOKUP(B144&D144,'[1]점검현황(금월)'!$D$7:$AK$243,24,0)","v":"09:30:00"},{"$f":"VLOOKUP(B144&D144,'[1]점검현황(금월)'!$D$7:$AK$243,34,0)","v":"1605/80"},316,"09:15:00",{"$f":"VLOOKUP(B144&D144,'[1]점검현황(금월)'!$D$7:$AG$243,26,0)","v":"."}]
[null,"팔달관",24,621,{"$f":"VLOOKUP(B145&D145,'[1]점검현황(금월)'!$D$7:$AG$243,2,0)","v":"수학과 LAB"},{"$f":"VLOOKUP(B145&D145,'[1]점검현황(금월)'!$D$7:$AG$243,3,0)","v":"EB-5900"},{"$f":"VLOOKUP(B145&D145,'[1]점검현황(금월)'!$D$2:$AG$243,19,0)","v":"e-ST"},{"$f":"VLOOKUP(B145&D145,'[1]점검현황(금월)'!$D$2:$AG$243,25,0)","v":"2016-05-27"},{"$f":"VLOOKUP(B145&D145,'[1]점검현황(금월)'!$D$7:$AG$243,27,0)","v":"날짜 확인 불가(클리닝 권고)"},{"$f":"VLOOKUP(B145&D145,'[1]점검현황(금월)'!$D$7:$AG$243,23,0)","v":219},{"$f":"VLOOKUP(B145&D145,'[1]점검현황(금월)'!$D$7:$AK$243,24,0)","v":"19:00:00"},{"$f":"VLOOKUP(B145&D145,'[1]점검현황(금월)'!$D$7:$AK$243,34,0)","v":692},316,"09:20:00",{"$f":"VLOOKUP(B145&D145,'[1]점검현황(금월)'!$D$7:$AG$243,26,0)","v":"."}]
[null,"팔달관",25,735,{"$f":"VLOOKUP(B146&D146,'[1]점검현황(금월)'!$D$7:$AG$243,2,0)","v":"대학원"},{"$f":"VLOOKUP(B146&D146,'[1]점검현황(금월)'!$D$7:$AG$243,3,0)","v":"VX421"},{"$f":"VLOOKUP(B146&D146,'[1]점검현황(금월)'!$D$2:$AG$243,19,0)","v":"e-ST"},{"$f":"VLOOKUP(B146&D146,'[1]점검현황(금월)'!$D$2:$AG$243,25,0)","v":"2017-02-22"},{"$f":"VLOOKUP(B146&D146,'[1]점검현황(금월)'!$D$7:$AG$243,27,0)","v":"2017-02-22"},{"$f":"VLOOKUP(B146&D146,'[1]점검현황(금월)'!$D$7:$AG$243,23,0)","v":219},{"$f":"VLOOKUP(B146&D146,'[1]점검현황(금월)'!$D$7:$AK$243,24,0)","v":"19:10:00"},{"$f":"VLOOKUP(B146&D146,'[1]점검현황(금월)'!$D$7:$AK$243,34,0)","v":1300},316,"09:30:00",{"$f":"VLOOKUP(B146&D146,'[1]점검현황(금월)'!$D$7:$AG$243,26,0)","v":"."}]
[null,"팔달관",26,1001,{"$f":"VLOOKUP(B147&D147,'[1]점검현황(금월)'!$D$7:$AG$243,2,0)","v":"대학원"},{"$f":"VLOOKUP(B147&D147,'[1]점검현황(금월)'!$D$7:$AG$243,3,0)","v":"VX421"},{"$f":"VLOOKUP(B147&D147,'[1]점검현황(금월)'!$D$2:$AG$243,19,0)","v":"e-ST"},{"$f":"VLOOKUP(B147&D147,'[1]점검현황(금월)'!$D$2:$AG$243,25,0)","v":"2017-02-22"},{"$f":"VLOOKUP(B147&D147,'[1]점검현황(금월)'!$D$7:$AG$243,27,0)","v":"2017-02-22"},{"$f":"VLOOKUP(B147&D147,'[1]점검현황(금월)'!$D$7:$AG$243,23,0)","v":219},{"$f":"VLOOKUP(B147&D147,'[1]점검현황(금월)'!$D$7:$AK$243,24,0)","v":"19:20:00"},{"$f":"VLOOKUP(B147&D147,'[1]점검현황(금월)'!$D$7:$AK$243,34,0)","v":1202},316,"09:40:00",{"$f":"VLOOKUP(B147&D147,'[1]점검현황(금월)'!$D$7:$AG$243,26,0)","v":"."}]
[null,"팔달관",27,1002,{"$f":"VLOOKUP(B148&D148,'[1]점검현황(금월)'!$D$7:$AG$243,2,0)","v":"대학원"},{"$f":"VLOOKUP(B148&D148,'[1]점검현황(금월)'!$D$7:$AG$243,3,0)","v":"VX421"},{"$f":"VLOOKUP(B148&D148,'[1]점검현황(금월)'!$D$2:$AG$243,19,0)","v":"e-ST"},{"$f":"VLOOKUP(B148&D148,'[1]점검현황(금월)'!$D$2:$AG$243,25,0)","v":"2017-02-22"},{"$f":"VLOOKUP(B148&D148,'[1]점검현황(금월)'!$D$7:$AG$243,27,0)","v":"2017-02-22"},{"$f":"VLOOKUP(B148&D148,'[1]점검현황(금월)'!$D$7:$AG$243,23,0)","v":219},{"$f":"VLOOKUP(B148&D148,'[1]점검현황(금월)'!$D$7:$AK$243,24,0)","v":"08:30:00"},{"$f":"VLOOKUP(B148&D148,'[1]점검현황(금월)'!$D$7:$AK$243,34,0)","v":1284},316,"09:50:00",{"$f":"VLOOKUP(B148&D148,'[1]점검현황(금월)'!$D$7:$AG$243,26,0)","v":"."}]
[null,"팔달관",28,1020,{"$f":"VLOOKUP(B149&D149,'[1]점검현황(금월)'!$D$7:$AG$243,2,0)","v":"건설교통 (CAD실)"},{"$f":"VLOOKUP(B149&D149,'[1]점검현황(금월)'!$D$7:$AG$243,3,0)","v":"VX400"},{"$f":"VLOOKUP(B149&D149,'[1]점검현황(금월)'!$D$2:$AG$243,19,0)","v":"e-ST"},{"$f":"VLOOKUP(B149&D149,'[1]점검현황(금월)'!$D$2:$AG$243,25,0)","v":"2016-02-16"},{"$f":"VLOOKUP(B149&D149,'[1]점검현황(금월)'!$D$7:$AG$243,27,0)","v":"2016-02-16(클리닝 권고)"},{"$f":"VLOOKUP(B149&D149,'[1]점검현황(금월)'!$D$7:$AG$243,23,0)","v":219},{"$f":"VLOOKUP(B149&D149,'[1]점검현황(금월)'!$D$7:$AK$243,24,0)","v":"08:50:00"},{"$f":"VLOOKUP(B149&D149,'[1]점검현황(금월)'!$D$7:$AK$243,34,0)","v":1400},316,"10:10:00",{"$f":"VLOOKUP(B149&D149,'[1]점검현황(금월)'!$D$7:$AG$243,26,0)","v":"."}]
[null,"팔달관",29,1023,{"$f":"VLOOKUP(B150&D150,'[1]점검현황(금월)'!$D$7:$AG$243,2,0)","v":"토목공학 (CAD실)"},{"$f":"VLOOKUP(B150&D150,'[1]점검현황(금월)'!$D$7:$AG$243,3,0)","v":"XU105K"},{"$f":"VLOOKUP(B150&D150,'[1]점검현황(금월)'!$D$2:$AG$243,19,0)","v":"구"},{"$f":"VLOOKUP(B150&D150,'[1]점검현황(금월)'!$D$2:$AG$243,25,0)","v":"2017-08-29"},{"$f":"VLOOKUP(B150&D150,'[1]점검현황(금월)'!$D$7:$AG$243,27,0)","v":"날짜 확인 불가(클리닝 권고)"},{"$f":"VLOOKUP(B150&D150,'[1]점검현황(금월)'!$D$7:$AG$243,23,0)","v":219},{"$f":"VLOOKUP(B150&D150,'[1]점검현황(금월)'!$D$7:$AK$243,24,0)","v":"19:00:00"},{"$f":"VLOOKUP(B150&D150,'[1]점검현황(금월)'!$D$7:$AK$243,34,0)","v":314},316,"10:20:00",{"$f":"VLOOKUP(B150&D150,'[1]점검현황(금월)'!$D$7:$AG$243,26,0)","v":"."}]
[null,"팔달관",30,1025,{"$f":"VLOOKUP(B151&D151,'[1]점검현황(금월)'!$D$7:$AG$243,2,0)","v":"정 통 컴"},{"$f":"VLOOKUP(B151&D151,'[1]점검현황(금월)'!$D$7:$AG$243,3,0)","v":"VX600"},{"$f":"VLOOKUP(B151&D151,'[1]점검현황(금월)'!$D$2:$AG$243,19,0)","v":"e-ST"},{"$f":"VLOOKUP(B151&D151,'[1]점검현황(금월)'!$D$2:$AG$243,25,0)","v":"2016-03-17"},{"$f":"VLOOKUP(B151&D151,'[1]점검현황(금월)'!$D$7:$AG$243,27,0)","v":"2016-03-17(클리닝 권고)"},{"$f":"VLOOKUP(B151&D151,'[1]점검현황(금월)'!$D$7:$AG$243,23,0)","v":219},{"$f":"VLOOKUP(B151&D151,'[1]점검현황(금월)'!$D$7:$AK$243,24,0)","v":"19:10:00"},{"$f":"VLOOKUP(B151&D151,'[1]점검현황(금월)'!$D$7:$AK$243,34,0)","v":1900},316,"10:30:00",{"$f":"VLOOKUP(B151&D151,'[1]점검현황(금월)'!$D$7:$AG$243,26,0)","v":"."}]
["산학원","산학원",1,"B103",{"$f":"VLOOKUP(B152&D152,'[1]점검현황(금월)'!$D$7:$AG$243,2,0)","v":"미디어 (자동녹화)"},{"$f":"VLOOKUP(B152&D152,'[1]점검현황(금월)'!$D$7:$AG$243,3,0)","v":"EX500E / EX500E"},{"$f":"VLOOKUP(B152&D152,'[1]점검현황(금월)'!$D$2:$AG$243,19,0)","v":"e-ST"},{"$f":"VLOOKUP(B152&D152,'[1]점검현황(금월)'!$D$2:$AG$243,25,0)","v":"17-05-22 / 18-04-19"},{"$f":"VLOOKUP(B152&D152,'[1]점검현황(금월)'!$D$7:$AG$243,27,0)","v":"날짜 확인 불가(클리닝 권고)"},{"$f":"VLOOKUP(B152&D152,'[1]점검현황(금월)'!$D$7:$AG$243,23,0)","v":219},{"$f":"VLOOKUP(B152&D152,'[1]점검현황(금월)'!$D$7:$AK$243,24,0)","v":"19:20:00"},{"$f":"VLOOKUP(B152&D152,'[1]점검현황(금월)'!$D$7:$AK$243,34,0)","v":"1064/443"},316,"10:40:00",{"$f":"VLOOKUP(B152&D152,'[1]점검현황(금월)'!$D$7:$AG$243,26,0)","v":"."}]
[null,"산학원",2,113,{"$f":"VLOOKUP(B153&D153,'[1]점검현황(금월)'!$D$7:$AG$243,2,0)","v":"평생교육원"},{"$f":"VLOOKUP(B153&D153,'[1]점검현황(금월)'!$D$7:$AG$243,3,0)","v":"VX421"},{"$f":"VLOOKUP(B153&D153,'[1]점검현황(금월)'!$D$2:$AG$243,19,0)","v":"e-ST"},{"$f":"VLOOKUP(B153&D153,'[1]점검현황(금월)'!$D$2:$AG$243,25,0)","v":"2017-03-28"},{"$f":"VLOOKUP(B153&D153,'[1]점검현황(금월)'!$D$7:$AG$243,27,0)","v":"2017-03-28"},{"$f":"VLOOKUP(B153&D153,'[1]점검현황(금월)'!$D$7:$AG$243,23,0)","v":219},{"$f":"VLOOKUP(B153&D153,'[1]점검현황(금월)'!$D$7:$AK$243,24,0)","v":"09:00:00"},{"$f":"VLOOKUP(B153&D153,'[1]점검현황(금월)'!$D$7:$AK$243,34,0)","v":1259},316,"19:00:00",{"$f":"VLOOKUP(B153&D153,'[1]점검현황(금월)'!$D$7:$AG$243,26,0)","v":"."}]
[null,"산학원",3,115,{"$f":"VLOOKUP(B154&D154,'[1]점검현황(금월)'!$D$7:$AG$243,2,0)","v":"평생교육원"},{"$f":"VLOOKUP(B154&D154,'[1]점검현황(금월)'!$D$7:$AG$243,3,0)","v":"VX421"},{"$f":"VLOOKUP(B154&D154,'[1]점검현황(금월)'!$D$2:$AG$243,19,0)","v":"e-ST"},{"$f":"VLOOKUP(B154&D154,'[1]점검현황(금월)'!$D$2:$AG$243,25,0)","v":"2017-03-28"},{"$f":"VLOOKUP(B154&D154,'[1]점검현황(금월)'!$D$7:$AG$243,27,0)","v":"2017-03-28"},{"$f":"VLOOKUP(B154&D154,'[1]점검현황(금월)'!$D$7:$AG$243,23,0)","v":220},{"$f":"VLOOKUP(B154&D154,'[1]점검현황(금월)'!$D$7:$AK$243,24,0)","v":"09:10:00"},{"$f":"VLOOKUP(B154&D154,'[1]점검현황(금월)'!$D$7:$AK$243,34,0)","v":1444},316,"19:10:00",{"$f":"VLOOKUP(B154&D154,'[1]점검현황(금월)'!$D$7:$AG$243,26,0)","v":"."}]
[null,"산학원",4,117,{"$f":"VLOOKUP(B155&D155,'[1]점검현황(금월)'!$D$7:$AG$243,2,0)","v":"평생교육원"},{"$f":"VLOOKUP(B155&D155,'[1]점검현황(금월)'!$D$7:$AG$243,3,0)","v":"VX421"},{"$f":"VLOOKUP(B155&D155,'[1]점검현황(금월)'!$D$2:$AG$243,19,0)","v":"e-ST"},{"$f":"VLOOKUP(B155&D155,'[1]점검현황(금월)'!$D$2:$AG$243,25,0)","v":"2017-03-28"},{"$f":"VLOOKUP(B155&D155,'[1]점검현황(금월)'!$D$7:$AG$243,27,0)","v":"2017-03-28"},{"$f":"VLOOKUP(B155&D155,'[1]점검현황(금월)'!$D$7:$AG$243,23,0)","v":220},{"$f":"VLOOKUP(B155&D155,'[1]점검현황(금월)'!$D$7:$AK$243,24,0)","v":"09:30:00"},{"$f":"VLOOKUP(B155&D155,'[1]점검현황(금월)'!$D$7:$AK$243,34,0)","v":2368},316,"19:20:00",{"$f":"VLOOKUP(B155&D155,'[1]점검현황(금월)'!$D$7:$AG$243,26,0)","v":"."}]
[null,"산학원",5,118,{"$f":"VLOOKUP(B156&D156,'[1]점검현황(금월)'!$D$7:$AG$243,2,0)","v":"평생교육원"},{"$f":"VLOOKUP(B156&D156,'[1]점검현황(금월)'!$D$7:$AG$243,3,0)","v":"VX410"},{"$f":"VLOOKUP(B156&D156,'[1]점검현황(금월)'!$D$2:$AG$243,19,0)","v":"e-ST"},{"$f":"VLOOKUP(B156&D156,'[1]점검현황(금월)'!$D$2:$AG$243,25,0)","v":"2014-05-16"},{"$f":"VLOOKUP(B156&D156,'[1]점검현황(금월)'!$D$7:$AG$243,27,0)","v":"날짜 확인 불가(클리닝 권고)"},{"$f":"VLOOKUP(B156&D156,'[1]점검현황(금월)'!$D$7:$AG$243,23,0)","v":220},{"$f":"VLOOKUP(B156&D156,'[1]점검현황(금월)'!$D$7:$AK$243,24,0)","v":"19:00:00"},{"$f":"VLOOKUP(B156&D156,'[1]점검현황(금월)'!$D$7:$AK$243,34,0)","v":1949},316,"08:30:00",{"$f":"VLOOKUP(B156&D156,'[1]점검현황(금월)'!$D$7:$AG$243,26,0)","v":"."}]
[null,"산학원",6,119,{"$f":"VLOOKUP(B157&D157,'[1]점검현황(금월)'!$D$7:$AG$243,2,0)","v":"평생교육원"},{"$f":"VLOOKUP(B157&D157,'[1]점검현황(금월)'!$D$7:$AG$243,3,0)","v":"XU106K"},{"$f":"VLOOKUP(B157&D157,'[1]점검현황(금월)'!$D$2:$AG$243,19,0)","v":"e-ST"},{"$f":"VLOOKUP(B157&D157,'[1]점검현황(금월)'!$D$2:$AG$243,25,0)","v":"2015-03-13"},{"$f":"VLOOKUP(B157&D157,'[1]점검현황(금월)'!$D$7:$AG$243,27,0)","v":"날짜 확인 불가(클리닝 권고)"},{"$f":"VLOOKUP(B157&D157,'[1]점검현황(금월)'!$D$7:$AG$243,23,0)","v":220},{"$f":"VLOOKUP(B157&D157,'[1]점검현황(금월)'!$D$7:$AK$243,24,0)","v":"19:10:00"},{"$f":"VLOOKUP(B157&D157,'[1]점검현황(금월)'!$D$7:$AK$243,34,0)","v":269},316,"08:40:00",{"$f":"VLOOKUP(B157&D157,'[1]점검현황(금월)'!$D$7:$AG$243,26,0)","v":"."}]
[null,"산학원 ",7,204,"미디어","VX600","e-ST",{"$nulls":5},316]
[null,"산학원",8,415,{"$f":"VLOOKUP(B159&D159,'[1]점검현황(금월)'!$D$7:$AG$243,2,0)","v":"미디어 (PC실)"},{"$f":"VLOOKUP(B159&D159,'[1]점검현황(금월)'!$D$7:$AG$243,3,0)","v":"XU106K"},{"$f":"VLOOKUP(B159&D159,'[1]점검현황(금월)'!$D$2:$AG$243,19,0)","v":"e-ST"},{"$f":"VLOOKUP(B159&D159,'[1]점검현황(금월)'!$D$2:$AG$243,25,0)","v":"2018-03-27"},{"$f":"VLOOKUP(B159&D159,'[1]점검현황(금월)'!$D$7:$AG$243,27,0)","v":"2015-11-12(클리닝 권고)"},{"$f":"VLOOKUP(B159&D159,'[1]점검현황(금월)'!$D$7:$AG$243,23,0)","v":220},{"$f":"VLOOKUP(B159&D159,'[1]점검현황(금월)'!$D$7:$AK$243,24,0)","v":"08:30:00"},{"$f":"VLOOKUP(B159&D159,'[1]점검현황(금월)'!$D$7:$AK$243,34,0)","v":796},316,"10:50:00",{"$f":"VLOOKUP(B159&D159,'[1]점검현황(금월)'!$D$7:$AG$243,26,0)","v":"."}]
[null,"산학원",9,419,{"$f":"VLOOKUP(B160&D160,'[1]점검현황(금월)'!$D$7:$AG$243,2,0)","v":"미디어 (PC실)"},{"$f":"VLOOKUP(B160&D160,'[1]점검현황(금월)'!$D$7:$AG$243,3,0)","v":"EX500E"},{"$f":"VLOOKUP(B160&D160,'[1]점검현황(금월)'!$D$2:$AG$243,19,0)","v":"e-ST"},{"$f":"VLOOKUP(B160&D160,'[1]점검현황(금월)'!$D$2:$AG$243,25,0)","v":"2018-03-27"},{"$f":"VLOOKUP(B160&D160,'[1]점검현황(금월)'!$D$7:$AG$243,27,0)","v":"날짜 확인 불가(클리닝 권고)"},{"$f":"VLOOKUP(B160&D160,'[1]점검현황(금월)'!$D$7:$AG$243,23,0)","v":220},{"$f":"VLOOKUP(B160&D160,'[1]점검현황(금월)'!$D$7:$AK$243,24,0)","v":"08:40:00"},{"$f":"VLOOKUP(B160&D160,'[1]점검현황(금월)'!$D$7:$AK$243,34,0)","v":353},316,"11:00:00",{"$f":"VLOOKUP(B160&D160,'[1]점검현황(금월)'!$D$7:$AG$243,26,0)","v":"."}]
[null,"산학원",10,420,{"$f":"VLOOKUP(B161&D161,'[1]점검현황(금월)'!$D$7:$AG$243,2,0)","v":"미디어 (PC실)"},{"$f":"VLOOKUP(B161&D161,'[1]점검현황(금월)'!$D$7:$AG$243,3,0)","v":"EX500E"},{"$f":"VLOOKUP(B161&D161,'[1]점검현황(금월)'!$D$2:$AG$243,19,0)","v":"e-ST"},{"$f":"VLOOKUP(B161&D161,'[1]점검현황(금월)'!$D$2:$AG$243,25,0)","v":"2018-07-03"},{"$f":"VLOOKUP(B161&D161,'[1]점검현황(금월)'!$D$7:$AG$243,27,0)","v":"날짜 확인 불가(클리닝 권고)"},{"$f":"VLOOKUP(B161&D161,'[1]점검현황(금월)'!$D$7:$AG$243,23,0)","v":220},{"$f":"VLOOKUP(B161&D161,'[1]점검현황(금월)'!$D$7:$AK$243,24,0)","v":"08:50:00"},{"$f":"VLOOKUP(B161&D161,'[1]점검현황(금월)'!$D$7:$AK$243,34,0)","v":228},316,"11:10:00",{"$f":"VLOOKUP(B161&D161,'[1]점검현황(금월)'!$D$7:$AG$243,26,0)","v":"."}]
[null,"산학원",11,421,{"$f":"VLOOKUP(B162&D162,'[1]점검현황(금월)'!$D$7:$AG$243,2,0)","v":"미디어 (PC실)"},{"$f":"VLOOKUP(B162&D162,'[1]점검현황(금월)'!$D$7:$AG$243,3,0)","v":"XU106K"},{"$f":"VLOOKUP(B162&D162,'[1]점검현황(금월)'!$D$2:$AG$243,19,0)","v":"e-ST"},{"$f":"VLOOKUP(B162&D162,'[1]점검현황(금월)'!$D$2:$AG$243,25,0)","v":"2018-03-27"},{"$f":"VLOOKUP(B162&D162,'[1]점검현황(금월)'!$D$7:$AG$243,27,0)","v":"2015-11-12(클리닝 권고)"},{"$f":"VLOOKUP(B162&D162,'[1]점검현황(금월)'!$D$7:$AG$243,23,0)","v":220},{"$f":"VLOOKUP(B162&D162,'[1]점검현황(금월)'!$D$7:$AK$243,24,0)","v":"19:00:00"},{"$f":"VLOOKUP(B162&D162,'[1]점검현황(금월)'!$D$7:$AK$243,34,0)","v":577},316,"11:20:00",{"$f":"VLOOKUP(B162&D162,'[1]점검현황(금월)'!$D$7:$AG$243,26,0)","v":"."}]
[null,"산학원",12,422,{"$f":"VLOOKUP(B163&D163,'[1]점검현황(금월)'!$D$7:$AG$243,2,0)","v":"미디어 (자동녹화)"},{"$f":"VLOOKUP(B163&D163,'[1]점검현황(금월)'!$D$7:$AG$243,3,0)","v":"VX421"},{"$f":"VLOOKUP(B163&D163,'[1]점검현황(금월)'!$D$2:$AG$243,19,0)","v":"구e-ST"},{"$f":"VLOOKUP(B163&D163,'[1]점검현황(금월)'!$D$2:$AG$243,25,0)","v":"2017-05-22"},{"$f":"VLOOKUP(B163&D163,'[1]점검현황(금월)'!$D$7:$AG$243,27,0)","v":"2017-05-22"},{"$f":"VLOOKUP(B163&D163,'[1]점검현황(금월)'!$D$7:$AG$243,23,0)","v":220},{"$f":"VLOOKUP(B163&D163,'[1]점검현황(금월)'!$D$7:$AK$243,24,0)","v":"19:10:00"},{"$f":"VLOOKUP(B163&D163,'[1]점검현황(금월)'!$D$7:$AK$243,34,0)","v":850},316,"11:30:00",{"$f":"VLOOKUP(B163&D163,'[1]점검현황(금월)'!$D$7:$AG$243,26,0)","v":"."}]
[null,"산학원",13,"422-1",{"$f":"VLOOKUP(B164&D164,'[1]점검현황(금월)'!$D$7:$AG$243,2,0)","v":"미디어"},{"$f":"VLOOKUP(B164&D164,'[1]점검현황(금월)'!$D$7:$AG$243,3,0)","v":"OPTOMA"},{"$f":"VLOOKUP(B164&D164,'[1]점검현황(금월)'!$D$2:$AG$243,19,0)","v":"e-ST"},{"$f":"VLOOKUP(B164&D164,'[1]점검현황(금월)'!$D$2:$AG$243,25,0)","v":"2016-01-15"},{"$f":"VLOOKUP(B164&D164,'[1]점검현황(금월)'!$D$7:$AG$243,27,0)","v":"2016-01-15(클리닝 권고)"},{"$f":"VLOOKUP(B164&D164,'[1]점검현황(금월)'!$D$7:$AG$243,23,0)","v":221},{"$f":"VLOOKUP(B164&D164,'[1]점검현황(금월)'!$D$7:$AK$243,24,0)","v":"19:20:00"},{"$f":"VLOOKUP(B164&D164,'[1]점검현황(금월)'!$D$7:$AK$243,34,0)","v":930},316,"11:40:00",{"$f":"VLOOKUP(B164&D164,'[1]점검현황(금월)'!$D$7:$AG$243,26,0)","v":"."}]
[null,"산학원",14,504,{"$f":"VLOOKUP(B165&D165,'[1]점검현황(금월)'!$D$7:$AG$243,2,0)","v":"대학원지식정보안학과"},{"$f":"VLOOKUP(B165&D165,'[1]점검현황(금월)'!$D$7:$AG$243,3,0)","v":"XU106K"},{"$f":"VLOOKUP(B165&D165,'[1]점검현황(금월)'!$D$2:$AG$243,19,0)","v":"자체"},{"$f":"VLOOKUP(B165&D165,'[1]점검현황(금월)'!$D$2:$AG$243,25,0)","v":"2015-09-17"},{"$f":"VLOOKUP(B165&D165,'[1]점검현황(금월)'!$D$7:$AG$243,27,0)","v":"2013-09-10(클리닝 권고)"},{"$f":"VLOOKUP(B165&D165,'[1]점검현황(금월)'!$D$7:$AG$243,23,0)","v":221},{"$f":"VLOOKUP(B165&D165,'[1]점검현황(금월)'!$D$7:$AK$243,24,0)","v":"09:00:00"},{"$f":"VLOOKUP(B165&D165,'[1]점검현황(금월)'!$D$7:$AK$243,34,0)","v":611},316,"11:50:00",{"$f":"VLOOKUP(B165&D165,'[1]점검현황(금월)'!$D$7:$AG$243,26,0)","v":"."}]
[null,"산학원",15,505,{"$f":"VLOOKUP(B166&D166,'[1]점검현황(금월)'!$D$7:$AG$243,2,0)","v":"대학원지식정보안학과"},{"$f":"VLOOKUP(B166&D166,'[1]점검현황(금월)'!$D$7:$AG$243,3,0)","v":"XU106K"},{"$f":"VLOOKUP(B166&D166,'[1]점검현황(금월)'!$D$2:$AG$243,19,0)","v":"자체"},{"$f":"VLOOKUP(B166&D166,'[1]점검현황(금월)'!$D$2:$AG$243,25,0)","v":"2015-08-27"},{"$f":"VLOOKUP(B166&D166,'[1]점검현황(금월)'!$D$7:$AG$243,27,0)","v":"2015-08-28(클리닝 권고)"},{"$f":"VLOOKUP(B166&D166,'[1]점검현황(금월)'!$D$7:$AG$243,23,0)","v":221},{"$f":"VLOOKUP(B166&D166,'[1]점검현황(금월)'!$D$7:$AK$243,24,0)","v":"09:10:00"},{"$f":"VLOOKUP(B166&D166,'[1]점검현황(금월)'!$D$7:$AK$243,34,0)","v":1052},316,"12:00:00",{"$f":"VLOOKUP(B166&D166,'[1]점검현황(금월)'!$D$7:$AG$243,26,0)","v":"."}]
[null,"산학원",16,713,{"$f":"VLOOKUP(B167&D167,'[1]점검현황(금월)'!$D$7:$AG$243,2,0)","v":"회의실"},{"$f":"VLOOKUP(B167&D167,'[1]점검현황(금월)'!$D$7:$AG$243,3,0)","v":"OPTOMA"},{"$f":"VLOOKUP(B167&D167,'[1]점검현황(금월)'!$D$2:$AG$243,19,0)","v":"자체"},{"$f":"VLOOKUP(B167&D167,'[1]점검현황(금월)'!$D$2:$AG$243,25,0)","v":"2018-08-28"},{"$f":"VLOOKUP(B167&D167,'[1]점검현황(금월)'!$D$7:$AG$243,27,0)","v":"2018-08-28"},{"$f":"VLOOKUP(B167&D167,'[1]점검현황(금월)'!$D$7:$AG$243,23,0)","v":221},{"$f":"VLOOKUP(B167&D167,'[1]점검현황(금월)'!$D$7:$AK$243,24,0)","v":"09:20:00"},{"$f":"VLOOKUP(B167&D167,'[1]점검현황(금월)'!$D$7:$AK$243,34,0)","v":136},316,"13:00:00",{"$f":"VLOOKUP(B167&D167,'[1]점검현황(금월)'!$D$7:$AG$243,26,0)","v":"."}]
[null,"산학원",17,811,{"$f":"VLOOKUP(B168&D168,'[1]점검현황(금월)'!$D$7:$AG$243,2,0)","v":"회의실"},{"$f":"VLOOKUP(B168&D168,'[1]점검현황(금월)'!$D$7:$AG$243,3,0)","v":"OPTOMA"},{"$f":"VLOOKUP(B168&D168,'[1]점검현황(금월)'!$D$2:$AG$243,19,0)","v":"자체"},{"$f":"VLOOKUP(B168&D168,'[1]점검현황(금월)'!$D$2:$AG$243,25,0)","v":"2018-08-28"},{"$f":"VLOOKUP(B168&D168,'[1]점검현황(금월)'!$D$7:$AG$243,27,0)","v":"2018-08-28"},{"$f":"VLOOKUP(B168&D168,'[1]점검현황(금월)'!$D$7:$AG$243,23,0)","v":221},{"$f":"VLOOKUP(B168&D168,'[1]점검현황(금월)'!$D$7:$AK$243,24,0)","v":"16:30:00"},{"$f":"VLOOKUP(B168&D168,'[1]점검현황(금월)'!$D$7:$AK$243,34,0)","v":77},316,"13:05:00",{"$f":"VLOOKUP(B168&D168,'[1]점검현황(금월)'!$D$7:$AG$243,26,0)","v":"."}]
[null,"산학원",18,825,{"$f":"VLOOKUP(B169&D169,'[1]점검현황(금월)'!$D$7:$AG$243,2,0)","v":"전공 - 건축"},{"$f":"VLOOKUP(B169&D169,'[1]점검현황(금월)'!$D$7:$AG$243,3,0)","v":"OPTOMA"},{"$f":"VLOOKUP(B169&D169,'[1]점검현황(금월)'!$D$2:$AG$243,19,0)","v":"e-ST"},{"$f":"VLOOKUP(B169&D169,'[1]점검현황(금월)'!$D$2:$AG$243,25,0)","v":"2018-08-28"},{"$f":"VLOOKUP(B169&D169,'[1]점검현황(금월)'!$D$7:$AG$243,27,0)","v":"2018-08-28"},{"$f":"VLOOKUP(B169&D169,'[1]점검현황(금월)'!$D$7:$AG$243,23,0)","v":221},{"$f":"VLOOKUP(B169&D169,'[1]점검현황(금월)'!$D$7:$AK$243,24,0)","v":"09:30:00"},{"$f":"VLOOKUP(B169&D169,'[1]점검현황(금월)'!$D$7:$AK$243,34,0)","v":176},316,"13:10:00",{"$f":"VLOOKUP(B169&D169,'[1]점검현황(금월)'!$D$7:$AG$243,26,0)","v":"."}]
[null,"산학원",19,827,{"$f":"VLOOKUP(B170&D170,'[1]점검현황(금월)'!$D$7:$AG$243,2,0)","v":"전공 - 건축"},{"$f":"VLOOKUP(B170&D170,'[1]점검현황(금월)'!$D$7:$AG$243,3,0)","v":"OPTOMA"},{"$f":"VLOOKUP(B170&D170,'[1]점검현황(금월)'!$D$2:$AG$243,19,0)","v":"자체"},{"$f":"VLOOKUP(B170&D170,'[1]점검현황(금월)'!$D$2:$AG$243,25,0)","v":"2018-08-28"},{"$f":"VLOOKUP(B170&D170,'[1]점검현황(금월)'!$D$7:$AG$243,27,0)","v":"2018-08-28"},{"$f":"VLOOKUP(B170&D170,'[1]점검현황(금월)'!$D$7:$AG$243,23,0)","v":221},{"$f":"VLOOKUP(B170&D170,'[1]점검현황(금월)'!$D$7:$AK$243,24,0)","v":"09:40:00"},{"$f":"VLOOKUP(B170&D170,'[1]점검현황(금월)'!$D$7:$AK$243,34,0)","v":86},316,"13:20:00",{"$f":"VLOOKUP(B170&D170,'[1]점검현황(금월)'!$D$7:$AG$243,26,0)","v":"."}]
["학군단","학군단",1,"1강의",{"$f":"VLOOKUP(B171&D171,'[1]점검현황(금월)'!$D$7:$AG$243,2,0)","v":"멀티미디어"},{"$f":"VLOOKUP(B171&D171,'[1]점검현황(금월)'!$D$7:$AG$243,3,0)","v":"VX421"},{"$f":"VLOOKUP(B171&D171,'[1]점검현황(금월)'!$D$2:$AG$243,19,0)","v":"구"},{"$f":"VLOOKUP(B171&D171,'[1]점검현황(금월)'!$D$2:$AG$243,25,0)","v":"2017-12-08"},{"$f":"VLOOKUP(B171&D171,'[1]점검현황(금월)'!$D$7:$AG$243,27,0)","v":"2018-12-17"},{"$f":"VLOOKUP(B171&D171,'[1]점검현황(금월)'!$D$7:$AG$243,23,0)","v":221},{"$f":"VLOOKUP(B171&D171,'[1]점검현황(금월)'!$D$7:$AK$243,24,0)","v":"09:50:00"},{"$f":"VLOOKUP(B171&D171,'[1]점검현황(금월)'!$D$7:$AK$243,34,0)","v":102},316,"13:30:00",{"$f":"VLOOKUP(B171&D171,'[1]점검현황(금월)'!$D$7:$AG$243,26,0)","v":"."}]
[null,"학군단",2,"2강의",{"$f":"VLOOKUP(B172&D172,'[1]점검현황(금월)'!$D$7:$AG$243,2,0)","v":"멀티미디어"},{"$f":"VLOOKUP(B172&D172,'[1]점검현황(금월)'!$D$7:$AG$243,3,0)","v":"XT35K"},{"$f":"VLOOKUP(B172&D172,'[1]점검현황(금월)'!$D$2:$AG$243,19,0)","v":"구"},{"$f":"VLOOKUP(B172&D172,'[1]점검현황(금월)'!$D$2:$AG$243,25,0)","v":"2015-06-25"},{"$f":"VLOOKUP(B172&D172,'[1]점검현황(금월)'!$D$7:$AG$243,27,0)","v":"2019-01-04"},{"$f":"VLOOKUP(B172&D172,'[1]점검현황(금월)'!$D$7:$AG$243,23,0)","v":221},{"$f":"VLOOKUP(B172&D172,'[1]점검현황(금월)'!$D$7:$AK$243,24,0)","v":"10:00:00"},{"$f":"VLOOKUP(B172&D172,'[1]점검현황(금월)'!$D$7:$AK$243,34,0)","v":631},316,"13:40:00",{"$f":"VLOOKUP(B172&D172,'[1]점검현황(금월)'!$D$7:$AG$243,26,0)","v":"."}]
["전산원","전산원",1,101,{"$f":"VLOOKUP(B173&D173,'[1]점검현황(금월)'!$D$7:$AG$243,2,0)","v":"대학원"},{"$f":"VLOOKUP(B173&D173,'[1]점검현황(금월)'!$D$7:$AG$243,3,0)","v":"VX510"},{"$f":"VLOOKUP(B173&D173,'[1]점검현황(금월)'!$D$2:$AG$243,19,0)","v":"e-ST"},{"$f":"VLOOKUP(B173&D173,'[1]점검현황(금월)'!$D$2:$AG$243,25,0)","v":"2015-08-31"},{"$f":"VLOOKUP(B173&D173,'[1]점검현황(금월)'!$D$7:$AG$243,27,0)","v":"2017-11-28"},{"$f":"VLOOKUP(B173&D173,'[1]점검현황(금월)'!$D$7:$AG$243,23,0)","v":222},{"$f":"VLOOKUP(B173&D173,'[1]점검현황(금월)'!$D$7:$AK$243,24,0)","v":"17:30:00"},{"$f":"VLOOKUP(B173&D173,'[1]점검현황(금월)'!$D$7:$AK$243,34,0)","v":1910},316,"08:30:00",{"$f":"VLOOKUP(B173&D173,'[1]점검현황(금월)'!$D$7:$AG$243,26,0)","v":"."}]
[null,"전산원",2,109,{"$f":"VLOOKUP(B174&D174,'[1]점검현황(금월)'!$D$7:$AG$243,2,0)","v":"에너지시스템학과"},{"$f":"VLOOKUP(B174&D174,'[1]점검현황(금월)'!$D$7:$AG$243,3,0)","v":"LG BD430"},{"$f":"VLOOKUP(B174&D174,'[1]점검현황(금월)'!$D$2:$AG$243,19,0)","v":"자체"},{"$f":"VLOOKUP(B174&D174,'[1]점검현황(금월)'!$D$2:$AG$243,25,0)","v":"2013-09-11"},{"$f":"VLOOKUP(B174&D174,'[1]점검현황(금월)'!$D$7:$AG$243,27,0)","v":"날짜 확인 불가(클리닝 권고)"},{"$f":"VLOOKUP(B174&D174,'[1]점검현황(금월)'!$D$7:$AG$243,23,0)","v":222},{"$f":"VLOOKUP(B174&D174,'[1]점검현황(금월)'!$D$7:$AK$243,24,0)","v":"15:00:00"},{"$f":"VLOOKUP(B174&D174,'[1]점검현황(금월)'!$D$7:$AK$243,34,0)","v":2230},318,"08:30:00",{"$f":"VLOOKUP(B174&D174,'[1]점검현황(금월)'!$D$7:$AG$243,26,0)","v":"."}]
[null,"전산원",3,311,{"$f":"VLOOKUP(B175&D175,'[1]점검현황(금월)'!$D$7:$AG$243,2,0)","v":"에너지시스템학과"},{"$f":"VLOOKUP(B175&D175,'[1]점검현황(금월)'!$D$7:$AG$243,3,0)","v":"XU100K"},{"$f":"VLOOKUP(B175&D175,'[1]점검현황(금월)'!$D$2:$AG$243,19,0)","v":"자체"},{"$f":"VLOOKUP(B175&D175,'[1]점검현황(금월)'!$D$2:$AG$243,25,0)","v":"2017-12-14"},{"$f":"VLOOKUP(B175&D175,'[1]점검현황(금월)'!$D$7:$AG$243,27,0)","v":"2017-12-14"},{"$f":"VLOOKUP(B175&D175,'[1]점검현황(금월)'!$D$7:$AG$243,23,0)","v":222},{"$f":"VLOOKUP(B175&D175,'[1]점검현황(금월)'!$D$7:$AK$243,24,0)","v":"16:00:00"},{"$f":"VLOOKUP(B175&D175,'[1]점검현황(금월)'!$D$7:$AK$243,34,0)","v":772},318,"08:40:00",{"$f":"VLOOKUP(B175&D175,'[1]점검현황(금월)'!$D$7:$AG$243,26,0)","v":"."}]
[null,"전산원",4,507,{"$f":"VLOOKUP(B176&D176,'[1]점검현황(금월)'!$D$7:$AG$243,2,0)","v":"융합시스템공학과"},{"$f":"VLOOKUP(B176&D176,'[1]점검현황(금월)'!$D$7:$AG$243,3,0)","v":"EB-2255U"},{"$f":"VLOOKUP(B176&D176,'[1]점검현황(금월)'!$D$2:$AG$243,19,0)","v":"e-ST"},{"$f":"VLOOKUP(B176&D176,'[1]점검현황(금월)'!$D$2:$AG$243,25,0)","v":"18-02-19 / 18-02-19"},{"$f":"VLOOKUP(B176&D176,'[1]점검현황(금월)'!$D$7:$AG$243,27,0)","v":"18-02-19 / 18-02-19"},{"$f":"VLOOKUP(B176&D176,'[1]점검현황(금월)'!$D$7:$AG$243,23,0)","v":222},{"$f":"VLOOKUP(B176&D176,'[1]점검현황(금월)'!$D$7:$AK$243,24,0)","v":"10:10:00"},{"$f":"VLOOKUP(B176&D176,'[1]점검현황(금월)'!$D$7:$AK$243,34,0)","v":"154/207"},318,"10:00:00",{"$f":"VLOOKUP(B176&D176,'[1]점검현황(금월)'!$D$7:$AG$243,26,0)","v":"."}]
[null,"전산원",5,509,{"$f":"VLOOKUP(B177&D177,'[1]점검현황(금월)'!$D$7:$AG$243,2,0)","v":"멀티미디어 PC실"},{"$f":"VLOOKUP(B177&D177,'[1]점검현황(금월)'!$D$7:$AG$243,3,0)","v":"XU106K"},{"$f":"VLOOKUP(B177&D177,'[1]점검현황(금월)'!$D$2:$AG$243,19,0)","v":"구"},{"$f":"VLOOKUP(B177&D177,'[1]점검현황(금월)'!$D$2:$AG$243,25,0)","v":"2019-01-09"},{"$f":"VLOOKUP(B177&D177,'[1]점검현황(금월)'!$D$7:$AG$243,27,0)","v":"2019-01-09"},{"$f":"VLOOKUP(B177&D177,'[1]점검현황(금월)'!$D$7:$AG$243,23,0)","v":222},{"$f":"VLOOKUP(B177&D177,'[1]점검현황(금월)'!$D$7:$AK$243,24,0)","v":"10:20:00"},{"$f":"VLOOKUP(B177&D177,'[1]점검현황(금월)'!$D$7:$AK$243,34,0)","v":0},318,"08:40:00",{"$f":"VLOOKUP(B177&D177,'[1]점검현황(금월)'!$D$7:$AG$243,26,0)","v":"."}]
[null,"전산원",6,510,{"$f":"VLOOKUP(B178&D178,'[1]점검현황(금월)'!$D$7:$AG$243,2,0)","v":"멀티미디어 PC실"},{"$f":"VLOOKUP(B178&D178,'[1]점검현황(금월)'!$D$7:$AG$243,3,0)","v":"XU106K"},{"$f":"VLOOKUP(B178&D178,'[1]점검현황(금월)'!$D$2:$AG$243,19,0)","v":"구"},{"$f":"VLOOKUP(B178&D178,'[1]점검현황(금월)'!$D$2:$AG$243,25,0)","v":"2018-10-12"},{"$f":"VLOOKUP(B178&D178,'[1]점검현황(금월)'!$D$7:$AG$243,27,0)","v":"2019-01-10"},{"$f":"VLOOKUP(B178&D178,'[1]점검현황(금월)'!$D$7:$AG$243,23,0)","v":222},{"$f":"VLOOKUP(B178&D178,'[1]점검현황(금월)'!$D$7:$AK$243,24,0)","v":"11:10:00"},{"$f":"VLOOKUP(B178&D178,'[1]점검현황(금월)'!$D$7:$AK$243,34,0)","v":286},318,"08:50:00",{"$f":"VLOOKUP(B178&D178,'[1]점검현황(금월)'!$D$7:$AG$243,26,0)","v":"."}]
[null,"전산원",7,511,{"$f":"VLOOKUP(B179&D179,'[1]점검현황(금월)'!$D$7:$AG$243,2,0)","v":"융합시스템공학과"},{"$f":"VLOOKUP(B179&D179,'[1]점검현황(금월)'!$D$7:$AG$243,3,0)","v":"VW360"},{"$nulls":6},318]
["종합관","종합관",1,101,{"$f":"VLOOKUP(B180&D180,'[1]점검현황(금월)'!$D$7:$AG$243,2,0)","v":"대강당"},{"$f":"VLOOKUP(B180&D180,'[1]점검현황(금월)'!$D$7:$AG$243,3,0)","v":"EX16KE"},{"$f":"VLOOKUP(B180&D180,'[1]점검현황(금월)'!$D$2:$AG$243,19,0)","v":"e-ST"},{"$f":"VLOOKUP(B180&D180,'[1]점검현황(금월)'!$D$2:$AG$243,25,0)","v":"2016-03-18"},{"$f":"VLOOKUP(B180&D180,'[1]점검현황(금월)'!$D$7:$AG$243,27,0)","v":"2014-05-20(클리닝 권고)"},{"$f":"VLOOKUP(B180&D180,'[1]점검현황(금월)'!$D$7:$AG$243,23,0)","v":222},{"$f":"VLOOKUP(B180&D180,'[1]점검현황(금월)'!$D$7:$AK$243,24,0)","v":"10:50:00"},{"$f":"VLOOKUP(B180&D180,'[1]점검현황(금월)'!$D$7:$AK$243,34,0)","v":"1931/1293"},318,"19:10:00",{"$f":"VLOOKUP(B180&D180,'[1]점검현황(금월)'!$D$7:$AG$243,26,0)","v":"21,"}]
[null,"종합관",2,102,{"$f":"VLOOKUP(B181&D181,'[1]점검현황(금월)'!$D$7:$AG$243,2,0)","v":"멀티미디어 (자동녹화)"},{"$f":"VLOOKUP(B181&D181,'[1]점검현황(금월)'!$D$7:$AG$243,3,0)","v":"VX600"},{"$f":"VLOOKUP(B181&D181,'[1]점검현황(금월)'!$D$2:$AG$243,19,0)","v":"e-ST"},{"$f":"VLOOKUP(B181&D181,'[1]점검현황(금월)'!$D$2:$AG$243,25,0)","v":"2016-12-23"},{"$f":"VLOOKUP(B181&D181,'[1]점검현황(금월)'!$D$7:$AG$243,27,0)","v":"2019-01-08"},{"$f":"VLOOKUP(B181&D181,'[1]점검현황(금월)'!$D$7:$AG$243,23,0)","v":222},{"$f":"VLOOKUP(B181&D181,'[1]점검현황(금월)'!$D$7:$AK$243,24,0)","v":"11:00:00"},{"$f":"VLOOKUP(B181&D181,'[1]점검현황(금월)'!$D$7:$AK$243,34,0)","v":2021},318,"19:20:00",{"$f":"VLOOKUP(B181&D181,'[1]점검현황(금월)'!$D$7:$AG$243,26,0)","v":"."}]
[null,"종합관",3,104,{"$f":"VLOOKUP(B182&D182,'[1]점검현황(금월)'!$D$7:$AG$243,2,0)","v":"멀티미디어 (자동녹화)"},{"$f":"VLOOKUP(B182&D182,'[1]점검현황(금월)'!$D$7:$AG$243,3,0)","v":"VX600"},{"$f":"VLOOKUP(B182&D182,'[1]점검현황(금월)'!$D$2:$AG$243,19,0)","v":"e-ST"},{"$f":"VLOOKUP(B182&D182,'[1]점검현황(금월)'!$D$2:$AG$243,25,0)","v":"2016-12-23"},{"$f":"VLOOKUP(B182&D182,'[1]점검현황(금월)'!$D$7:$AG$243,27,0)","v":"2019-02-12"},{"$f":"VLOOKUP(B182&D182,'[1]점검현황(금월)'!$D$7:$AG$243,23,0)","v":223},{"$f":"VLOOKUP(B182&D182,'[1]점검현황(금월)'!$D$7:$AK$243,24,0)","v":"15:20:00"},{"$f":"VLOOKUP(B182&D182,'[1]점검현황(금월)'!$D$7:$AK$243,34,0)","v":2699},318,"08:30:00",{"$f":"VLOOKUP(B182&D182,'[1]점검현황(금월)'!$D$7:$AG$243,26,0)","v":"12,"}]
[null,"종합관",4,105,{"$f":"VLOOKUP(B183&D183,'[1]점검현황(금월)'!$D$7:$AG$243,2,0)","v":"멀티미디어 (자동녹화)"},{"$f":"VLOOKUP(B183&D183,'[1]점검현황(금월)'!$D$7:$AG$243,3,0)","v":"VX600"},{"$f":"VLOOKUP(B183&D183,'[1]점검현황(금월)'!$D$2:$AG$243,19,0)","v":"e-ST"},{"$f":"VLOOKUP(B183&D183,'[1]점검현황(금월)'!$D$2:$AG$243,25,0)","v":"2016-12-23"},{"$f":"VLOOKUP(B183&D183,'[1]점검현황(금월)'!$D$7:$AG$243,27,0)","v":"2019-02-12"},{"$f":"VLOOKUP(B183&D183,'[1]점검현황(금월)'!$D$7:$AG$243,23,0)","v":223},{"$f":"VLOOKUP(B183&D183,'[1]점검현황(금월)'!$D$7:$AK$243,24,0)","v":"17:30:00"},{"$f":"VLOOKUP(B183&D183,'[1]점검현황(금월)'!$D$7:$AK$243,34,0)","v":1833},319,"08:40:00",{"$f":"VLOOKUP(B183&D183,'[1]점검현황(금월)'!$D$7:$AG$243,26,0)","v":"12,"}]
[null,"종합관",5,"202-2",{"$f":"VLOOKUP(B184&D184,'[1]점검현황(금월)'!$D$7:$AG$243,2,0)","v":"법전원"},{"$f":"VLOOKUP(B184&D184,'[1]점검현황(금월)'!$D$7:$AG$243,3,0)","v":"XT35K"},{"$f":"VLOOKUP(B184&D184,'[1]점검현황(금월)'!$D$2:$AG$243,19,0)","v":"자체"},{"$f":"VLOOKUP(B184&D184,'[1]점검현황(금월)'!$D$2:$AG$243,25,0)","v":"2007-12-31"},{"$f":"VLOOKUP(B184&D184,'[1]점검현황(금월)'!$D$7:$AG$243,27,0)","v":"날짜 확인 불가(클리닝 권고)"},{"$f":"VLOOKUP(B184&D184,'[1]점검현황(금월)'!$D$7:$AG$243,23,0)","v":223},{"$f":"VLOOKUP(B184&D184,'[1]점검현황(금월)'!$D$7:$AK$243,24,0)","v":"11:30:00"},{"$f":"VLOOKUP(B184&D184,'[1]점검현황(금월)'!$D$7:$AK$243,34,0)","v":148},319,"08:50:00",{"$f":"VLOOKUP(B184&D184,'[1]점검현황(금월)'!$D$7:$AG$243,26,0)","v":"19,"}]
[null,"종합관",6,301,{"$f":"VLOOKUP(B185&D185,'[1]점검현황(금월)'!$D$7:$AG$243,2,0)","v":"법전원"},{"$f":"VLOOKUP(B185&D185,'[1]점검현황(금월)'!$D$7:$AG$243,3,0)","v":"XU106K / XU106K"},{"$f":"VLOOKUP(B185&D185,'[1]점검현황(금월)'!$D$2:$AG$243,19,0)","v":"e-ST"},{"$f":"VLOOKUP(B185&D185,'[1]점검현황(금월)'!$D$2:$AG$243,25,0)","v":"17-09-29 / 17-09-29"},{"$f":"VLOOKUP(B185&D185,'[1]점검현황(금월)'!$D$7:$AG$243,27,0)","v":"15-04-27 / 15-04-27"},{"$f":"VLOOKUP(B185&D185,'[1]점검현황(금월)'!$D$7:$AG$243,23,0)","v":223},{"$f":"VLOOKUP(B185&D185,'[1]점검현황(금월)'!$D$7:$AK$243,24,0)","v":"11:40:00"},{"$f":"VLOOKUP(B185&D185,'[1]점검현황(금월)'!$D$7:$AK$243,34,0)","v":"848/278"},319,"19:00:00",{"$f":"VLOOKUP(B185&D185,'[1]점검현황(금월)'!$D$7:$AG$243,26,0)","v":"."}]
[null,"종합관",7,315,{"$f":"VLOOKUP(B186&D186,'[1]점검현황(금월)'!$D$7:$AG$243,2,0)","v":"법전원"},{"$f":"VLOOKUP(B186&D186,'[1]점검현황(금월)'!$D$7:$AG$243,3,0)","v":"XU105K"},{"$f":"VLOOKUP(B186&D186,'[1]점검현황(금월)'!$D$2:$AG$243,19,0)","v":"구"},{"$f":"VLOOKUP(B186&D186,'[1]점검현황(금월)'!$D$2:$AG$243,25,0)","v":"2018-03-21"},{"$f":"VLOOKUP(B186&D186,'[1]점검현황(금월)'!$D$7:$AG$243,27,0)","v":"날짜 확인 불가(클리닝 권고)"},{"$f":"VLOOKUP(B186&D186,'[1]점검현황(금월)'!$D$7:$AG$243,23,0)","v":223},{"$f":"VLOOKUP(B186&D186,'[1]점검현황(금월)'!$D$7:$AK$243,24,0)","v":"11:50:00"},{"$f":"VLOOKUP(B186&D186,'[1]점검현황(금월)'!$D$7:$AK$243,34,0)","v":40},319,"19:10:00",{"$f":"VLOOKUP(B186&D186,'[1]점검현황(금월)'!$D$7:$AG$243,26,0)","v":"."}]
[null,"종합관",8,401,{"$f":"VLOOKUP(B187&D187,'[1]점검현황(금월)'!$D$7:$AG$243,2,0)","v":"법전원"},{"$f":"VLOOKUP(B187&D187,'[1]점검현황(금월)'!$D$7:$AG$243,3,0)","v":"XU106K"},{"$f":"VLOOKUP(B187&D187,'[1]점검현황(금월)'!$D$2:$AG$243,19,0)","v":"e-ST"},{"$f":"VLOOKUP(B187&D187,'[1]점검현황(금월)'!$D$2:$AG$243,25,0)","v":"2018-03-21"},{"$f":"VLOOKUP(B187&D187,'[1]점검현황(금월)'!$D$7:$AG$243,27,0)","v":"날짜 확인 불가(클리닝 권고)"},{"$f":"VLOOKUP(B187&D187,'[1]점검현황(금월)'!$D$7:$AG$243,23,0)","v":223},{"$f":"VLOOKUP(B187&D187,'[1]점검현황(금월)'!$D$7:$AK$243,24,0)","v":"12:00:00"},{"$f":"VLOOKUP(B187&D187,'[1]점검현황(금월)'!$D$7:$AK$243,34,0)","v":567},319,"19:20:00",{"$f":"VLOOKUP(B187&D187,'[1]점검현황(금월)'!$D$7:$AG$243,26,0)","v":"."}]
[null,"종합관",9,412,{"$f":"VLOOKUP(B188&D188,'[1]점검현황(금월)'!$D$7:$AG$243,2,0)","v":"법전원"},{"$f":"VLOOKUP(B188&D188,'[1]점검현황(금월)'!$D$7:$AG$243,3,0)","v":"XU100K"},{"$f":"VLOOKUP(B188&D188,'[1]점검현황(금월)'!$D$2:$AG$243,19,0)","v":"구"},{"$f":"VLOOKUP(B188&D188,'[1]점검현황(금월)'!$D$2:$AG$243,25,0)","v":"2007-12-18"},{"$f":"VLOOKUP(B188&D188,'[1]점검현황(금월)'!$D$7:$AG$243,27,0)","v":"날짜 확인 불가(클리닝 권고)"},{"$f":"VLOOKUP(B188&D188,'[1]점검현황(금월)'!$D$7:$AG$243,23,0)","v":223},{"$f":"VLOOKUP(B188&D188,'[1]점검현황(금월)'!$D$7:$AK$243,24,0)","v":"13:00:00"},{"$f":"VLOOKUP(B188&D188,'[1]점검현황(금월)'!$D$7:$AK$243,34,0)","v":350},319,"08:30:00",{"$f":"VLOOKUP(B188&D188,'[1]점검현황(금월)'!$D$7:$AG$243,26,0)","v":"."}]
[null,"종합관",10,413,{"$f":"VLOOKUP(B189&D189,'[1]점검현황(금월)'!$D$7:$AG$243,2,0)","v":"법전원"},{"$f":"VLOOKUP(B189&D189,'[1]점검현황(금월)'!$D$7:$AG$243,3,0)","v":"XU105K"},{"$f":"VLOOKUP(B189&D189,'[1]점검현황(금월)'!$D$2:$AG$243,19,0)","v":"구e-ST"},{"$f":"VLOOKUP(B189&D189,'[1]점검현황(금월)'!$D$2:$AG$243,25,0)","v":"2015-09-04"},{"$f":"VLOOKUP(B189&D189,'[1]점검현황(금월)'!$D$7:$AG$243,27,0)","v":"2018-12-28"},{"$f":"VLOOKUP(B189&D189,'[1]점검현황(금월)'!$D$7:$AG$243,23,0)","v":223},{"$f":"VLOOKUP(B189&D189,'[1]점검현황(금월)'!$D$7:$AK$243,24,0)","v":"13:10:00"},{"$f":"VLOOKUP(B189&D189,'[1]점검현황(금월)'!$D$7:$AK$243,34,0)","v":802},319,"08:40:00",{"$f":"VLOOKUP(B189&D189,'[1]점검현황(금월)'!$D$7:$AG$243,26,0)","v":"."}]
[null,"종합관",11,501,{"$f":"VLOOKUP(B190&D190,'[1]점검현황(금월)'!$D$7:$AG$243,2,0)","v":"법전원"},{"$f":"VLOOKUP(B190&D190,'[1]점검현황(금월)'!$D$7:$AG$243,3,0)","v":"XU106K / XU106K"},{"$f":"VLOOKUP(B190&D190,'[1]점검현황(금월)'!$D$2:$AG$243,19,0)","v":"e-ST"},{"$f":"VLOOKUP(B190&D190,'[1]점검현황(금월)'!$D$2:$AG$243,25,0)","v":"18-03-21 / 18-03-21"},{"$f":"VLOOKUP(B190&D190,'[1]점검현황(금월)'!$D$7:$AG$243,27,0)","v":"날짜 확인 불가(클리닝 권고) / 15-04-27"},{"$f":"VLOOKUP(B190&D190,'[1]점검현황(금월)'!$D$7:$AG$243,23,0)","v":223},{"$f":"VLOOKUP(B190&D190,'[1]점검현황(금월)'!$D$7:$AK$243,24,0)","v":"13:20:00"},{"$f":"VLOOKUP(B190&D190,'[1]점검현황(금월)'!$D$7:$AK$243,34,0)","v":"897/102"},319,"08:50:00",{"$f":"VLOOKUP(B190&D190,'[1]점검현황(금월)'!$D$7:$AG$243,26,0)","v":"."}]
[null,"종합관",12,502,{"$f":"VLOOKUP(B191&D191,'[1]점검현황(금월)'!$D$7:$AG$243,2,0)","v":"멀티미디어 (자동녹화)"},{"$f":"VLOOKUP(B191&D191,'[1]점검현황(금월)'!$D$7:$AG$243,3,0)","v":"XU106K / XU106K"},{"$f":"VLOOKUP(B191&D191,'[1]점검현황(금월)'!$D$2:$AG$243,19,0)","v":"e-ST"},{"$f":"VLOOKUP(B191&D191,'[1]점검현황(금월)'!$D$2:$AG$243,25,0)","v":"18-11-21 / 18-03-18"},{"$f":"VLOOKUP(B191&D191,'[1]점검현황(금월)'!$D$7:$AG$243,27,0)","v":"18-12-07 / 19-01-16"},{"$f":"VLOOKUP(B191&D191,'[1]점검현황(금월)'!$D$7:$AG$243,23,0)","v":223},{"$f":"VLOOKUP(B191&D191,'[1]점검현황(금월)'!$D$7:$AK$243,24,0)","v":"09:30:00"},{"$f":"VLOOKUP(B191&D191,'[1]점검현황(금월)'!$D$7:$AK$243,34,0)","v":"207/584"},319,"19:00:00",{"$f":"VLOOKUP(B191&D191,'[1]점검현황(금월)'!$D$7:$AG$243,26,0)","v":"."}]
[null,"종합관",13,503,{"$f":"VLOOKUP(B192&D192,'[1]점검현황(금월)'!$D$7:$AG$243,2,0)","v":"멀티미디어 (자동녹화)"},{"$f":"VLOOKUP(B192&D192,'[1]점검현황(금월)'!$D$7:$AG$243,3,0)","v":"XU106K / XU106K"},{"$f":"VLOOKUP(B192&D192,'[1]점검현황(금월)'!$D$2:$AG$243,19,0)","v":"e-ST"},{"$f":"VLOOKUP(B192&D192,'[1]점검현황(금월)'!$D$2:$AG$243,25,0)","v":"18-05-23 / 18-02-28"},{"$f":"VLOOKUP(B192&D192,'[1]점검현황(금월)'!$D$7:$AG$243,27,0)","v":"18-11-16 / 19-01-17"},{"$f":"VLOOKUP(B192&D192,'[1]점검현황(금월)'!$D$7:$AG$243,23,0)","v":223},{"$f":"VLOOKUP(B192&D192,'[1]점검현황(금월)'!$D$7:$AK$243,24,0)","v":"13:40:00"},{"$f":"VLOOKUP(B192&D192,'[1]점검현황(금월)'!$D$7:$AK$243,34,0)","v":"710/699"},319,"19:10:00",{"$f":"VLOOKUP(B192&D192,'[1]점검현황(금월)'!$D$7:$AG$243,26,0)","v":"."}]
[null,"종합관",14,504,{"$f":"VLOOKUP(B193&D193,'[1]점검현황(금월)'!$D$7:$AG$243,2,0)","v":"법전원"},{"$f":"VLOOKUP(B193&D193,'[1]점검현황(금월)'!$D$7:$AG$243,3,0)","v":"XU106K"},{"$f":"VLOOKUP(B193&D193,'[1]점검현황(금월)'!$D$2:$AG$243,19,0)","v":"e-ST"},{"$f":"VLOOKUP(B193&D193,'[1]점검현황(금월)'!$D$2:$AG$243,25,0)","v":"2018-11-27"},{"$f":"VLOOKUP(B193&D193,'[1]점검현황(금월)'!$D$7:$AG$243,27,0)","v":"날짜 확인 불가(클리닝 권고)"},{"$f":"VLOOKUP(B193&D193,'[1]점검현황(금월)'!$D$7:$AG$243,23,0)","v":223},{"$f":"VLOOKUP(B193&D193,'[1]점검현황(금월)'!$D$7:$AK$243,24,0)","v":"16:30:00"},{"$f":"VLOOKUP(B193&D193,'[1]점검현황(금월)'!$D$7:$AK$243,34,0)","v":15},320,"19:20:00",{"$f":"VLOOKUP(B193&D193,'[1]점검현황(금월)'!$D$7:$AG$243,26,0)","v":"."}]
[null,"종합관",15,506,{"$f":"VLOOKUP(B194&D194,'[1]점검현황(금월)'!$D$7:$AG$243,2,0)","v":"법전원 (자동녹화)"},{"$f":"VLOOKUP(B194&D194,'[1]점검현황(금월)'!$D$7:$AG$243,3,0)","v":"XU106K"},{"$f":"VLOOKUP(B194&D194,'[1]점검현황(금월)'!$D$2:$AG$243,19,0)","v":"e-ST"},{"$f":"VLOOKUP(B194&D194,'[1]점검현황(금월)'!$D$2:$AG$243,25,0)","v":"2018-11-27"},{"$f":"VLOOKUP(B194&D194,'[1]점검현황(금월)'!$D$7:$AG$243,27,0)","v":"2017-09-15"},{"$f":"VLOOKUP(B194&D194,'[1]점검현황(금월)'!$D$7:$AG$243,23,0)","v":223},{"$f":"VLOOKUP(B194&D194,'[1]점검현황(금월)'!$D$7:$AK$243,24,0)","v":"14:00:00"},{"$f":"VLOOKUP(B194&D194,'[1]점검현황(금월)'!$D$7:$AK$243,34,0)","v":89},320,"08:30:00",{"$f":"VLOOKUP(B194&D194,'[1]점검현황(금월)'!$D$7:$AG$243,26,0)","v":"."}]
[null,"종합관",16,507,{"$f":"VLOOKUP(B195&D195,'[1]점검현황(금월)'!$D$7:$AG$243,2,0)","v":"법전원 (자동녹화)"},{"$f":"VLOOKUP(B195&D195,'[1]점검현황(금월)'!$D$7:$AG$243,3,0)","v":"XU106K"},{"$f":"VLOOKUP(B195&D195,'[1]점검현황(금월)'!$D$2:$AG$243,19,0)","v":"e-ST"},{"$f":"VLOOKUP(B195&D195,'[1]점검현황(금월)'!$D$2:$AG$243,25,0)","v":"2017-04-26"},{"$f":"VLOOKUP(B195&D195,'[1]점검현황(금월)'!$D$7:$AG$243,27,0)","v":"2015-10-24(클리닝 권고)"},{"$f":"VLOOKUP(B195&D195,'[1]점검현황(금월)'!$D$7:$AG$243,23,0)","v":223},{"$f":"VLOOKUP(B195&D195,'[1]점검현황(금월)'!$D$7:$AK$243,24,0)","v":"19:30:00"},{"$f":"VLOOKUP(B195&D195,'[1]점검현황(금월)'!$D$7:$AK$243,34,0)","v":1307},320,"08:40:00",{"$f":"VLOOKUP(B195&D195,'[1]점검현황(금월)'!$D$7:$AG$243,26,0)","v":"."}]
[null,"종합관",17,508,{"$f":"VLOOKUP(B196&D196,'[1]점검현황(금월)'!$D$7:$AG$243,2,0)","v":"멀티미디어 (자동녹화)"},{"$f":"VLOOKUP(B196&D196,'[1]점검현황(금월)'!$D$7:$AG$243,3,0)","v":"XU106K"},{"$f":"VLOOKUP(B196&D196,'[1]점검현황(금월)'!$D$2:$AG$243,19,0)","v":"e-ST"},{"$f":"VLOOKUP(B196&D196,'[1]점검현황(금월)'!$D$2:$AG$243,25,0)","v":"2018-08-20"},{"$f":"VLOOKUP(B196&D196,'[1]점검현황(금월)'!$D$7:$AG$243,27,0)","v":"2018-10-02"},{"$f":"VLOOKUP(B196&D196,'[1]점검현황(금월)'!$D$7:$AG$243,23,0)","v":223},{"$f":"VLOOKUP(B196&D196,'[1]점검현황(금월)'!$D$7:$AK$243,24,0)","v":"08:40:00"},{"$f":"VLOOKUP(B196&D196,'[1]점검현황(금월)'!$D$7:$AK$243,34,0)","v":347},320,"08:50:00",{"$f":"VLOOKUP(B196&D196,'[1]점검현황(금월)'!$D$7:$AG$243,26,0)","v":"."}]
[null,"종합관",18,509,{"$f":"VLOOKUP(B197&D197,'[1]점검현황(금월)'!$D$7:$AG$243,2,0)","v":"멀티미디어"},{"$f":"VLOOKUP(B197&D197,'[1]점검현황(금월)'!$D$7:$AG$243,3,0)","v":"XU106K"},{"$f":"VLOOKUP(B197&D197,'[1]점검현황(금월)'!$D$2:$AG$243,19,0)","v":"e-ST"},{"$f":"VLOOKUP(B197&D197,'[1]점검현황(금월)'!$D$2:$AG$243,25,0)","v":"2018-04-24"},{"$f":"VLOOKUP(B197&D197,'[1]점검현황(금월)'!$D$7:$AG$243,27,0)","v":"2018-10-11"},{"$f":"VLOOKUP(B197&D197,'[1]점검현황(금월)'!$D$7:$AG$243,23,0)","v":223},{"$f":"VLOOKUP(B197&D197,'[1]점검현황(금월)'!$D$7:$AK$243,24,0)","v":"08:50:00"},{"$f":"VLOOKUP(B197&D197,'[1]점검현황(금월)'!$D$7:$AK$243,34,0)","v":826},320,"19:00:00",{"$f":"VLOOKUP(B197&D197,'[1]점검현황(금월)'!$D$7:$AG$243,26,0)","v":"."}]
[null,"종합관",19,510,{"$f":"VLOOKUP(B198&D198,'[1]점검현황(금월)'!$D$7:$AG$243,2,0)","v":"법전원 세미나실"},{"$f":"VLOOKUP(B198&D198,'[1]점검현황(금월)'!$D$7:$AG$243,3,0)","v":"XU106K"},{"$f":"VLOOKUP(B198&D198,'[1]점검현황(금월)'!$D$2:$AG$243,19,0)","v":"e-ST"},{"$f":"VLOOKUP(B198&D198,'[1]점검현황(금월)'!$D$2:$AG$243,25,0)","v":"2015-07-17"},{"$f":"VLOOKUP(B198&D198,'[1]점검현황(금월)'!$D$7:$AG$243,27,0)","v":"2012-04-28(클리닝 권고)"},{"$f":"VLOOKUP(B198&D198,'[1]점검현황(금월)'!$D$7:$AG$243,23,0)","v":223},{"$f":"VLOOKUP(B198&D198,'[1]점검현황(금월)'!$D$7:$AK$243,24,0)","v":"19:00:00"},{"$f":"VLOOKUP(B198&D198,'[1]점검현황(금월)'!$D$7:$AK$243,34,0)","v":331},320,"19:10:00",{"$f":"VLOOKUP(B198&D198,'[1]점검현황(금월)'!$D$7:$AG$243,26,0)","v":"."}]
[null,"종합관",20,601,{"$f":"VLOOKUP(B199&D199,'[1]점검현황(금월)'!$D$7:$AG$243,2,0)","v":"법전원(모의법정)"},{"$f":"VLOOKUP(B199&D199,'[1]점검현황(금월)'!$D$7:$AG$243,3,0)","v":"XT35K"},{"$f":"VLOOKUP(B199&D199,'[1]점검현황(금월)'!$D$2:$AG$243,19,0)","v":"자체"},{"$f":"VLOOKUP(B199&D199,'[1]점검현황(금월)'!$D$2:$AG$243,25,0)","v":"2014-12-01"},{"$f":"VLOOKUP(B199&D199,'[1]점검현황(금월)'!$D$7:$AG$243,27,0)","v":"날짜 확인 불가(클리닝 권고)"},{"$f":"VLOOKUP(B199&D199,'[1]점검현황(금월)'!$D$7:$AG$243,23,0)","v":223},{"$f":"VLOOKUP(B199&D199,'[1]점검현황(금월)'!$D$7:$AK$243,24,0)","v":"19:10:00"},{"$f":"VLOOKUP(B199&D199,'[1]점검현황(금월)'!$D$7:$AK$243,34,0)","v":155},320,"19:20:00",{"$f":"VLOOKUP(B199&D199,'[1]점검현황(금월)'!$D$7:$AG$243,26,0)","v":"."}]
[null,"종합관",21,612,{"$f":"VLOOKUP(B200&D200,'[1]점검현황(금월)'!$D$7:$AG$243,2,0)","v":"멀티미디어"},{"$f":"VLOOKUP(B200&D200,'[1]점검현황(금월)'!$D$7:$AG$243,3,0)","v":"XU106K"},{"$f":"VLOOKUP(B200&D200,'[1]점검현황(금월)'!$D$2:$AG$243,19,0)","v":"e-ST"},{"$f":"VLOOKUP(B200&D200,'[1]점검현황(금월)'!$D$2:$AG$243,25,0)","v":"2018-08-20"},{"$f":"VLOOKUP(B200&D200,'[1]점검현황(금월)'!$D$7:$AG$243,27,0)","v":"2019-01-02"},{"$f":"VLOOKUP(B200&D200,'[1]점검현황(금월)'!$D$7:$AG$243,23,0)","v":223},{"$f":"VLOOKUP(B200&D200,'[1]점검현황(금월)'!$D$7:$AK$243,24,0)","v":"19:40:00"},{"$f":"VLOOKUP(B200&D200,'[1]점검현황(금월)'!$D$7:$AK$243,34,0)","v":683},320,"08:30:00",{"$f":"VLOOKUP(B200&D200,'[1]점검현황(금월)'!$D$7:$AG$243,26,0)","v":"."}]
[null,"종합관",22,613,{"$f":"VLOOKUP(B201&D201,'[1]점검현황(금월)'!$D$7:$AG$243,2,0)","v":"멀티미디어"},{"$f":"VLOOKUP(B201&D201,'[1]점검현황(금월)'!$D$7:$AG$243,3,0)","v":"XU106K"},{"$f":"VLOOKUP(B201&D201,'[1]점검현황(금월)'!$D$2:$AG$243,19,0)","v":"e-ST"},{"$f":"VLOOKUP(B201&D201,'[1]점검현황(금월)'!$D$2:$AG$243,25,0)","v":"2017-09-21"},{"$f":"VLOOKUP(B201&D201,'[1]점검현황(금월)'!$D$7:$AG$243,27,0)","v":"2018-10-16"},{"$f":"VLOOKUP(B201&D201,'[1]점검현황(금월)'!$D$7:$AG$243,23,0)","v":223},{"$f":"VLOOKUP(B201&D201,'[1]점검현황(금월)'!$D$7:$AK$243,24,0)","v":"08:30:00"},{"$f":"VLOOKUP(B201&D201,'[1]점검현황(금월)'!$D$7:$AK$243,34,0)","v":795},320,"08:40:00",{"$f":"VLOOKUP(B201&D201,'[1]점검현황(금월)'!$D$7:$AG$243,26,0)","v":"."}]
[null,"종합관",23,704,{"$f":"VLOOKUP(B202&D202,'[1]점검현황(금월)'!$D$7:$AG$243,2,0)","v":"교육대학원"},{"$f":"VLOOKUP(B202&D202,'[1]점검현황(금월)'!$D$7:$AG$243,3,0)","v":"VX421"},{"$f":"VLOOKUP(B202&D202,'[1]점검현황(금월)'!$D$2:$AG$243,19,0)","v":"자체"},{"$f":"VLOOKUP(B202&D202,'[1]점검현황(금월)'!$D$2:$AG$243,25,0)","v":"2018-01-31"},{"$f":"VLOOKUP(B202&D202,'[1]점검현황(금월)'!$D$7:$AG$243,27,0)","v":"2018-01-31"},{"$f":"VLOOKUP(B202&D202,'[1]점검현황(금월)'!$D$7:$AG$243,23,0)","v":225},{"$f":"VLOOKUP(B202&D202,'[1]점검현황(금월)'!$D$7:$AK$243,24,0)","v":"08:40:00"},{"$f":"VLOOKUP(B202&D202,'[1]점검현황(금월)'!$D$7:$AK$243,34,0)","v":124},320,"08:50:00",{"$f":"VLOOKUP(B202&D202,'[1]점검현황(금월)'!$D$7:$AG$243,26,0)","v":"."}]
[null,"종합관",24,705,{"$f":"VLOOKUP(B203&D203,'[1]점검현황(금월)'!$D$7:$AG$243,2,0)","v":"교육대학원 (자동녹화)"},{"$f":"VLOOKUP(B203&D203,'[1]점검현황(금월)'!$D$7:$AG$243,3,0)","v":"VX421"},{"$f":"VLOOKUP(B203&D203,'[1]점검현황(금월)'!$D$2:$AG$243,19,0)","v":"e-ST"},{"$f":"VLOOKUP(B203&D203,'[1]점검현황(금월)'!$D$2:$AG$243,25,0)","v":"2017-05-11"},{"$f":"VLOOKUP(B203&D203,'[1]점검현황(금월)'!$D$7:$AG$243,27,0)","v":"2017-05-11"},{"$f":"VLOOKUP(B203&D203,'[1]점검현황(금월)'!$D$7:$AG$243,23,0)","v":225},{"$f":"VLOOKUP(B203&D203,'[1]점검현황(금월)'!$D$7:$AK$243,24,0)","v":"08:50:00"},{"$f":"VLOOKUP(B203&D203,'[1]점검현황(금월)'!$D$7:$AK$243,34,0)","v":527},321,"19:00:00",{"$f":"VLOOKUP(B203&D203,'[1]점검현황(금월)'!$D$7:$AG$243,26,0)","v":"."}]
[null,"종합관",25,706,{"$f":"VLOOKUP(B204&D204,'[1]점검현황(금월)'!$D$7:$AG$243,2,0)","v":"교육대학원 (자동녹화)"},{"$f":"VLOOKUP(B204&D204,'[1]점검현황(금월)'!$D$7:$AG$243,3,0)","v":"VX421"},{"$f":"VLOOKUP(B204&D204,'[1]점검현황(금월)'!$D$2:$AG$243,19,0)","v":"e-ST"},{"$f":"VLOOKUP(B204&D204,'[1]점검현황(금월)'!$D$2:$AG$243,25,0)","v":"2017-05-11"},{"$f":"VLOOKUP(B204&D204,'[1]점검현황(금월)'!$D$7:$AG$243,27,0)","v":"2017-05-11"},{"$f":"VLOOKUP(B204&D204,'[1]점검현황(금월)'!$D$7:$AG$243,23,0)","v":225},{"$f":"VLOOKUP(B204&D204,'[1]점검현황(금월)'!$D$7:$AK$243,24,0)","v":"19:00:00"},{"$f":"VLOOKUP(B204&D204,'[1]점검현황(금월)'!$D$7:$AK$243,34,0)","v":562},321,"19:10:00",{"$f":"VLOOKUP(B204&D204,'[1]점검현황(금월)'!$D$7:$AG$243,26,0)","v":"."}]
[null,"종합관",26,707,{"$f":"VLOOKUP(B205&D205,'[1]점검현황(금월)'!$D$7:$AG$243,2,0)","v":"교육대학원"},{"$f":"VLOOKUP(B205&D205,'[1]점검현황(금월)'!$D$7:$AG$243,3,0)","v":"VX421"},{"$f":"VLOOKUP(B205&D205,'[1]점검현황(금월)'!$D$2:$AG$243,19,0)","v":"e-ST"},{"$f":"VLOOKUP(B205&D205,'[1]점검현황(금월)'!$D$2:$AG$243,25,0)","v":"2018-01-31"},{"$f":"VLOOKUP(B205&D205,'[1]점검현황(금월)'!$D$7:$AG$243,27,0)","v":"2018-01-31"},{"$f":"VLOOKUP(B205&D205,'[1]점검현황(금월)'!$D$7:$AG$243,23,0)","v":225},{"$f":"VLOOKUP(B205&D205,'[1]점검현황(금월)'!$D$7:$AK$243,24,0)","v":"12:41:00"},{"$f":"VLOOKUP(B205&D205,'[1]점검현황(금월)'!$D$7:$AK$243,34,0)","v":324},321,"19:20:00",{"$f":"VLOOKUP(B205&D205,'[1]점검현황(금월)'!$D$7:$AG$243,26,0)","v":"."}]
[null,"종합관",27,712,{"$f":"VLOOKUP(B206&D206,'[1]점검현황(금월)'!$D$7:$AG$243,2,0)","v":"교육대학원 (자동녹화)"},{"$f":"VLOOKUP(B206&D206,'[1]점검현황(금월)'!$D$7:$AG$243,3,0)","v":"VX421"},{"$f":"VLOOKUP(B206&D206,'[1]점검현황(금월)'!$D$2:$AG$243,19,0)","v":"e-ST"},{"$f":"VLOOKUP(B206&D206,'[1]점검현황(금월)'!$D$2:$AG$243,25,0)","v":"2018-01-31"},{"$f":"VLOOKUP(B206&D206,'[1]점검현황(금월)'!$D$7:$AG$243,27,0)","v":"2018-01-31"},{"$f":"VLOOKUP(B206&D206,'[1]점검현황(금월)'!$D$7:$AG$243,23,0)","v":226},{"$f":"VLOOKUP(B206&D206,'[1]점검현황(금월)'!$D$7:$AK$243,24,0)","v":"19:20:00"},{"$f":"VLOOKUP(B206&D206,'[1]점검현황(금월)'!$D$7:$AK$243,34,0)","v":427},321,"09:00:00",{"$f":"VLOOKUP(B206&D206,'[1]점검현황(금월)'!$D$7:$AG$243,26,0)","v":"26,"}]
[null,"종합관",28,713,{"$f":"VLOOKUP(B207&D207,'[1]점검현황(금월)'!$D$7:$AG$243,2,0)","v":"교육대학원 (자동녹화)"},{"$f":"VLOOKUP(B207&D207,'[1]점검현황(금월)'!$D$7:$AG$243,3,0)","v":"VX421"},{"$f":"VLOOKUP(B207&D207,'[1]점검현황(금월)'!$D$2:$AG$243,19,0)","v":"e-ST"},{"$f":"VLOOKUP(B207&D207,'[1]점검현황(금월)'!$D$2:$AG$243,25,0)","v":"2017-05-11"},{"$f":"VLOOKUP(B207&D207,'[1]점검현황(금월)'!$D$7:$AG$243,27,0)","v":"2017-05-11"},{"$f":"VLOOKUP(B207&D207,'[1]점검현황(금월)'!$D$7:$AG$243,23,0)","v":225},{"$f":"VLOOKUP(B207&D207,'[1]점검현황(금월)'!$D$7:$AK$243,24,0)","v":"08:30:00"},{"$f":"VLOOKUP(B207&D207,'[1]점검현황(금월)'!$D$7:$AK$243,34,0)","v":1044},321,"09:10:00",{"$f":"VLOOKUP(B207&D207,'[1]점검현황(금월)'!$D$7:$AG$243,26,0)","v":"."}]
[null,"종합관",29,801,{"$f":"VLOOKUP(B208&D208,'[1]점검현황(금월)'!$D$7:$AG$243,2,0)","v":"교육대학원 "},{"$f":"VLOOKUP(B208&D208,'[1]점검현황(금월)'!$D$7:$AG$243,3,0)","v":"VX421"},{"$f":"VLOOKUP(B208&D208,'[1]점검현황(금월)'!$D$2:$AG$243,19,0)","v":"자체"},{"$f":"VLOOKUP(B208&D208,'[1]점검현황(금월)'!$D$2:$AG$243,25,0)","v":"2016-02-29"},{"$f":"VLOOKUP(B208&D208,'[1]점검현황(금월)'!$D$7:$AG$243,27,0)","v":"2016-02-29(클리닝 권고)"},{"$f":"VLOOKUP(B208&D208,'[1]점검현황(금월)'!$D$7:$AG$243,23,0)","v":225},{"$f":"VLOOKUP(B208&D208,'[1]점검현황(금월)'!$D$7:$AK$243,24,0)","v":"08:40:00"},{"$f":"VLOOKUP(B208&D208,'[1]점검현황(금월)'!$D$7:$AK$243,34,0)","v":915},321,"09:15:00",{"$f":"VLOOKUP(B208&D208,'[1]점검현황(금월)'!$D$7:$AG$243,26,0)","v":"."}]
[null,"종합관",30,802,{"$f":"VLOOKUP(B209&D209,'[1]점검현황(금월)'!$D$7:$AG$243,2,0)","v":"교육대학원 "},{"$f":"VLOOKUP(B209&D209,'[1]점검현황(금월)'!$D$7:$AG$243,3,0)","v":"VX421"},{"$f":"VLOOKUP(B209&D209,'[1]점검현황(금월)'!$D$2:$AG$243,19,0)","v":"자체"},{"$f":"VLOOKUP(B209&D209,'[1]점검현황(금월)'!$D$2:$AG$243,25,0)","v":"2018-02-02"},{"$f":"VLOOKUP(B209&D209,'[1]점검현황(금월)'!$D$7:$AG$243,27,0)","v":"2018-02-02"},{"$f":"VLOOKUP(B209&D209,'[1]점검현황(금월)'!$D$7:$AG$243,23,0)","v":225},{"$f":"VLOOKUP(B209&D209,'[1]점검현황(금월)'!$D$7:$AK$243,24,0)","v":"09:10:00"},{"$f":"VLOOKUP(B209&D209,'[1]점검현황(금월)'!$D$7:$AK$243,34,0)","v":707},321,"09:20:00",{"$f":"VLOOKUP(B209&D209,'[1]점검현황(금월)'!$D$7:$AG$243,26,0)","v":"."}]
[null,"종합관",31,803,{"$f":"VLOOKUP(B210&D210,'[1]점검현황(금월)'!$D$7:$AG$243,2,0)","v":"교육대학원 "},{"$f":"VLOOKUP(B210&D210,'[1]점검현황(금월)'!$D$7:$AG$243,3,0)","v":"VX421"},{"$f":"VLOOKUP(B210&D210,'[1]점검현황(금월)'!$D$2:$AG$243,19,0)","v":"자체"},{"$f":"VLOOKUP(B210&D210,'[1]점검현황(금월)'!$D$2:$AG$243,25,0)","v":"2018-02-02"},{"$f":"VLOOKUP(B210&D210,'[1]점검현황(금월)'!$D$7:$AG$243,27,0)","v":"2018-02-02"},{"$f":"VLOOKUP(B210&D210,'[1]점검현황(금월)'!$D$7:$AG$243,23,0)","v":225},{"$f":"VLOOKUP(B210&D210,'[1]점검현황(금월)'!$D$7:$AK$243,24,0)","v":"09:30:00"},{"$f":"VLOOKUP(B210&D210,'[1]점검현황(금월)'!$D$7:$AK$243,34,0)","v":317},321,"09:30:00",{"$f":"VLOOKUP(B210&D210,'[1]점검현황(금월)'!$D$7:$AG$243,26,0)","v":"."}]
[null,"종합관",32,"804-1",{"$f":"VLOOKUP(B211&D211,'[1]점검현황(금월)'!$D$7:$AG$243,2,0)","v":"교육대학원 "},{"$f":"VLOOKUP(B211&D211,'[1]점검현황(금월)'!$D$7:$AG$243,3,0)","v":"VX421"},{"$f":"VLOOKUP(B211&D211,'[1]점검현황(금월)'!$D$2:$AG$243,19,0)","v":"e-ST"},{"$f":"VLOOKUP(B211&D211,'[1]점검현황(금월)'!$D$2:$AG$243,25,0)","v":"2017-09-01"},{"$f":"VLOOKUP(B211&D211,'[1]점검현황(금월)'!$D$7:$AG$243,27,0)","v":"2017-09-01"},{"$f":"VLOOKUP(B211&D211,'[1]점검현황(금월)'!$D$7:$AG$243,23,0)","v":226},{"$f":"VLOOKUP(B211&D211,'[1]점검현황(금월)'!$D$7:$AK$243,24,0)","v":"09:50:00"},{"$f":"VLOOKUP(B211&D211,'[1]점검현황(금월)'!$D$7:$AK$243,34,0)","v":426},321,"09:40:00",{"$f":"VLOOKUP(B211&D211,'[1]점검현황(금월)'!$D$7:$AG$243,26,0)","v":"."}]
[null,"종합관",33,805,{"$f":"VLOOKUP(B212&D212,'[1]점검현황(금월)'!$D$7:$AG$243,2,0)","v":"교육대학원 (자동녹화)"},{"$f":"VLOOKUP(B212&D212,'[1]점검현황(금월)'!$D$7:$AG$243,3,0)","v":"VX421"},{"$f":"VLOOKUP(B212&D212,'[1]점검현황(금월)'!$D$2:$AG$243,19,0)","v":"e-ST"},{"$f":"VLOOKUP(B212&D212,'[1]점검현황(금월)'!$D$2:$AG$243,25,0)","v":"2018-01-31"},{"$f":"VLOOKUP(B212&D212,'[1]점검현황(금월)'!$D$7:$AG$243,27,0)","v":"2018-01-31"},{"$f":"VLOOKUP(B212&D212,'[1]점검현황(금월)'!$D$7:$AG$243,23,0)","v":226},{"$f":"VLOOKUP(B212&D212,'[1]점검현황(금월)'!$D$7:$AK$243,24,0)","v":"10:10:00"},{"$f":"VLOOKUP(B212&D212,'[1]점검현황(금월)'!$D$7:$AK$243,34,0)","v":654},321,"09:50:00",{"$f":"VLOOKUP(B212&D212,'[1]점검현황(금월)'!$D$7:$AG$243,26,0)","v":"."}]
[null,"종합관",34,806,{"$f":"VLOOKUP(B213&D213,'[1]점검현황(금월)'!$D$7:$AG$243,2,0)","v":"교육대학원 "},{"$f":"VLOOKUP(B213&D213,'[1]점검현황(금월)'!$D$7:$AG$243,3,0)","v":"VX421"},{"$f":"VLOOKUP(B213&D213,'[1]점검현황(금월)'!$D$2:$AG$243,19,0)","v":"e-ST"},{"$f":"VLOOKUP(B213&D213,'[1]점검현황(금월)'!$D$2:$AG$243,25,0)","v":"2018-01-31"},{"$f":"VLOOKUP(B213&D213,'[1]점검현황(금월)'!$D$7:$AG$243,27,0)","v":"2018-01-31"},{"$f":"VLOOKUP(B213&D213,'[1]점검현황(금월)'!$D$7:$AG$243,23,0)","v":226},{"$f":"VLOOKUP(B213&D213,'[1]점검현황(금월)'!$D$7:$AK$243,24,0)","v":"10:30:00"},{"$f":"VLOOKUP(B213&D213,'[1]점검현황(금월)'!$D$7:$AK$243,34,0)","v":234},322,"10:00:00",{"$f":"VLOOKUP(B213&D213,'[1]점검현황(금월)'!$D$7:$AG$243,26,0)","v":"."}]
[null,"종합관",35,808,{"$f":"VLOOKUP(B214&D214,'[1]점검현황(금월)'!$D$7:$AG$243,2,0)","v":"교육대학원 "},{"$f":"VLOOKUP(B214&D214,'[1]점검현황(금월)'!$D$7:$AG$243,3,0)","v":"VX421"},{"$f":"VLOOKUP(B214&D214,'[1]점검현황(금월)'!$D$2:$AG$243,19,0)","v":"자체"},{"$f":"VLOOKUP(B214&D214,'[1]점검현황(금월)'!$D$2:$AG$243,25,0)","v":"2018-02-02"},{"$f":"VLOOKUP(B214&D214,'[1]점검현황(금월)'!$D$7:$AG$243,27,0)","v":"2018-02-02"},{"$f":"VLOOKUP(B214&D214,'[1]점검현황(금월)'!$D$7:$AG$243,23,0)","v":226},{"$f":"VLOOKUP(B214&D214,'[1]점검현황(금월)'!$D$7:$AK$243,24,0)","v":"13:58:00"},{"$f":"VLOOKUP(B214&D214,'[1]점검현황(금월)'!$D$7:$AK$243,34,0)","v":329},322,"10:10:00",{"$f":"VLOOKUP(B214&D214,'[1]점검현황(금월)'!$D$7:$AG$243,26,0)","v":"."}]
[null,"종합관",36,809,{"$f":"VLOOKUP(B215&D215,'[1]점검현황(금월)'!$D$7:$AG$243,2,0)","v":"교육대학원 "},{"$f":"VLOOKUP(B215&D215,'[1]점검현황(금월)'!$D$7:$AG$243,3,0)","v":"VX421"},{"$f":"VLOOKUP(B215&D215,'[1]점검현황(금월)'!$D$2:$AG$243,19,0)","v":"자체"},{"$f":"VLOOKUP(B215&D215,'[1]점검현황(금월)'!$D$2:$AG$243,25,0)","v":"2018-02-02"},{"$f":"VLOOKUP(B215&D215,'[1]점검현황(금월)'!$D$7:$AG$243,27,0)","v":"2018-02-02"},{"$f":"VLOOKUP(B215&D215,'[1]점검현황(금월)'!$D$7:$AG$243,23,0)","v":226},{"$f":"VLOOKUP(B215&D215,'[1]점검현황(금월)'!$D$7:$AK$243,24,0)","v":"11:10:00"},{"$f":"VLOOKUP(B215&D215,'[1]점검현황(금월)'!$D$7:$AK$243,34,0)","v":208},322,"10:20:00",{"$f":"VLOOKUP(B215&D215,'[1]점검현황(금월)'!$D$7:$AG$243,26,0)","v":"."}]
[null,"종합관",37,810,{"$f":"VLOOKUP(B216&D216,'[1]점검현황(금월)'!$D$7:$AG$243,2,0)","v":"교육대학원 (자동녹화)"},{"$f":"VLOOKUP(B216&D216,'[1]점검현황(금월)'!$D$7:$AG$243,3,0)","v":"VX421"},{"$f":"VLOOKUP(B216&D216,'[1]점검현황(금월)'!$D$2:$AG$243,19,0)","v":"e-ST"},{"$f":"VLOOKUP(B216&D216,'[1]점검현황(금월)'!$D$2:$AG$243,25,0)","v":"2017-05-11"},{"$f":"VLOOKUP(B216&D216,'[1]점검현황(금월)'!$D$7:$AG$243,27,0)","v":"2017-05-11"},{"$f":"VLOOKUP(B216&D216,'[1]점검현황(금월)'!$D$7:$AG$243,23,0)","v":226},{"$f":"VLOOKUP(B216&D216,'[1]점검현황(금월)'!$D$7:$AK$243,24,0)","v":"11:30:00"},{"$f":"VLOOKUP(B216&D216,'[1]점검현황(금월)'!$D$7:$AK$243,34,0)","v":556},322,"10:30:00",{"$f":"VLOOKUP(B216&D216,'[1]점검현황(금월)'!$D$7:$AG$243,26,0)","v":"."}]
[null,"종합관",38,811,{"$f":"VLOOKUP(B217&D217,'[1]점검현황(금월)'!$D$7:$AG$243,2,0)","v":"교육대학원 (자동녹화)"},{"$f":"VLOOKUP(B217&D217,'[1]점검현황(금월)'!$D$7:$AG$243,3,0)","v":"VX421"},{"$f":"VLOOKUP(B217&D217,'[1]점검현황(금월)'!$D$2:$AG$243,19,0)","v":"e-ST"},{"$f":"VLOOKUP(B217&D217,'[1]점검현황(금월)'!$D$2:$AG$243,25,0)","v":"2018-02-02"},{"$f":"VLOOKUP(B217&D217,'[1]점검현황(금월)'!$D$7:$AG$243,27,0)","v":"2018-02-02"},{"$f":"VLOOKUP(B217&D217,'[1]점검현황(금월)'!$D$7:$AG$243,23,0)","v":226},{"$f":"VLOOKUP(B217&D217,'[1]점검현황(금월)'!$D$7:$AK$243,24,0)","v":"11:50:00"},{"$f":"VLOOKUP(B217&D217,'[1]점검현황(금월)'!$D$7:$AK$243,34,0)","v":491},322,"10:40:00",{"$f":"VLOOKUP(B217&D217,'[1]점검현황(금월)'!$D$7:$AG$243,26,0)","v":"."}]
[null,"종합관",39,812,{"$f":"VLOOKUP(B218&D218,'[1]점검현황(금월)'!$D$7:$AG$243,2,0)","v":"교육대학원 "},{"$f":"VLOOKUP(B218&D218,'[1]점검현황(금월)'!$D$7:$AG$243,3,0)","v":"VX421"},{"$f":"VLOOKUP(B218&D218,'[1]점검현황(금월)'!$D$2:$AG$243,19,0)","v":"자체"},{"$f":"VLOOKUP(B218&D218,'[1]점검현황(금월)'!$D$2:$AG$243,25,0)","v":"2018-01-31"},{"$f":"VLOOKUP(B218&D218,'[1]점검현황(금월)'!$D$7:$AG$243,27,0)","v":"2018-01-31"},{"$f":"VLOOKUP(B218&D218,'[1]점검현황(금월)'!$D$7:$AG$243,23,0)","v":226},{"$f":"VLOOKUP(B218&D218,'[1]점검현황(금월)'!$D$7:$AK$243,24,0)","v":"13:10:00"},{"$f":"VLOOKUP(B218&D218,'[1]점검현황(금월)'!$D$7:$AK$243,34,0)","v":301},322,"10:50:00",{"$f":"VLOOKUP(B218&D218,'[1]점검현황(금월)'!$D$7:$AG$243,26,0)","v":"."}]
[null,"종합관",40,1002,{"$f":"VLOOKUP(B219&D219,'[1]점검현황(금월)'!$D$7:$AG$243,2,0)","v":"공공정책대학원"},{"$f":"VLOOKUP(B219&D219,'[1]점검현황(금월)'!$D$7:$AG$243,3,0)","v":"XU106K"},{"$f":"VLOOKUP(B219&D219,'[1]점검현황(금월)'!$D$2:$AG$243,19,0)","v":"e-ST"},{"$f":"VLOOKUP(B219&D219,'[1]점검현황(금월)'!$D$2:$AG$243,25,0)","v":"2018-03-27"},{"$f":"VLOOKUP(B219&D219,'[1]점검현황(금월)'!$D$7:$AG$243,27,0)","v":"날짜 확인 불가(클리닝 권고)"},{"$f":"VLOOKUP(B219&D219,'[1]점검현황(금월)'!$D$7:$AG$243,23,0)","v":226},{"$f":"VLOOKUP(B219&D219,'[1]점검현황(금월)'!$D$7:$AK$243,24,0)","v":"13:30:00"},{"$f":"VLOOKUP(B219&D219,'[1]점검현황(금월)'!$D$7:$AK$243,34,0)","v":386},322,"11:00:00",{"$f":"VLOOKUP(B219&D219,'[1]점검현황(금월)'!$D$7:$AG$243,26,0)","v":"."}]
[null,"종합관",41,1003,{"$f":"VLOOKUP(B220&D220,'[1]점검현황(금월)'!$D$7:$AG$243,2,0)","v":"공공정책대학원 (자동녹화)"},{"$f":"VLOOKUP(B220&D220,'[1]점검현황(금월)'!$D$7:$AG$243,3,0)","v":"XU106K"},{"$f":"VLOOKUP(B220&D220,'[1]점검현황(금월)'!$D$2:$AG$243,19,0)","v":"e-ST"},{"$f":"VLOOKUP(B220&D220,'[1]점검현황(금월)'!$D$2:$AG$243,25,0)","v":"2018-09-12"},{"$f":"VLOOKUP(B220&D220,'[1]점검현황(금월)'!$D$7:$AG$243,27,0)","v":"날짜 확인 불가(클리닝 권고)"},{"$f":"VLOOKUP(B220&D220,'[1]점검현황(금월)'!$D$7:$AG$243,23,0)","v":227},{"$f":"VLOOKUP(B220&D220,'[1]점검현황(금월)'!$D$7:$AK$243,24,0)","v":"13:50:00"},{"$f":"VLOOKUP(B220&D220,'[1]점검현황(금월)'!$D$7:$AK$243,34,0)","v":593},322,"11:10:00",{"$f":"VLOOKUP(B220&D220,'[1]점검현황(금월)'!$D$7:$AG$243,26,0)","v":"."}]
[null,"종합관",42,1004,{"$f":"VLOOKUP(B221&D221,'[1]점검현황(금월)'!$D$7:$AG$243,2,0)","v":"공공정책대학원"},{"$f":"VLOOKUP(B221&D221,'[1]점검현황(금월)'!$D$7:$AG$243,3,0)","v":"XU106K"},{"$f":"VLOOKUP(B221&D221,'[1]점검현황(금월)'!$D$2:$AG$243,19,0)","v":"e-ST"},{"$f":"VLOOKUP(B221&D221,'[1]점검현황(금월)'!$D$2:$AG$243,25,0)","v":"2011-02-22"},{"$f":"VLOOKUP(B221&D221,'[1]점검현황(금월)'!$D$7:$AG$243,27,0)","v":"날짜 확인 불가(클리닝 권고)"},{"$f":"VLOOKUP(B221&D221,'[1]점검현황(금월)'!$D$7:$AG$243,23,0)","v":227},{"$f":"VLOOKUP(B221&D221,'[1]점검현황(금월)'!$D$7:$AK$243,24,0)","v":"15:10:00"},{"$f":"VLOOKUP(B221&D221,'[1]점검현황(금월)'!$D$7:$AK$243,34,0)","v":1373},322,"11:20:00",{"$f":"VLOOKUP(B221&D221,'[1]점검현황(금월)'!$D$7:$AG$243,26,0)","v":"."}]
[null,"종합관",43,1005,{"$f":"VLOOKUP(B222&D222,'[1]점검현황(금월)'!$D$7:$AG$243,2,0)","v":"공공정책대학원"},{"$f":"VLOOKUP(B222&D222,'[1]점검현황(금월)'!$D$7:$AG$243,3,0)","v":"XU106K"},{"$f":"VLOOKUP(B222&D222,'[1]점검현황(금월)'!$D$2:$AG$243,19,0)","v":"e-ST"},{"$f":"VLOOKUP(B222&D222,'[1]점검현황(금월)'!$D$2:$AG$243,25,0)","v":"2018-03-27"},{"$f":"VLOOKUP(B222&D222,'[1]점검현황(금월)'!$D$7:$AG$243,27,0)","v":"날짜 확인 불가(클리닝 권고)"},{"$f":"VLOOKUP(B222&D222,'[1]점검현황(금월)'!$D$7:$AG$243,23,0)","v":227},{"$f":"VLOOKUP(B222&D222,'[1]점검현황(금월)'!$D$7:$AK$243,24,0)","v":"15:30:00"},{"$f":"VLOOKUP(B222&D222,'[1]점검현황(금월)'!$D$7:$AK$243,34,0)","v":329},322,"11:30:00",{"$f":"VLOOKUP(B222&D222,'[1]점검현황(금월)'!$D$7:$AG$243,26,0)","v":"."}]
[null,"종합관",44,1007,{"$f":"VLOOKUP(B223&D223,'[1]점검현황(금월)'!$D$7:$AG$243,2,0)","v":"공공정책대학원"},{"$f":"VLOOKUP(B223&D223,'[1]점검현황(금월)'!$D$7:$AG$243,3,0)","v":"XU106K"},{"$f":"VLOOKUP(B223&D223,'[1]점검현황(금월)'!$D$2:$AG$243,19,0)","v":"e-ST"},{"$f":"VLOOKUP(B223&D223,'[1]점검현황(금월)'!$D$2:$AG$243,25,0)","v":"2017-08-29"},{"$f":"VLOOKUP(B223&D223,'[1]점검현황(금월)'!$D$7:$AG$243,27,0)","v":"날짜 확인 불가(클리닝 권고)"},{"$f":"VLOOKUP(B223&D223,'[1]점검현황(금월)'!$D$7:$AG$243,23,0)","v":227},{"$f":"VLOOKUP(B223&D223,'[1]점검현황(금월)'!$D$7:$AK$243,24,0)","v":"15:50:00"},{"$f":"VLOOKUP(B223&D223,'[1]점검현황(금월)'!$D$7:$AK$243,34,0)","v":687},323,"11:40:00",{"$f":"VLOOKUP(B223&D223,'[1]점검현황(금월)'!$D$7:$AG$243,26,0)","v":"."}]
[null,"종합관",45,1008,{"$f":"VLOOKUP(B224&D224,'[1]점검현황(금월)'!$D$7:$AG$243,2,0)","v":"공공정책대학원"},{"$f":"VLOOKUP(B224&D224,'[1]점검현황(금월)'!$D$7:$AG$243,3,0)","v":"XU106K"},{"$f":"VLOOKUP(B224&D224,'[1]점검현황(금월)'!$D$2:$AG$243,19,0)","v":"e-ST"},{"$f":"VLOOKUP(B224&D224,'[1]점검현황(금월)'!$D$2:$AG$243,25,0)","v":"2016-03-18"},{"$f":"VLOOKUP(B224&D224,'[1]점검현황(금월)'!$D$7:$AG$243,27,0)","v":"날짜 확인 불가(클리닝 권고)"},{"$f":"VLOOKUP(B224&D224,'[1]점검현황(금월)'!$D$7:$AG$243,23,0)","v":227},{"$f":"VLOOKUP(B224&D224,'[1]점검현황(금월)'!$D$7:$AK$243,24,0)","v":"16:10:00"},{"$f":"VLOOKUP(B224&D224,'[1]점검현황(금월)'!$D$7:$AK$243,34,0)","v":611},323,"11:50:00",{"$f":"VLOOKUP(B224&D224,'[1]점검현황(금월)'!$D$7:$AG$243,26,0)","v":"."}]
[null,"종합관",46,1009,{"$f":"VLOOKUP(B225&D225,'[1]점검현황(금월)'!$D$7:$AG$243,2,0)","v":"공공정책대학원"},{"$f":"VLOOKUP(B225&D225,'[1]점검현황(금월)'!$D$7:$AG$243,3,0)","v":"XU106K"},{"$f":"VLOOKUP(B225&D225,'[1]점검현황(금월)'!$D$2:$AG$243,19,0)","v":"e-ST"},{"$f":"VLOOKUP(B225&D225,'[1]점검현황(금월)'!$D$2:$AG$243,25,0)","v":"2018-03-27"},{"$f":"VLOOKUP(B225&D225,'[1]점검현황(금월)'!$D$7:$AG$243,27,0)","v":"날짜 확인 불가(클리닝 권고)"},{"$f":"VLOOKUP(B225&D225,'[1]점검현황(금월)'!$D$7:$AG$243,23,0)","v":227},{"$f":"VLOOKUP(B225&D225,'[1]점검현황(금월)'!$D$7:$AK$243,24,0)","v":"16:30:00"},{"$f":"VLOOKUP(B225&D225,'[1]점검현황(금월)'!$D$7:$AK$243,34,0)","v":370},323,"12:00:00",{"$f":"VLOOKUP(B225&D225,'[1]점검현황(금월)'!$D$7:$AG$243,26,0)","v":"."}]
[null,"종합관",47,1101,{"$f":"VLOOKUP(B226&D226,'[1]점검현황(금월)'!$D$7:$AG$243,2,0)","v":"LINC사업단"},{"$f":"VLOOKUP(B226&D226,'[1]점검현황(금월)'!$D$7:$AG$243,3,0)","v":"VX410"},{"$f":"VLOOKUP(B226&D226,'[1]점검현황(금월)'!$D$2:$AG$243,19,0)","v":"자체"},{"$f":"VLOOKUP(B226&D226,'[1]점검현황(금월)'!$D$2:$AG$243,25,0)","v":"2015-01-14"},{"$f":"VLOOKUP(B226&D226,'[1]점검현황(금월)'!$D$7:$AG$243,27,0)","v":"2015-01-14(클리닝 권고)"},{"$f":"VLOOKUP(B226&D226,'[1]점검현황(금월)'!$D$7:$AG$243,23,0)","v":227},{"$f":"VLOOKUP(B226&D226,'[1]점검현황(금월)'!$D$7:$AK$243,24,0)","v":"16:50:00"},{"$f":"VLOOKUP(B226&D226,'[1]점검현황(금월)'!$D$7:$AK$243,34,0)","v":803},323,"12:20:00",{"$f":"VLOOKUP(B226&D226,'[1]점검현황(금월)'!$D$7:$AG$243,26,0)","v":"."}]
["약학관","약학관",1,105,{"$f":"VLOOKUP(B227&D227,'[1]점검현황(금월)'!$D$7:$AG$243,2,0)","v":"약학대"},{"$f":"VLOOKUP(B227&D227,'[1]점검현황(금월)'!$D$7:$AG$243,3,0)","v":"VX410"},{"$f":"VLOOKUP(B227&D227,'[1]점검현황(금월)'!$D$2:$AG$243,19,0)","v":"e-ST"},{"$f":"VLOOKUP(B227&D227,'[1]점검현황(금월)'!$D$2:$AG$243,25,0)","v":"2018-11-23"},{"$f":"VLOOKUP(B227&D227,'[1]점검현황(금월)'!$D$7:$AG$243,27,0)","v":"2018-11-23"},{"$f":"VLOOKUP(B227&D227,'[1]점검현황(금월)'!$D$7:$AG$243,23,0)","v":227},{"$f":"VLOOKUP(B227&D227,'[1]점검현황(금월)'!$D$7:$AK$243,24,0)","v":"14:23:00"},{"$f":"VLOOKUP(B227&D227,'[1]점검현황(금월)'!$D$7:$AK$243,34,0)","v":145},323,"13:00:00",{"$f":"VLOOKUP(B227&D227,'[1]점검현황(금월)'!$D$7:$AG$243,26,0)","v":"."}]
[null,"약학관",2,106,{"$f":"VLOOKUP(B228&D228,'[1]점검현황(금월)'!$D$7:$AG$243,2,0)","v":"약학대"},{"$f":"VLOOKUP(B228&D228,'[1]점검현황(금월)'!$D$7:$AG$243,3,0)","v":"VX600"},{"$f":"VLOOKUP(B228&D228,'[1]점검현황(금월)'!$D$2:$AG$243,19,0)","v":"e-ST"},{"$f":"VLOOKUP(B228&D228,'[1]점검현황(금월)'!$D$2:$AG$243,25,0)","v":"2017-02-28"},{"$f":"VLOOKUP(B228&D228,'[1]점검현황(금월)'!$D$7:$AG$243,27,0)","v":"2017-02-28"},{"$f":"VLOOKUP(B228&D228,'[1]점검현황(금월)'!$D$7:$AG$243,23,0)","v":227},{"$f":"VLOOKUP(B228&D228,'[1]점검현황(금월)'!$D$7:$AK$243,24,0)","v":"09:10:00"},{"$f":"VLOOKUP(B228&D228,'[1]점검현황(금월)'!$D$7:$AK$243,34,0)","v":1552},323,"13:10:00",{"$f":"VLOOKUP(B228&D228,'[1]점검현황(금월)'!$D$7:$AG$243,26,0)","v":"."}]
[null,"약학관",3,"B107",{"$f":"VLOOKUP(B229&D229,'[1]점검현황(금월)'!$D$7:$AG$243,2,0)","v":"약학대"},{"$f":"VLOOKUP(B229&D229,'[1]점검현황(금월)'!$D$7:$AG$243,3,0)","v":"VX421"},{"$f":"VLOOKUP(B229&D229,'[1]점검현황(금월)'!$D$2:$AG$243,19,0)","v":"e-ST"},{"$f":"VLOOKUP(B229&D229,'[1]점검현황(금월)'!$D$2:$AG$243,25,0)","v":"2017-03-04"},{"$f":"VLOOKUP(B229&D229,'[1]점검현황(금월)'!$D$7:$AG$243,27,0)","v":"2017-03-04"},{"$f":"VLOOKUP(B229&D229,'[1]점검현황(금월)'!$D$7:$AG$243,23,0)","v":228},{"$f":"VLOOKUP(B229&D229,'[1]점검현황(금월)'!$D$7:$AK$243,24,0)","v":"14:40:00"},{"$f":"VLOOKUP(B229&D229,'[1]점검현황(금월)'!$D$7:$AK$243,34,0)","v":635},323,"13:20:00",{"$f":"VLOOKUP(B229&D229,'[1]점검현황(금월)'!$D$7:$AG$243,26,0)","v":"."}]
["도서관","도서관",1,101,{"$f":"VLOOKUP(B230&D230,'[1]점검현황(금월)'!$D$7:$AG$243,2,0)","v":"소강당"},{"$f":"VLOOKUP(B230&D230,'[1]점검현황(금월)'!$D$7:$AG$243,3,0)","v":"VX600"},{"$f":"VLOOKUP(B230&D230,'[1]점검현황(금월)'!$D$2:$AG$243,19,0)","v":"구"},{"$f":"VLOOKUP(B230&D230,'[1]점검현황(금월)'!$D$2:$AG$243,25,0)","v":"2015-09-21"},{"$f":"VLOOKUP(B230&D230,'[1]점검현황(금월)'!$D$7:$AG$243,27,0)","v":"2018-09-20"},{"$f":"VLOOKUP(B230&D230,'[1]점검현황(금월)'!$D$7:$AG$243,23,0)","v":228},{"$f":"VLOOKUP(B230&D230,'[1]점검현황(금월)'!$D$7:$AK$243,24,0)","v":"09:30:00"},{"$f":"VLOOKUP(B230&D230,'[1]점검현황(금월)'!$D$7:$AK$243,34,0)","v":620},323,"13:30:00",{"$f":"VLOOKUP(B230&D230,'[1]점검현황(금월)'!$D$7:$AG$243,26,0)","v":"21,"}]
["종합                        설계동","종합설계동",1,101,{"$f":"VLOOKUP(B231&D231,'[1]점검현황(금월)'!$D$7:$AG$243,2,0)","v":"정 통 컴"},{"$f":"VLOOKUP(B231&D231,'[1]점검현황(금월)'!$D$7:$AG$243,3,0)","v":"VX421"},{"$f":"VLOOKUP(B231&D231,'[1]점검현황(금월)'!$D$2:$AG$243,19,0)","v":"e-ST"},{"$f":"VLOOKUP(B231&D231,'[1]점검현황(금월)'!$D$2:$AG$243,25,0)","v":"2016-05-13"},{"$f":"VLOOKUP(B231&D231,'[1]점검현황(금월)'!$D$7:$AG$243,27,0)","v":"2016-05-13(클리닝 권고)"},{"$f":"VLOOKUP(B231&D231,'[1]점검현황(금월)'!$D$7:$AG$243,23,0)","v":228},{"$f":"VLOOKUP(B231&D231,'[1]점검현황(금월)'!$D$7:$AK$243,24,0)","v":"10:50:00"},{"$f":"VLOOKUP(B231&D231,'[1]점검현황(금월)'!$D$7:$AK$243,34,0)","v":2258},323,"09:00:00",{"$f":"VLOOKUP(B231&D231,'[1]점검현황(금월)'!$D$7:$AG$243,26,0)","v":"."}]
[null,"종합설계동",2,103,{"$f":"VLOOKUP(B232&D232,'[1]점검현황(금월)'!$D$7:$AG$243,2,0)","v":"산업공학"},{"$f":"VLOOKUP(B232&D232,'[1]점검현황(금월)'!$D$7:$AG$243,3,0)","v":"VX540 / VX400 / 샤프"},{"$f":"VLOOKUP(B232&D232,'[1]점검현황(금월)'!$D$2:$AG$243,19,0)","v":"자체"},{"$nulls":5},323,null,{"$f":"VLOOKUP(B232&D232,'[1]점검현황(금월)'!$D$7:$AG$243,26,0)","v":"."}]
[null,"종합설계동",3,106,{"$f":"VLOOKUP(B233&D233,'[1]점검현황(금월)'!$D$7:$AG$243,2,0)","v":"환경공학"},{"$f":"VLOOKUP(B233&D233,'[1]점검현황(금월)'!$D$7:$AG$243,3,0)","v":"XU300K / XU300K"},{"$f":"VLOOKUP(B233&D233,'[1]점검현황(금월)'!$D$2:$AG$243,19,0)","v":"e-ST"},{"$f":"VLOOKUP(B233&D233,'[1]점검현황(금월)'!$D$2:$AG$243,25,0)","v":"10-09-03 / 10-12-14"},{"$f":"VLOOKUP(B233&D233,'[1]점검현황(금월)'!$D$7:$AG$243,27,0)","v":"날짜 확인 불가(클리닝 권고)"},{"$f":"VLOOKUP(B233&D233,'[1]점검현황(금월)'!$D$7:$AG$243,23,0)","v":228},{"$f":"VLOOKUP(B233&D233,'[1]점검현황(금월)'!$D$7:$AK$243,24,0)","v":"11:20:00"},{"$f":"VLOOKUP(B233&D233,'[1]점검현황(금월)'!$D$7:$AK$243,34,0)","v":"288/255"},323,"09:20:00",{"$f":"VLOOKUP(B233&D233,'[1]점검현황(금월)'!$D$7:$AG$243,26,0)","v":"."}]
["화공실험동","화공실험동",1,101,{"$f":"VLOOKUP(B234&D234,'[1]점검현황(금월)'!$D$7:$AG$243,2,0)","v":"PC실"},{"$f":"VLOOKUP(B234&D234,'[1]점검현황(금월)'!$D$7:$AG$243,3,0)","v":"VX421"},{"$f":"VLOOKUP(B234&D234,'[1]점검현황(금월)'!$D$2:$AG$243,19,0)","v":"자체"},{"$f":"VLOOKUP(B234&D234,'[1]점검현황(금월)'!$D$2:$AG$243,25,0)","v":"2017-09-19"},{"$f":"VLOOKUP(B234&D234,'[1]점검현황(금월)'!$D$7:$AG$243,27,0)","v":"2017-09-19"},{"$f":"VLOOKUP(B234&D234,'[1]점검현황(금월)'!$D$7:$AG$243,23,0)","v":228},{"$f":"VLOOKUP(B234&D234,'[1]점검현황(금월)'!$D$7:$AK$243,24,0)","v":"11:50:00"},{"$f":"VLOOKUP(B234&D234,'[1]점검현황(금월)'!$D$7:$AK$243,34,0)","v":146},323,"09:50:00",{"$f":"VLOOKUP(B234&D234,'[1]점검현황(금월)'!$D$7:$AG$243,26,0)","v":"."}]
[null,"화공실험동",2,102,{"$f":"VLOOKUP(B235&D235,'[1]점검현황(금월)'!$D$7:$AG$243,2,0)","v":"실험실"},{"$f":"VLOOKUP(B235&D235,'[1]점검현황(금월)'!$D$7:$AG$243,3,0)","v":"EX500E"},{"$f":"VLOOKUP(B235&D235,'[1]점검현황(금월)'!$D$2:$AG$243,19,0)","v":"자체"},{"$f":"VLOOKUP(B235&D235,'[1]점검현황(금월)'!$D$2:$AG$243,25,0)","v":"2018-05-25"},{"$f":"VLOOKUP(B235&D235,'[1]점검현황(금월)'!$D$7:$AG$243,27,0)","v":"날짜 확인 불가(클리닝 권고)"},{"$f":"VLOOKUP(B235&D235,'[1]점검현황(금월)'!$D$7:$AG$243,23,0)","v":228},{"$f":"VLOOKUP(B235&D235,'[1]점검현황(금월)'!$D$7:$AK$243,24,0)","v":"12:00:00"},{"$f":"VLOOKUP(B235&D235,'[1]점검현황(금월)'!$D$7:$AK$243,34,0)","v":241},323,"10:00:00",{"$f":"VLOOKUP(B235&D235,'[1]점검현황(금월)'!$D$7:$AG$243,26,0)","v":"."}]
[null,"화공실험동",3,105,{"$f":"VLOOKUP(B236&D236,'[1]점검현황(금월)'!$D$7:$AG$243,2,0)","v":"실험실"},{"$f":"VLOOKUP(B236&D236,'[1]점검현황(금월)'!$D$7:$AG$243,3,0)","v":"VX421"},{"$f":"VLOOKUP(B236&D236,'[1]점검현황(금월)'!$D$2:$AG$243,19,0)","v":"자체"},{"$f":"VLOOKUP(B236&D236,'[1]점검현황(금월)'!$D$2:$AG$243,25,0)","v":"2017-03-29"},{"$f":"VLOOKUP(B236&D236,'[1]점검현황(금월)'!$D$7:$AG$243,27,0)","v":"2017-03-29"},{"$f":"VLOOKUP(B236&D236,'[1]점검현황(금월)'!$D$7:$AG$243,23,0)","v":228},{"$f":"VLOOKUP(B236&D236,'[1]점검현황(금월)'!$D$7:$AK$243,24,0)","v":"12:10:00"},{"$f":"VLOOKUP(B236&D236,'[1]점검현황(금월)'!$D$7:$AK$243,34,0)","v":673},323,"10:10:00",{"$f":"VLOOKUP(B236&D236,'[1]점검현황(금월)'!$D$7:$AG$243,26,0)","v":"."}]
[null,null,"※ 강의실 점검 내용"]
[null,null,"▶ 프로젝터 점검\n - 필터 크리닝 / 램프 사용시간 확인 / 램프 밝기 및 오염여부를 확인"]
[null,null,"▶ 스크린 점검\n - 동작 유무 확인(스크린Up, Down) / 낙서등의 오염 상태 육안으로 확인 / 손상 여부 확인"]
[null,null,"▶ PC점검\n -윈도우 보안 업데이트 확인 / 바이러스 검사 / PC하드웨어 점검(PC본체 및 모니터) / OS 및 프로그램 이상유무 확인"]
[null,null,"▶ 마이크 점검\n - 작동 여부 및 마이크 상태 확인 / 선 접지 확인 / 교탁 마이크 단자 및 거치대 확인"]
[null,null,"자동녹화"]
[null,null,"▶ 자동녹화 점검\n - e-motion 매니져 작동확인, e-motion 센서 작동 확인, 1:5 분배기 작동 확인, 자동녹화 프로그램 영상 및 음향 녹화, 카메라 및 모니터 정상 출력 확인"]