{"text_format":"2","workbook":"xlsx","n_sheets":1,"sheets":["점검계획"],"not_rendered":{"charts":0,"images":0,"macros":0,"external_links":1,"defined_names":3,"comments":0,"pivot_tables":0},"unopened":[],"bounds":{"document_bytes":16777216,"sheet_cells":100000,"run_cost":"one","rows_first":2000,"rows_last":500,"rows_between":2000,"halvings":0,"cell_chars":16384,"cell_head_chars":4096},"cells_cut":0,"cells_raw":0,"read":"whole","date_system":"1900"}

{"sheet":"점검계획","index":0,"n_rows":258,"n_cols":15,"rows_kept":258,"cut":false,"hidden":false,"merged":[[0,0,0,14],[1,14,2,14],[3,0,30,0],[1,0,2,0],[1,1,1,8],[1,9,1,11],[55,0,82,0],[106,0,116,0],[1,12,2,13],[2,9,2,10],[255,2,255,13],[254,2,254,13],[253,2,253,13],[252,2,252,13],[31,0,54,0],[83,0,105,0],[117,0,120,0],[121,0,150,0],[170,0,171,0],[232,0,234,0],[229,0,231,0],[151,0,169,0],[260,3,260,9],[251,2,251,12],[172,0,177,0],[178,0,224,0],[225,0,227,0],[258,3,258,7],[259,3,259,7],[257,2,257,13],[235,0,250,0]]}
["2019년 멀티미디어미디어 강의실 점검(03월) 및 계획(04월)"]
["건물","강의실 정보",{"$nulls":7},"램프사용시간",null,null,"점검예정일",null,"방문수리"]
[null,"건물","번호","강의실","구분","프로젝터","교탁","램프교체","정밀클리닝","최종확인일",null,"사용시간"]
["다산관","다산관",1,"B105",{"$f":"VLOOKUP(B4&D4,'[1]점검현황(전월)'!$D$7:$AG$242,2,0)","v":"멀티미디어 (자동녹화)"},{"$f":"VLOOKUP(B4&D4,'[1]점검현황(전월)'!$D$7:$AG$242,3,0)","v":"EX600"},{"$f":"VLOOKUP(B4&D4,'[1]점검현황(전월)'!$D$2:$AG$242,19,0)","v":"구"},"2017-09-19",{"$f":"VLOOKUP(B4&D4,'[1]점검현황(전월)'!$D$7:$AG$242,27,0)","v":"2015-04-09(클리닝 권고)"},327,{"$f":"VLOOKUP(B4&D4,'[1]점검현황(전월)'!$D$7:$AK$242,24,0)","v":"12:05:00"},1823,401,"08:30:00","4,5,13,27"]
[null,{"$f":"B4","v":"다산관"},2,"B106",{"$f":"VLOOKUP(B5&D5,'[1]점검현황(전월)'!$D$7:$AG$242,2,0)","v":"경영대 (자동녹화)"},{"$f":"VLOOKUP(B5&D5,'[1]점검현황(전월)'!$D$7:$AG$242,3,0)","v":"EX600"},{"$f":"VLOOKUP(B5&D5,'[1]점검현황(전월)'!$D$2:$AG$242,19,0)","v":"e-ST"},"2017-11-17",{"$f":"VLOOKUP(B5&D5,'[1]점검현황(전월)'!$D$7:$AG$242,27,0)","v":"날짜 확인 불가(클리닝 권고)"},302,{"$f":"VLOOKUP(B5&D5,'[1]점검현황(전월)'!$D$7:$AK$242,24,0)","v":"11:53:00"},2107,401,"08:40:00"]
[null,{"$f":"B5","v":"다산관"},3,"B107",{"$f":"VLOOKUP(B6&D6,'[1]점검현황(전월)'!$D$7:$AG$242,2,0)","v":"경영대대학원"},{"$f":"VLOOKUP(B6&D6,'[1]점검현황(전월)'!$D$7:$AG$242,3,0)","v":"VX421 / VX421"},{"$f":"VLOOKUP(B6&D6,'[1]점검현황(전월)'!$D$2:$AG$242,19,0)","v":"e-ST"},"17-02-16 /17-02-16",{"$f":"VLOOKUP(B6&D6,'[1]점검현황(전월)'!$D$7:$AG$242,27,0)","v":"17-02-16 /17-02-16"},302,{"$f":"VLOOKUP(B6&D6,'[1]점검현황(전월)'!$D$7:$AK$242,24,0)","v":"17:00:00"},"393/386",401,"08:50:00","."]
[null,{"$f":"B6","v":"다산관"},4,"B108",{"$f":"VLOOKUP(B7&D7,'[1]점검현황(전월)'!$D$7:$AG$242,2,0)","v":"E-biz"},{"$f":"VLOOKUP(B7&D7,'[1]점검현황(전월)'!$D$7:$AG$242,3,0)","v":"EX600"},{"$f":"VLOOKUP(B7&D7,'[1]점검현황(전월)'!$D$2:$AG$242,19,0)","v":"e-ST"},"2018-05-17",{"$f":"VLOOKUP(B7&D7,'[1]점검현황(전월)'!$D$7:$AG$242,27,0)","v":"날짜 확인 불가(클리닝 권고)"},327,{"$f":"VLOOKUP(B7&D7,'[1]점검현황(전월)'!$D$7:$AK$242,24,0)","v":"13:20:00"},1072,401,"19:00:00","."]
[null,{"$f":"B7","v":"다산관"},5,"B109",{"$f":"VLOOKUP(B8&D8,'[1]점검현황(전월)'!$D$7:$AG$242,2,0)","v":"멀티미디어"},{"$f":"VLOOKUP(B8&D8,'[1]점검현황(전월)'!$D$7:$AG$242,3,0)","v":"XU106K"},{"$f":"VLOOKUP(B8&D8,'[1]점검현황(전월)'!$D$2:$AG$242,19,0)","v":"구"},"2018-03-03",{"$f":"VLOOKUP(B8&D8,'[1]점검현황(전월)'!$D$7:$AG$242,27,0)","v":"2019-02-12"},302,{"$f":"VLOOKUP(B8&D8,'[1]점검현황(전월)'!$D$7:$AK$242,24,0)","v":"19:10:00"},986,401,"19:10:00","6,27"]
[null,"다산관",6,"B112",{"$f":"VLOOKUP(B9&D9,'[1]점검현황(전월)'!$D$7:$AG$242,2,0)","v":"대학원"},{"$f":"VLOOKUP(B9&D9,'[1]점검현황(전월)'!$D$7:$AG$242,3,0)","v":"VX421"},{"$f":"VLOOKUP(B9&D9,'[1]점검현황(전월)'!$D$2:$AG$242,19,0)","v":"e-ST"},"2018-10-04",{"$f":"VLOOKUP(B9&D9,'[1]점검현황(전월)'!$D$7:$AG$242,27,0)","v":"2018-10-04"},302,{"$f":"VLOOKUP(B9&D9,'[1]점검현황(전월)'!$D$7:$AK$242,24,0)","v":"19:30:00"},99,401,"19:20:00","."]
[null,{"$f":"B8","v":"다산관"},7,"B115",{"$f":"VLOOKUP(B10&D10,'[1]점검현황(전월)'!$D$7:$AG$242,2,0)","v":"대학원"},{"$f":"VLOOKUP(B10&D10,'[1]점검현황(전월)'!$D$7:$AG$242,3,0)","v":"LB280"},{"$f":"VLOOKUP(B10&D10,'[1]점검현황(전월)'!$D$2:$AG$242,19,0)","v":"e-ST"},"2014-03-07",{"$f":"VLOOKUP(B10&D10,'[1]점검현황(전월)'!$D$7:$AG$242,27,0)","v":"2014-03-07(클리닝 권고)"},326,{"$f":"VLOOKUP(B10&D10,'[1]점검현황(전월)'!$D$7:$AK$242,24,0)","v":"08:30:00"},1167,401,"08:30:00","."]
[null,{"$f":"B10","v":"다산관"},8,"B121",{"$f":"VLOOKUP(B11&D11,'[1]점검현황(전월)'!$D$7:$AG$242,2,0)","v":"대강당"},{"$f":"VLOOKUP(B11&D11,'[1]점검현황(전월)'!$D$7:$AG$242,3,0)","v":"EX620"},{"$f":"VLOOKUP(B11&D11,'[1]점검현황(전월)'!$D$2:$AG$242,19,0)","v":"e-ST"},"2017-03-07",{"$f":"VLOOKUP(B11&D11,'[1]점검현황(전월)'!$D$7:$AG$242,27,0)","v":"2017-03-07"},302,{"$f":"VLOOKUP(B11&D11,'[1]점검현황(전월)'!$D$7:$AK$242,24,0)","v":"17:10:00"},947,401,"08:40:00","26,"]
[null,"다산관",9,105,{"$f":"VLOOKUP(B12&D12,'[1]점검현황(전월)'!$D$7:$AG$242,2,0)","v":"멀티미디어"},{"$f":"VLOOKUP(B12&D12,'[1]점검현황(전월)'!$D$7:$AG$242,3,0)","v":"VX421"},{"$f":"VLOOKUP(B12&D12,'[1]점검현황(전월)'!$D$2:$AG$242,19,0)","v":"e-ST"},"2016-12-28",{"$f":"VLOOKUP(B12&D12,'[1]점검현황(전월)'!$D$7:$AG$242,27,0)","v":"2018-12-11"},305,{"$f":"VLOOKUP(B12&D12,'[1]점검현황(전월)'!$D$7:$AK$242,24,0)","v":"08:50:00"},2401,401,"08:50:00","."]
[null,"다산관",10,106,{"$f":"VLOOKUP(B13&D13,'[1]점검현황(전월)'!$D$7:$AG$242,2,0)","v":"불어불문"},{"$f":"VLOOKUP(B13&D13,'[1]점검현황(전월)'!$D$7:$AG$242,3,0)","v":"VX421"},{"$f":"VLOOKUP(B13&D13,'[1]점검현황(전월)'!$D$2:$AG$242,19,0)","v":"e-ST"},"2016-08-26",{"$f":"VLOOKUP(B13&D13,'[1]점검현황(전월)'!$D$7:$AG$242,27,0)","v":"2016-08-26(클리닝 권고)"},302,{"$f":"VLOOKUP(B13&D13,'[1]점검현황(전월)'!$D$7:$AK$242,24,0)","v":"19:00:00"},1918,401,"19:00:00","5,"]
[null,"다산관",11,107,{"$f":"VLOOKUP(B14&D14,'[1]점검현황(전월)'!$D$7:$AG$242,2,0)","v":"국어국문"},{"$f":"VLOOKUP(B14&D14,'[1]점검현황(전월)'!$D$7:$AG$242,3,0)","v":"VX421"},{"$f":"VLOOKUP(B14&D14,'[1]점검현황(전월)'!$D$2:$AG$242,19,0)","v":"e-ST"},"2018-08-31",{"$f":"VLOOKUP(B14&D14,'[1]점검현황(전월)'!$D$7:$AG$242,27,0)","v":"2016-08-26(클리닝 권고)"},302,{"$f":"VLOOKUP(B14&D14,'[1]점검현황(전월)'!$D$7:$AK$242,24,0)","v":"19:10:00"},1754,402,"19:10:00","."]
[null,"다산관",12,108,{"$f":"VLOOKUP(B15&D15,'[1]점검현황(전월)'!$D$7:$AG$242,2,0)","v":"사학과"},{"$f":"VLOOKUP(B15&D15,'[1]점검현황(전월)'!$D$7:$AG$242,3,0)","v":"VX421"},{"$f":"VLOOKUP(B15&D15,'[1]점검현황(전월)'!$D$2:$AG$242,19,0)","v":"e-ST"},"2018-08-31",{"$f":"VLOOKUP(B15&D15,'[1]점검현황(전월)'!$D$7:$AG$242,27,0)","v":"2016-08-26(클리닝 권고)"},302,{"$f":"VLOOKUP(B15&D15,'[1]점검현황(전월)'!$D$7:$AK$242,24,0)","v":"19:20:00"},806,402,"19:20:00","."]
[null,"다산관",13,109,{"$f":"VLOOKUP(B16&D16,'[1]점검현황(전월)'!$D$7:$AG$242,2,0)","v":"멀티미디어 (자동녹화)"},{"$f":"VLOOKUP(B16&D16,'[1]점검현황(전월)'!$D$7:$AG$242,3,0)","v":"VX600"},{"$f":"VLOOKUP(B16&D16,'[1]점검현황(전월)'!$D$2:$AG$242,19,0)","v":"e-ST"},"2018-10-29",{"$f":"VLOOKUP(B16&D16,'[1]점검현황(전월)'!$D$7:$AG$242,27,0)","v":"2018-11-20"},302,{"$f":"VLOOKUP(B16&D16,'[1]점검현황(전월)'!$D$7:$AK$242,24,0)","v":"19:30:00"},207,402,"08:30:00","."]
[null,"다산관",14,110,{"$f":"VLOOKUP(B17&D17,'[1]점검현황(전월)'!$D$7:$AG$242,2,0)","v":"대학원"},{"$f":"VLOOKUP(B17&D17,'[1]점검현황(전월)'!$D$7:$AG$242,3,0)","v":"XU106K"},{"$f":"VLOOKUP(B17&D17,'[1]점검현황(전월)'!$D$2:$AG$242,19,0)","v":"e-ST"},"2017-06-27",{"$f":"VLOOKUP(B17&D17,'[1]점검현황(전월)'!$D$7:$AG$242,27,0)","v":"2017-04-20"},320,{"$f":"VLOOKUP(B17&D17,'[1]점검현황(전월)'!$D$7:$AK$242,24,0)","v":"08:40:00"},1000,402,"08:40:00","."]
[null,"다산관",15,111,{"$f":"VLOOKUP(B18&D18,'[1]점검현황(전월)'!$D$7:$AG$242,2,0)","v":"경영대 (자동녹화)"},{"$f":"VLOOKUP(B18&D18,'[1]점검현황(전월)'!$D$7:$AG$242,3,0)","v":"EX600"},{"$f":"VLOOKUP(B18&D18,'[1]점검현황(전월)'!$D$2:$AG$242,19,0)","v":"e-ST"},"2018-05-21",{"$f":"VLOOKUP(B18&D18,'[1]점검현황(전월)'!$D$7:$AG$242,27,0)","v":"2014-10-22(클리닝 권고)"},302,{"$f":"VLOOKUP(B18&D18,'[1]점검현황(전월)'!$D$7:$AK$242,24,0)","v":"08:50:00"},1021,402,"08:50:00","20,"]
[null,"다산관",16,115,{"$f":"VLOOKUP(B19&D19,'[1]점검현황(전월)'!$D$7:$AG$242,2,0)","v":"멀티미디어"},{"$f":"VLOOKUP(B19&D19,'[1]점검현황(전월)'!$D$7:$AG$242,3,0)","v":"XU106K"},{"$f":"VLOOKUP(B19&D19,'[1]점검현황(전월)'!$D$2:$AG$242,19,0)","v":"구"},"2018-06-05",{"$f":"VLOOKUP(B19&D19,'[1]점검현황(전월)'!$D$7:$AG$242,27,0)","v":"2018-10-24"},302,{"$f":"VLOOKUP(B19&D19,'[1]점검현황(전월)'!$D$7:$AK$242,24,0)","v":"17:42:00"},504,402,"19:00:00","."]
[null,"다산관",17,"205A",{"$f":"VLOOKUP(B20&D20,'[1]점검현황(전월)'!$D$7:$AG$242,2,0)","v":"인문대 (PC실)"},{"$f":"VLOOKUP(B20&D20,'[1]점검현황(전월)'!$D$7:$AG$242,3,0)","v":"EX500E / VX600"},{"$f":"VLOOKUP(B20&D20,'[1]점검현황(전월)'!$D$2:$AG$242,19,0)","v":"e-ST"},"18-11-27 / 17-02-05",{"$f":"VLOOKUP(B20&D20,'[1]점검현황(전월)'!$D$7:$AG$242,27,0)","v":"날짜 확인 불가(클리닝 권고) / 17-02-05"},321,{"$f":"VLOOKUP(B20&D20,'[1]점검현황(전월)'!$D$7:$AK$242,24,0)","v":"19:10:00"},"138/2261",402,"19:10:00","."]
[null,"다산관",18,"205B",{"$f":"VLOOKUP(B21&D21,'[1]점검현황(전월)'!$D$7:$AG$242,2,0)","v":"멀티미디어 (자동녹화)"},{"$f":"VLOOKUP(B21&D21,'[1]점검현황(전월)'!$D$7:$AG$242,3,0)","v":"VX600"},{"$f":"VLOOKUP(B21&D21,'[1]점검현황(전월)'!$D$2:$AG$242,19,0)","v":"구e-ST"},"2018-01-09",{"$f":"VLOOKUP(B21&D21,'[1]점검현황(전월)'!$D$7:$AG$242,27,0)","v":"2019-02-13"},314,{"$f":"VLOOKUP(B21&D21,'[1]점검현황(전월)'!$D$7:$AK$242,24,0)","v":"12:41:00"},799,402,"19:20:00","21,"]
[null,"다산관",19,307,{"$f":"VLOOKUP(B22&D22,'[1]점검현황(전월)'!$D$7:$AG$242,2,0)","v":"경영대(PC실)"},{"$f":"VLOOKUP(B22&D22,'[1]점검현황(전월)'!$D$7:$AG$242,3,0)","v":"EX510"},{"$f":"VLOOKUP(B22&D22,'[1]점검현황(전월)'!$D$2:$AG$242,19,0)","v":"e-ST"},"2015-11-06",{"$f":"VLOOKUP(B22&D22,'[1]점검현황(전월)'!$D$7:$AG$242,27,0)","v":"날짜 확인 불가(클리닝 권고)"},322,{"$f":"VLOOKUP(B22&D22,'[1]점검현황(전월)'!$D$7:$AK$242,24,0)","v":"19:30:00"},1811,402,"19:30:00","14,"]
[null,{"$f":"B21","v":"다산관"},20,308,{"$f":"VLOOKUP(B23&D23,'[1]점검현황(전월)'!$D$7:$AG$242,2,0)","v":"경영대 (PC실)"},{"$f":"VLOOKUP(B23&D23,'[1]점검현황(전월)'!$D$7:$AG$242,3,0)","v":"VX510"},{"$f":"VLOOKUP(B23&D23,'[1]점검현황(전월)'!$D$2:$AG$242,19,0)","v":"e-ST"},"2017-09-18",{"$f":"VLOOKUP(B23&D23,'[1]점검현황(전월)'!$D$7:$AG$242,27,0)","v":"날짜 확인 불가(클리닝 권고)"},322,{"$f":"VLOOKUP(B23&D23,'[1]점검현황(전월)'!$D$7:$AK$242,24,0)","v":"08:30:00"},2203,402,"08:30:00","22,"]
[null,{"$f":"B23","v":"다산관"},21,309,{"$f":"VLOOKUP(B24&D24,'[1]점검현황(전월)'!$D$7:$AG$242,2,0)","v":"경영대학원(자동녹화)"},{"$f":"VLOOKUP(B24&D24,'[1]점검현황(전월)'!$D$7:$AG$242,3,0)","v":"EX500E"},{"$f":"VLOOKUP(B24&D24,'[1]점검현황(전월)'!$D$2:$AG$242,19,0)","v":"e-ST"},"2018-12-11",{"$f":"VLOOKUP(B24&D24,'[1]점검현황(전월)'!$D$7:$AG$242,27,0)","v":"날짜 확인 불가(클리닝 권고)"},314,{"$f":"VLOOKUP(B24&D24,'[1]점검현황(전월)'!$D$7:$AK$242,24,0)","v":"08:40:00"},54,403,"08:40:00","12,20,21,22"]
[null,"다산관",22,310,{"$f":"VLOOKUP(B25&D25,'[1]점검현황(전월)'!$D$7:$AG$242,2,0)","v":"멀티미디어"},{"$f":"VLOOKUP(B25&D25,'[1]점검현황(전월)'!$D$7:$AG$242,3,0)","v":"VX410 / VX410"},{"$f":"VLOOKUP(B25&D25,'[1]점검현황(전월)'!$D$2:$AG$242,19,0)","v":"e-ST"},"18-04-13 / 18-09-21",{"$f":"VLOOKUP(B25&D25,'[1]점검현황(전월)'!$D$7:$AG$242,27,0)","v":"18-10-18 / 18-10-25"},313,{"$f":"VLOOKUP(B25&D25,'[1]점검현황(전월)'!$D$7:$AK$242,24,0)","v":"08:50:00"},"594/7",403,"08:50:00","14,"]
[null,"다산관",23,311,{"$f":"VLOOKUP(B26&D26,'[1]점검현황(전월)'!$D$7:$AG$242,2,0)","v":"경영대대학원"},{"$f":"VLOOKUP(B26&D26,'[1]점검현황(전월)'!$D$7:$AG$242,3,0)","v":"VX410 / VX400"},{"$f":"VLOOKUP(B26&D26,'[1]점검현황(전월)'!$D$2:$AG$242,19,0)","v":"e-ST"},"19-03-20 / 17-06-26",{"$f":"VLOOKUP(B26&D26,'[1]점검현황(전월)'!$D$7:$AG$242,27,0)","v":"날짜 확인 불가(클리닝 권고)"},302,{"$f":"VLOOKUP(B26&D26,'[1]점검현황(전월)'!$D$7:$AK$242,24,0)","v":"19:00:00"},"7/2225",403,"19:00:00","11,13"]
[null,"다산관",24,406,{"$f":"VLOOKUP(B27&D27,'[1]점검현황(전월)'!$D$7:$AG$242,2,0)","v":"경영대 (PC실)"},{"$f":"VLOOKUP(B27&D27,'[1]점검현황(전월)'!$D$7:$AG$242,3,0)","v":"XU106K"},{"$f":"VLOOKUP(B27&D27,'[1]점검현황(전월)'!$D$2:$AG$242,19,0)","v":"e-ST"},"2018-09-12",{"$f":"VLOOKUP(B27&D27,'[1]점검현황(전월)'!$D$7:$AG$242,27,0)","v":"날짜 확인 불가(클리닝 권고)"},302,{"$f":"VLOOKUP(B27&D27,'[1]점검현황(전월)'!$D$7:$AK$242,24,0)","v":"19:10:00"},331,403,"19:10:00","."]
[null,"다산관",25,433,{"$f":"VLOOKUP(B28&D28,'[1]점검현황(전월)'!$D$7:$AG$242,2,0)","v":"경영대대학원"},{"$f":"VLOOKUP(B28&D28,'[1]점검현황(전월)'!$D$7:$AG$242,3,0)","v":"LB280"},{"$f":"VLOOKUP(B28&D28,'[1]점검현황(전월)'!$D$2:$AG$242,19,0)","v":"e-ST"},"2015-09-01",{"$f":"VLOOKUP(B28&D28,'[1]점검현황(전월)'!$D$7:$AG$242,27,0)","v":"2015-09-01(클리닝 권고)"},302,{"$f":"VLOOKUP(B28&D28,'[1]점검현황(전월)'!$D$7:$AK$242,24,0)","v":"19:15:00"},2050,403,"19:15:00","."]
[null,"다산관",26,505,{"$f":"VLOOKUP(B29&D29,'[1]점검현황(전월)'!$D$7:$AG$242,2,0)","v":"대학원"},{"$f":"VLOOKUP(B29&D29,'[1]점검현황(전월)'!$D$7:$AG$242,3,0)","v":"XU301K"},{"$f":"VLOOKUP(B29&D29,'[1]점검현황(전월)'!$D$2:$AG$242,19,0)","v":"e-ST"},"2017-06-27",{"$f":"VLOOKUP(B29&D29,'[1]점검현황(전월)'!$D$7:$AG$242,27,0)","v":"2017-08-30"},302,{"$f":"VLOOKUP(B29&D29,'[1]점검현황(전월)'!$D$7:$AK$242,24,0)","v":"19:20:00"},989,403,"19:20:00","."]
[null,"다산관",27,506,{"$f":"VLOOKUP(B30&D30,'[1]점검현황(전월)'!$D$7:$AG$242,2,0)","v":"멀티미디어"},{"$f":"VLOOKUP(B30&D30,'[1]점검현황(전월)'!$D$7:$AG$242,3,0)","v":"XU106K"},{"$f":"VLOOKUP(B30&D30,'[1]점검현황(전월)'!$D$2:$AG$242,19,0)","v":"구"},"2018-08-20",{"$f":"VLOOKUP(B30&D30,'[1]점검현황(전월)'!$D$7:$AG$242,27,0)","v":"2018-12-04"},328,{"$f":"VLOOKUP(B30&D30,'[1]점검현황(전월)'!$D$7:$AK$242,24,0)","v":"08:30:00"},645,403,"09:00:00","."]
[null,"다산관",28,507,{"$f":"VLOOKUP(B31&D31,'[1]점검현황(전월)'!$D$7:$AG$242,2,0)","v":"멀티미디어 (자동녹화)"},{"$f":"VLOOKUP(B31&D31,'[1]점검현황(전월)'!$D$7:$AG$242,3,0)","v":"VX600"},{"$f":"VLOOKUP(B31&D31,'[1]점검현황(전월)'!$D$2:$AG$242,19,0)","v":"e-ST"},"2016-12-28",{"$f":"VLOOKUP(B31&D31,'[1]점검현황(전월)'!$D$7:$AG$242,27,0)","v":"2019-02-18"},306,{"$f":"VLOOKUP(B31&D31,'[1]점검현황(전월)'!$D$7:$AK$242,24,0)","v":"08:40:00"},2770,403,"09:10:00","28,"]
["율곡관","율곡관",1,150,{"$f":"VLOOKUP(B32&D32,'[1]점검현황(전월)'!$D$7:$AG$242,2,0)","v":"대강당"},{"$f":"VLOOKUP(B32&D32,'[1]점검현황(전월)'!$D$7:$AG$242,3,0)","v":"XF47"},{"$f":"VLOOKUP(B32&D32,'[1]점검현황(전월)'!$D$2:$AG$242,19,0)","v":"e-ST"},"2017-05-26",{"$f":"VLOOKUP(B32&D32,'[1]점검현황(전월)'!$D$7:$AG$242,27,0)","v":"2017-05-26"},318,{"$f":"VLOOKUP(B32&D32,'[1]점검현황(전월)'!$D$7:$AK$242,24,0)","v":"13:30:00"},"943/849",403,"09:20:00","6,"]
[null,"율곡관",2,151,{"$f":"VLOOKUP(B33&D33,'[1]점검현황(전월)'!$D$7:$AG$242,2,0)","v":"영상회의실"},{"$f":"VLOOKUP(B33&D33,'[1]점검현황(전월)'!$D$7:$AG$242,3,0)","v":"EX500E"},{"$f":"VLOOKUP(B33&D33,'[1]점검현황(전월)'!$D$2:$AG$242,19,0)","v":"e-ST"},"2018-01-08","2019-03-11",321,{"$f":"VLOOKUP(B33&D33,'[1]점검현황(전월)'!$D$7:$AK$242,24,0)","v":"18:20:00"},882,403,"09:30:00","11,18"]
[null,"율곡관",3,153,{"$f":"VLOOKUP(B34&D34,'[1]점검현황(전월)'!$D$7:$AG$242,2,0)","v":"멀티미디어 글로벌라운지"},{"$f":"VLOOKUP(B34&D34,'[1]점검현황(전월)'!$D$7:$AG$242,3,0)","v":"XU105K"},{"$f":"VLOOKUP(B34&D34,'[1]점검현황(전월)'!$D$2:$AG$242,19,0)","v":"e-ST"},"2017-11-02",{"$f":"VLOOKUP(B34&D34,'[1]점검현황(전월)'!$D$7:$AG$242,27,0)","v":"2018-11-07"},305,{"$f":"VLOOKUP(B34&D34,'[1]점검현황(전월)'!$D$7:$AK$242,24,0)","v":"14:10:00"},398,404,"09:40:00","21,"]
[null,"율곡관",4,154,{"$f":"VLOOKUP(B35&D35,'[1]점검현황(전월)'!$D$7:$AG$242,2,0)","v":"멀티미디어 국제대학원"},{"$f":"VLOOKUP(B35&D35,'[1]점검현황(전월)'!$D$7:$AG$242,3,0)","v":"VX421"},{"$f":"VLOOKUP(B35&D35,'[1]점검현황(전월)'!$D$2:$AG$242,19,0)","v":"e-ST"},"2017-09-05",{"$f":"VLOOKUP(B35&D35,'[1]점검현황(전월)'!$D$7:$AG$242,27,0)","v":"2017-09-05"},313,{"$f":"VLOOKUP(B35&D35,'[1]점검현황(전월)'!$D$7:$AK$242,24,0)","v":"14:30:00"},1578,404,"09:50:00","."]
[null,"율곡관",5,157,{"$f":"VLOOKUP(B36&D36,'[1]점검현황(전월)'!$D$7:$AG$242,2,0)","v":"사회대 (PC실)"},{"$f":"VLOOKUP(B36&D36,'[1]점검현황(전월)'!$D$7:$AG$242,3,0)","v":"XU106K"},{"$f":"VLOOKUP(B36&D36,'[1]점검현황(전월)'!$D$2:$AG$242,19,0)","v":"e-ST"},"2018-07-24",{"$f":"VLOOKUP(B36&D36,'[1]점검현황(전월)'!$D$7:$AG$242,27,0)","v":"2019-01-18"},326,{"$f":"VLOOKUP(B36&D36,'[1]점검현황(전월)'!$D$7:$AK$242,24,0)","v":"09:00:00"},650,404,"10:00:00","13,"]
[null,"율곡관",6,204,{"$f":"VLOOKUP(B37&D37,'[1]점검현황(전월)'!$D$7:$AG$242,2,0)","v":"제1회의실"},{"$f":"VLOOKUP(B37&D37,'[1]점검현황(전월)'!$D$7:$AG$242,3,0)","v":"XM100K"},{"$f":"VLOOKUP(B37&D37,'[1]점검현황(전월)'!$D$2:$AG$242,19,0)","v":"자체"},"2017-09-21",{"$f":"VLOOKUP(B37&D37,'[1]점검현황(전월)'!$D$7:$AG$242,27,0)","v":"2019-02-18"},305,{"$f":"VLOOKUP(B37&D37,'[1]점검현황(전월)'!$D$7:$AK$242,24,0)","v":"11:50:00"},313,404,"10:10:00","26,"]
[null,"율곡관",7,252,{"$f":"VLOOKUP(B38&D38,'[1]점검현황(전월)'!$D$7:$AG$242,2,0)","v":"정치외교"},{"$f":"VLOOKUP(B38&D38,'[1]점검현황(전월)'!$D$7:$AG$242,3,0)","v":"VX400"},{"$f":"VLOOKUP(B38&D38,'[1]점검현황(전월)'!$D$2:$AG$242,19,0)","v":"e-ST"},"2017-07-26",{"$f":"VLOOKUP(B38&D38,'[1]점검현황(전월)'!$D$7:$AG$242,27,0)","v":"날짜 확인 불가(클리닝 권고)"},327,{"$f":"VLOOKUP(B38&D38,'[1]점검현황(전월)'!$D$7:$AK$242,24,0)","v":"09:20:00"},975,404,"10:20:00","."]
[null,"율곡관",8,253,{"$f":"VLOOKUP(B39&D39,'[1]점검현황(전월)'!$D$7:$AG$242,2,0)","v":"멀티미디어"},{"$f":"VLOOKUP(B39&D39,'[1]점검현황(전월)'!$D$7:$AG$242,3,0)","v":"XU106K"},{"$f":"VLOOKUP(B39&D39,'[1]점검현황(전월)'!$D$2:$AG$242,19,0)","v":"구"},"2018-08-20",{"$f":"VLOOKUP(B39&D39,'[1]점검현황(전월)'!$D$7:$AG$242,27,0)","v":"2018-09-12"},311,{"$f":"VLOOKUP(B39&D39,'[1]점검현황(전월)'!$D$7:$AK$242,24,0)","v":"09:30:00"},395,404,"10:30:00","27,"]
[null,"율곡관",9,254,{"$f":"VLOOKUP(B40&D40,'[1]점검현황(전월)'!$D$7:$AG$242,2,0)","v":"멀티미디어 (자동녹화)"},{"$f":"VLOOKUP(B40&D40,'[1]점검현황(전월)'!$D$7:$AG$242,3,0)","v":"XU106K"},{"$f":"VLOOKUP(B40&D40,'[1]점검현황(전월)'!$D$2:$AG$242,19,0)","v":"구e-ST"},"2018-11-06",{"$f":"VLOOKUP(B40&D40,'[1]점검현황(전월)'!$D$7:$AG$242,27,0)","v":"2019-01-15"},305,{"$f":"VLOOKUP(B40&D40,'[1]점검현황(전월)'!$D$7:$AK$242,24,0)","v":"09:40:00"},394,404,"10:40:00","11,"]
[null,"율곡관",10,255,{"$f":"VLOOKUP(B41&D41,'[1]점검현황(전월)'!$D$7:$AG$242,2,0)","v":"행정학"},{"$f":"VLOOKUP(B41&D41,'[1]점검현황(전월)'!$D$7:$AG$242,3,0)","v":"EX500E"},{"$f":"VLOOKUP(B41&D41,'[1]점검현황(전월)'!$D$2:$AG$242,19,0)","v":"e-ST"},"2018-04-07",{"$f":"VLOOKUP(B41&D41,'[1]점검현황(전월)'!$D$7:$AG$242,27,0)","v":"날짜 확인 불가(클리닝 권고)"},322,{"$f":"VLOOKUP(B41&D41,'[1]점검현황(전월)'!$D$7:$AK$242,24,0)","v":"09:50:00"},703,404,"10:50:00","."]
[null,"율곡관",11,256,{"$f":"VLOOKUP(B42&D42,'[1]점검현황(전월)'!$D$7:$AG$242,2,0)","v":"심리학"},{"$f":"VLOOKUP(B42&D42,'[1]점검현황(전월)'!$D$7:$AG$242,3,0)","v":"EX500E"},{"$f":"VLOOKUP(B42&D42,'[1]점검현황(전월)'!$D$2:$AG$242,19,0)","v":"e-ST"},"2018-05-10",{"$f":"VLOOKUP(B42&D42,'[1]점검현황(전월)'!$D$7:$AG$242,27,0)","v":"날짜 확인 불가(클리닝 권고)"},305,{"$f":"VLOOKUP(B42&D42,'[1]점검현황(전월)'!$D$7:$AK$242,24,0)","v":"10:25:00"},641,404,"11:00:00","13,22"]
[null,"율곡관",12,257,{"$f":"VLOOKUP(B43&D43,'[1]점검현황(전월)'!$D$7:$AG$242,2,0)","v":"사회학"},{"$f":"VLOOKUP(B43&D43,'[1]점검현황(전월)'!$D$7:$AG$242,3,0)","v":"EX500E"},{"$f":"VLOOKUP(B43&D43,'[1]점검현황(전월)'!$D$2:$AG$242,19,0)","v":"e-ST"},"2017-07-12",{"$f":"VLOOKUP(B43&D43,'[1]점검현황(전월)'!$D$7:$AG$242,27,0)","v":"날짜 확인 불가(클리닝 권고)"},306,{"$f":"VLOOKUP(B43&D43,'[1]점검현황(전월)'!$D$7:$AK$242,24,0)","v":"10:10:00"},1422,404,"11:10:00","."]
[null,"율곡관",13,258,{"$f":"VLOOKUP(B44&D44,'[1]점검현황(전월)'!$D$7:$AG$242,2,0)","v":"멀티미디어 (자동녹화)"},{"$f":"VLOOKUP(B44&D44,'[1]점검현황(전월)'!$D$7:$AG$242,3,0)","v":"VX421"},{"$f":"VLOOKUP(B44&D44,'[1]점검현황(전월)'!$D$2:$AG$242,19,0)","v":"e-ST"},"2017-10-20",{"$f":"VLOOKUP(B44&D44,'[1]점검현황(전월)'!$D$7:$AG$242,27,0)","v":"2018-12-12"},307,{"$f":"VLOOKUP(B44&D44,'[1]점검현황(전월)'!$D$7:$AK$242,24,0)","v":"10:20:00"},780,405,"11:20:00","4,"]
[null,"율곡관",14,259,{"$f":"VLOOKUP(B45&D45,'[1]점검현황(전월)'!$D$7:$AG$242,2,0)","v":"멀티미디어"},{"$f":"VLOOKUP(B45&D45,'[1]점검현황(전월)'!$D$7:$AG$242,3,0)","v":"VX600"},{"$f":"VLOOKUP(B45&D45,'[1]점검현황(전월)'!$D$2:$AG$242,19,0)","v":"e-ST"},"2018-10-17",{"$f":"VLOOKUP(B45&D45,'[1]점검현황(전월)'!$D$7:$AG$242,27,0)","v":"2019-01-14"},306,{"$f":"VLOOKUP(B45&D45,'[1]점검현황(전월)'!$D$7:$AK$242,24,0)","v":"10:30:00"},687,405,"11:30:00","4(2),7"]
[null,"율곡관",15,260,{"$f":"VLOOKUP(B46&D46,'[1]점검현황(전월)'!$D$7:$AG$242,2,0)","v":"멀티미디어 (자동녹화)"},{"$f":"VLOOKUP(B46&D46,'[1]점검현황(전월)'!$D$7:$AG$242,3,0)","v":"XU106K"},{"$f":"VLOOKUP(B46&D46,'[1]점검현황(전월)'!$D$2:$AG$242,19,0)","v":"구e-ST"},"2018-07-04",{"$f":"VLOOKUP(B46&D46,'[1]점검현황(전월)'!$D$7:$AG$242,27,0)","v":"2019-01-23"},306,{"$f":"VLOOKUP(B46&D46,'[1]점검현황(전월)'!$D$7:$AK$242,24,0)","v":"10:15:00"},416,405,"11:40:00","."]
[null,"율곡관",16,261,{"$f":"VLOOKUP(B47&D47,'[1]점검현황(전월)'!$D$7:$AG$242,2,0)","v":"멀티미디어 (자동녹화)"},{"$f":"VLOOKUP(B47&D47,'[1]점검현황(전월)'!$D$7:$AG$242,3,0)","v":"VX421"},{"$f":"VLOOKUP(B47&D47,'[1]점검현황(전월)'!$D$2:$AG$242,19,0)","v":"구e-ST"},"2017-12-21",{"$f":"VLOOKUP(B47&D47,'[1]점검현황(전월)'!$D$7:$AG$242,27,0)","v":"2018-12-21"},315,{"$f":"VLOOKUP(B47&D47,'[1]점검현황(전월)'!$D$7:$AK$242,24,0)","v":"13:50:00"},862,405,"11:50:00","4,7,14(2),21"]
[null,"율곡관",17,262,{"$f":"VLOOKUP(B48&D48,'[1]점검현황(전월)'!$D$7:$AG$242,2,0)","v":"멀티미디어"},{"$f":"VLOOKUP(B48&D48,'[1]점검현황(전월)'!$D$7:$AG$242,3,0)","v":"VX421"},{"$f":"VLOOKUP(B48&D48,'[1]점검현황(전월)'!$D$2:$AG$242,19,0)","v":"구"},"2015-04-28",{"$f":"VLOOKUP(B48&D48,'[1]점검현황(전월)'!$D$7:$AG$242,27,0)","v":"2019-01-22"},306,{"$f":"VLOOKUP(B48&D48,'[1]점검현황(전월)'!$D$7:$AK$242,24,0)","v":"11:00:00"},1642,405,"12:00:00","4,15"]
[null,"율곡관",18,354,{"$f":"VLOOKUP(B49&D49,'[1]점검현황(전월)'!$D$7:$AG$242,2,0)","v":"대학원"},{"$f":"VLOOKUP(B49&D49,'[1]점검현황(전월)'!$D$7:$AG$242,3,0)","v":"LB280"},{"$f":"VLOOKUP(B49&D49,'[1]점검현황(전월)'!$D$2:$AG$242,19,0)","v":"e-ST"},"2015-10-11",{"$f":"VLOOKUP(B49&D49,'[1]점검현황(전월)'!$D$7:$AG$242,27,0)","v":"2015-07-15(클리닝 권고)"},306,{"$f":"VLOOKUP(B49&D49,'[1]점검현황(전월)'!$D$7:$AK$242,24,0)","v":"15:37:00"},1685,405,"13:00:00","."]
[null,"율곡관",19,356,{"$f":"VLOOKUP(B50&D50,'[1]점검현황(전월)'!$D$7:$AG$242,2,0)","v":"경제학"},{"$f":"VLOOKUP(B50&D50,'[1]점검현황(전월)'!$D$7:$AG$242,3,0)","v":"EX500E"},{"$f":"VLOOKUP(B50&D50,'[1]점검현황(전월)'!$D$2:$AG$242,19,0)","v":"e-ST"},"2017-12-12",{"$f":"VLOOKUP(B50&D50,'[1]점검현황(전월)'!$D$7:$AG$242,27,0)","v":"날짜 확인 불가(클리닝 권고)"},326,{"$f":"VLOOKUP(B50&D50,'[1]점검현황(전월)'!$D$7:$AK$242,24,0)","v":"11:20:00"},891,405,"13:10:00","."]
[null,"율곡관",20,357,{"$f":"VLOOKUP(B51&D51,'[1]점검현황(전월)'!$D$7:$AG$242,2,0)","v":"대학원"},{"$f":"VLOOKUP(B51&D51,'[1]점검현황(전월)'!$D$7:$AG$242,3,0)","v":"VX421"},{"$f":"VLOOKUP(B51&D51,'[1]점검현황(전월)'!$D$2:$AG$242,19,0)","v":"e-ST"},"2016-02-16",{"$f":"VLOOKUP(B51&D51,'[1]점검현황(전월)'!$D$7:$AG$242,27,0)","v":"2017-08-30"},306,{"$f":"VLOOKUP(B51&D51,'[1]점검현황(전월)'!$D$7:$AK$242,24,0)","v":"11:30:00"},2587,405,"13:20:00","26,"]
[null,"율곡관",21,"358-1",{"$f":"VLOOKUP(B52&D52,'[1]점검현황(전월)'!$D$7:$AG$242,2,0)","v":"멀티미디어 (자동녹화)"},{"$f":"VLOOKUP(B52&D52,'[1]점검현황(전월)'!$D$7:$AG$242,3,0)","v":"VX600"},{"$f":"VLOOKUP(B52&D52,'[1]점검현황(전월)'!$D$2:$AG$242,19,0)","v":"e-ST"},"2018-05-11",{"$f":"VLOOKUP(B52&D52,'[1]점검현황(전월)'!$D$7:$AG$242,27,0)","v":"2018-11-06"},306,{"$f":"VLOOKUP(B52&D52,'[1]점검현황(전월)'!$D$7:$AK$242,24,0)","v":"13:20:00"},1564,405,"13:30:00","."]
[null,"율곡관",22,359,{"$f":"VLOOKUP(B53&D53,'[1]점검현황(전월)'!$D$7:$AG$242,2,0)","v":"멀티미디어"},{"$f":"VLOOKUP(B53&D53,'[1]점검현황(전월)'!$D$7:$AG$242,3,0)","v":"VX600"},{"$f":"VLOOKUP(B53&D53,'[1]점검현황(전월)'!$D$2:$AG$242,19,0)","v":"e-ST"},"2019-01-07",{"$f":"VLOOKUP(B53&D53,'[1]점검현황(전월)'!$D$7:$AG$242,27,0)","v":"2019-01-07"},307,{"$f":"VLOOKUP(B53&D53,'[1]점검현황(전월)'!$D$7:$AK$242,24,0)","v":"14:47:00"},20,405,"13:40:00","."]
[null,"율곡관",23,425,{"$f":"VLOOKUP(B54&D54,'[1]점검현황(전월)'!$D$7:$AG$242,2,0)","v":"대학원"},{"$f":"VLOOKUP(B54&D54,'[1]점검현황(전월)'!$D$7:$AG$242,3,0)","v":"VX421"},{"$f":"VLOOKUP(B54&D54,'[1]점검현황(전월)'!$D$2:$AG$242,19,0)","v":"e-ST"},"2017-02-22",{"$f":"VLOOKUP(B54&D54,'[1]점검현황(전월)'!$D$7:$AG$242,27,0)","v":"2017-02-22"},315,{"$f":"VLOOKUP(B54&D54,'[1]점검현황(전월)'!$D$7:$AK$242,24,0)","v":"12:00:00"},1101,406,"08:30:00","."]
[null,"율곡관",24,528,{"$f":"VLOOKUP(B55&D55,'[1]점검현황(전월)'!$D$7:$AG$242,2,0)","v":"대학원"},{"$f":"VLOOKUP(B55&D55,'[1]점검현황(전월)'!$D$7:$AG$242,3,0)","v":"VX421"},{"$f":"VLOOKUP(B55&D55,'[1]점검현황(전월)'!$D$2:$AG$242,19,0)","v":"e-ST"},"2017-02-22",{"$f":"VLOOKUP(B55&D55,'[1]점검현황(전월)'!$D$7:$AG$242,27,0)","v":"2017-02-22"},320,{"$f":"VLOOKUP(B55&D55,'[1]점검현황(전월)'!$D$7:$AK$242,24,0)","v":"12:00:00"},876,406,"08:30:00","."]
["성호관","성호관",1,"소극장",{"$f":"VLOOKUP(B56&D56,'[1]점검현황(전월)'!$D$7:$AG$242,2,0)","v":"소극장 135호"},{"$f":"VLOOKUP(B56&D56,'[1]점검현황(전월)'!$D$7:$AG$242,3,0)","v":"EX16KE"},{"$f":"VLOOKUP(B56&D56,'[1]점검현황(전월)'!$D$2:$AG$242,19,0)","v":"e-ST"},"2018-03-08",{"$f":"VLOOKUP(B56&D56,'[1]점검현황(전월)'!$D$7:$AG$242,27,0)","v":"날짜 확인 불가(클리닝 권고)"},307,{"$f":"VLOOKUP(B56&D56,'[1]점검현황(전월)'!$D$7:$AK$242,24,0)","v":"10:00:00"},"683/758",406,"08:50:00","4,5(2),11(2),14,15"]
[null,"성호관",2,103,{"$f":"VLOOKUP(B57&D57,'[1]점검현황(전월)'!$D$7:$AG$242,2,0)","v":"인문대 (PC실)"},{"$f":"VLOOKUP(B57&D57,'[1]점검현황(전월)'!$D$7:$AG$242,3,0)","v":"VX421"},{"$f":"VLOOKUP(B57&D57,'[1]점검현황(전월)'!$D$2:$AG$242,19,0)","v":"e-ST"},"2016-12-23",{"$f":"VLOOKUP(B57&D57,'[1]점검현황(전월)'!$D$7:$AG$242,27,0)","v":"2016-12-23(클리닝 권고)"},329,{"$f":"VLOOKUP(B57&D57,'[1]점검현황(전월)'!$D$7:$AK$242,24,0)","v":"13:20:00"},1856,406,"19:00:00","14,20"]
[null,"성호관",3,104,{"$f":"VLOOKUP(B58&D58,'[1]점검현황(전월)'!$D$7:$AG$242,2,0)","v":"멀티미디어"},{"$f":"VLOOKUP(B58&D58,'[1]점검현황(전월)'!$D$7:$AG$242,3,0)","v":"XU106K"},{"$f":"VLOOKUP(B58&D58,'[1]점검현황(전월)'!$D$2:$AG$242,19,0)","v":"e-ST"},"2018-03-21","2019-03-25",322,{"$f":"VLOOKUP(B58&D58,'[1]점검현황(전월)'!$D$7:$AK$242,24,0)","v":"12:10:00"},999,406,"19:10:00","."]
[null,"성호관",4,105,{"$f":"VLOOKUP(B59&D59,'[1]점검현황(전월)'!$D$7:$AG$242,2,0)","v":"멀티미디어"},{"$f":"VLOOKUP(B59&D59,'[1]점검현황(전월)'!$D$7:$AG$242,3,0)","v":"VX410"},{"$f":"VLOOKUP(B59&D59,'[1]점검현황(전월)'!$D$2:$AG$242,19,0)","v":"e-ST"},"2018-08-04","2019-03-13",320,{"$f":"VLOOKUP(B59&D59,'[1]점검현황(전월)'!$D$7:$AK$242,24,0)","v":"11:40:00"},541,406,"19:20:00","5,6,12,18,20,21,28,29"]
[null,"성호관",5,131,{"$f":"VLOOKUP(B60&D60,'[1]점검현황(전월)'!$D$7:$AG$242,2,0)","v":"멀티미디어 (자동녹화)"},{"$f":"VLOOKUP(B60&D60,'[1]점검현황(전월)'!$D$7:$AG$242,3,0)","v":"VX600"},{"$f":"VLOOKUP(B60&D60,'[1]점검현황(전월)'!$D$2:$AG$242,19,0)","v":"e-ST"},"2017-04-18",{"$f":"VLOOKUP(B60&D60,'[1]점검현황(전월)'!$D$7:$AG$242,27,0)","v":"2018-09-07"},307,{"$f":"VLOOKUP(B60&D60,'[1]점검현황(전월)'!$D$7:$AK$242,24,0)","v":"10:35:00"},1410,406,"08:30:00","22,"]
[null,"성호관",6,132,{"$f":"VLOOKUP(B61&D61,'[1]점검현황(전월)'!$D$7:$AG$242,2,0)","v":"멀티미디어"},{"$f":"VLOOKUP(B61&D61,'[1]점검현황(전월)'!$D$7:$AG$242,3,0)","v":"XU106K"},{"$f":"VLOOKUP(B61&D61,'[1]점검현황(전월)'!$D$2:$AG$242,19,0)","v":"e-ST"},"2018-07-13",{"$f":"VLOOKUP(B61&D61,'[1]점검현황(전월)'!$D$7:$AG$242,27,0)","v":"2019-01-03"},307,{"$f":"VLOOKUP(B61&D61,'[1]점검현황(전월)'!$D$7:$AK$242,24,0)","v":"19:30:00"},859,406,"08:40:00","5,20"]
[null,"성호관",7,133,{"$f":"VLOOKUP(B62&D62,'[1]점검현황(전월)'!$D$7:$AG$242,2,0)","v":"멀티미디어"},{"$f":"VLOOKUP(B62&D62,'[1]점검현황(전월)'!$D$7:$AG$242,3,0)","v":"VX410"},{"$f":"VLOOKUP(B62&D62,'[1]점검현황(전월)'!$D$2:$AG$242,19,0)","v":"e-ST"},"2017-04-18",{"$f":"VLOOKUP(B62&D62,'[1]점검현황(전월)'!$D$7:$AG$242,27,0)","v":"2018-12-19"},320,{"$f":"VLOOKUP(B62&D62,'[1]점검현황(전월)'!$D$7:$AK$242,24,0)","v":"08:30:00"},1845,406,"08:50:00","."]
[null,"성호관",8,201,{"$f":"VLOOKUP(B63&D63,'[1]점검현황(전월)'!$D$7:$AG$242,2,0)","v":"멀티미디어"},{"$f":"VLOOKUP(B63&D63,'[1]점검현황(전월)'!$D$7:$AG$242,3,0)","v":"XU106K"},{"$f":"VLOOKUP(B63&D63,'[1]점검현황(전월)'!$D$2:$AG$242,19,0)","v":"e-ST"},"2018-02-01",{"$f":"VLOOKUP(B63&D63,'[1]점검현황(전월)'!$D$7:$AG$242,27,0)","v":"2018-12-05"},328,{"$f":"VLOOKUP(B63&D63,'[1]점검현황(전월)'!$D$7:$AK$242,24,0)","v":"08:40:00"},1362,406,"19:00:00","."]
[null,"성호관",9,"201-1",{"$f":"VLOOKUP(B64&D64,'[1]점검현황(전월)'!$D$7:$AG$242,2,0)","v":"멀티미디어"},{"$f":"VLOOKUP(B64&D64,'[1]점검현황(전월)'!$D$7:$AG$242,3,0)","v":"VX421"},{"$f":"VLOOKUP(B64&D64,'[1]점검현황(전월)'!$D$2:$AG$242,19,0)","v":"e-ST"},"2017-02-22",{"$f":"VLOOKUP(B64&D64,'[1]점검현황(전월)'!$D$7:$AG$242,27,0)","v":"2019-02-20"},308,{"$f":"VLOOKUP(B64&D64,'[1]점검현황(전월)'!$D$7:$AK$242,24,0)","v":"18:50:00"},2282,406,"19:10:00","20,"]
[null,"성호관",10,202,{"$f":"VLOOKUP(B65&D65,'[1]점검현황(전월)'!$D$7:$AG$242,2,0)","v":"멀티미디어"},{"$f":"VLOOKUP(B65&D65,'[1]점검현황(전월)'!$D$7:$AG$242,3,0)","v":"VX410"},{"$f":"VLOOKUP(B65&D65,'[1]점검현황(전월)'!$D$2:$AG$242,19,0)","v":"e-ST"},"2018-06-27",{"$f":"VLOOKUP(B65&D65,'[1]점검현황(전월)'!$D$7:$AG$242,27,0)","v":"2018-12-27"},308,{"$f":"VLOOKUP(B65&D65,'[1]점검현황(전월)'!$D$7:$AK$242,24,0)","v":"19:00:00"},376,406,"19:20:00","28,"]
[null,"성호관",11,203,{"$f":"VLOOKUP(B66&D66,'[1]점검현황(전월)'!$D$7:$AG$242,2,0)","v":"멀티미디어 (자동녹화)"},{"$f":"VLOOKUP(B66&D66,'[1]점검현황(전월)'!$D$7:$AG$242,3,0)","v":"VX421"},{"$f":"VLOOKUP(B66&D66,'[1]점검현황(전월)'!$D$2:$AG$242,19,0)","v":"e-ST"},"2018-06-22",{"$f":"VLOOKUP(B66&D66,'[1]점검현황(전월)'!$D$7:$AG$242,27,0)","v":"2018-12-28"},329,{"$f":"VLOOKUP(B66&D66,'[1]점검현황(전월)'!$D$7:$AK$242,24,0)","v":"17:22:00"},606,406,"08:30:00","."]
[null,"성호관",12,204,{"$f":"VLOOKUP(B67&D67,'[1]점검현황(전월)'!$D$7:$AG$242,2,0)","v":"멀티미디어 (자동녹화)"},{"$f":"VLOOKUP(B67&D67,'[1]점검현황(전월)'!$D$7:$AG$242,3,0)","v":"XU106K"},{"$f":"VLOOKUP(B67&D67,'[1]점검현황(전월)'!$D$2:$AG$242,19,0)","v":"e-ST"},"2018-11-21","2019-03-26",308,{"$f":"VLOOKUP(B67&D67,'[1]점검현황(전월)'!$D$7:$AK$242,24,0)","v":"19:20:00"},198,406,"08:40:00","."]
[null,"성호관",13,205,{"$f":"VLOOKUP(B68&D68,'[1]점검현황(전월)'!$D$7:$AG$242,2,0)","v":"멀티미디어 (자동녹화)"},{"$f":"VLOOKUP(B68&D68,'[1]점검현황(전월)'!$D$7:$AG$242,3,0)","v":"XU106K"},{"$f":"VLOOKUP(B68&D68,'[1]점검현황(전월)'!$D$2:$AG$242,19,0)","v":"e-ST"},"2018-03-06","2019-03-26",321,{"$f":"VLOOKUP(B68&D68,'[1]점검현황(전월)'!$D$7:$AK$242,24,0)","v":"08:30:00"},1118,406,"08:50:00","6,29"]
[null,"성호관",14,232,{"$f":"VLOOKUP(B69&D69,'[1]점검현황(전월)'!$D$7:$AG$242,2,0)","v":"멀티미디어"},{"$f":"VLOOKUP(B69&D69,'[1]점검현황(전월)'!$D$7:$AG$242,3,0)","v":"VX410"},{"$f":"VLOOKUP(B69&D69,'[1]점검현황(전월)'!$D$2:$AG$242,19,0)","v":"e-ST"},"2018-11-26",{"$f":"VLOOKUP(B69&D69,'[1]점검현황(전월)'!$D$7:$AG$242,27,0)","v":"2018-11-26"},329,{"$f":"VLOOKUP(B69&D69,'[1]점검현황(전월)'!$D$7:$AK$242,24,0)","v":"14:50:00"},1845,406,"19:00:00","5,"]
[null,"성호관",15,233,{"$f":"VLOOKUP(B70&D70,'[1]점검현황(전월)'!$D$7:$AG$242,2,0)","v":"멀티미디어"},{"$f":"VLOOKUP(B70&D70,'[1]점검현황(전월)'!$D$7:$AG$242,3,0)","v":"XU106K"},{"$f":"VLOOKUP(B70&D70,'[1]점검현황(전월)'!$D$2:$AG$242,19,0)","v":"구"},"2017-09-22",{"$f":"VLOOKUP(B70&D70,'[1]점검현황(전월)'!$D$7:$AG$242,27,0)","v":"2018-12-14"},314,{"$f":"VLOOKUP(B70&D70,'[1]점검현황(전월)'!$D$7:$AK$242,24,0)","v":"08:50:00"},1848,406,"19:10:00","5,21"]
[null,"성호관",16,234,{"$f":"VLOOKUP(B71&D71,'[1]점검현황(전월)'!$D$7:$AG$242,2,0)","v":"멀티미디어"},{"$f":"VLOOKUP(B71&D71,'[1]점검현황(전월)'!$D$7:$AG$242,3,0)","v":"XU106K"},{"$f":"VLOOKUP(B71&D71,'[1]점검현황(전월)'!$D$2:$AG$242,19,0)","v":"구"},"2018-08-20","2019-03-14",308,{"$f":"VLOOKUP(B71&D71,'[1]점검현황(전월)'!$D$7:$AK$242,24,0)","v":"19:00:00"},497,406,"19:20:00","7,11(3),14,29."]
[null,"성호관",17,235,{"$f":"VLOOKUP(B72&D72,'[1]점검현황(전월)'!$D$7:$AG$242,2,0)","v":"멀티미디어"},{"$f":"VLOOKUP(B72&D72,'[1]점검현황(전월)'!$D$7:$AG$242,3,0)","v":"XU106K"},{"$f":"VLOOKUP(B72&D72,'[1]점검현황(전월)'!$D$2:$AG$242,19,0)","v":"구"},"2018-08-20","2019-03-14",309,{"$f":"VLOOKUP(B72&D72,'[1]점검현황(전월)'!$D$7:$AK$242,24,0)","v":"13:05:00"},364,406,"08:30:00","14,"]
[null,"성호관",18,236,{"$f":"VLOOKUP(B73&D73,'[1]점검현황(전월)'!$D$7:$AG$242,2,0)","v":"멀티미디어"},{"$f":"VLOOKUP(B73&D73,'[1]점검현황(전월)'!$D$7:$AG$242,3,0)","v":"XU106K"},{"$f":"VLOOKUP(B73&D73,'[1]점검현황(전월)'!$D$2:$AG$242,19,0)","v":"구"},"2018-04-23",{"$f":"VLOOKUP(B73&D73,'[1]점검현황(전월)'!$D$7:$AG$242,27,0)","v":"2018-10-17"},320,{"$f":"VLOOKUP(B73&D73,'[1]점검현황(전월)'!$D$7:$AK$242,24,0)","v":"19:20:00"},916,406,"08:40:00","."]
[null,"성호관",19,237,{"$f":"VLOOKUP(B74&D74,'[1]점검현황(전월)'!$D$7:$AG$242,2,0)","v":"멀티미디어"},{"$f":"VLOOKUP(B74&D74,'[1]점검현황(전월)'!$D$7:$AG$242,3,0)","v":"VX410"},{"$f":"VLOOKUP(B74&D74,'[1]점검현황(전월)'!$D$2:$AG$242,19,0)","v":"e-ST"},"2018-09-12",{"$f":"VLOOKUP(B74&D74,'[1]점검현황(전월)'!$D$7:$AG$242,27,0)","v":"2019-01-29"},312,{"$f":"VLOOKUP(B74&D74,'[1]점검현황(전월)'!$D$7:$AK$242,24,0)","v":"08:30:00"},171,408,"08:50:00","5,"]
[null,"성호관",20,303,{"$f":"VLOOKUP(B75&D75,'[1]점검현황(전월)'!$D$7:$AG$242,2,0)","v":"교수학습 (자동녹화)"},{"$f":"VLOOKUP(B75&D75,'[1]점검현황(전월)'!$D$7:$AG$242,3,0)","v":"XU106K"},{"$f":"VLOOKUP(B75&D75,'[1]점검현황(전월)'!$D$2:$AG$242,19,0)","v":"e-ST"},"2018-08-27",{"$f":"VLOOKUP(B75&D75,'[1]점검현황(전월)'!$D$7:$AG$242,27,0)","v":"2017-12-05"},312,{"$f":"VLOOKUP(B75&D75,'[1]점검현황(전월)'!$D$7:$AK$242,24,0)","v":"15:56:00"},189,408,"09:50:00","7,20"]
[null,"성호관",21,304,{"$f":"VLOOKUP(B76&D76,'[1]점검현황(전월)'!$D$7:$AG$242,2,0)","v":"멀티미디어"},{"$f":"VLOOKUP(B76&D76,'[1]점검현황(전월)'!$D$7:$AG$242,3,0)","v":"VX600"},{"$f":"VLOOKUP(B76&D76,'[1]점검현황(전월)'!$D$2:$AG$242,19,0)","v":"e-ST"},"2018-08-04",{"$f":"VLOOKUP(B76&D76,'[1]점검현황(전월)'!$D$7:$AG$242,27,0)","v":"2019-01-28"},309,{"$f":"VLOOKUP(B76&D76,'[1]점검현황(전월)'!$D$7:$AK$242,24,0)","v":"13:47:00"},218,408,"19:10:00","4,6,7,12(2)"]
[null,"성호관",22,305,{"$f":"VLOOKUP(B77&D77,'[1]점검현황(전월)'!$D$7:$AG$242,2,0)","v":"멀티미디어 (자동녹화)"},{"$f":"VLOOKUP(B77&D77,'[1]점검현황(전월)'!$D$7:$AG$242,3,0)","v":"VX410"},{"$f":"VLOOKUP(B77&D77,'[1]점검현황(전월)'!$D$2:$AG$242,19,0)","v":"구e-ST"},"2014-12-23",{"$f":"VLOOKUP(B77&D77,'[1]점검현황(전월)'!$D$7:$AG$242,27,0)","v":"2019-02-26"},327,{"$f":"VLOOKUP(B77&D77,'[1]점검현황(전월)'!$D$7:$AK$242,24,0)","v":"19:00:00"},1807,408,"19:20:00","12,"]
[null,"성호관",23,306,{"$f":"VLOOKUP(B78&D78,'[1]점검현황(전월)'!$D$7:$AG$242,2,0)","v":"멀티미디어"},{"$f":"VLOOKUP(B78&D78,'[1]점검현황(전월)'!$D$7:$AG$242,3,0)","v":"VX600"},{"$f":"VLOOKUP(B78&D78,'[1]점검현황(전월)'!$D$2:$AG$242,19,0)","v":"e-ST"},"2018-07-13",{"$f":"VLOOKUP(B78&D78,'[1]점검현황(전월)'!$D$7:$AG$242,27,0)","v":"2019-02-26"},309,{"$f":"VLOOKUP(B78&D78,'[1]점검현황(전월)'!$D$7:$AK$242,24,0)","v":"13:04:00"},180,408,"08:30:00","."]
[null,"성호관",24,332,{"$f":"VLOOKUP(B79&D79,'[1]점검현황(전월)'!$D$7:$AG$242,2,0)","v":"멀티미디어"},{"$f":"VLOOKUP(B79&D79,'[1]점검현황(전월)'!$D$7:$AG$242,3,0)","v":"VX431"},{"$f":"VLOOKUP(B79&D79,'[1]점검현황(전월)'!$D$2:$AG$242,19,0)","v":"e-ST"},null,"날짜 확인 불가",309,{"$f":"VLOOKUP(B79&D79,'[1]점검현황(전월)'!$D$7:$AK$242,24,0)","v":"00:00:00"},110,408,"08:50:00","27,"]
[null,"성호관",25,333,{"$f":"VLOOKUP(B80&D80,'[1]점검현황(전월)'!$D$7:$AG$242,2,0)","v":"멀티미디어"},{"$f":"VLOOKUP(B80&D80,'[1]점검현황(전월)'!$D$7:$AG$242,3,0)","v":"XU106K"},{"$f":"VLOOKUP(B80&D80,'[1]점검현황(전월)'!$D$2:$AG$242,19,0)","v":"구"},"2019-01-21",{"$f":"VLOOKUP(B80&D80,'[1]점검현황(전월)'!$D$7:$AG$242,27,0)","v":"2019-01-21"},320,{"$f":"VLOOKUP(B80&D80,'[1]점검현황(전월)'!$D$7:$AK$242,24,0)","v":"08:40:00"},7,408,"19:00:00","."]
[null,"성호관",26,334,{"$f":"VLOOKUP(B81&D81,'[1]점검현황(전월)'!$D$7:$AG$242,2,0)","v":"멀티미디어"},{"$f":"VLOOKUP(B81&D81,'[1]점검현황(전월)'!$D$7:$AG$242,3,0)","v":"VX410"},{"$f":"VLOOKUP(B81&D81,'[1]점검현황(전월)'!$D$2:$AG$242,19,0)","v":"e-ST"},"2018-06-19",{"$f":"VLOOKUP(B81&D81,'[1]점검현황(전월)'!$D$7:$AG$242,27,0)","v":"2018-12-20"},309,{"$f":"VLOOKUP(B81&D81,'[1]점검현황(전월)'!$D$7:$AK$242,24,0)","v":"17:21:00"},526,408,"19:10:00","4,"]
[null,"성호관",27,337,{"$f":"VLOOKUP(B82&D82,'[1]점검현황(전월)'!$D$7:$AG$242,2,0)","v":"물리학과"},{"$f":"VLOOKUP(B82&D82,'[1]점검현황(전월)'!$D$7:$AG$242,3,0)","v":"VX510"},{"$f":"VLOOKUP(B82&D82,'[1]점검현황(전월)'!$D$2:$AG$242,19,0)","v":"구"},"2019-03-25",{"$f":"VLOOKUP(B82&D82,'[1]점검현황(전월)'!$D$7:$AG$242,27,0)","v":"날짜 확인 불가(클리닝 권고)"},322,{"$f":"VLOOKUP(B82&D82,'[1]점검현황(전월)'!$D$7:$AK$242,24,0)","v":"19:00:00"},20,408,"19:20:00","7,20,28(2)"]
[null,"성호관",28,339,{"$f":"VLOOKUP(B83&D83,'[1]점검현황(전월)'!$D$7:$AG$242,2,0)","v":"대학원"},{"$f":"VLOOKUP(B83&D83,'[1]점검현황(전월)'!$D$7:$AG$242,3,0)","v":"VX421"},{"$f":"VLOOKUP(B83&D83,'[1]점검현황(전월)'!$D$2:$AG$242,19,0)","v":"e-ST"},"2017-02-22",{"$f":"VLOOKUP(B83&D83,'[1]점검현황(전월)'!$D$7:$AG$242,27,0)","v":"2017-02-22"},315,{"$f":"VLOOKUP(B83&D83,'[1]점검현황(전월)'!$D$7:$AK$242,24,0)","v":"19:10:00"},138,408,"09:00:00","."]
["원천관","원천관",1,107,{"$f":"VLOOKUP(B84&D84,'[1]점검현황(전월)'!$D$7:$AG$242,2,0)","v":"전자공학"},{"$f":"VLOOKUP(B84&D84,'[1]점검현황(전월)'!$D$7:$AG$242,3,0)","v":"XT35K"},{"$f":"VLOOKUP(B84&D84,'[1]점검현황(전월)'!$D$2:$AG$242,19,0)","v":"자체"},"2015-08-14",{"$f":"VLOOKUP(B84&D84,'[1]점검현황(전월)'!$D$7:$AG$242,27,0)","v":"날짜 확인 불가(클리닝 권고)"},309,{"$f":"VLOOKUP(B84&D84,'[1]점검현황(전월)'!$D$7:$AK$242,24,0)","v":"19:20:00"},502,409,"09:10:00","."]
[null,"원천관",2,228,{"$f":"VLOOKUP(B85&D85,'[1]점검현황(전월)'!$D$7:$AG$242,2,0)","v":"전자공학"},{"$f":"VLOOKUP(B85&D85,'[1]점검현황(전월)'!$D$7:$AG$242,3,0)","v":"VX431"},{"$f":"VLOOKUP(B85&D85,'[1]점검현황(전월)'!$D$2:$AG$242,19,0)","v":"e-ST"},"2018-09-04",{"$f":"VLOOKUP(B85&D85,'[1]점검현황(전월)'!$D$7:$AG$242,27,0)","v":"2016-09-02(클리닝 권고)"},309,{"$f":"VLOOKUP(B85&D85,'[1]점검현황(전월)'!$D$7:$AK$242,24,0)","v":"20:20:00"},120,409,"10:10:00","15,20"]
[null,"원천관",3,237,{"$f":"VLOOKUP(B86&D86,'[1]점검현황(전월)'!$D$7:$AG$242,2,0)","v":"생명과학"},{"$f":"VLOOKUP(B86&D86,'[1]점검현황(전월)'!$D$7:$AG$242,3,0)","v":"VX421"},{"$f":"VLOOKUP(B86&D86,'[1]점검현황(전월)'!$D$2:$AG$242,19,0)","v":"구"},"2015-11-23",{"$f":"VLOOKUP(B86&D86,'[1]점검현황(전월)'!$D$7:$AG$242,27,0)","v":"2015-11-23(클리닝 권고)"},309,{"$f":"VLOOKUP(B86&D86,'[1]점검현황(전월)'!$D$7:$AK$242,24,0)","v":"08:30:00"},1407,409,"09:20:00","."]
[null,"원천관",4,242,{"$f":"VLOOKUP(B87&D87,'[1]점검현황(전월)'!$D$7:$AG$242,2,0)","v":"대학원"},{"$f":"VLOOKUP(B87&D87,'[1]점검현황(전월)'!$D$7:$AG$242,3,0)","v":"XU301K"},{"$f":"VLOOKUP(B87&D87,'[1]점검현황(전월)'!$D$2:$AG$242,19,0)","v":"e-ST"},"2018-05-25",{"$f":"VLOOKUP(B87&D87,'[1]점검현황(전월)'!$D$7:$AG$242,27,0)","v":"2018-10-29"},309,{"$f":"VLOOKUP(B87&D87,'[1]점검현황(전월)'!$D$7:$AK$242,24,0)","v":"08:40:00"},352,409,"09:30:00","22,"]
[null,"원천관",5,243,{"$f":"VLOOKUP(B88&D88,'[1]점검현황(전월)'!$D$7:$AG$242,2,0)","v":"대학원"},{"$f":"VLOOKUP(B88&D88,'[1]점검현황(전월)'!$D$7:$AG$242,3,0)","v":"VX421"},{"$f":"VLOOKUP(B88&D88,'[1]점검현황(전월)'!$D$2:$AG$242,19,0)","v":"e-ST"},"2017-02-22",{"$f":"VLOOKUP(B88&D88,'[1]점검현황(전월)'!$D$7:$AG$242,27,0)","v":"2017-02-22"},309,{"$f":"VLOOKUP(B88&D88,'[1]점검현황(전월)'!$D$7:$AK$242,24,0)","v":"08:50:00"},1255,409,"09:40:00","15,"]
[null,"원천관",6,251,{"$f":"VLOOKUP(B89&D89,'[1]점검현황(전월)'!$D$7:$AG$242,2,0)","v":"강당"},{"$f":"VLOOKUP(B89&D89,'[1]점검현황(전월)'!$D$7:$AG$242,3,0)","v":"DVM-070M"},{"$f":"VLOOKUP(B89&D89,'[1]점검현황(전월)'!$D$2:$AG$242,19,0)","v":"e-ST"},"2017-06-27",{"$f":"VLOOKUP(B89&D89,'[1]점검현황(전월)'!$D$7:$AG$242,27,0)","v":"2017-06-27"},312,{"$f":"VLOOKUP(B89&D89,'[1]점검현황(전월)'!$D$7:$AK$242,24,0)","v":"19:29:00"},"987/987",409,"09:50:00","."]
[null,"원천관",7,"317-1",{"$f":"VLOOKUP(B90&D90,'[1]점검현황(전월)'!$D$7:$AG$242,2,0)","v":"전자공학"},{"$f":"VLOOKUP(B90&D90,'[1]점검현황(전월)'!$D$7:$AG$242,3,0)","v":"XU106K"},{"$f":"VLOOKUP(B90&D90,'[1]점검현황(전월)'!$D$2:$AG$242,19,0)","v":"e-ST"},"2017-01-10",{"$f":"VLOOKUP(B90&D90,'[1]점검현황(전월)'!$D$7:$AG$242,27,0)","v":"2017-01-10"},311,{"$f":"VLOOKUP(B90&D90,'[1]점검현황(전월)'!$D$7:$AK$242,24,0)","v":"19:10:00"},1310,409,"10:00:00","."]
[null,"원천관",8,333,{"$f":"VLOOKUP(B91&D91,'[1]점검현황(전월)'!$D$7:$AG$242,2,0)","v":"전자공학"},{"$f":"VLOOKUP(B91&D91,'[1]점검현황(전월)'!$D$7:$AG$242,3,0)","v":"XU106K"},{"$f":"VLOOKUP(B91&D91,'[1]점검현황(전월)'!$D$2:$AG$242,19,0)","v":"자체"},"2010-08-11",{"$f":"VLOOKUP(B91&D91,'[1]점검현황(전월)'!$D$7:$AG$242,27,0)","v":"날짜 확인 불가(클리닝 권고)"},311,{"$f":"VLOOKUP(B91&D91,'[1]점검현황(전월)'!$D$7:$AK$242,24,0)","v":"20:20:00"},1340,409,"11:10:00","."]
[null,"원천관",9,334,{"$f":"VLOOKUP(B92&D92,'[1]점검현황(전월)'!$D$7:$AG$242,2,0)","v":"전자공학"},{"$f":"VLOOKUP(B92&D92,'[1]점검현황(전월)'!$D$7:$AG$242,3,0)","v":"XU106K"},{"$f":"VLOOKUP(B92&D92,'[1]점검현황(전월)'!$D$2:$AG$242,19,0)","v":"자체"},"2016-08-23",{"$f":"VLOOKUP(B92&D92,'[1]점검현황(전월)'!$D$7:$AG$242,27,0)","v":"2014-11-19(클리닝 권고)"},311,{"$f":"VLOOKUP(B92&D92,'[1]점검현황(전월)'!$D$7:$AK$242,24,0)","v":"09:00:00"},154,409,"10:20:00","."]
[null,"원천관",10,340,{"$f":"VLOOKUP(B93&D93,'[1]점검현황(전월)'!$D$7:$AG$242,2,0)","v":"전자공학"},{"$f":"VLOOKUP(B93&D93,'[1]점검현황(전월)'!$D$7:$AG$242,3,0)","v":"PT-VX610"},{"$f":"VLOOKUP(B93&D93,'[1]점검현황(전월)'!$D$2:$AG$242,19,0)","v":"자체"},"2017-04-07",{"$f":"VLOOKUP(B93&D93,'[1]점검현황(전월)'!$D$7:$AG$242,27,0)","v":"2014-04-17(클리닝 권고)"},311,{"$f":"VLOOKUP(B93&D93,'[1]점검현황(전월)'!$D$7:$AK$242,24,0)","v":"09:05:00"},2845,409,"10:30:00","."]
[null,"원천관",11,502,{"$f":"VLOOKUP(B94&D94,'[1]점검현황(전월)'!$D$7:$AG$242,2,0)","v":"물리학과"},{"$f":"VLOOKUP(B94&D94,'[1]점검현황(전월)'!$D$7:$AG$242,3,0)","v":"XU106K"},{"$f":"VLOOKUP(B94&D94,'[1]점검현황(전월)'!$D$2:$AG$242,19,0)","v":"자체"},"2010-08-11",{"$f":"VLOOKUP(B94&D94,'[1]점검현황(전월)'!$D$7:$AG$242,27,0)","v":"날짜 확인 불가(클리닝 권고)"},311,{"$f":"VLOOKUP(B94&D94,'[1]점검현황(전월)'!$D$7:$AK$242,24,0)","v":"09:10:00"},539,410,"10:40:00","12,"]
[null,"원천관",12,503,{"$f":"VLOOKUP(B95&D95,'[1]점검현황(전월)'!$D$7:$AG$242,2,0)","v":"물리학과"},{"$f":"VLOOKUP(B95&D95,'[1]점검현황(전월)'!$D$7:$AG$242,3,0)","v":"XU106K"},{"$f":"VLOOKUP(B95&D95,'[1]점검현황(전월)'!$D$2:$AG$242,19,0)","v":"자체"},"2019-03-11",{"$f":"VLOOKUP(B95&D95,'[1]점검현황(전월)'!$D$7:$AG$242,27,0)","v":"날짜 확인 불가(클리닝 권고)"},{"$f":"VLOOKUP(B95&D95,'[1]점검현황(전월)'!$D$7:$AG$242,23,0)","v":213},{"$f":"VLOOKUP(B95&D95,'[1]점검현황(전월)'!$D$7:$AK$242,24,0)","v":"09:15:00"},9,410,"10:50:00","."]
[null,"원천관",13,504,{"$f":"VLOOKUP(B96&D96,'[1]점검현황(전월)'!$D$7:$AG$242,2,0)","v":"물리학과"},{"$f":"VLOOKUP(B96&D96,'[1]점검현황(전월)'!$D$7:$AG$242,3,0)","v":"XU106K"},{"$f":"VLOOKUP(B96&D96,'[1]점검현황(전월)'!$D$2:$AG$242,19,0)","v":"자체"},"2010-08-11",{"$f":"VLOOKUP(B96&D96,'[1]점검현황(전월)'!$D$7:$AG$242,27,0)","v":"날짜 확인 불가(클리닝 권고)"},311,{"$f":"VLOOKUP(B96&D96,'[1]점검현황(전월)'!$D$7:$AK$242,24,0)","v":"09:20:00"},641,410,"11:00:00","."]
[null,"원천관",14,505,{"$f":"VLOOKUP(B97&D97,'[1]점검현황(전월)'!$D$7:$AG$242,2,0)","v":"물리학과"},{"$f":"VLOOKUP(B97&D97,'[1]점검현황(전월)'!$D$7:$AG$242,3,0)","v":"XU106K"},{"$f":"VLOOKUP(B97&D97,'[1]점검현황(전월)'!$D$2:$AG$242,19,0)","v":"자체"},"2018-03-20",{"$f":"VLOOKUP(B97&D97,'[1]점검현황(전월)'!$D$7:$AG$242,27,0)","v":"날짜 확인 불가(클리닝 권고)"},311,{"$f":"VLOOKUP(B97&D97,'[1]점검현황(전월)'!$D$7:$AK$242,24,0)","v":"09:25:00"},123,410,"11:10:00","."]
[null,"원천관",15,506,{"$f":"VLOOKUP(B98&D98,'[1]점검현황(전월)'!$D$7:$AG$242,2,0)","v":"물리학과"},{"$f":"VLOOKUP(B98&D98,'[1]점검현황(전월)'!$D$7:$AG$242,3,0)","v":"XU106K"},{"$f":"VLOOKUP(B98&D98,'[1]점검현황(전월)'!$D$2:$AG$242,19,0)","v":"자체"},"2018-03-16",{"$f":"VLOOKUP(B98&D98,'[1]점검현황(전월)'!$D$7:$AG$242,27,0)","v":"날짜 확인 불가(클리닝 권고)"},311,{"$f":"VLOOKUP(B98&D98,'[1]점검현황(전월)'!$D$7:$AK$242,24,0)","v":"09:30:00"},93,410,"11:20:00","."]
[null,"원천관",16,507,{"$f":"VLOOKUP(B99&D99,'[1]점검현황(전월)'!$D$7:$AG$242,2,0)","v":"화학과"},{"$f":"VLOOKUP(B99&D99,'[1]점검현황(전월)'!$D$7:$AG$242,3,0)","v":"VX421"},{"$f":"VLOOKUP(B99&D99,'[1]점검현황(전월)'!$D$2:$AG$242,19,0)","v":"구"},"2016-10-07",{"$f":"VLOOKUP(B99&D99,'[1]점검현황(전월)'!$D$7:$AG$242,27,0)","v":"2016-10-07(클리닝 권고)"},311,{"$f":"VLOOKUP(B99&D99,'[1]점검현황(전월)'!$D$7:$AK$242,24,0)","v":"09:35:00"},966,410,"11:30:00","."]
[null,"원천관",17,508,{"$f":"VLOOKUP(B100&D100,'[1]점검현황(전월)'!$D$7:$AG$242,2,0)","v":"전자공학"},{"$f":"VLOOKUP(B100&D100,'[1]점검현황(전월)'!$D$7:$AG$242,3,0)","v":"VX610"},{"$f":"VLOOKUP(B100&D100,'[1]점검현황(전월)'!$D$2:$AG$242,19,0)","v":"e-ST"},"2018-01-18",{"$f":"VLOOKUP(B100&D100,'[1]점검현황(전월)'!$D$7:$AG$242,27,0)","v":"2018-01-18"},311,{"$f":"VLOOKUP(B100&D100,'[1]점검현황(전월)'!$D$7:$AK$242,24,0)","v":"09:40:00"},242,410,"11:40:00","."]
[null,"원천관",18,509,{"$f":"VLOOKUP(B101&D101,'[1]점검현황(전월)'!$D$7:$AG$242,2,0)","v":"전자공학"},{"$f":"VLOOKUP(B101&D101,'[1]점검현황(전월)'!$D$7:$AG$242,3,0)","v":"XU106K"},{"$f":"VLOOKUP(B101&D101,'[1]점검현황(전월)'!$D$2:$AG$242,19,0)","v":"e-ST"},"2016-03-08",{"$f":"VLOOKUP(B101&D101,'[1]점검현황(전월)'!$D$7:$AG$242,27,0)","v":"2017-04-28"},311,{"$f":"VLOOKUP(B101&D101,'[1]점검현황(전월)'!$D$7:$AK$242,24,0)","v":"17:35:00"},1151,410,"11:50:00","."]
[null,"원천관",19,"534-2",{"$f":"VLOOKUP(B102&D102,'[1]점검현황(전월)'!$D$7:$AG$242,2,0)","v":"생명과학"},{"$f":"VLOOKUP(B102&D102,'[1]점검현황(전월)'!$D$7:$AG$242,3,0)","v":"XU106K"},{"$f":"VLOOKUP(B102&D102,'[1]점검현황(전월)'!$D$2:$AG$242,19,0)","v":"구"},"2018-08-24",{"$f":"VLOOKUP(B102&D102,'[1]점검현황(전월)'!$D$7:$AG$242,27,0)","v":"날짜 확인 불가(클리닝 권고)"},311,{"$f":"VLOOKUP(B102&D102,'[1]점검현황(전월)'!$D$7:$AK$242,24,0)","v":"09:50:00"},239,410,"12:00:00","."]
[null,"원천관",20,535,{"$f":"VLOOKUP(B103&D103,'[1]점검현황(전월)'!$D$7:$AG$242,2,0)","v":"전자공학 (자동녹화)"},{"$f":"VLOOKUP(B103&D103,'[1]점검현황(전월)'!$D$7:$AG$242,3,0)","v":"VX610/VX610/VX610"},{"$f":"VLOOKUP(B103&D103,'[1]점검현황(전월)'!$D$2:$AG$242,19,0)","v":"e-ST"},"18-02-18/18-02-18/18-02-18",{"$f":"VLOOKUP(B103&D103,'[1]점검현황(전월)'!$D$7:$AG$242,27,0)","v":"18-02-18/18-02-18/18-02-18"},311,{"$f":"VLOOKUP(B103&D103,'[1]점검현황(전월)'!$D$7:$AK$242,24,0)","v":"10:00:00"},"600/200/681",410,"13:00:00","."]
[null,"원천관",21,537,{"$f":"VLOOKUP(B104&D104,'[1]점검현황(전월)'!$D$7:$AG$242,2,0)","v":"전자공학"},{"$f":"VLOOKUP(B104&D104,'[1]점검현황(전월)'!$D$7:$AG$242,3,0)","v":"VX410"},{"$f":"VLOOKUP(B104&D104,'[1]점검현황(전월)'!$D$2:$AG$242,19,0)","v":"자체"},"2015-03-13",{"$f":"VLOOKUP(B104&D104,'[1]점검현황(전월)'!$D$7:$AG$242,27,0)","v":"날짜 확인 불가(클리닝 권고)"},312,{"$f":"VLOOKUP(B104&D104,'[1]점검현황(전월)'!$D$7:$AK$242,24,0)","v":"10:10:00"},456,411,"13:10:00","."]
[null,"원천관",22,539,{"$f":"VLOOKUP(B105&D105,'[1]점검현황(전월)'!$D$7:$AG$242,2,0)","v":"전자공학"},{"$f":"VLOOKUP(B105&D105,'[1]점검현황(전월)'!$D$7:$AG$242,3,0)","v":"XU100K"},{"$f":"VLOOKUP(B105&D105,'[1]점검현황(전월)'!$D$2:$AG$242,19,0)","v":"자체"},"2017-10-27",{"$f":"VLOOKUP(B105&D105,'[1]점검현황(전월)'!$D$7:$AG$242,27,0)","v":"날짜 확인 불가(클리닝 권고)"},312,{"$f":"VLOOKUP(B105&D105,'[1]점검현황(전월)'!$D$7:$AK$242,24,0)","v":"10:20:00"},733,411,"13:20:00","."]
[null,"원천관",23,540,{"$f":"VLOOKUP(B106&D106,'[1]점검현황(전월)'!$D$7:$AG$242,2,0)","v":"멀티미디어 PC실"},{"$f":"VLOOKUP(B106&D106,'[1]점검현황(전월)'!$D$7:$AG$242,3,0)","v":"XU106K"},{"$f":"VLOOKUP(B106&D106,'[1]점검현황(전월)'!$D$2:$AG$242,19,0)","v":"구"},"2018-07-19",{"$f":"VLOOKUP(B106&D106,'[1]점검현황(전월)'!$D$7:$AG$242,27,0)","v":"2019-01-11"},312,{"$f":"VLOOKUP(B106&D106,'[1]점검현황(전월)'!$D$7:$AK$242,24,0)","v":"18:00:00"},32,411,"13:30:00","."]
["서관","서관",1,107,{"$f":"VLOOKUP(B107&D107,'[1]점검현황(전월)'!$D$7:$AG$242,2,0)","v":"멀티미디어 (자동녹화)"},{"$f":"VLOOKUP(B107&D107,'[1]점검현황(전월)'!$D$7:$AG$242,3,0)","v":"VX421"},{"$f":"VLOOKUP(B107&D107,'[1]점검현황(전월)'!$D$2:$AG$242,19,0)","v":"e-ST"},"2016-12-23",{"$f":"VLOOKUP(B107&D107,'[1]점검현황(전월)'!$D$7:$AG$242,27,0)","v":"2018-10-04"},312,{"$f":"VLOOKUP(B107&D107,'[1]점검현황(전월)'!$D$7:$AK$242,24,0)","v":"10:40:00"},2456,411,"13:40:00","."]
[null,"서관",2,135,{"$f":"VLOOKUP(B108&D108,'[1]점검현황(전월)'!$D$7:$AG$242,2,0)","v":"기계공학 (자동녹화)"},{"$f":"VLOOKUP(B108&D108,'[1]점검현황(전월)'!$D$7:$AG$242,3,0)","v":"VX421"},{"$f":"VLOOKUP(B108&D108,'[1]점검현황(전월)'!$D$2:$AG$242,19,0)","v":"e-ST"},"2016-02-29",{"$f":"VLOOKUP(B108&D108,'[1]점검현황(전월)'!$D$7:$AG$242,27,0)","v":"2016-02-29(클리닝 권고)"},312,{"$f":"VLOOKUP(B108&D108,'[1]점검현황(전월)'!$D$7:$AK$242,24,0)","v":"10:50:00"},3044,411,"08:30:00","11,"]
[null,"서관",3,239,{"$f":"VLOOKUP(B109&D109,'[1]점검현황(전월)'!$D$7:$AG$242,2,0)","v":"환경공학"},{"$f":"VLOOKUP(B109&D109,'[1]점검현황(전월)'!$D$7:$AG$242,3,0)","v":"VX421"},{"$f":"VLOOKUP(B109&D109,'[1]점검현황(전월)'!$D$2:$AG$242,19,0)","v":"e-ST"},"2018-12-07",{"$f":"VLOOKUP(B109&D109,'[1]점검현황(전월)'!$D$7:$AG$242,27,0)","v":"2016-02-17(클리닝 권고)"},312,{"$f":"VLOOKUP(B109&D109,'[1]점검현황(전월)'!$D$7:$AK$242,24,0)","v":"11:00:00"},49,411,"08:40:00","6,"]
[null,"서관",4,302,{"$f":"VLOOKUP(B110&D110,'[1]점검현황(전월)'!$D$7:$AG$242,2,0)","v":"대학원"},{"$f":"VLOOKUP(B110&D110,'[1]점검현황(전월)'!$D$7:$AG$242,3,0)","v":"VX421"},{"$f":"VLOOKUP(B110&D110,'[1]점검현황(전월)'!$D$2:$AG$242,19,0)","v":"e-ST"},"2017-02-22",{"$f":"VLOOKUP(B110&D110,'[1]점검현황(전월)'!$D$7:$AG$242,27,0)","v":"2017-02-22"},{"$f":"VLOOKUP(B110&D110,'[1]점검현황(전월)'!$D$7:$AG$242,23,0)","v":215},{"$f":"VLOOKUP(B110&D110,'[1]점검현황(전월)'!$D$7:$AK$242,24,0)","v":"11:10:00"},410,411,"08:50:00","7,"]
[null,"서관",5,303,{"$f":"VLOOKUP(B111&D111,'[1]점검현황(전월)'!$D$7:$AG$242,2,0)","v":"화학공학"},{"$f":"VLOOKUP(B111&D111,'[1]점검현황(전월)'!$D$7:$AG$242,3,0)","v":"XT35K"},{"$f":"VLOOKUP(B111&D111,'[1]점검현황(전월)'!$D$2:$AG$242,19,0)","v":"구"},"2019-01-28",{"$f":"VLOOKUP(B111&D111,'[1]점검현황(전월)'!$D$7:$AG$242,27,0)","v":"2016-04-05(클리닝 권고)"},7,{"$f":"VLOOKUP(B111&D111,'[1]점검현황(전월)'!$D$7:$AK$242,24,0)","v":"11:20:00"},50,411,"19:00:00","11,"]
[null,"서관",6,305,{"$f":"VLOOKUP(B112&D112,'[1]점검현황(전월)'!$D$7:$AG$242,2,0)","v":"기계공학"},{"$f":"VLOOKUP(B112&D112,'[1]점검현황(전월)'!$D$7:$AG$242,3,0)","v":"VX400"},{"$f":"VLOOKUP(B112&D112,'[1]점검현황(전월)'!$D$2:$AG$242,19,0)","v":"e-ST"},"2016-02-02",{"$f":"VLOOKUP(B112&D112,'[1]점검현황(전월)'!$D$7:$AG$242,27,0)","v":"날짜 확인 불가(클리닝 권고)"},311,{"$f":"VLOOKUP(B112&D112,'[1]점검현황(전월)'!$D$7:$AK$242,24,0)","v":"11:50:00"},2228,411,"20:00:00","."]
[null,"서관",7,307,{"$f":"VLOOKUP(B113&D113,'[1]점검현황(전월)'!$D$7:$AG$242,2,0)","v":"기계공학"},{"$f":"VLOOKUP(B113&D113,'[1]점검현황(전월)'!$D$7:$AG$242,3,0)","v":"VX421"},{"$f":"VLOOKUP(B113&D113,'[1]점검현황(전월)'!$D$2:$AG$242,19,0)","v":"e-ST"},"2015-08-18",{"$f":"VLOOKUP(B113&D113,'[1]점검현황(전월)'!$D$7:$AG$242,27,0)","v":"날짜 확인 불가(클리닝 권고)"},312,{"$f":"VLOOKUP(B113&D113,'[1]점검현황(전월)'!$D$7:$AK$242,24,0)","v":"11:30:00"},2724,411,"19:10:00","."]
[null,"서관",8,331,{"$f":"VLOOKUP(B114&D114,'[1]점검현황(전월)'!$D$7:$AG$242,2,0)","v":"기계공학"},{"$f":"VLOOKUP(B114&D114,'[1]점검현황(전월)'!$D$7:$AG$242,3,0)","v":"VX421"},{"$f":"VLOOKUP(B114&D114,'[1]점검현황(전월)'!$D$2:$AG$242,19,0)","v":"e-ST"},"2018-02-01",{"$f":"VLOOKUP(B114&D114,'[1]점검현황(전월)'!$D$7:$AG$242,27,0)","v":"2018-02-01"},312,{"$f":"VLOOKUP(B114&D114,'[1]점검현황(전월)'!$D$7:$AK$242,24,0)","v":"17:41:00"},789,412,"19:20:00","7,"]
[null,"서관",9,332,{"$f":"VLOOKUP(B115&D115,'[1]점검현황(전월)'!$D$7:$AG$242,2,0)","v":"응 화 생"},{"$f":"VLOOKUP(B115&D115,'[1]점검현황(전월)'!$D$7:$AG$242,3,0)","v":"VX600"},{"$f":"VLOOKUP(B115&D115,'[1]점검현황(전월)'!$D$2:$AG$242,19,0)","v":"구"},"2016-11-24",{"$f":"VLOOKUP(B115&D115,'[1]점검현황(전월)'!$D$7:$AG$242,27,0)","v":"2016-11-24(클리닝 권고)"},313,{"$f":"VLOOKUP(B115&D115,'[1]점검현황(전월)'!$D$7:$AK$242,24,0)","v":"11:50:00"},2359,412,"08:30:00","13,"]
[null,"서관",10,334,{"$f":"VLOOKUP(B116&D116,'[1]점검현황(전월)'!$D$7:$AG$242,2,0)","v":"멀티미디어"},{"$f":"VLOOKUP(B116&D116,'[1]점검현황(전월)'!$D$7:$AG$242,3,0)","v":"VX421"},{"$f":"VLOOKUP(B116&D116,'[1]점검현황(전월)'!$D$2:$AG$242,19,0)","v":"e-ST"},"2016-12-28",{"$f":"VLOOKUP(B116&D116,'[1]점검현황(전월)'!$D$7:$AG$242,27,0)","v":"2018-12-13"},313,{"$f":"VLOOKUP(B116&D116,'[1]점검현황(전월)'!$D$7:$AK$242,24,0)","v":"12:00:00"},1717,412,"08:40:00","."]
[null,"서관",11,337,{"$f":"VLOOKUP(B117&D117,'[1]점검현황(전월)'!$D$7:$AG$242,2,0)","v":"환경공학"},{"$f":"VLOOKUP(B117&D117,'[1]점검현황(전월)'!$D$7:$AG$242,3,0)","v":"LG DX630B"},{"$f":"VLOOKUP(B117&D117,'[1]점검현황(전월)'!$D$2:$AG$242,19,0)","v":"자체"},"2018-11-27",{"$f":"VLOOKUP(B117&D117,'[1]점검현황(전월)'!$D$7:$AG$242,27,0)","v":"날짜 확인 불가(클리닝 권고)"},313,{"$f":"VLOOKUP(B117&D117,'[1]점검현황(전월)'!$D$7:$AK$242,24,0)","v":"13:00:00"},41,412,"09:40:00","."]
["동관","동관",1,"104-1",{"$f":"VLOOKUP(B118&D118,'[1]점검현황(전월)'!$D$7:$AG$242,2,0)","v":"기계공학"},{"$f":"VLOOKUP(B118&D118,'[1]점검현황(전월)'!$D$7:$AG$242,3,0)","v":"XU106K"},{"$f":"VLOOKUP(B118&D118,'[1]점검현황(전월)'!$D$2:$AG$242,19,0)","v":"e-ST"},"2017-09-05",{"$f":"VLOOKUP(B118&D118,'[1]점검현황(전월)'!$D$7:$AG$242,27,0)","v":"날짜 확인 불가(클리닝 권고)"},313,{"$f":"VLOOKUP(B118&D118,'[1]점검현황(전월)'!$D$7:$AK$242,24,0)","v":"13:00:00"},496,412,"08:50:00","11,"]
[null,"동관",2,"104-3",{"$f":"VLOOKUP(B119&D119,'[1]점검현황(전월)'!$D$7:$AG$242,2,0)","v":"기계공학"},{"$f":"VLOOKUP(B119&D119,'[1]점검현황(전월)'!$D$7:$AG$242,3,0)","v":"XU106K"},{"$f":"VLOOKUP(B119&D119,'[1]점검현황(전월)'!$D$2:$AG$242,19,0)","v":"e-ST"},"2011-09-19",{"$f":"VLOOKUP(B119&D119,'[1]점검현황(전월)'!$D$7:$AG$242,27,0)","v":"날짜 확인 불가(클리닝 권고)"},313,{"$f":"VLOOKUP(B119&D119,'[1]점검현황(전월)'!$D$7:$AK$242,24,0)","v":"13:20:00"},1191,412,"19:10:00","11,"]
[null,"동관",3,212,{"$f":"VLOOKUP(B120&D120,'[1]점검현황(전월)'!$D$7:$AG$242,2,0)","v":"기계공학"},{"$f":"VLOOKUP(B120&D120,'[1]점검현황(전월)'!$D$7:$AG$242,3,0)","v":"XU106K"},{"$f":"VLOOKUP(B120&D120,'[1]점검현황(전월)'!$D$2:$AG$242,19,0)","v":"자체"},"11-2-22/11-2-22/11-2-22/17-9-27",{"$f":"VLOOKUP(B120&D120,'[1]점검현황(전월)'!$D$7:$AG$242,27,0)","v":"18-1-11/날짜확인불가/날짜확인불가/날짜확인불가"},313,{"$f":"VLOOKUP(B120&D120,'[1]점검현황(전월)'!$D$7:$AK$242,24,0)","v":"13:25:00"},"775/439/96/16",412,"19:15:00","."]
[null,"동관",4,331,{"$f":"VLOOKUP(B121&D121,'[1]점검현황(전월)'!$D$7:$AG$242,2,0)","v":"기계공학"},{"$f":"VLOOKUP(B121&D121,'[1]점검현황(전월)'!$D$7:$AG$242,3,0)","v":"VX400"},{"$f":"VLOOKUP(B121&D121,'[1]점검현황(전월)'!$D$2:$AG$242,19,0)","v":"e-ST"},"2018-01-15",{"$f":"VLOOKUP(B121&D121,'[1]점검현황(전월)'!$D$7:$AG$242,27,0)","v":"날짜 확인 불가(클리닝 권고)"},313,{"$f":"VLOOKUP(B121&D121,'[1]점검현황(전월)'!$D$7:$AK$242,24,0)","v":"13:30:00"},429,412,"19:20:00","."]
["팔달관","팔달관",1,107,{"$f":"VLOOKUP(B122&D122,'[1]점검현황(전월)'!$D$7:$AG$242,2,0)","v":"멀티미디어 (자동녹화)"},{"$f":"VLOOKUP(B122&D122,'[1]점검현황(전월)'!$D$7:$AG$242,3,0)","v":"VX600"},{"$f":"VLOOKUP(B122&D122,'[1]점검현황(전월)'!$D$2:$AG$242,19,0)","v":"e-ST"},"2018-05-15",{"$f":"VLOOKUP(B122&D122,'[1]점검현황(전월)'!$D$7:$AG$242,27,0)","v":"2018-11-09"},313,{"$f":"VLOOKUP(B122&D122,'[1]점검현황(전월)'!$D$7:$AK$242,24,0)","v":"13:40:00"},1051,412,"08:30:00","."]
[null,"팔달관",2,108,{"$f":"VLOOKUP(B123&D123,'[1]점검현황(전월)'!$D$7:$AG$242,2,0)","v":"멀티미디어 (자동녹화)"},{"$f":"VLOOKUP(B123&D123,'[1]점검현황(전월)'!$D$7:$AG$242,3,0)","v":"VX600"},{"$f":"VLOOKUP(B123&D123,'[1]점검현황(전월)'!$D$2:$AG$242,19,0)","v":"e-ST"},"2018-05-09",{"$f":"VLOOKUP(B123&D123,'[1]점검현황(전월)'!$D$7:$AG$242,27,0)","v":"2018-11-15"},321,{"$f":"VLOOKUP(B123&D123,'[1]점검현황(전월)'!$D$7:$AK$242,24,0)","v":"17:28:00"},1226,412,"08:40:00","4,20,21"]
[null,"팔달관",3,110,{"$f":"VLOOKUP(B124&D124,'[1]점검현황(전월)'!$D$7:$AG$242,2,0)","v":"멀티미디어 (자동녹화)"},{"$f":"VLOOKUP(B124&D124,'[1]점검현황(전월)'!$D$7:$AG$242,3,0)","v":"VX600"},{"$f":"VLOOKUP(B124&D124,'[1]점검현황(전월)'!$D$2:$AG$242,19,0)","v":"e-ST"},"2017-09-11",{"$f":"VLOOKUP(B124&D124,'[1]점검현황(전월)'!$D$7:$AG$242,27,0)","v":"2019-02-27"},315,{"$f":"VLOOKUP(B124&D124,'[1]점검현황(전월)'!$D$7:$AK$242,24,0)","v":"14:00:00"},2012,413,"08:50:00","7,8,15,22"]
[null,"팔달관",4,111,{"$f":"VLOOKUP(B125&D125,'[1]점검현황(전월)'!$D$7:$AG$242,2,0)","v":"사이버보안 (자동녹화)"},{"$f":"VLOOKUP(B125&D125,'[1]점검현황(전월)'!$D$7:$AG$242,3,0)","v":"VX600"},{"$f":"VLOOKUP(B125&D125,'[1]점검현황(전월)'!$D$2:$AG$242,19,0)","v":"e-ST"},"2015-09-16",{"$f":"VLOOKUP(B125&D125,'[1]점검현황(전월)'!$D$7:$AG$242,27,0)","v":"2015-09-16(클리닝 권고)"},315,{"$f":"VLOOKUP(B125&D125,'[1]점검현황(전월)'!$D$7:$AK$242,24,0)","v":"11:30:00"},199,413,"19:00:00","5,"]
[null,"팔달관",5,207,{"$f":"VLOOKUP(B126&D126,'[1]점검현황(전월)'!$D$7:$AG$242,2,0)","v":"신소재"},{"$f":"VLOOKUP(B126&D126,'[1]점검현황(전월)'!$D$7:$AG$242,3,0)","v":"VX600"},{"$f":"VLOOKUP(B126&D126,'[1]점검현황(전월)'!$D$2:$AG$242,19,0)","v":"구"},"2016-09-19",{"$f":"VLOOKUP(B126&D126,'[1]점검현황(전월)'!$D$7:$AG$242,27,0)","v":"날짜 확인 불가(클리닝 권고)"},327,{"$f":"VLOOKUP(B126&D126,'[1]점검현황(전월)'!$D$7:$AK$242,24,0)","v":"08:40:00"},2996,413,"19:10:00","14,"]
[null,"팔달관",6,211,{"$f":"VLOOKUP(B127&D127,'[1]점검현황(전월)'!$D$7:$AG$242,2,0)","v":"교통시스템"},{"$f":"VLOOKUP(B127&D127,'[1]점검현황(전월)'!$D$7:$AG$242,3,0)","v":"VX600"},{"$f":"VLOOKUP(B127&D127,'[1]점검현황(전월)'!$D$2:$AG$242,19,0)","v":"e-ST"},"2016-03-02",{"$f":"VLOOKUP(B127&D127,'[1]점검현황(전월)'!$D$7:$AG$242,27,0)","v":"2016-03-02(클리닝 권고)"},315,{"$f":"VLOOKUP(B127&D127,'[1]점검현황(전월)'!$D$7:$AK$242,24,0)","v":"08:50:00"},3092,413,"19:20:00","7,18"]
[null,"팔달관",7,307,{"$f":"VLOOKUP(B128&D128,'[1]점검현황(전월)'!$D$7:$AG$242,2,0)","v":"산업공학"},{"$f":"VLOOKUP(B128&D128,'[1]점검현황(전월)'!$D$7:$AG$242,3,0)","v":"VX600"},{"$f":"VLOOKUP(B128&D128,'[1]점검현황(전월)'!$D$2:$AG$242,19,0)","v":"e-ST"},"2016-11-29",{"$f":"VLOOKUP(B128&D128,'[1]점검현황(전월)'!$D$7:$AG$242,27,0)","v":"2016-11-29(클리닝 권고)"},316,{"$f":"VLOOKUP(B128&D128,'[1]점검현황(전월)'!$D$7:$AK$242,24,0)","v":"19:00:00"},1959,413,"08:30:00","."]
[null,"팔달관",8,308,{"$f":"VLOOKUP(B129&D129,'[1]점검현황(전월)'!$D$7:$AG$242,2,0)","v":"생명과학"},{"$f":"VLOOKUP(B129&D129,'[1]점검현황(전월)'!$D$7:$AG$242,3,0)","v":"XU105K"},{"$f":"VLOOKUP(B129&D129,'[1]점검현황(전월)'!$D$2:$AG$242,19,0)","v":"구"},"2016-11-29",{"$f":"VLOOKUP(B129&D129,'[1]점검현황(전월)'!$D$7:$AG$242,27,0)","v":"2016-11-29(클리닝 권고)"},316,{"$f":"VLOOKUP(B129&D129,'[1]점검현황(전월)'!$D$7:$AK$242,24,0)","v":"19:10:00"},814,413,"08:40:00","."]
[null,"팔달관",9,309,{"$f":"VLOOKUP(B130&D130,'[1]점검현황(전월)'!$D$7:$AG$242,2,0)","v":"정통컴 (자동녹화)"},{"$f":"VLOOKUP(B130&D130,'[1]점검현황(전월)'!$D$7:$AG$242,3,0)","v":"VX600"},{"$f":"VLOOKUP(B130&D130,'[1]점검현황(전월)'!$D$2:$AG$242,19,0)","v":"e-ST"},"2018-08-22",{"$f":"VLOOKUP(B130&D130,'[1]점검현황(전월)'!$D$7:$AG$242,27,0)","v":"2016-11-18(클리닝 권고)"},319,{"$f":"VLOOKUP(B130&D130,'[1]점검현황(전월)'!$D$7:$AK$242,24,0)","v":"19:20:00"},821,413,"08:50:00","."]
[null,"팔달관",10,310,{"$f":"VLOOKUP(B131&D131,'[1]점검현황(전월)'!$D$7:$AG$242,2,0)","v":"건설시스템"},{"$f":"VLOOKUP(B131&D131,'[1]점검현황(전월)'!$D$7:$AG$242,3,0)","v":"XU106K"},{"$f":"VLOOKUP(B131&D131,'[1]점검현황(전월)'!$D$2:$AG$242,19,0)","v":"구"},"2017-08-29",{"$f":"VLOOKUP(B131&D131,'[1]점검현황(전월)'!$D$7:$AG$242,27,0)","v":"2016-04-06(클리닝 권고)"},316,{"$f":"VLOOKUP(B131&D131,'[1]점검현황(전월)'!$D$7:$AK$242,24,0)","v":"08:30:00"},1461,413,"19:00:00","."]
[null,"팔달관",11,311,{"$f":"VLOOKUP(B132&D132,'[1]점검현황(전월)'!$D$7:$AG$242,2,0)","v":"수학과 (자동녹화)"},{"$f":"VLOOKUP(B132&D132,'[1]점검현황(전월)'!$D$7:$AG$242,3,0)","v":"EB-5900"},{"$f":"VLOOKUP(B132&D132,'[1]점검현황(전월)'!$D$2:$AG$242,19,0)","v":"e-ST"},"2016-08-23",{"$f":"VLOOKUP(B132&D132,'[1]점검현황(전월)'!$D$7:$AG$242,27,0)","v":"날짜 확인 불가(클리닝 권고)"},316,{"$f":"VLOOKUP(B132&D132,'[1]점검현황(전월)'!$D$7:$AK$242,24,0)","v":"18:42:00"},1660,413,"19:10:00","."]
[null,"팔달관",12,317,{"$f":"VLOOKUP(B133&D133,'[1]점검현황(전월)'!$D$7:$AG$242,2,0)","v":"정통컴 (자동녹화)"},{"$f":"VLOOKUP(B133&D133,'[1]점검현황(전월)'!$D$7:$AG$242,3,0)","v":"VX421"},{"$f":"VLOOKUP(B133&D133,'[1]점검현황(전월)'!$D$2:$AG$242,19,0)","v":"e-ST"},"2016-02-29",{"$f":"VLOOKUP(B133&D133,'[1]점검현황(전월)'!$D$7:$AG$242,27,0)","v":"2016-02-29(클리닝 권고)"},316,{"$f":"VLOOKUP(B133&D133,'[1]점검현황(전월)'!$D$7:$AK$242,24,0)","v":"19:20:00"},967,413,"19:15:00","."]
[null,"팔달관",13,318,{"$f":"VLOOKUP(B134&D134,'[1]점검현황(전월)'!$D$7:$AG$242,2,0)","v":"정 통 컴"},{"$f":"VLOOKUP(B134&D134,'[1]점검현황(전월)'!$D$7:$AG$242,3,0)","v":"VX421"},{"$f":"VLOOKUP(B134&D134,'[1]점검현황(전월)'!$D$2:$AG$242,19,0)","v":"e-ST"},"2016-11-24",{"$f":"VLOOKUP(B134&D134,'[1]점검현황(전월)'!$D$7:$AG$242,27,0)","v":"2016-11-24(클리닝 권고)"},316,{"$f":"VLOOKUP(B134&D134,'[1]점검현황(전월)'!$D$7:$AK$242,24,0)","v":"08:50:00"},1121,413,"19:20:00","."]
[null,"팔달관",14,323,{"$f":"VLOOKUP(B135&D135,'[1]점검현황(전월)'!$D$7:$AG$242,2,0)","v":"산업공학"},{"$f":"VLOOKUP(B135&D135,'[1]점검현황(전월)'!$D$7:$AG$242,3,0)","v":"VX600 / VX600"},{"$f":"VLOOKUP(B135&D135,'[1]점검현황(전월)'!$D$2:$AG$242,19,0)","v":"e-ST"},"18-11-12/16-02-19",{"$f":"VLOOKUP(B135&D135,'[1]점검현황(전월)'!$D$7:$AG$242,27,0)","v":"16-02-29 / 16-02-19"},316,{"$f":"VLOOKUP(B135&D135,'[1]점검현황(전월)'!$D$7:$AK$242,24,0)","v":"10:50:00"},"202/1629",413,"13:00:00","15,27"]
[null,"팔달관",15,325,{"$f":"VLOOKUP(B136&D136,'[1]점검현황(전월)'!$D$7:$AG$242,2,0)","v":"멀티미디어 (자동녹화)"},{"$f":"VLOOKUP(B136&D136,'[1]점검현황(전월)'!$D$7:$AG$242,3,0)","v":"VX421"},{"$f":"VLOOKUP(B136&D136,'[1]점검현황(전월)'!$D$2:$AG$242,19,0)","v":"e-ST"},"2017-11-17",{"$f":"VLOOKUP(B136&D136,'[1]점검현황(전월)'!$D$7:$AG$242,27,0)","v":"2018-11-22"},316,{"$f":"VLOOKUP(B136&D136,'[1]점검현황(전월)'!$D$7:$AK$242,24,0)","v":"14:05:00"},1049,413,"08:30:00","."]
[null,"팔달관",16,328,{"$f":"VLOOKUP(B137&D137,'[1]점검현황(전월)'!$D$7:$AG$242,2,0)","v":"정 통 컴"},{"$f":"VLOOKUP(B137&D137,'[1]점검현황(전월)'!$D$7:$AG$242,3,0)","v":"VX421"},{"$f":"VLOOKUP(B137&D137,'[1]점검현황(전월)'!$D$2:$AG$242,19,0)","v":"e-ST"},"2017-11-23",{"$f":"VLOOKUP(B137&D137,'[1]점검현황(전월)'!$D$7:$AG$242,27,0)","v":"2017-11-23"},316,{"$f":"VLOOKUP(B137&D137,'[1]점검현황(전월)'!$D$7:$AK$242,24,0)","v":"15:55:00"},820,413,"08:40:00","."]
[null,"팔달관",17,333,{"$f":"VLOOKUP(B138&D138,'[1]점검현황(전월)'!$D$7:$AG$242,2,0)","v":"정 통 컴"},{"$f":"VLOOKUP(B138&D138,'[1]점검현황(전월)'!$D$7:$AG$242,3,0)","v":"VX410"},{"$f":"VLOOKUP(B138&D138,'[1]점검현황(전월)'!$D$2:$AG$242,19,0)","v":"e-ST"},"2017-08-03",{"$f":"VLOOKUP(B138&D138,'[1]점검현황(전월)'!$D$7:$AG$242,27,0)","v":"2017-08-03"},316,{"$f":"VLOOKUP(B138&D138,'[1]점검현황(전월)'!$D$7:$AK$242,24,0)","v":"16:00:00"},1075,413,"08:45:00","21,"]
[null,"팔달관",18,336,{"$f":"VLOOKUP(B139&D139,'[1]점검현황(전월)'!$D$7:$AG$242,2,0)","v":"정 통 컴"},{"$f":"VLOOKUP(B139&D139,'[1]점검현황(전월)'!$D$7:$AG$242,3,0)","v":"VX421"},{"$f":"VLOOKUP(B139&D139,'[1]점검현황(전월)'!$D$2:$AG$242,19,0)","v":"자체"},"2017-08-28",{"$f":"VLOOKUP(B139&D139,'[1]점검현황(전월)'!$D$7:$AG$242,27,0)","v":"2017-08-28"},316,{"$f":"VLOOKUP(B139&D139,'[1]점검현황(전월)'!$D$7:$AK$242,24,0)","v":"19:20:00"},90,413,"08:50:00","."]
[null,"팔달관",19,407,{"$f":"VLOOKUP(B140&D140,'[1]점검현황(전월)'!$D$7:$AG$242,2,0)","v":"SW특성화 (자동녹화)"},{"$f":"VLOOKUP(B140&D140,'[1]점검현황(전월)'!$D$7:$AG$242,3,0)","v":"EX600 / EX600 / EX600"},{"$f":"VLOOKUP(B140&D140,'[1]점검현황(전월)'!$D$2:$AG$242,19,0)","v":"e-ST"},"13-02-18/13-02-18/16-7-19",{"$f":"VLOOKUP(B140&D140,'[1]점검현황(전월)'!$D$7:$AG$242,27,0)","v":"13-02-18/13-02-18/16-03-19"},316,{"$f":"VLOOKUP(B140&D140,'[1]점검현황(전월)'!$D$7:$AK$242,24,0)","v":"08:40:00"},"1785/1227/895",413,"19:10:00","6,"]
[null,"팔달관",20,409,{"$f":"VLOOKUP(B141&D141,'[1]점검현황(전월)'!$D$7:$AG$242,2,0)","v":"정통컴 (자동녹화)"},{"$f":"VLOOKUP(B141&D141,'[1]점검현황(전월)'!$D$7:$AG$242,3,0)","v":"VX421"},{"$f":"VLOOKUP(B141&D141,'[1]점검현황(전월)'!$D$2:$AG$242,19,0)","v":"구"},"2017-11-23",{"$f":"VLOOKUP(B141&D141,'[1]점검현황(전월)'!$D$7:$AG$242,27,0)","v":"2017-11-23"},316,{"$f":"VLOOKUP(B141&D141,'[1]점검현황(전월)'!$D$7:$AK$242,24,0)","v":"08:50:00"},1550,413,"19:20:00","27,"]
[null,"팔달관",21,410,{"$f":"VLOOKUP(B142&D142,'[1]점검현황(전월)'!$D$7:$AG$242,2,0)","v":"정 통 컴"},{"$f":"VLOOKUP(B142&D142,'[1]점검현황(전월)'!$D$7:$AG$242,3,0)","v":"VX600"},{"$f":"VLOOKUP(B142&D142,'[1]점검현황(전월)'!$D$2:$AG$242,19,0)","v":"구"},"2018-08-22",{"$f":"VLOOKUP(B142&D142,'[1]점검현황(전월)'!$D$7:$AG$242,27,0)","v":"2016-11-24(클리닝 권고)"},316,{"$f":"VLOOKUP(B142&D142,'[1]점검현황(전월)'!$D$7:$AK$242,24,0)","v":"09:00:00"},891,413,"09:00:00","8,"]
[null,"팔달관",22,415,{"$f":"VLOOKUP(B143&D143,'[1]점검현황(전월)'!$D$7:$AG$242,2,0)","v":"교통시스템"},{"$f":"VLOOKUP(B143&D143,'[1]점검현황(전월)'!$D$7:$AG$242,3,0)","v":"LB353"},{"$f":"VLOOKUP(B143&D143,'[1]점검현황(전월)'!$D$2:$AG$242,19,0)","v":"자체"},"2017-12-06",{"$f":"VLOOKUP(B143&D143,'[1]점검현황(전월)'!$D$7:$AG$242,27,0)","v":"2017-12-06"},316,{"$f":"VLOOKUP(B143&D143,'[1]점검현황(전월)'!$D$7:$AK$242,24,0)","v":"09:10:00"},100,413,"09:10:00","."]
[null,"팔달관",23,435,{"$f":"VLOOKUP(B144&D144,'[1]점검현황(전월)'!$D$7:$AG$242,2,0)","v":"수학과 LAB"},{"$f":"VLOOKUP(B144&D144,'[1]점검현황(전월)'!$D$7:$AG$242,3,0)","v":"EW730 / XU105K"},{"$f":"VLOOKUP(B144&D144,'[1]점검현황(전월)'!$D$2:$AG$242,19,0)","v":"e-ST"},"16-08-16 / 15-09-16",{"$f":"VLOOKUP(B144&D144,'[1]점검현황(전월)'!$D$7:$AG$242,27,0)","v":"16-08-16 / 날짜 확인 불가(클리닝 권고)"},316,{"$f":"VLOOKUP(B144&D144,'[1]점검현황(전월)'!$D$7:$AK$242,24,0)","v":"09:30:00"},"1605/80",415,"09:15:00","."]
[null,"팔달관",24,621,{"$f":"VLOOKUP(B145&D145,'[1]점검현황(전월)'!$D$7:$AG$242,2,0)","v":"수학과 LAB"},{"$f":"VLOOKUP(B145&D145,'[1]점검현황(전월)'!$D$7:$AG$242,3,0)","v":"EB-5900"},{"$f":"VLOOKUP(B145&D145,'[1]점검현황(전월)'!$D$2:$AG$242,19,0)","v":"e-ST"},"2016-05-27",{"$f":"VLOOKUP(B145&D145,'[1]점검현황(전월)'!$D$7:$AG$242,27,0)","v":"날짜 확인 불가(클리닝 권고)"},316,{"$f":"VLOOKUP(B145&D145,'[1]점검현황(전월)'!$D$7:$AK$242,24,0)","v":"19:00:00"},720,415,"09:20:00","."]
[null,"팔달관",25,735,{"$f":"VLOOKUP(B146&D146,'[1]점검현황(전월)'!$D$7:$AG$242,2,0)","v":"대학원"},{"$f":"VLOOKUP(B146&D146,'[1]점검현황(전월)'!$D$7:$AG$242,3,0)","v":"VX421"},{"$f":"VLOOKUP(B146&D146,'[1]점검현황(전월)'!$D$2:$AG$242,19,0)","v":"e-ST"},"2017-02-22",{"$f":"VLOOKUP(B146&D146,'[1]점검현황(전월)'!$D$7:$AG$242,27,0)","v":"2017-02-22"},318,{"$f":"VLOOKUP(B146&D146,'[1]점검현황(전월)'!$D$7:$AK$242,24,0)","v":"19:10:00"},1405,415,"09:30:00","19,"]
[null,"팔달관",26,1001,{"$f":"VLOOKUP(B147&D147,'[1]점검현황(전월)'!$D$7:$AG$242,2,0)","v":"대학원"},{"$f":"VLOOKUP(B147&D147,'[1]점검현황(전월)'!$D$7:$AG$242,3,0)","v":"VX421"},{"$f":"VLOOKUP(B147&D147,'[1]점검현황(전월)'!$D$2:$AG$242,19,0)","v":"e-ST"},"2017-02-22",{"$f":"VLOOKUP(B147&D147,'[1]점검현황(전월)'!$D$7:$AG$242,27,0)","v":"2017-02-22"},316,{"$f":"VLOOKUP(B147&D147,'[1]점검현황(전월)'!$D$7:$AK$242,24,0)","v":"19:20:00"},1202,415,"09:40:00","15,"]
[null,"팔달관",27,1002,{"$f":"VLOOKUP(B148&D148,'[1]점검현황(전월)'!$D$7:$AG$242,2,0)","v":"대학원"},{"$f":"VLOOKUP(B148&D148,'[1]점검현황(전월)'!$D$7:$AG$242,3,0)","v":"VX421"},{"$f":"VLOOKUP(B148&D148,'[1]점검현황(전월)'!$D$2:$AG$242,19,0)","v":"e-ST"},"2017-02-22",{"$f":"VLOOKUP(B148&D148,'[1]점검현황(전월)'!$D$7:$AG$242,27,0)","v":"2017-02-22"},316,{"$f":"VLOOKUP(B148&D148,'[1]점검현황(전월)'!$D$7:$AK$242,24,0)","v":"08:30:00"},1301,415,"09:50:00","."]
[null,"팔달관",28,1020,{"$f":"VLOOKUP(B149&D149,'[1]점검현황(전월)'!$D$7:$AG$242,2,0)","v":"건설교통 (CAD실)"},{"$f":"VLOOKUP(B149&D149,'[1]점검현황(전월)'!$D$7:$AG$242,3,0)","v":"VX400"},{"$f":"VLOOKUP(B149&D149,'[1]점검현황(전월)'!$D$2:$AG$242,19,0)","v":"e-ST"},"2016-02-16",{"$f":"VLOOKUP(B149&D149,'[1]점검현황(전월)'!$D$7:$AG$242,27,0)","v":"2016-02-16(클리닝 권고)"},316,{"$f":"VLOOKUP(B149&D149,'[1]점검현황(전월)'!$D$7:$AK$242,24,0)","v":"08:50:00"},1400,415,"10:10:00","."]
[null,"팔달관",29,1023,{"$f":"VLOOKUP(B150&D150,'[1]점검현황(전월)'!$D$7:$AG$242,2,0)","v":"토목공학 (CAD실)"},{"$f":"VLOOKUP(B150&D150,'[1]점검현황(전월)'!$D$7:$AG$242,3,0)","v":"XU105K"},{"$f":"VLOOKUP(B150&D150,'[1]점검현황(전월)'!$D$2:$AG$242,19,0)","v":"구"},"2017-08-29",{"$f":"VLOOKUP(B150&D150,'[1]점검현황(전월)'!$D$7:$AG$242,27,0)","v":"날짜 확인 불가(클리닝 권고)"},316,{"$f":"VLOOKUP(B150&D150,'[1]점검현황(전월)'!$D$7:$AK$242,24,0)","v":"19:00:00"},314,415,"10:20:00","."]
[null,"팔달관",30,1025,{"$f":"VLOOKUP(B151&D151,'[1]점검현황(전월)'!$D$7:$AG$242,2,0)","v":"정 통 컴"},{"$f":"VLOOKUP(B151&D151,'[1]점검현황(전월)'!$D$7:$AG$242,3,0)","v":"VX600"},{"$f":"VLOOKUP(B151&D151,'[1]점검현황(전월)'!$D$2:$AG$242,19,0)","v":"e-ST"},"2016-03-17",{"$f":"VLOOKUP(B151&D151,'[1]점검현황(전월)'!$D$7:$AG$242,27,0)","v":"2016-03-17(클리닝 권고)"},316,{"$f":"VLOOKUP(B151&D151,'[1]점검현황(전월)'!$D$7:$AK$242,24,0)","v":"19:10:00"},1900,415,"10:30:00","8,"]
["산학원","산학원",1,"B103",{"$f":"VLOOKUP(B152&D152,'[1]점검현황(전월)'!$D$7:$AG$242,2,0)","v":"미디어 (자동녹화)"},{"$f":"VLOOKUP(B152&D152,'[1]점검현황(전월)'!$D$7:$AG$242,3,0)","v":"EX500E / EX500E"},{"$f":"VLOOKUP(B152&D152,'[1]점검현황(전월)'!$D$2:$AG$242,19,0)","v":"e-ST"},"17-05-22 / 18-04-19",{"$f":"VLOOKUP(B152&D152,'[1]점검현황(전월)'!$D$7:$AG$242,27,0)","v":"날짜 확인 불가(클리닝 권고)"},316,{"$f":"VLOOKUP(B152&D152,'[1]점검현황(전월)'!$D$7:$AK$242,24,0)","v":"19:20:00"},"1196/575",415,"10:40:00","."]
[null,"산학원",2,113,{"$f":"VLOOKUP(B153&D153,'[1]점검현황(전월)'!$D$7:$AG$242,2,0)","v":"평생교육원"},{"$f":"VLOOKUP(B153&D153,'[1]점검현황(전월)'!$D$7:$AG$242,3,0)","v":"VX421"},{"$f":"VLOOKUP(B153&D153,'[1]점검현황(전월)'!$D$2:$AG$242,19,0)","v":"e-ST"},"2017-03-28",{"$f":"VLOOKUP(B153&D153,'[1]점검현황(전월)'!$D$7:$AG$242,27,0)","v":"2017-03-28"},316,{"$f":"VLOOKUP(B153&D153,'[1]점검현황(전월)'!$D$7:$AK$242,24,0)","v":"09:00:00"},1365,415,"19:00:00","."]
[null,"산학원",3,115,{"$f":"VLOOKUP(B154&D154,'[1]점검현황(전월)'!$D$7:$AG$242,2,0)","v":"평생교육원"},{"$f":"VLOOKUP(B154&D154,'[1]점검현황(전월)'!$D$7:$AG$242,3,0)","v":"VX421"},{"$f":"VLOOKUP(B154&D154,'[1]점검현황(전월)'!$D$2:$AG$242,19,0)","v":"e-ST"},"2017-03-28",{"$f":"VLOOKUP(B154&D154,'[1]점검현황(전월)'!$D$7:$AG$242,27,0)","v":"2017-03-28"},316,{"$f":"VLOOKUP(B154&D154,'[1]점검현황(전월)'!$D$7:$AK$242,24,0)","v":"09:10:00"},1523,416,"19:10:00","14,"]
[null,"산학원",4,117,{"$f":"VLOOKUP(B155&D155,'[1]점검현황(전월)'!$D$7:$AG$242,2,0)","v":"평생교육원"},{"$f":"VLOOKUP(B155&D155,'[1]점검현황(전월)'!$D$7:$AG$242,3,0)","v":"VX421"},{"$f":"VLOOKUP(B155&D155,'[1]점검현황(전월)'!$D$2:$AG$242,19,0)","v":"e-ST"},"2017-03-28",{"$f":"VLOOKUP(B155&D155,'[1]점검현황(전월)'!$D$7:$AG$242,27,0)","v":"2017-03-28"},316,{"$f":"VLOOKUP(B155&D155,'[1]점검현황(전월)'!$D$7:$AK$242,24,0)","v":"09:30:00"},2520,416,"19:20:00","14,"]
[null,"산학원",5,118,{"$f":"VLOOKUP(B156&D156,'[1]점검현황(전월)'!$D$7:$AG$242,2,0)","v":"평생교육원"},{"$f":"VLOOKUP(B156&D156,'[1]점검현황(전월)'!$D$7:$AG$242,3,0)","v":"VX410"},{"$f":"VLOOKUP(B156&D156,'[1]점검현황(전월)'!$D$2:$AG$242,19,0)","v":"e-ST"},"2014-05-16",{"$f":"VLOOKUP(B156&D156,'[1]점검현황(전월)'!$D$7:$AG$242,27,0)","v":"날짜 확인 불가(클리닝 권고)"},316,{"$f":"VLOOKUP(B156&D156,'[1]점검현황(전월)'!$D$7:$AK$242,24,0)","v":"19:00:00"},2035,416,"08:30:00","."]
[null,"산학원",6,119,{"$f":"VLOOKUP(B157&D157,'[1]점검현황(전월)'!$D$7:$AG$242,2,0)","v":"평생교육원"},{"$f":"VLOOKUP(B157&D157,'[1]점검현황(전월)'!$D$7:$AG$242,3,0)","v":"XU106K"},{"$f":"VLOOKUP(B157&D157,'[1]점검현황(전월)'!$D$2:$AG$242,19,0)","v":"e-ST"},"2015-03-13",{"$f":"VLOOKUP(B157&D157,'[1]점검현황(전월)'!$D$7:$AG$242,27,0)","v":"날짜 확인 불가(클리닝 권고)"},316,{"$f":"VLOOKUP(B157&D157,'[1]점검현황(전월)'!$D$7:$AK$242,24,0)","v":"19:10:00"},321,416,"08:40:00","."]
[null,"산학원 ",7,204,"미디어","VX600","e-ST","2016-11-24","2016-11-24(클리닝 권고)",318,"19:30:00",916,416,"09:00:00","."]
[null,"산학원",8,415,{"$f":"VLOOKUP(B159&D159,'[1]점검현황(전월)'!$D$7:$AG$242,2,0)","v":"미디어 (PC실)"},{"$f":"VLOOKUP(B159&D159,'[1]점검현황(전월)'!$D$7:$AG$242,3,0)","v":"XU106K"},{"$f":"VLOOKUP(B159&D159,'[1]점검현황(전월)'!$D$2:$AG$242,19,0)","v":"e-ST"},"2018-03-27",{"$f":"VLOOKUP(B159&D159,'[1]점검현황(전월)'!$D$7:$AG$242,27,0)","v":"2015-11-12(클리닝 권고)"},318,{"$f":"VLOOKUP(B159&D159,'[1]점검현황(전월)'!$D$7:$AK$242,24,0)","v":"08:30:00"},797,416,"10:50:00","."]
[null,"산학원",9,419,{"$f":"VLOOKUP(B160&D160,'[1]점검현황(전월)'!$D$7:$AG$242,2,0)","v":"미디어 (PC실)"},{"$f":"VLOOKUP(B160&D160,'[1]점검현황(전월)'!$D$7:$AG$242,3,0)","v":"EX500E"},{"$f":"VLOOKUP(B160&D160,'[1]점검현황(전월)'!$D$2:$AG$242,19,0)","v":"e-ST"},"2018-03-27",{"$f":"VLOOKUP(B160&D160,'[1]점검현황(전월)'!$D$7:$AG$242,27,0)","v":"날짜 확인 불가(클리닝 권고)"},318,{"$f":"VLOOKUP(B160&D160,'[1]점검현황(전월)'!$D$7:$AK$242,24,0)","v":"08:40:00"},355,416,"11:00:00","."]
[null,"산학원",10,420,{"$f":"VLOOKUP(B161&D161,'[1]점검현황(전월)'!$D$7:$AG$242,2,0)","v":"미디어 (PC실)"},{"$f":"VLOOKUP(B161&D161,'[1]점검현황(전월)'!$D$7:$AG$242,3,0)","v":"EX500E"},{"$f":"VLOOKUP(B161&D161,'[1]점검현황(전월)'!$D$2:$AG$242,19,0)","v":"e-ST"},"2018-07-03",{"$f":"VLOOKUP(B161&D161,'[1]점검현황(전월)'!$D$7:$AG$242,27,0)","v":"날짜 확인 불가(클리닝 권고)"},318,{"$f":"VLOOKUP(B161&D161,'[1]점검현황(전월)'!$D$7:$AK$242,24,0)","v":"08:50:00"},289,416,"11:10:00","."]
[null,"산학원",11,421,{"$f":"VLOOKUP(B162&D162,'[1]점검현황(전월)'!$D$7:$AG$242,2,0)","v":"미디어 (PC실)"},{"$f":"VLOOKUP(B162&D162,'[1]점검현황(전월)'!$D$7:$AG$242,3,0)","v":"XU106K"},{"$f":"VLOOKUP(B162&D162,'[1]점검현황(전월)'!$D$2:$AG$242,19,0)","v":"e-ST"},"2018-03-27",{"$f":"VLOOKUP(B162&D162,'[1]점검현황(전월)'!$D$7:$AG$242,27,0)","v":"2015-11-12(클리닝 권고)"},318,{"$f":"VLOOKUP(B162&D162,'[1]점검현황(전월)'!$D$7:$AK$242,24,0)","v":"19:00:00"},612,416,"11:20:00","18,"]
[null,"산학원",12,422,{"$f":"VLOOKUP(B163&D163,'[1]점검현황(전월)'!$D$7:$AG$242,2,0)","v":"미디어 (자동녹화)"},{"$f":"VLOOKUP(B163&D163,'[1]점검현황(전월)'!$D$7:$AG$242,3,0)","v":"VX421"},{"$f":"VLOOKUP(B163&D163,'[1]점검현황(전월)'!$D$2:$AG$242,19,0)","v":"구e-ST"},"2017-05-22",{"$f":"VLOOKUP(B163&D163,'[1]점검현황(전월)'!$D$7:$AG$242,27,0)","v":"2017-05-22"},316,{"$f":"VLOOKUP(B163&D163,'[1]점검현황(전월)'!$D$7:$AK$242,24,0)","v":"19:10:00"},937,416,"11:30:00","4,"]
[null,"산학원",13,"422-1",{"$f":"VLOOKUP(B164&D164,'[1]점검현황(전월)'!$D$7:$AG$242,2,0)","v":"미디어"},{"$f":"VLOOKUP(B164&D164,'[1]점검현황(전월)'!$D$7:$AG$242,3,0)","v":"OPTOMA"},{"$f":"VLOOKUP(B164&D164,'[1]점검현황(전월)'!$D$2:$AG$242,19,0)","v":"e-ST"},"2016-01-15",{"$f":"VLOOKUP(B164&D164,'[1]점검현황(전월)'!$D$7:$AG$242,27,0)","v":"2016-01-15(클리닝 권고)"},316,{"$f":"VLOOKUP(B164&D164,'[1]점검현황(전월)'!$D$7:$AK$242,24,0)","v":"19:20:00"},867,417,"11:40:00","."]
[null,"산학원",14,504,{"$f":"VLOOKUP(B165&D165,'[1]점검현황(전월)'!$D$7:$AG$242,2,0)","v":"대학원지식정보안학과"},{"$f":"VLOOKUP(B165&D165,'[1]점검현황(전월)'!$D$7:$AG$242,3,0)","v":"XU106K"},{"$f":"VLOOKUP(B165&D165,'[1]점검현황(전월)'!$D$2:$AG$242,19,0)","v":"자체"},"2015-09-17",{"$f":"VLOOKUP(B165&D165,'[1]점검현황(전월)'!$D$7:$AG$242,27,0)","v":"2013-09-10(클리닝 권고)"},316,{"$f":"VLOOKUP(B165&D165,'[1]점검현황(전월)'!$D$7:$AK$242,24,0)","v":"09:00:00"},632,417,"11:50:00","."]
[null,"산학원",15,505,{"$f":"VLOOKUP(B166&D166,'[1]점검현황(전월)'!$D$7:$AG$242,2,0)","v":"대학원지식정보안학과"},{"$f":"VLOOKUP(B166&D166,'[1]점검현황(전월)'!$D$7:$AG$242,3,0)","v":"XU106K"},{"$f":"VLOOKUP(B166&D166,'[1]점검현황(전월)'!$D$2:$AG$242,19,0)","v":"자체"},"2015-08-27",{"$f":"VLOOKUP(B166&D166,'[1]점검현황(전월)'!$D$7:$AG$242,27,0)","v":"2015-08-28(클리닝 권고)"},316,{"$f":"VLOOKUP(B166&D166,'[1]점검현황(전월)'!$D$7:$AK$242,24,0)","v":"09:10:00"},1087,417,"12:00:00","."]
[null,"산학원",16,713,{"$f":"VLOOKUP(B167&D167,'[1]점검현황(전월)'!$D$7:$AG$242,2,0)","v":"회의실"},{"$f":"VLOOKUP(B167&D167,'[1]점검현황(전월)'!$D$7:$AG$242,3,0)","v":"OPTOMA"},{"$f":"VLOOKUP(B167&D167,'[1]점검현황(전월)'!$D$2:$AG$242,19,0)","v":"자체"},"2018-08-28",{"$f":"VLOOKUP(B167&D167,'[1]점검현황(전월)'!$D$7:$AG$242,27,0)","v":"2018-08-28"},316,{"$f":"VLOOKUP(B167&D167,'[1]점검현황(전월)'!$D$7:$AK$242,24,0)","v":"09:20:00"},205,417,"13:00:00","."]
[null,"산학원",17,811,{"$f":"VLOOKUP(B168&D168,'[1]점검현황(전월)'!$D$7:$AG$242,2,0)","v":"회의실"},{"$f":"VLOOKUP(B168&D168,'[1]점검현황(전월)'!$D$7:$AG$242,3,0)","v":"OPTOMA"},{"$f":"VLOOKUP(B168&D168,'[1]점검현황(전월)'!$D$2:$AG$242,19,0)","v":"자체"},"2018-08-28",{"$f":"VLOOKUP(B168&D168,'[1]점검현황(전월)'!$D$7:$AG$242,27,0)","v":"2018-08-28"},316,{"$f":"VLOOKUP(B168&D168,'[1]점검현황(전월)'!$D$7:$AK$242,24,0)","v":"16:30:00"},181,417,"13:05:00","."]
[null,"산학원",18,825,{"$f":"VLOOKUP(B169&D169,'[1]점검현황(전월)'!$D$7:$AG$242,2,0)","v":"전공 - 건축"},{"$f":"VLOOKUP(B169&D169,'[1]점검현황(전월)'!$D$7:$AG$242,3,0)","v":"OPTOMA"},{"$f":"VLOOKUP(B169&D169,'[1]점검현황(전월)'!$D$2:$AG$242,19,0)","v":"e-ST"},"2018-08-28",{"$f":"VLOOKUP(B169&D169,'[1]점검현황(전월)'!$D$7:$AG$242,27,0)","v":"2018-08-28"},316,{"$f":"VLOOKUP(B169&D169,'[1]점검현황(전월)'!$D$7:$AK$242,24,0)","v":"09:30:00"},367,417,"13:10:00","."]
[null,"산학원",19,827,{"$f":"VLOOKUP(B170&D170,'[1]점검현황(전월)'!$D$7:$AG$242,2,0)","v":"전공 - 건축"},{"$f":"VLOOKUP(B170&D170,'[1]점검현황(전월)'!$D$7:$AG$242,3,0)","v":"OPTOMA"},{"$f":"VLOOKUP(B170&D170,'[1]점검현황(전월)'!$D$2:$AG$242,19,0)","v":"자체"},"2018-08-28",{"$f":"VLOOKUP(B170&D170,'[1]점검현황(전월)'!$D$7:$AG$242,27,0)","v":"2018-08-28"},316,{"$f":"VLOOKUP(B170&D170,'[1]점검현황(전월)'!$D$7:$AK$242,24,0)","v":"09:40:00"},138,417,"13:20:00","."]
["학군단","학군단",1,"1강의",{"$f":"VLOOKUP(B171&D171,'[1]점검현황(전월)'!$D$7:$AG$242,2,0)","v":"멀티미디어"},{"$f":"VLOOKUP(B171&D171,'[1]점검현황(전월)'!$D$7:$AG$242,3,0)","v":"VX421"},{"$f":"VLOOKUP(B171&D171,'[1]점검현황(전월)'!$D$2:$AG$242,19,0)","v":"구"},"2017-12-08",{"$f":"VLOOKUP(B171&D171,'[1]점검현황(전월)'!$D$7:$AG$242,27,0)","v":"2018-12-17"},316,{"$f":"VLOOKUP(B171&D171,'[1]점검현황(전월)'!$D$7:$AK$242,24,0)","v":"09:50:00"},123,417,"13:30:00","."]
[null,"학군단",2,"2강의",{"$f":"VLOOKUP(B172&D172,'[1]점검현황(전월)'!$D$7:$AG$242,2,0)","v":"멀티미디어"},{"$f":"VLOOKUP(B172&D172,'[1]점검현황(전월)'!$D$7:$AG$242,3,0)","v":"XT35K"},{"$f":"VLOOKUP(B172&D172,'[1]점검현황(전월)'!$D$2:$AG$242,19,0)","v":"구"},"2015-06-25",{"$f":"VLOOKUP(B172&D172,'[1]점검현황(전월)'!$D$7:$AG$242,27,0)","v":"2019-01-04"},316,{"$f":"VLOOKUP(B172&D172,'[1]점검현황(전월)'!$D$7:$AK$242,24,0)","v":"10:00:00"},648,417,"13:40:00","6,"]
["전산원","전산원",1,101,{"$f":"VLOOKUP(B173&D173,'[1]점검현황(전월)'!$D$7:$AG$242,2,0)","v":"대학원"},{"$f":"VLOOKUP(B173&D173,'[1]점검현황(전월)'!$D$7:$AG$242,3,0)","v":"VX510"},{"$f":"VLOOKUP(B173&D173,'[1]점검현황(전월)'!$D$2:$AG$242,19,0)","v":"e-ST"},"2015-08-31",{"$f":"VLOOKUP(B173&D173,'[1]점검현황(전월)'!$D$7:$AG$242,27,0)","v":"2017-11-28"},316,{"$f":"VLOOKUP(B173&D173,'[1]점검현황(전월)'!$D$7:$AK$242,24,0)","v":"17:30:00"},1954,417,"08:30:00","."]
[null,"전산원",2,109,{"$f":"VLOOKUP(B174&D174,'[1]점검현황(전월)'!$D$7:$AG$242,2,0)","v":"에너지시스템학과"},{"$f":"VLOOKUP(B174&D174,'[1]점검현황(전월)'!$D$7:$AG$242,3,0)","v":"LG BD430"},{"$f":"VLOOKUP(B174&D174,'[1]점검현황(전월)'!$D$2:$AG$242,19,0)","v":"자체"},"2013-09-11",{"$f":"VLOOKUP(B174&D174,'[1]점검현황(전월)'!$D$7:$AG$242,27,0)","v":"날짜 확인 불가(클리닝 권고)"},318,{"$f":"VLOOKUP(B174&D174,'[1]점검현황(전월)'!$D$7:$AK$242,24,0)","v":"15:00:00"},2230,418,"08:30:00","."]
[null,"전산원",3,311,{"$f":"VLOOKUP(B175&D175,'[1]점검현황(전월)'!$D$7:$AG$242,2,0)","v":"에너지시스템학과"},{"$f":"VLOOKUP(B175&D175,'[1]점검현황(전월)'!$D$7:$AG$242,3,0)","v":"XU100K"},{"$f":"VLOOKUP(B175&D175,'[1]점검현황(전월)'!$D$2:$AG$242,19,0)","v":"자체"},"2017-12-14",{"$f":"VLOOKUP(B175&D175,'[1]점검현황(전월)'!$D$7:$AG$242,27,0)","v":"2017-12-14"},318,{"$f":"VLOOKUP(B175&D175,'[1]점검현황(전월)'!$D$7:$AK$242,24,0)","v":"16:00:00"},779,418,"08:40:00","."]
[null,"전산원",4,507,{"$f":"VLOOKUP(B176&D176,'[1]점검현황(전월)'!$D$7:$AG$242,2,0)","v":"융합시스템공학과"},{"$f":"VLOOKUP(B176&D176,'[1]점검현황(전월)'!$D$7:$AG$242,3,0)","v":"EB-2255U"},{"$f":"VLOOKUP(B176&D176,'[1]점검현황(전월)'!$D$2:$AG$242,19,0)","v":"e-ST"},"18-02-19 / 18-02-19",{"$f":"VLOOKUP(B176&D176,'[1]점검현황(전월)'!$D$7:$AG$242,27,0)","v":"18-02-19 / 18-02-19"},318,{"$f":"VLOOKUP(B176&D176,'[1]점검현황(전월)'!$D$7:$AK$242,24,0)","v":"10:10:00"},"154/207",418,"10:00:00","."]
[null,"전산원",5,509,{"$f":"VLOOKUP(B177&D177,'[1]점검현황(전월)'!$D$7:$AG$242,2,0)","v":"멀티미디어 PC실"},{"$f":"VLOOKUP(B177&D177,'[1]점검현황(전월)'!$D$7:$AG$242,3,0)","v":"XU106K"},{"$f":"VLOOKUP(B177&D177,'[1]점검현황(전월)'!$D$2:$AG$242,19,0)","v":"구"},"2019-01-09",{"$f":"VLOOKUP(B177&D177,'[1]점검현황(전월)'!$D$7:$AG$242,27,0)","v":"2019-01-09"},318,{"$f":"VLOOKUP(B177&D177,'[1]점검현황(전월)'!$D$7:$AK$242,24,0)","v":"10:20:00"},73,418,"08:40:00","."]
[null,"전산원",6,510,{"$f":"VLOOKUP(B178&D178,'[1]점검현황(전월)'!$D$7:$AG$242,2,0)","v":"멀티미디어 PC실"},{"$f":"VLOOKUP(B178&D178,'[1]점검현황(전월)'!$D$7:$AG$242,3,0)","v":"XU106K"},{"$f":"VLOOKUP(B178&D178,'[1]점검현황(전월)'!$D$2:$AG$242,19,0)","v":"구"},"2018-10-12",{"$f":"VLOOKUP(B178&D178,'[1]점검현황(전월)'!$D$7:$AG$242,27,0)","v":"2019-01-10"},321,{"$f":"VLOOKUP(B178&D178,'[1]점검현황(전월)'!$D$7:$AK$242,24,0)","v":"11:10:00"},362,418,"08:50:00","."]
["종합관","종합관",1,101,{"$f":"VLOOKUP(B179&D179,'[1]점검현황(전월)'!$D$7:$AG$242,2,0)","v":"대강당"},{"$f":"VLOOKUP(B179&D179,'[1]점검현황(전월)'!$D$7:$AG$242,3,0)","v":"EX16KE"},{"$f":"VLOOKUP(B179&D179,'[1]점검현황(전월)'!$D$2:$AG$242,19,0)","v":"e-ST"},"2016-03-18",{"$f":"VLOOKUP(B179&D179,'[1]점검현황(전월)'!$D$7:$AG$242,27,0)","v":"2014-05-20(클리닝 권고)"},318,{"$f":"VLOOKUP(B179&D179,'[1]점검현황(전월)'!$D$7:$AK$242,24,0)","v":"10:50:00"},"2055/743",418,"19:10:00","5,14,15,21"]
[null,"종합관",2,102,{"$f":"VLOOKUP(B180&D180,'[1]점검현황(전월)'!$D$7:$AG$242,2,0)","v":"멀티미디어 (자동녹화)"},{"$f":"VLOOKUP(B180&D180,'[1]점검현황(전월)'!$D$7:$AG$242,3,0)","v":"VX600"},{"$f":"VLOOKUP(B180&D180,'[1]점검현황(전월)'!$D$2:$AG$242,19,0)","v":"e-ST"},"2016-12-23",{"$f":"VLOOKUP(B180&D180,'[1]점검현황(전월)'!$D$7:$AG$242,27,0)","v":"2019-01-08"},318,{"$f":"VLOOKUP(B180&D180,'[1]점검현황(전월)'!$D$7:$AK$242,24,0)","v":"11:00:00"},2021,418,"19:20:00","."]
[null,"종합관",3,104,{"$f":"VLOOKUP(B181&D181,'[1]점검현황(전월)'!$D$7:$AG$242,2,0)","v":"멀티미디어 (자동녹화)"},{"$f":"VLOOKUP(B181&D181,'[1]점검현황(전월)'!$D$7:$AG$242,3,0)","v":"VX600"},{"$f":"VLOOKUP(B181&D181,'[1]점검현황(전월)'!$D$2:$AG$242,19,0)","v":"e-ST"},"2016-12-23",{"$f":"VLOOKUP(B181&D181,'[1]점검현황(전월)'!$D$7:$AG$242,27,0)","v":"2019-02-12"},318,{"$f":"VLOOKUP(B181&D181,'[1]점검현황(전월)'!$D$7:$AK$242,24,0)","v":"15:20:00"},1874,418,"08:30:00","12,"]
[null,"종합관",4,105,{"$f":"VLOOKUP(B182&D182,'[1]점검현황(전월)'!$D$7:$AG$242,2,0)","v":"멀티미디어 (자동녹화)"},{"$f":"VLOOKUP(B182&D182,'[1]점검현황(전월)'!$D$7:$AG$242,3,0)","v":"VX600"},{"$f":"VLOOKUP(B182&D182,'[1]점검현황(전월)'!$D$2:$AG$242,19,0)","v":"e-ST"},"2016-12-23",{"$f":"VLOOKUP(B182&D182,'[1]점검현황(전월)'!$D$7:$AG$242,27,0)","v":"2019-02-12"},319,{"$f":"VLOOKUP(B182&D182,'[1]점검현황(전월)'!$D$7:$AK$242,24,0)","v":"17:30:00"},1833,418,"08:40:00","19,"]
[null,"종합관",5,"202-2",{"$f":"VLOOKUP(B183&D183,'[1]점검현황(전월)'!$D$7:$AG$242,2,0)","v":"법전원"},{"$f":"VLOOKUP(B183&D183,'[1]점검현황(전월)'!$D$7:$AG$242,3,0)","v":"XT35K"},{"$f":"VLOOKUP(B183&D183,'[1]점검현황(전월)'!$D$2:$AG$242,19,0)","v":"자체"},"2007-12-31",{"$f":"VLOOKUP(B183&D183,'[1]점검현황(전월)'!$D$7:$AG$242,27,0)","v":"날짜 확인 불가(클리닝 권고)"},319,{"$f":"VLOOKUP(B183&D183,'[1]점검현황(전월)'!$D$7:$AK$242,24,0)","v":"11:30:00"},150,418,"08:50:00","19,"]
[null,"종합관",6,301,{"$f":"VLOOKUP(B184&D184,'[1]점검현황(전월)'!$D$7:$AG$242,2,0)","v":"법전원"},{"$f":"VLOOKUP(B184&D184,'[1]점검현황(전월)'!$D$7:$AG$242,3,0)","v":"XU106K / XU106K"},{"$f":"VLOOKUP(B184&D184,'[1]점검현황(전월)'!$D$2:$AG$242,19,0)","v":"e-ST"},"17-09-29 / 17-09-29",{"$f":"VLOOKUP(B184&D184,'[1]점검현황(전월)'!$D$7:$AG$242,27,0)","v":"15-04-27 / 15-04-27"},319,{"$f":"VLOOKUP(B184&D184,'[1]점검현황(전월)'!$D$7:$AK$242,24,0)","v":"11:40:00"},"934/278",419,"19:00:00","."]
[null,"종합관",7,315,{"$f":"VLOOKUP(B185&D185,'[1]점검현황(전월)'!$D$7:$AG$242,2,0)","v":"법전원"},{"$f":"VLOOKUP(B185&D185,'[1]점검현황(전월)'!$D$7:$AG$242,3,0)","v":"XU105K"},{"$f":"VLOOKUP(B185&D185,'[1]점검현황(전월)'!$D$2:$AG$242,19,0)","v":"구"},"2018-03-21",{"$f":"VLOOKUP(B185&D185,'[1]점검현황(전월)'!$D$7:$AG$242,27,0)","v":"날짜 확인 불가(클리닝 권고)"},319,{"$f":"VLOOKUP(B185&D185,'[1]점검현황(전월)'!$D$7:$AK$242,24,0)","v":"11:50:00"},40,419,"19:10:00","."]
[null,"종합관",8,401,{"$f":"VLOOKUP(B186&D186,'[1]점검현황(전월)'!$D$7:$AG$242,2,0)","v":"법전원"},{"$f":"VLOOKUP(B186&D186,'[1]점검현황(전월)'!$D$7:$AG$242,3,0)","v":"XU106K"},{"$f":"VLOOKUP(B186&D186,'[1]점검현황(전월)'!$D$2:$AG$242,19,0)","v":"e-ST"},"2018-03-21",{"$f":"VLOOKUP(B186&D186,'[1]점검현황(전월)'!$D$7:$AG$242,27,0)","v":"날짜 확인 불가(클리닝 권고)"},319,{"$f":"VLOOKUP(B186&D186,'[1]점검현황(전월)'!$D$7:$AK$242,24,0)","v":"12:00:00"},691,419,"19:20:00","5,7"]
[null,"종합관",9,412,{"$f":"VLOOKUP(B187&D187,'[1]점검현황(전월)'!$D$7:$AG$242,2,0)","v":"법전원"},{"$f":"VLOOKUP(B187&D187,'[1]점검현황(전월)'!$D$7:$AG$242,3,0)","v":"XU100K"},{"$f":"VLOOKUP(B187&D187,'[1]점검현황(전월)'!$D$2:$AG$242,19,0)","v":"구"},"2007-12-18",{"$f":"VLOOKUP(B187&D187,'[1]점검현황(전월)'!$D$7:$AG$242,27,0)","v":"날짜 확인 불가(클리닝 권고)"},319,{"$f":"VLOOKUP(B187&D187,'[1]점검현황(전월)'!$D$7:$AK$242,24,0)","v":"13:00:00"},86,419,"08:30:00","."]
[null,"종합관",10,413,{"$f":"VLOOKUP(B188&D188,'[1]점검현황(전월)'!$D$7:$AG$242,2,0)","v":"법전원"},{"$f":"VLOOKUP(B188&D188,'[1]점검현황(전월)'!$D$7:$AG$242,3,0)","v":"XU105K"},{"$f":"VLOOKUP(B188&D188,'[1]점검현황(전월)'!$D$2:$AG$242,19,0)","v":"구e-ST"},"2015-09-04",{"$f":"VLOOKUP(B188&D188,'[1]점검현황(전월)'!$D$7:$AG$242,27,0)","v":"2018-12-28"},319,{"$f":"VLOOKUP(B188&D188,'[1]점검현황(전월)'!$D$7:$AK$242,24,0)","v":"13:10:00"},14,419,"08:40:00","."]
[null,"종합관",11,501,{"$f":"VLOOKUP(B189&D189,'[1]점검현황(전월)'!$D$7:$AG$242,2,0)","v":"법전원"},{"$f":"VLOOKUP(B189&D189,'[1]점검현황(전월)'!$D$7:$AG$242,3,0)","v":"XU106K / XU106K"},{"$f":"VLOOKUP(B189&D189,'[1]점검현황(전월)'!$D$2:$AG$242,19,0)","v":"e-ST"},"18-03-21 / 18-03-21",{"$f":"VLOOKUP(B189&D189,'[1]점검현황(전월)'!$D$7:$AG$242,27,0)","v":"날짜 확인 불가(클리닝 권고) / 15-04-27"},319,{"$f":"VLOOKUP(B189&D189,'[1]점검현황(전월)'!$D$7:$AK$242,24,0)","v":"13:20:00"},"1199/102",419,"08:50:00","5,"]
[null,"종합관",12,502,{"$f":"VLOOKUP(B190&D190,'[1]점검현황(전월)'!$D$7:$AG$242,2,0)","v":"멀티미디어 (자동녹화)"},{"$f":"VLOOKUP(B190&D190,'[1]점검현황(전월)'!$D$7:$AG$242,3,0)","v":"XU106K / XU106K"},{"$f":"VLOOKUP(B190&D190,'[1]점검현황(전월)'!$D$2:$AG$242,19,0)","v":"e-ST"},"18-11-21 / 18-03-18",{"$f":"VLOOKUP(B190&D190,'[1]점검현황(전월)'!$D$7:$AG$242,27,0)","v":"18-12-07 / 19-01-16"},319,{"$f":"VLOOKUP(B190&D190,'[1]점검현황(전월)'!$D$7:$AK$242,24,0)","v":"09:30:00"},"319/601",419,"19:00:00","."]
[null,"종합관",13,503,{"$f":"VLOOKUP(B191&D191,'[1]점검현황(전월)'!$D$7:$AG$242,2,0)","v":"멀티미디어 (자동녹화)"},{"$f":"VLOOKUP(B191&D191,'[1]점검현황(전월)'!$D$7:$AG$242,3,0)","v":"XU106K / XU106K"},{"$f":"VLOOKUP(B191&D191,'[1]점검현황(전월)'!$D$2:$AG$242,19,0)","v":"e-ST"},"18-05-23 / 18-02-28",{"$f":"VLOOKUP(B191&D191,'[1]점검현황(전월)'!$D$7:$AG$242,27,0)","v":"18-11-16 / 19-01-17"},319,{"$f":"VLOOKUP(B191&D191,'[1]점검현황(전월)'!$D$7:$AK$242,24,0)","v":"13:40:00"},"822/699",419,"19:10:00","11,"]
[null,"종합관",14,504,{"$f":"VLOOKUP(B192&D192,'[1]점검현황(전월)'!$D$7:$AG$242,2,0)","v":"법전원"},{"$f":"VLOOKUP(B192&D192,'[1]점검현황(전월)'!$D$7:$AG$242,3,0)","v":"XU106K"},{"$f":"VLOOKUP(B192&D192,'[1]점검현황(전월)'!$D$2:$AG$242,19,0)","v":"e-ST"},"2018-11-27",{"$f":"VLOOKUP(B192&D192,'[1]점검현황(전월)'!$D$7:$AG$242,27,0)","v":"날짜 확인 불가(클리닝 권고)"},320,{"$f":"VLOOKUP(B192&D192,'[1]점검현황(전월)'!$D$7:$AK$242,24,0)","v":"16:30:00"},58,419,"19:20:00","."]
[null,"종합관",15,506,{"$f":"VLOOKUP(B193&D193,'[1]점검현황(전월)'!$D$7:$AG$242,2,0)","v":"법전원 (자동녹화)"},{"$f":"VLOOKUP(B193&D193,'[1]점검현황(전월)'!$D$7:$AG$242,3,0)","v":"XU106K"},{"$f":"VLOOKUP(B193&D193,'[1]점검현황(전월)'!$D$2:$AG$242,19,0)","v":"e-ST"},"2018-11-27",{"$f":"VLOOKUP(B193&D193,'[1]점검현황(전월)'!$D$7:$AG$242,27,0)","v":"2017-09-15"},329,{"$f":"VLOOKUP(B193&D193,'[1]점검현황(전월)'!$D$7:$AK$242,24,0)","v":"14:00:00"},154,419,"08:30:00","29,"]
[null,"종합관",16,507,{"$f":"VLOOKUP(B194&D194,'[1]점검현황(전월)'!$D$7:$AG$242,2,0)","v":"법전원 (자동녹화)"},{"$f":"VLOOKUP(B194&D194,'[1]점검현황(전월)'!$D$7:$AG$242,3,0)","v":"XU106K"},{"$f":"VLOOKUP(B194&D194,'[1]점검현황(전월)'!$D$2:$AG$242,19,0)","v":"e-ST"},"2017-04-26",{"$f":"VLOOKUP(B194&D194,'[1]점검현황(전월)'!$D$7:$AG$242,27,0)","v":"2015-10-24(클리닝 권고)"},{"$f":"VLOOKUP(B194&D194,'[1]점검현황(전월)'!$D$7:$AG$242,23,0)","v":223},{"$f":"VLOOKUP(B194&D194,'[1]점검현황(전월)'!$D$7:$AK$242,24,0)","v":"19:30:00"},1377,420,"08:40:00","."]
[null,"종합관",17,508,{"$f":"VLOOKUP(B195&D195,'[1]점검현황(전월)'!$D$7:$AG$242,2,0)","v":"멀티미디어 (자동녹화)"},{"$f":"VLOOKUP(B195&D195,'[1]점검현황(전월)'!$D$7:$AG$242,3,0)","v":"XU106K"},{"$f":"VLOOKUP(B195&D195,'[1]점검현황(전월)'!$D$2:$AG$242,19,0)","v":"e-ST"},"2018-08-20",{"$f":"VLOOKUP(B195&D195,'[1]점검현황(전월)'!$D$7:$AG$242,27,0)","v":"2018-10-02"},320,{"$f":"VLOOKUP(B195&D195,'[1]점검현황(전월)'!$D$7:$AK$242,24,0)","v":"08:40:00"},450,420,"08:50:00","."]
[null,"종합관",18,509,{"$f":"VLOOKUP(B196&D196,'[1]점검현황(전월)'!$D$7:$AG$242,2,0)","v":"멀티미디어"},{"$f":"VLOOKUP(B196&D196,'[1]점검현황(전월)'!$D$7:$AG$242,3,0)","v":"XU106K"},{"$f":"VLOOKUP(B196&D196,'[1]점검현황(전월)'!$D$2:$AG$242,19,0)","v":"e-ST"},"2018-04-24",{"$f":"VLOOKUP(B196&D196,'[1]점검현황(전월)'!$D$7:$AG$242,27,0)","v":"2018-10-11"},320,{"$f":"VLOOKUP(B196&D196,'[1]점검현황(전월)'!$D$7:$AK$242,24,0)","v":"08:50:00"},1062,420,"19:00:00","."]
[null,"종합관",19,510,{"$f":"VLOOKUP(B197&D197,'[1]점검현황(전월)'!$D$7:$AG$242,2,0)","v":"법전원 세미나실"},{"$f":"VLOOKUP(B197&D197,'[1]점검현황(전월)'!$D$7:$AG$242,3,0)","v":"XU106K"},{"$f":"VLOOKUP(B197&D197,'[1]점검현황(전월)'!$D$2:$AG$242,19,0)","v":"e-ST"},"2015-07-17",{"$f":"VLOOKUP(B197&D197,'[1]점검현황(전월)'!$D$7:$AG$242,27,0)","v":"2012-04-28(클리닝 권고)"},320,{"$f":"VLOOKUP(B197&D197,'[1]점검현황(전월)'!$D$7:$AK$242,24,0)","v":"19:00:00"},340,420,"19:10:00","."]
[null,"종합관",20,601,{"$f":"VLOOKUP(B198&D198,'[1]점검현황(전월)'!$D$7:$AG$242,2,0)","v":"법전원(모의법정)"},{"$f":"VLOOKUP(B198&D198,'[1]점검현황(전월)'!$D$7:$AG$242,3,0)","v":"XT35K"},{"$f":"VLOOKUP(B198&D198,'[1]점검현황(전월)'!$D$2:$AG$242,19,0)","v":"자체"},"2014-12-01",{"$f":"VLOOKUP(B198&D198,'[1]점검현황(전월)'!$D$7:$AG$242,27,0)","v":"날짜 확인 불가(클리닝 권고)"},320,{"$f":"VLOOKUP(B198&D198,'[1]점검현황(전월)'!$D$7:$AK$242,24,0)","v":"19:10:00"},155,420,"19:20:00","."]
[null,"종합관",21,612,{"$f":"VLOOKUP(B199&D199,'[1]점검현황(전월)'!$D$7:$AG$242,2,0)","v":"멀티미디어"},{"$f":"VLOOKUP(B199&D199,'[1]점검현황(전월)'!$D$7:$AG$242,3,0)","v":"XU106K"},{"$f":"VLOOKUP(B199&D199,'[1]점검현황(전월)'!$D$2:$AG$242,19,0)","v":"e-ST"},"2018-08-20",{"$f":"VLOOKUP(B199&D199,'[1]점검현황(전월)'!$D$7:$AG$242,27,0)","v":"2019-01-02"},320,{"$f":"VLOOKUP(B199&D199,'[1]점검현황(전월)'!$D$7:$AK$242,24,0)","v":"19:40:00"},892,420,"08:30:00","."]
[null,"종합관",22,613,{"$f":"VLOOKUP(B200&D200,'[1]점검현황(전월)'!$D$7:$AG$242,2,0)","v":"멀티미디어"},{"$f":"VLOOKUP(B200&D200,'[1]점검현황(전월)'!$D$7:$AG$242,3,0)","v":"XU106K"},{"$f":"VLOOKUP(B200&D200,'[1]점검현황(전월)'!$D$2:$AG$242,19,0)","v":"e-ST"},"2017-09-21",{"$f":"VLOOKUP(B200&D200,'[1]점검현황(전월)'!$D$7:$AG$242,27,0)","v":"2018-10-16"},320,{"$f":"VLOOKUP(B200&D200,'[1]점검현황(전월)'!$D$7:$AK$242,24,0)","v":"08:30:00"},795,420,"08:40:00","19,"]
[null,"종합관",23,704,{"$f":"VLOOKUP(B201&D201,'[1]점검현황(전월)'!$D$7:$AG$242,2,0)","v":"교육대학원"},{"$f":"VLOOKUP(B201&D201,'[1]점검현황(전월)'!$D$7:$AG$242,3,0)","v":"VX421"},{"$f":"VLOOKUP(B201&D201,'[1]점검현황(전월)'!$D$2:$AG$242,19,0)","v":"자체"},"2018-01-31",{"$f":"VLOOKUP(B201&D201,'[1]점검현황(전월)'!$D$7:$AG$242,27,0)","v":"2018-01-31"},320,{"$f":"VLOOKUP(B201&D201,'[1]점검현황(전월)'!$D$7:$AK$242,24,0)","v":"08:40:00"},132,420,"08:50:00","."]
[null,"종합관",24,705,{"$f":"VLOOKUP(B202&D202,'[1]점검현황(전월)'!$D$7:$AG$242,2,0)","v":"교육대학원 (자동녹화)"},{"$f":"VLOOKUP(B202&D202,'[1]점검현황(전월)'!$D$7:$AG$242,3,0)","v":"VX421"},{"$f":"VLOOKUP(B202&D202,'[1]점검현황(전월)'!$D$2:$AG$242,19,0)","v":"e-ST"},"2017-05-11",{"$f":"VLOOKUP(B202&D202,'[1]점검현황(전월)'!$D$7:$AG$242,27,0)","v":"2017-05-11"},320,{"$f":"VLOOKUP(B202&D202,'[1]점검현황(전월)'!$D$7:$AK$242,24,0)","v":"08:50:00"},569,420,"19:00:00","."]
[null,"종합관",25,706,{"$f":"VLOOKUP(B203&D203,'[1]점검현황(전월)'!$D$7:$AG$242,2,0)","v":"교육대학원 (자동녹화)"},{"$f":"VLOOKUP(B203&D203,'[1]점검현황(전월)'!$D$7:$AG$242,3,0)","v":"VX421"},{"$f":"VLOOKUP(B203&D203,'[1]점검현황(전월)'!$D$2:$AG$242,19,0)","v":"e-ST"},"2017-05-11",{"$f":"VLOOKUP(B203&D203,'[1]점검현황(전월)'!$D$7:$AG$242,27,0)","v":"2017-05-11"},321,{"$f":"VLOOKUP(B203&D203,'[1]점검현황(전월)'!$D$7:$AK$242,24,0)","v":"19:00:00"},612,420,"19:10:00","."]
[null,"종합관",26,707,{"$f":"VLOOKUP(B204&D204,'[1]점검현황(전월)'!$D$7:$AG$242,2,0)","v":"교육대학원"},{"$f":"VLOOKUP(B204&D204,'[1]점검현황(전월)'!$D$7:$AG$242,3,0)","v":"VX421"},{"$f":"VLOOKUP(B204&D204,'[1]점검현황(전월)'!$D$2:$AG$242,19,0)","v":"e-ST"},"2018-01-31",{"$f":"VLOOKUP(B204&D204,'[1]점검현황(전월)'!$D$7:$AG$242,27,0)","v":"2018-01-31"},321,{"$f":"VLOOKUP(B204&D204,'[1]점검현황(전월)'!$D$7:$AK$242,24,0)","v":"12:41:00"},393,420,"19:20:00","."]
[null,"종합관",27,712,{"$f":"VLOOKUP(B205&D205,'[1]점검현황(전월)'!$D$7:$AG$242,2,0)","v":"교육대학원 (자동녹화)"},{"$f":"VLOOKUP(B205&D205,'[1]점검현황(전월)'!$D$7:$AG$242,3,0)","v":"VX421"},{"$f":"VLOOKUP(B205&D205,'[1]점검현황(전월)'!$D$2:$AG$242,19,0)","v":"e-ST"},"2018-01-31",{"$f":"VLOOKUP(B205&D205,'[1]점검현황(전월)'!$D$7:$AG$242,27,0)","v":"2018-01-31"},321,{"$f":"VLOOKUP(B205&D205,'[1]점검현황(전월)'!$D$7:$AK$242,24,0)","v":"19:20:00"},550,420,"09:00:00","26,"]
[null,"종합관",28,713,{"$f":"VLOOKUP(B206&D206,'[1]점검현황(전월)'!$D$7:$AG$242,2,0)","v":"교육대학원 (자동녹화)"},{"$f":"VLOOKUP(B206&D206,'[1]점검현황(전월)'!$D$7:$AG$242,3,0)","v":"VX421"},{"$f":"VLOOKUP(B206&D206,'[1]점검현황(전월)'!$D$2:$AG$242,19,0)","v":"e-ST"},"2017-05-11",{"$f":"VLOOKUP(B206&D206,'[1]점검현황(전월)'!$D$7:$AG$242,27,0)","v":"2017-05-11"},326,{"$f":"VLOOKUP(B206&D206,'[1]점검현황(전월)'!$D$7:$AK$242,24,0)","v":"08:30:00"},1122,420,"09:10:00","."]
[null,"종합관",29,801,{"$f":"VLOOKUP(B207&D207,'[1]점검현황(전월)'!$D$7:$AG$242,2,0)","v":"교육대학원 "},{"$f":"VLOOKUP(B207&D207,'[1]점검현황(전월)'!$D$7:$AG$242,3,0)","v":"VX421"},{"$f":"VLOOKUP(B207&D207,'[1]점검현황(전월)'!$D$2:$AG$242,19,0)","v":"자체"},"2016-02-29",{"$f":"VLOOKUP(B207&D207,'[1]점검현황(전월)'!$D$7:$AG$242,27,0)","v":"2016-02-29(클리닝 권고)"},326,{"$f":"VLOOKUP(B207&D207,'[1]점검현황(전월)'!$D$7:$AK$242,24,0)","v":"08:40:00"},1020,420,"09:15:00","26,"]
[null,"종합관",30,802,{"$f":"VLOOKUP(B208&D208,'[1]점검현황(전월)'!$D$7:$AG$242,2,0)","v":"교육대학원 "},{"$f":"VLOOKUP(B208&D208,'[1]점검현황(전월)'!$D$7:$AG$242,3,0)","v":"VX421"},{"$f":"VLOOKUP(B208&D208,'[1]점검현황(전월)'!$D$2:$AG$242,19,0)","v":"자체"},"2018-02-02",{"$f":"VLOOKUP(B208&D208,'[1]점검현황(전월)'!$D$7:$AG$242,27,0)","v":"2018-02-02"},321,{"$f":"VLOOKUP(B208&D208,'[1]점검현황(전월)'!$D$7:$AK$242,24,0)","v":"09:10:00"},842,420,"09:20:00","."]
[null,"종합관",31,803,{"$f":"VLOOKUP(B209&D209,'[1]점검현황(전월)'!$D$7:$AG$242,2,0)","v":"교육대학원 "},{"$f":"VLOOKUP(B209&D209,'[1]점검현황(전월)'!$D$7:$AG$242,3,0)","v":"VX421"},{"$f":"VLOOKUP(B209&D209,'[1]점검현황(전월)'!$D$2:$AG$242,19,0)","v":"자체"},"2018-02-02",{"$f":"VLOOKUP(B209&D209,'[1]점검현황(전월)'!$D$7:$AG$242,27,0)","v":"2018-02-02"},321,{"$f":"VLOOKUP(B209&D209,'[1]점검현황(전월)'!$D$7:$AK$242,24,0)","v":"09:30:00"},352,420,"09:30:00","."]
[null,"종합관",32,"804-1",{"$f":"VLOOKUP(B210&D210,'[1]점검현황(전월)'!$D$7:$AG$242,2,0)","v":"교육대학원 "},{"$f":"VLOOKUP(B210&D210,'[1]점검현황(전월)'!$D$7:$AG$242,3,0)","v":"VX421"},{"$f":"VLOOKUP(B210&D210,'[1]점검현황(전월)'!$D$2:$AG$242,19,0)","v":"e-ST"},"2017-09-01",{"$f":"VLOOKUP(B210&D210,'[1]점검현황(전월)'!$D$7:$AG$242,27,0)","v":"2017-09-01"},321,{"$f":"VLOOKUP(B210&D210,'[1]점검현황(전월)'!$D$7:$AK$242,24,0)","v":"09:50:00"},457,420,"09:40:00","."]
[null,"종합관",33,805,{"$f":"VLOOKUP(B211&D211,'[1]점검현황(전월)'!$D$7:$AG$242,2,0)","v":"교육대학원 (자동녹화)"},{"$f":"VLOOKUP(B211&D211,'[1]점검현황(전월)'!$D$7:$AG$242,3,0)","v":"VX421"},{"$f":"VLOOKUP(B211&D211,'[1]점검현황(전월)'!$D$2:$AG$242,19,0)","v":"e-ST"},"2018-01-31",{"$f":"VLOOKUP(B211&D211,'[1]점검현황(전월)'!$D$7:$AG$242,27,0)","v":"2018-01-31"},321,{"$f":"VLOOKUP(B211&D211,'[1]점검현황(전월)'!$D$7:$AK$242,24,0)","v":"10:10:00"},761,420,"09:50:00","."]
[null,"종합관",34,806,{"$f":"VLOOKUP(B212&D212,'[1]점검현황(전월)'!$D$7:$AG$242,2,0)","v":"교육대학원 "},{"$f":"VLOOKUP(B212&D212,'[1]점검현황(전월)'!$D$7:$AG$242,3,0)","v":"VX421"},{"$f":"VLOOKUP(B212&D212,'[1]점검현황(전월)'!$D$2:$AG$242,19,0)","v":"e-ST"},"2018-01-31",{"$f":"VLOOKUP(B212&D212,'[1]점검현황(전월)'!$D$7:$AG$242,27,0)","v":"2018-01-31"},322,{"$f":"VLOOKUP(B212&D212,'[1]점검현황(전월)'!$D$7:$AK$242,24,0)","v":"10:30:00"},284,420,"10:00:00","."]
[null,"종합관",35,808,{"$f":"VLOOKUP(B213&D213,'[1]점검현황(전월)'!$D$7:$AG$242,2,0)","v":"교육대학원 "},{"$f":"VLOOKUP(B213&D213,'[1]점검현황(전월)'!$D$7:$AG$242,3,0)","v":"VX421"},{"$f":"VLOOKUP(B213&D213,'[1]점검현황(전월)'!$D$2:$AG$242,19,0)","v":"자체"},"2018-02-02",{"$f":"VLOOKUP(B213&D213,'[1]점검현황(전월)'!$D$7:$AG$242,27,0)","v":"2018-02-02"},322,{"$f":"VLOOKUP(B213&D213,'[1]점검현황(전월)'!$D$7:$AK$242,24,0)","v":"13:58:00"},431,420,"10:10:00","12,14,19"]
[null,"종합관",36,809,{"$f":"VLOOKUP(B214&D214,'[1]점검현황(전월)'!$D$7:$AG$242,2,0)","v":"교육대학원 "},{"$f":"VLOOKUP(B214&D214,'[1]점검현황(전월)'!$D$7:$AG$242,3,0)","v":"VX421"},{"$f":"VLOOKUP(B214&D214,'[1]점검현황(전월)'!$D$2:$AG$242,19,0)","v":"자체"},"2018-02-02",{"$f":"VLOOKUP(B214&D214,'[1]점검현황(전월)'!$D$7:$AG$242,27,0)","v":"2018-02-02"},322,{"$f":"VLOOKUP(B214&D214,'[1]점검현황(전월)'!$D$7:$AK$242,24,0)","v":"11:10:00"},244,422,"10:20:00","."]
[null,"종합관",37,810,{"$f":"VLOOKUP(B215&D215,'[1]점검현황(전월)'!$D$7:$AG$242,2,0)","v":"교육대학원 (자동녹화)"},{"$f":"VLOOKUP(B215&D215,'[1]점검현황(전월)'!$D$7:$AG$242,3,0)","v":"VX421"},{"$f":"VLOOKUP(B215&D215,'[1]점검현황(전월)'!$D$2:$AG$242,19,0)","v":"e-ST"},"2017-05-11",{"$f":"VLOOKUP(B215&D215,'[1]점검현황(전월)'!$D$7:$AG$242,27,0)","v":"2017-05-11"},322,{"$f":"VLOOKUP(B215&D215,'[1]점검현황(전월)'!$D$7:$AK$242,24,0)","v":"11:30:00"},582,422,"10:30:00","."]
[null,"종합관",38,811,{"$f":"VLOOKUP(B216&D216,'[1]점검현황(전월)'!$D$7:$AG$242,2,0)","v":"교육대학원 (자동녹화)"},{"$f":"VLOOKUP(B216&D216,'[1]점검현황(전월)'!$D$7:$AG$242,3,0)","v":"VX421"},{"$f":"VLOOKUP(B216&D216,'[1]점검현황(전월)'!$D$2:$AG$242,19,0)","v":"e-ST"},"2018-02-02",{"$f":"VLOOKUP(B216&D216,'[1]점검현황(전월)'!$D$7:$AG$242,27,0)","v":"2018-02-02"},322,{"$f":"VLOOKUP(B216&D216,'[1]점검현황(전월)'!$D$7:$AK$242,24,0)","v":"11:50:00"},565,422,"10:40:00","."]
[null,"종합관",39,812,{"$f":"VLOOKUP(B217&D217,'[1]점검현황(전월)'!$D$7:$AG$242,2,0)","v":"교육대학원 "},{"$f":"VLOOKUP(B217&D217,'[1]점검현황(전월)'!$D$7:$AG$242,3,0)","v":"VX421"},{"$f":"VLOOKUP(B217&D217,'[1]점검현황(전월)'!$D$2:$AG$242,19,0)","v":"자체"},"2018-01-31",{"$f":"VLOOKUP(B217&D217,'[1]점검현황(전월)'!$D$7:$AG$242,27,0)","v":"2018-01-31"},322,{"$f":"VLOOKUP(B217&D217,'[1]점검현황(전월)'!$D$7:$AK$242,24,0)","v":"13:10:00"},383,422,"10:50:00","8,"]
[null,"종합관",40,1002,{"$f":"VLOOKUP(B218&D218,'[1]점검현황(전월)'!$D$7:$AG$242,2,0)","v":"공공정책대학원"},{"$f":"VLOOKUP(B218&D218,'[1]점검현황(전월)'!$D$7:$AG$242,3,0)","v":"XU106K"},{"$f":"VLOOKUP(B218&D218,'[1]점검현황(전월)'!$D$2:$AG$242,19,0)","v":"e-ST"},"2018-03-27",{"$f":"VLOOKUP(B218&D218,'[1]점검현황(전월)'!$D$7:$AG$242,27,0)","v":"날짜 확인 불가(클리닝 권고)"},322,{"$f":"VLOOKUP(B218&D218,'[1]점검현황(전월)'!$D$7:$AK$242,24,0)","v":"13:30:00"},466,422,"11:00:00","."]
[null,"종합관",41,1003,{"$f":"VLOOKUP(B219&D219,'[1]점검현황(전월)'!$D$7:$AG$242,2,0)","v":"공공정책대학원 (자동녹화)"},{"$f":"VLOOKUP(B219&D219,'[1]점검현황(전월)'!$D$7:$AG$242,3,0)","v":"XU106K"},{"$f":"VLOOKUP(B219&D219,'[1]점검현황(전월)'!$D$2:$AG$242,19,0)","v":"e-ST"},"2018-09-12",{"$f":"VLOOKUP(B219&D219,'[1]점검현황(전월)'!$D$7:$AG$242,27,0)","v":"날짜 확인 불가(클리닝 권고)"},325,{"$f":"VLOOKUP(B219&D219,'[1]점검현황(전월)'!$D$7:$AK$242,24,0)","v":"13:50:00"},593,422,"11:10:00","25,"]
[null,"종합관",42,1004,{"$f":"VLOOKUP(B220&D220,'[1]점검현황(전월)'!$D$7:$AG$242,2,0)","v":"공공정책대학원"},{"$f":"VLOOKUP(B220&D220,'[1]점검현황(전월)'!$D$7:$AG$242,3,0)","v":"XU106K"},{"$f":"VLOOKUP(B220&D220,'[1]점검현황(전월)'!$D$2:$AG$242,19,0)","v":"e-ST"},"2011-02-22",{"$f":"VLOOKUP(B220&D220,'[1]점검현황(전월)'!$D$7:$AG$242,27,0)","v":"날짜 확인 불가(클리닝 권고)"},322,{"$f":"VLOOKUP(B220&D220,'[1]점검현황(전월)'!$D$7:$AK$242,24,0)","v":"15:10:00"},1444,422,"11:20:00","."]
[null,"종합관",43,1005,{"$f":"VLOOKUP(B221&D221,'[1]점검현황(전월)'!$D$7:$AG$242,2,0)","v":"공공정책대학원"},{"$f":"VLOOKUP(B221&D221,'[1]점검현황(전월)'!$D$7:$AG$242,3,0)","v":"XU106K"},{"$f":"VLOOKUP(B221&D221,'[1]점검현황(전월)'!$D$2:$AG$242,19,0)","v":"e-ST"},"2018-03-27",{"$f":"VLOOKUP(B221&D221,'[1]점검현황(전월)'!$D$7:$AG$242,27,0)","v":"날짜 확인 불가(클리닝 권고)"},322,{"$f":"VLOOKUP(B221&D221,'[1]점검현황(전월)'!$D$7:$AK$242,24,0)","v":"15:30:00"},458,422,"11:30:00","."]
[null,"종합관",44,1007,{"$f":"VLOOKUP(B222&D222,'[1]점검현황(전월)'!$D$7:$AG$242,2,0)","v":"공공정책대학원"},{"$f":"VLOOKUP(B222&D222,'[1]점검현황(전월)'!$D$7:$AG$242,3,0)","v":"XU106K"},{"$f":"VLOOKUP(B222&D222,'[1]점검현황(전월)'!$D$2:$AG$242,19,0)","v":"e-ST"},"2017-08-29",{"$f":"VLOOKUP(B222&D222,'[1]점검현황(전월)'!$D$7:$AG$242,27,0)","v":"날짜 확인 불가(클리닝 권고)"},323,{"$f":"VLOOKUP(B222&D222,'[1]점검현황(전월)'!$D$7:$AK$242,24,0)","v":"15:50:00"},720,422,"11:40:00","."]
[null,"종합관",45,1008,{"$f":"VLOOKUP(B223&D223,'[1]점검현황(전월)'!$D$7:$AG$242,2,0)","v":"공공정책대학원"},{"$f":"VLOOKUP(B223&D223,'[1]점검현황(전월)'!$D$7:$AG$242,3,0)","v":"XU106K"},{"$f":"VLOOKUP(B223&D223,'[1]점검현황(전월)'!$D$2:$AG$242,19,0)","v":"e-ST"},"2016-03-18",{"$f":"VLOOKUP(B223&D223,'[1]점검현황(전월)'!$D$7:$AG$242,27,0)","v":"날짜 확인 불가(클리닝 권고)"},323,{"$f":"VLOOKUP(B223&D223,'[1]점검현황(전월)'!$D$7:$AK$242,24,0)","v":"16:10:00"},611,422,"11:50:00","."]
[null,"종합관",46,1009,{"$f":"VLOOKUP(B224&D224,'[1]점검현황(전월)'!$D$7:$AG$242,2,0)","v":"공공정책대학원"},{"$f":"VLOOKUP(B224&D224,'[1]점검현황(전월)'!$D$7:$AG$242,3,0)","v":"XU106K"},{"$f":"VLOOKUP(B224&D224,'[1]점검현황(전월)'!$D$2:$AG$242,19,0)","v":"e-ST"},"2018-03-27",{"$f":"VLOOKUP(B224&D224,'[1]점검현황(전월)'!$D$7:$AG$242,27,0)","v":"날짜 확인 불가(클리닝 권고)"},323,{"$f":"VLOOKUP(B224&D224,'[1]점검현황(전월)'!$D$7:$AK$242,24,0)","v":"16:30:00"},403,423,"12:00:00","."]
[null,"종합관",47,1101,{"$f":"VLOOKUP(B225&D225,'[1]점검현황(전월)'!$D$7:$AG$242,2,0)","v":"LINC사업단"},{"$f":"VLOOKUP(B225&D225,'[1]점검현황(전월)'!$D$7:$AG$242,3,0)","v":"VX410"},{"$f":"VLOOKUP(B225&D225,'[1]점검현황(전월)'!$D$2:$AG$242,19,0)","v":"자체"},"2015-01-14",{"$f":"VLOOKUP(B225&D225,'[1]점검현황(전월)'!$D$7:$AG$242,27,0)","v":"2015-01-14(클리닝 권고)"},323,{"$f":"VLOOKUP(B225&D225,'[1]점검현황(전월)'!$D$7:$AK$242,24,0)","v":"16:50:00"},813,423,"12:20:00","."]
["약학관","약학관",1,105,{"$f":"VLOOKUP(B226&D226,'[1]점검현황(전월)'!$D$7:$AG$242,2,0)","v":"약학대"},{"$f":"VLOOKUP(B226&D226,'[1]점검현황(전월)'!$D$7:$AG$242,3,0)","v":"VX410"},{"$f":"VLOOKUP(B226&D226,'[1]점검현황(전월)'!$D$2:$AG$242,19,0)","v":"e-ST"},"2018-11-23",{"$f":"VLOOKUP(B226&D226,'[1]점검현황(전월)'!$D$7:$AG$242,27,0)","v":"2018-11-23"},323,{"$f":"VLOOKUP(B226&D226,'[1]점검현황(전월)'!$D$7:$AK$242,24,0)","v":"14:23:00"},274,423,"13:00:00","."]
[null,"약학관",2,106,{"$f":"VLOOKUP(B227&D227,'[1]점검현황(전월)'!$D$7:$AG$242,2,0)","v":"약학대"},{"$f":"VLOOKUP(B227&D227,'[1]점검현황(전월)'!$D$7:$AG$242,3,0)","v":"VX600"},{"$f":"VLOOKUP(B227&D227,'[1]점검현황(전월)'!$D$2:$AG$242,19,0)","v":"e-ST"},"2017-02-28",{"$f":"VLOOKUP(B227&D227,'[1]점검현황(전월)'!$D$7:$AG$242,27,0)","v":"2017-02-28"},323,{"$f":"VLOOKUP(B227&D227,'[1]점검현황(전월)'!$D$7:$AK$242,24,0)","v":"09:10:00"},1660,423,"13:10:00","."]
[null,"약학관",3,"B107",{"$f":"VLOOKUP(B228&D228,'[1]점검현황(전월)'!$D$7:$AG$242,2,0)","v":"약학대"},{"$f":"VLOOKUP(B228&D228,'[1]점검현황(전월)'!$D$7:$AG$242,3,0)","v":"VX421"},{"$f":"VLOOKUP(B228&D228,'[1]점검현황(전월)'!$D$2:$AG$242,19,0)","v":"e-ST"},"2017-03-04",{"$f":"VLOOKUP(B228&D228,'[1]점검현황(전월)'!$D$7:$AG$242,27,0)","v":"2017-03-04"},329,{"$f":"VLOOKUP(B228&D228,'[1]점검현황(전월)'!$D$7:$AK$242,24,0)","v":"14:40:00"},660,423,"13:20:00","29,"]
["도서관","도서관",1,101,{"$f":"VLOOKUP(B229&D229,'[1]점검현황(전월)'!$D$7:$AG$242,2,0)","v":"소강당"},{"$f":"VLOOKUP(B229&D229,'[1]점검현황(전월)'!$D$7:$AG$242,3,0)","v":"VX600"},{"$f":"VLOOKUP(B229&D229,'[1]점검현황(전월)'!$D$2:$AG$242,19,0)","v":"구"},"2015-09-21","2019-03-17",323,{"$f":"VLOOKUP(B229&D229,'[1]점검현황(전월)'!$D$7:$AK$242,24,0)","v":"09:30:00"},620,423,"13:30:00","21,"]
["종합                        설계동","종합설계동",1,101,{"$f":"VLOOKUP(B230&D230,'[1]점검현황(전월)'!$D$7:$AG$242,2,0)","v":"정 통 컴"},{"$f":"VLOOKUP(B230&D230,'[1]점검현황(전월)'!$D$7:$AG$242,3,0)","v":"VX421"},{"$f":"VLOOKUP(B230&D230,'[1]점검현황(전월)'!$D$2:$AG$242,19,0)","v":"e-ST"},"2016-05-13",{"$f":"VLOOKUP(B230&D230,'[1]점검현황(전월)'!$D$7:$AG$242,27,0)","v":"2016-05-13(클리닝 권고)"},323,{"$f":"VLOOKUP(B230&D230,'[1]점검현황(전월)'!$D$7:$AK$242,24,0)","v":"10:50:00"},2260,423,"09:00:00","14,"]
[null,"종합설계동",2,103,{"$f":"VLOOKUP(B231&D231,'[1]점검현황(전월)'!$D$7:$AG$242,2,0)","v":"산업공학"},{"$f":"VLOOKUP(B231&D231,'[1]점검현황(전월)'!$D$7:$AG$242,3,0)","v":"VX540 / VX400 / 샤프"},{"$f":"VLOOKUP(B231&D231,'[1]점검현황(전월)'!$D$2:$AG$242,19,0)","v":"자체"},"12-02-22/12-02-22/03-11-25",{"$f":"VLOOKUP(B231&D231,'[1]점검현황(전월)'!$D$7:$AG$242,27,0)","v":"날짜 확인 불가(클리닝 권고)"},323,{"$f":"VLOOKUP(B231&D231,'[1]점검현황(전월)'!$D$7:$AK$242,24,0)","v":"11:00:00"},"1990/237/90",423,"09:10:00","4,,5,6"]
[null,"종합설계동",3,106,{"$f":"VLOOKUP(B232&D232,'[1]점검현황(전월)'!$D$7:$AG$242,2,0)","v":"환경공학"},{"$f":"VLOOKUP(B232&D232,'[1]점검현황(전월)'!$D$7:$AG$242,3,0)","v":"XU300K / XU300K"},{"$f":"VLOOKUP(B232&D232,'[1]점검현황(전월)'!$D$2:$AG$242,19,0)","v":"e-ST"},"10-09-03 / 10-12-14",{"$f":"VLOOKUP(B232&D232,'[1]점검현황(전월)'!$D$7:$AG$242,27,0)","v":"날짜 확인 불가(클리닝 권고)"},323,{"$f":"VLOOKUP(B232&D232,'[1]점검현황(전월)'!$D$7:$AK$242,24,0)","v":"11:20:00"},"288/270",423,"09:20:00","5,11"]
["화공실험동","화공실험동",1,101,{"$f":"VLOOKUP(B233&D233,'[1]점검현황(전월)'!$D$7:$AG$242,2,0)","v":"PC실"},{"$f":"VLOOKUP(B233&D233,'[1]점검현황(전월)'!$D$7:$AG$242,3,0)","v":"VX421"},{"$f":"VLOOKUP(B233&D233,'[1]점검현황(전월)'!$D$2:$AG$242,19,0)","v":"자체"},"2017-09-19",{"$f":"VLOOKUP(B233&D233,'[1]점검현황(전월)'!$D$7:$AG$242,27,0)","v":"2017-09-19"},323,{"$f":"VLOOKUP(B233&D233,'[1]점검현황(전월)'!$D$7:$AK$242,24,0)","v":"11:50:00"},146,423,"09:50:00","."]
[null,"화공실험동",2,102,{"$f":"VLOOKUP(B234&D234,'[1]점검현황(전월)'!$D$7:$AG$242,2,0)","v":"실험실"},{"$f":"VLOOKUP(B234&D234,'[1]점검현황(전월)'!$D$7:$AG$242,3,0)","v":"EX500E"},{"$f":"VLOOKUP(B234&D234,'[1]점검현황(전월)'!$D$2:$AG$242,19,0)","v":"자체"},"2018-05-25",{"$f":"VLOOKUP(B234&D234,'[1]점검현황(전월)'!$D$7:$AG$242,27,0)","v":"날짜 확인 불가(클리닝 권고)"},323,{"$f":"VLOOKUP(B234&D234,'[1]점검현황(전월)'!$D$7:$AK$242,24,0)","v":"12:00:00"},307,424,"10:00:00","."]
[null,"화공실험동",3,105,{"$f":"VLOOKUP(B235&D235,'[1]점검현황(전월)'!$D$7:$AG$242,2,0)","v":"실험실"},{"$f":"VLOOKUP(B235&D235,'[1]점검현황(전월)'!$D$7:$AG$242,3,0)","v":"VX421"},{"$f":"VLOOKUP(B235&D235,'[1]점검현황(전월)'!$D$2:$AG$242,19,0)","v":"자체"},"2017-03-29",{"$f":"VLOOKUP(B235&D235,'[1]점검현황(전월)'!$D$7:$AG$242,27,0)","v":"2017-03-29"},323,{"$f":"VLOOKUP(B235&D235,'[1]점검현황(전월)'!$D$7:$AK$242,24,0)","v":"12:10:00"},747,424,"10:10:00","."]
["캠퍼스\n플라자","캠퍼스플라자",1,108,"국제협력팀","VX431","e-ST",null,null,323,"11:20:00",32,424,"10:20:00","22,"]
[null,"캠퍼스플라자",2,109,"국제협력팀","VX431","e-ST",null,null,323,"11:40:00",25,424,"10:30:00","22,"]
[null,"캠퍼스플라자",3,110,"국제협력팀","VX431","자체",null,null,323,"10:40:00",52,424,"10:40:00","."]
[null,"캠퍼스플라자",4,111,"국제협력팀","VX431","자체",null,null,323,"19:00:00",22,424,"19:00:00","."]
[null,"캠퍼스플라자",5,112,"국제협력팀","VX431","자체",null,null,323,"19:10:00",26,424,"19:10:00","."]
[null,"캠퍼스플라자",6,209,"국제협력팀","VX431","e-ST",null,null,323,"19:20:00",25,424,"19:20:00","."]
[null,"캠퍼스플라자",7,210,"국제협력팀","VX431","자체",null,null,325,"08:30:00",21,424,"08:30:00","."]
[null,"캠퍼스플라자",8,211,"국제협력팀","VX431","자체",null,null,325,"08:40:00",33,424,"08:40:00","."]
[null,"캠퍼스플라자",9,203,"국제협력팀","VX431","e-ST",null,null,325,"10:50:00",15,425,"10:50:00","."]
[null,"캠퍼스플라자",10,202,"국제협력팀","VX431","자체",null,null,325,"11:00:00",38,425,"11:00:00","."]
[null,"캠퍼스플라자",11,201,"국제협력팀","VX431","자체",null,null,325,"11:10:00",25,425,"11:10:00","."]
[null,"캠퍼스플라자",12,215,"국제협력팀","VX431","자체",null,null,325,"11:20:00",26,425,"11:20:00","."]
[null,"캠퍼스플라자",13,214,"국제협력팀","VX431","자체",null,null,325,"11:30:00",21,425,"11:30:00","."]
[null,"캠퍼스플라자",14,201,"국제협력팀","VX431","자체",null,null,325,"11:40:00",47,425,"11:40:00","."]
[null,"캠퍼스플라자",15,301,"창업지원팀","VX421","자체",null,null,325,"11:50:00",27,425,"11:50:00","."]
[null,"캠퍼스플라자",16,401,"데이터사이언스(자동녹화)","VX421","e-ST",null,null,325,"12:00:00",25,425,"12:00:00","5,"]
[null,null,"※ 강의실 점검 내용"]
[null,null,"▶ 프로젝터 점검\n - 필터 크리닝 / 램프 사용시간 확인 / 램프 밝기 및 오염여부를 확인"]
[null,null,"▶ 스크린 점검\n - 동작 유무 확인(스크린Up, Down) / 낙서등의 오염 상태 육안으로 확인 / 손상 여부 확인"]
[null,null,"▶ PC점검\n -윈도우 보안 업데이트 확인 / 바이러스 검사 / PC하드웨어 점검(PC본체 및 모니터) / OS 및 프로그램 이상유무 확인"]
[null,null,"▶ 마이크 점검\n - 작동 여부 및 마이크 상태 확인 / 선 접지 확인 / 교탁 마이크 단자 및 거치대 확인"]
[null,null,"자동녹화"]
[null,null,"▶ 자동녹화 점검\n - e-motion 매니져 작동확인, e-motion 센서 작동 확인, 1:5 분배기 작동 확인, 자동녹화 프로그램 영상 및 음향 녹화, 카메라 및 모니터 정상 출력 확인"]