Workbook
Name _: [1]예가표!#REF!
Name _: [1]예가표!#REF!
Name _: [1]예가표!#REF!
Name _1: #N/A
Name _1.전기공사: #REF!
Name _1.전기공사: #REF!
Name _1.전기공사: #REF!
Name _1¤§¤_¤¡: {#N/A,#N/A,FALSE,"Sheet1"}
Name _10: #N/A
Name _10A_: [4]연돌일위집계!#REF!
Name _10A_: [4]연돌일위집계!#REF!
Name _10A_: [4]연돌일위집계!#REF!
Name _10A_1: [4]연돌일위집계!#REF!
Name _10A_1: [4]연돌일위집계!#REF!
Name _10A_1: [4]연돌일위집계!#REF!
Name _10A_10: [4]연돌일위집계!#REF!
Name _10A_10: [4]연돌일위집계!#REF!
Name _10A_10: [4]연돌일위집계!#REF!
Name _10A_11: [4]연돌일위집계!#REF!
Name _10A_11: [4]연돌일위집계!#REF!
Name _10A_11: [4]연돌일위집계!#REF!
Name _10A_12: [4]연돌일위집계!#REF!
Name _10A_12: [4]연돌일위집계!#REF!
Name _10A_12: [4]연돌일위집계!#REF!
Name _10A_13: [4]연돌일위집계!#REF!
Name _10A_13: [4]연돌일위집계!#REF!
Name _10A_13: [4]연돌일위집계!#REF!
Name _10A_14: [4]연돌일위집계!#REF!
Name _10A_14: [4]연돌일위집계!#REF!
Name _10A_14: [4]연돌일위집계!#REF!
Name _10A_15: [4]연돌일위집계!#REF!
Name _10A_15: [4]연돌일위집계!#REF!
Name _10A_15: [4]연돌일위집계!#REF!
Name _10A_16: [4]연돌일위집계!#REF!
Name _10A_16: [4]연돌일위집계!#REF!
Name _10A_16: [4]연돌일위집계!#REF!
Name _10A_17: [4]연돌일위집계!#REF!
Name _10A_17: [4]연돌일위집계!#REF!
Name _10A_17: [4]연돌일위집계!#REF!
Name _10A_18: [4]연돌일위집계!#REF!
Name _10A_18: [4]연돌일위집계!#REF!
Name _10A_18: [4]연돌일위집계!#REF!
Name _10A_19: [4]연돌일위집계!#REF!
Name _10A_19: [4]연돌일위집계!#REF!
Name _10A_19: [4]연돌일위집계!#REF!
Name _10A_2: [4]연돌일위집계!#REF!
Name _10A_2: [4]연돌일위집계!#REF!
Name _10A_2: [4]연돌일위집계!#REF!
Name _10A_20: [4]연돌일위집계!#REF!
Name _10A_20: [4]연돌일위집계!#REF!
Name _10A_20: [4]연돌일위집계!#REF!
Name _10A_21: [4]연돌일위집계!#REF!
Name _10A_21: [4]연돌일위집계!#REF!
Name _10A_21: [4]연돌일위집계!#REF!
Name _10A_22: [4]연돌일위집계!#REF!
Name _10A_22: [4]연돌일위집계!#REF!
Name _10A_22: [4]연돌일위집계!#REF!
Name _10A_23: [4]연돌일위집계!#REF!
Name _10A_23: [4]연돌일위집계!#REF!
Name _10A_23: [4]연돌일위집계!#REF!

Sheet 원가 계산서
B2: 용역비 계산서
B4: [ 용역명 : 2023년 아주대학교 기계설비 성능점검]
G5: (단위: 원)
B6: 구분 | D6: 규격 | F6: 금액 | G6: 비고
B8: (1) | C8: 직 접 인 건 비 | F8: =집계표!O22 -> 0
B9: (2) | C9: 제 경 비 | D9: 직접인건비의 | E9: 1.1 | F9: =INT(F8*E9) -> 0
B10: (3) | C10: 기 술 료 | D10: (직접인건비+제경비)의 | E10: 0.2 | F10: =INT((F8+F9)*E10) -> 0
B11: (4) | C11: 소 계 | D11: (1)+(2)+(3) | F11: =TRUNC(F8+F9+F10) -> 0
B12: (5) | C12: 부 가 세 | D12: (4)의 | E12: 0.1 | F12: =INT(F11*10%) -> 0
B13: 합 계 | F13: =TRUNC((F11+F12),-3) -> 0 | G13: 천단위절사
G14: ※ 산출근거 : 기계설비 유지관리기준(국토교통부 고시 제2021-1013호) 별표 4(제12조 제2항 관련)
F17: 100000000
F20: =F17/F13 -> #DIV/0!

Sheet 집계표
C1: [ 용역명 : 2023년 아주대학교 기계설비 성능점검]
C2: 집 계 표
C4: ▣ 건물명: 율곡관 외 9개동
P6: (단위: 원)
C7: 번호 | D7: 건물명 | E7: 연면적 (㎡) | F7: 단위 | G7: 수량 | H7: 특급 기술자 | J7: 고급 기술자 | L7: 중급 기술자 | N7: 합 계 | P7: 비고
H8: 단가 | I8: 금액 | J8: 단가 | K8: 금액 | L8: 단가 | M8: 금액 | N8: 단가 | O8: 금액
C9: =C1 -> [ 용역명 : 2023년 아주대학교 기계설비 성능점검]
C10: 1. 계획 및 보고서 작성 | F10: 식 | G10: 1 | I10: =내역서!Q14 -> 0 | K10: =내역서!T14 -> 0 | M10: =내역서!W14 -> 0 | O10: =I10+K10+M10 -> 0
C11: 2. 현장점검 | F11: 식 | G11: 1 | I11: =SUM(I12:I21) -> 0 | K11: =SUM(K12:K21) -> 0 | M11: =SUM(M12:M21) -> 0 | O11: =I11+K11+M11 -> 0
C12: 2-1. | D12: =대상건물현황!B5 -> 율곡관 | E12: 13120.03 | F12: 식 | G12: 1 | I12: =내역서!Q42 -> 0 | K12: =내역서!T42 -> 0 | M12: =내역서!W42 -> 0 | O12: =내역서!X42 -> 0
C13: 2-2. | D13: =대상건물현황!B6 -> 중앙도서관 | E13: 13311.67 | F13: 식 | G13: 1 | I13: =내역서!Q70 -> 0 | K13: =내역서!T70 -> 0 | M13: =내역서!W70 -> 0 | O13: =내역서!X70 -> 0
C14: 2-3. | D14: =대상건물현황!B7 -> 원천관 | E14: 11283.99 | F14: 식 | G14: 1 | I14: =내역서!Q98 -> 0 | K14: =내역서!T98 -> 0 | M14: =내역서!W98 -> 0 | O14: =내역서!X98 -> 0
C15: 2-4. | D15: =대상건물현황!B8 -> 팔달관 | E15: 15683.88 | F15: 식 | G15: 1 | I15: =내역서!Q126 -> 0 | K15: =내역서!T126 -> 0 | M15: =내역서!W126 -> 0 | O15: =내역서!X126 -> 0
C16: 2-5. | D16: =대상건물현황!B9 -> 다산관 | E16: 11147.2 | F16: 식 | G16: 1 | I16: =내역서!Q154 -> 0 | K16: =내역서!T154 -> 0 | M16: =내역서!W154 -> 0 | O16: =내역서!X154 -> 0
C17: 2-6. | D17: =대상건물현황!B10 -> 산학협력원 | E17: 10714.77 | F17: 식 | G17: 1 | I17: =내역서!Q182 -> 0 | K17: =내역서!T182 -> 0 | M17: =내역서!W182 -> 0 | O17: =내역서!X182 -> 0
C18: 2-7. | D18: =대상건물현황!B11 -> 연암관 | E18: 25757.21 | F18: 식 | G18: 1 | I18: =내역서!Q210 -> 0 | K18: =내역서!T210 -> 0 | M18: =내역서!W210 -> 0 | O18: =내역서!X210 -> 0
C19: 2-8. | D19: =대상건물현황!B12 -> 국제학사 | E19: 10096.78 | F19: 식 | G19: 1 | I19: =내역서!Q238 -> 0 | K19: =내역서!T238 -> 0 | M19: =내역서!W238 -> 0 | O19: =내역서!X238 -> 0
C20: 2-9. | D20: =대상건물현황!B13 -> 일신관 | E20: 14681.22 | F20: 식 | G20: 1 | I20: =내역서!Q266 -> 0 | K20: =내역서!T266 -> 0 | M20: =내역서!W266 -> 0 | O20: =내역서!X266 -> 0
C21: 2-10. | D21: =대상건물현황!B14 -> 캠퍼스플라자 | E21: 11939.56 | F21: 식 | G21: 1 | I21: =내역서!Q294 -> 0 | K21: =내역서!T294 -> 0 | M21: =내역서!W294 -> 0 | O21: =내역서!X294 -> 0
C22: 계 | I22: =I10+I11 -> 0 | K22: =K10+K11 -> 0 | M22: =M10+M11 -> 0 | O22: =O10+O11 -> 0

Sheet 내역서
B1: =집계표!C1 -> [ 용역명 : 2023년 아주대학교 기계설비 성능점검]
B2: 내 역 서
B4: =집계표!C4 -> ▣ 건물명: 율곡관 외 9개동
B5: - 대상년도: | C5: 2023 | E5: 년
B6: - 총연면적: | C6: =SUM(대상건물현황!C5:C14) -> 137736.31 | E6: ㎡ | Y6: (단위: 원)
B8: 구분 | E8: 점검대상 | F8: 기준인원(인) | I8: 조정계수 | K8: 단위 | L8: 총 수량 | M8: 산출수량 | N8: 금회수량 | O8: 특급 기술자 | R8: 고급 기술자 | U8: 중급 기술자 | X8: 합 계 | Y8: 비고
F9: 특급 | G9: 고급 | H9: 중급 | I9: 연면적 | J9: 경과년수 | O9: 인원 | P9: 단가 | Q9: 금액 | R9: 인원 | S9: 단가 | T9: 금액 | U9: 인원 | V9: 단가 | W9: 금액
B10: 1. 계획 및 보고서 작성
B11: 1-1. 계획검토 | E11: 137,736㎡ | F11: 3.58 | G11: 0 | H11: 0 | I11: 2 | K11: 식 | N11: 1 | O11: =TRUNC(F11*$N11*SUM($I11:$J11),2) -> 7.16 | P11: =단가대비표!$G$7 -> 0 | Q11: =TRUNC(O11*P11) -> 0 | R11: 0 | S11: =단가대비표!$G$8 -> 0 | T11: =TRUNC(R11*S11) -> 0 | U11: 0 | V11: =단가대비표!$G$9 -> 0 | W11: =TRUNC(U11*V11) -> 0 | X11: =Q11+T11+W11 -> 0
B12: 1-2. 시스템검토 | F12: 3.58 | G12: 0 | H12: 0 | I12: 2 | K12: 식 | N12: 1 | O12: =TRUNC(F12*$N12*SUM($I12:$J12),2) -> 7.16 | P12: =단가대비표!$G$7 -> 0 | Q12: =TRUNC(O12*P12) -> 0 | R12: 0 | S12: =단가대비표!$G$8 -> 0 | T12: =TRUNC(R12*S12) -> 0 | U12: 0 | V12: =단가대비표!$G$9 -> 0 | W12: =TRUNC(U12*V12) -> 0 | X12: =Q12+T12+W12 -> 0
B13: 1-3. 보고서 작성 | F13: 0.42 | G13: 2.46 | H13: 2.71 | I13: 2 | K13: 식 | N13: 1 | O13: =TRUNC(F13*$N13*SUM($I13:$J13),2) -> 0.84 | P13: =단가대비표!$G$7 -> 0 | Q13: =TRUNC(O13*P13) -> 0 | R13: =TRUNC(G13*$N13*SUM($I13:$J13),2) -> 4.92 | S13: =단가대비표!$G$8 -> 0 | T13: =TRUNC(R13*S13) -> 0 | U13: =TRUNC(H13*$N13*SUM($I13:$J13),2) -> 5.42 | V13: =단가대비표!$G$9 -> 0 | W13: =TRUNC(U13*V13) -> 0 | X13: =Q13+T13+W13 -> 0
B14: 합 계 (1) | O14: =SUM(O11:O13) -> 15.16 | Q14: =SUM(Q11:Q13) -> 0 | R14: =SUM(R11:R13) -> 4.92 | T14: =SUM(T11:T13) -> 0 | U14: =SUM(U11:U13) -> 5.42 | W14: =SUM(W11:W13) -> 0 | X14: =SUM(X11:X13) -> 0
B15: 2. 현장점검
B16: 2-1. 율곡관
B17: 열원 및 냉난방 설비 | E17: 냉동기 | F17: 0.13 | G17: 0.28 | H17: 0.16 | J17: 1.2 | K17: 대 | L17: ='동별 점검수량'!F14 -> 0 | M17: ='동별 점검수량'!G14 -> 0 | N17: ='동별 점검수량'!H14 -> 0 | O17: =TRUNC(F17*$N17*SUM($I17:$J17),2) -> 0 | P17: =단가대비표!$G$7 -> 0 | Q17: =TRUNC(O17*P17,) -> 0 | R17: =TRUNC(G17*$N17*SUM($I17:$J17),2) -> 0 | S17: =단가대비표!$G$8 -> 0 | T17: =TRUNC(R17*S17,) -> 0 | U17: =TRUNC(H17*$N17*SUM($I17:$J17),2) -> 0 | V17: =단가대비표!$G$9 -> 0 | W17: =TRUNC(U17*V17,) -> 0 | X17: =Q17+T17+W17 -> 0
E18: 냉각탑 | F18: 0.1 | G18: 0.25 | H18: 0.17 | J18: 1.2 | K18: 대 | L18: ='동별 점검수량'!F15 -> 0 | M18: ='동별 점검수량'!G15 -> 0 | N18: ='동별 점검수량'!H15 -> 0 | O18: =TRUNC(F18*$N18*SUM($I18:$J18),2) -> 0 | P18: =단가대비표!$G$7 -> 0 | Q18: =TRUNC(O18*P18,) -> 0 | R18: =TRUNC(G18*$N18*SUM($I18:$J18),2) -> 0 | S18: =단가대비표!$G$8 -> 0 | T18: =TRUNC(R18*S18,) -> 0 | U18: =TRUNC(H18*$N18*SUM($I18:$J18),2) -> 0 | V18: =단가대비표!$G$9 -> 0 | W18: =TRUNC(U18*V18,) -> 0 | X18: =Q18+T18+W18 -> 0
E19: 축열조 | F19: 0.1 | G19: 0.27 | H19: 0.17 | J19: 1.2 | K19: 대 | L19: ='동별 점검수량'!F16 -> 0 | M19: ='동별 점검수량'!G16 -> 0 | N19: ='동별 점검수량'!H16 -> 0 | O19: =TRUNC(F19*$N19*SUM($I19:$J19),2) -> 0 | P19: =단가대비표!$G$7 -> 0 | Q19: =TRUNC(O19*P19,) -> 0 | R19: =TRUNC(G19*$N19*SUM($I19:$J19),2) -> 0 | S19: =단가대비표!$G$8 -> 0 | T19: =TRUNC(R19*S19,) -> 0 | U19: =TRUNC(H19*$N19*SUM($I19:$J19),2) -> 0 | V19: =단가대비표!$G$9 -> 0 | W19: =TRUNC(U19*V19,) -> 0 | X19: =Q19+T19+W19 -> 0
E20: 보일러 | F20: 0.1 | G20: 0.28 | H20: 0.19 | J20: 1.2 | K20: 대 | L20: ='동별 점검수량'!F17 -> 0 | M20: ='동별 점검수량'!G17 -> 0 | N20: ='동별 점검수량'!H17 -> 0 | O20: =TRUNC(F20*$N20*SUM($I20:$J20),2) -> 0 | P20: =단가대비표!$G$7 -> 0 | Q20: =TRUNC(O20*P20,) -> 0 | R20: =TRUNC(G20*$N20*SUM($I20:$J20),2) -> 0 | S20: =단가대비표!$G$8 -> 0 | T20: =TRUNC(R20*S20,) -> 0 | U20: =TRUNC(H20*$N20*SUM($I20:$J20),2) -> 0 | V20: =단가대비표!$G$9 -> 0 | W20: =TRUNC(U20*V20,) -> 0 | X20: =Q20+T20+W20 -> 0
E21: 열교환기 | F21: 0.04 | G21: 0.16 | H21: 0.11 | J21: 1.2 | K21: 대 | L21: ='동별 점검수량'!F18 -> 0 | M21: ='동별 점검수량'!G18 -> 0 | N21: ='동별 점검수량'!H18 -> 0 | O21: =TRUNC(F21*$N21*SUM($I21:$J21),2) -> 0 | P21: =단가대비표!$G$7 -> 0 | Q21: =TRUNC(O21*P21,) -> 0 | R21: =TRUNC(G21*$N21*SUM($I21:$J21),2) -> 0 | S21: =단가대비표!$G$8 -> 0 | T21: =TRUNC(R21*S21,) -> 0 | U21: =TRUNC(H21*$N21*SUM($I21:$J21),2) -> 0 | V21: =단가대비표!$G$9 -> 0 | W21: =TRUNC(U21*V21,) -> 0 | X21: =Q21+T21+W21 -> 0
E22: 팽창탱크 | F22: 0.02 | G22: 0.16 | H22: 0.07 | J22: 1.2 | K22: 대 | L22: ='동별 점검수량'!F19 -> 0 | M22: ='동별 점검수량'!G19 -> 0 | N22: ='동별 점검수량'!H19 -> 0 | O22: =TRUNC(F22*$N22*SUM($I22:$J22),2) -> 0 | P22: =단가대비표!$G$7 -> 0 | Q22: =TRUNC(O22*P22,) -> 0 | R22: =TRUNC(G22*$N22*SUM($I22:$J22),2) -> 0 | S22: =단가대비표!$G$8 -> 0 | T22: =TRUNC(R22*S22,) -> 0 | U22: =TRUNC(H22*$N22*SUM($I22:$J22),2) -> 0 | V22: =단가대비표!$G$9 -> 0 | W22: =TRUNC(U22*V22,) -> 0 | X22: =Q22+T22+W22 -> 0
E23: 펌프 | F23: 0.1 | G23: 0.21 | H23: 0.13 | J23: 1.2 | K23: 대 | L23: ='동별 점검수량'!F20 -> 1 | M23: ='동별 점검수량'!G20 -> 0.2 | N23: ='동별 점검수량'!H20 -> 1 | O23: =TRUNC(F23*$N23*SUM($I23:$J23),2) -> 0.12 | P23: =단가대비표!$G$7 -> 0 | Q23: =TRUNC(O23*P23,) -> 0 | R23: =TRUNC(G23*$N23*SUM($I23:$J23),2) -> 0.25 | S23: =단가대비표!$G$8 -> 0 | T23: =TRUNC(R23*S23,) -> 0 | U23: =TRUNC(H23*$N23*SUM($I23:$J23),2) -> 0.15 | V23: =단가대비표!$G$9 -> 0 | W23: =TRUNC(U23*V23,) -> 0 | X23: =Q23+T23+W23 -> 0
E24: 신재생에너지 | F24: 0.09 | G24: 0.23 | H24: 0.09 | J24: 1.2 | K24: 대 | L24: ='동별 점검수량'!F21 -> 0 | M24: ='동별 점검수량'!G21 -> 0 | N24: ='동별 점검수량'!H21 -> 0 | O24: =TRUNC(F24*$N24*SUM($I24:$J24),2) -> 0 | P24: =단가대비표!$G$7 -> 0 | Q24: =TRUNC(O24*P24,) -> 0 | R24: =TRUNC(G24*$N24*SUM($I24:$J24),2) -> 0 | S24: =단가대비표!$G$8 -> 0 | T24: =TRUNC(R24*S24,) -> 0 | U24: =TRUNC(H24*$N24*SUM($I24:$J24),2) -> 0 | V24: =단가대비표!$G$9 -> 0 | W24: =TRUNC(U24*V24,) -> 0 | X24: =Q24+T24+W24 -> 0
E25: 패키지에어컨 | F25: 0.04 | G25: 0.11 | H25: 0.17 | J25: 1.2 | K25: 대 | L25: ='동별 점검수량'!F22 -> 54 | M25: ='동별 점검수량'!G22 -> 10.8 | N25: ='동별 점검수량'!H22 -> 11 | O25: =TRUNC(F25*$N25*SUM($I25:$J25),2) -> 0.52 | P25: =단가대비표!$G$7 -> 0 | Q25: =TRUNC(O25*P25,) -> 0 | R25: =TRUNC(G25*$N25*SUM($I25:$J25),2) -> 1.45 | S25: =단가대비표!$G$8 -> 0 | T25: =TRUNC(R25*S25,) -> 0 | U25: =TRUNC(H25*$N25*SUM($I25:$J25),2) -> 2.24 | V25: =단가대비표!$G$9 -> 0 | W25: =TRUNC(U25*V25,) -> 0 | X25: =Q25+T25+W25 -> 0
E26: 항온항습기 | F26: 0.08 | G26: 0.16 | H26: 0.18 | J26: 1.2 | K26: 대 | L26: ='동별 점검수량'!F23 -> 0 | M26: ='동별 점검수량'!G23 -> 0 | N26: ='동별 점검수량'!H23 -> 0 | O26: =TRUNC(F26*$N26*SUM($I26:$J26),2) -> 0 | P26: =단가대비표!$G$7 -> 0 | Q26: =TRUNC(O26*P26,) -> 0 | R26: =TRUNC(G26*$N26*SUM($I26:$J26),2) -> 0 | S26: =단가대비표!$G$8 -> 0 | T26: =TRUNC(R26*S26,) -> 0 | U26: =TRUNC(H26*$N26*SUM($I26:$J26),2) -> 0 | V26: =단가대비표!$G$9 -> 0 | W26: =TRUNC(U26*V26,) -> 0 | X26: =Q26+T26+W26 -> 0
B27: 공기조화설비 | E27: 공기조화기 | F27: 0.04 | G27: 0.18 | H27: 0.11 | J27: 1.2 | K27: 대 | L27: ='동별 점검수량'!F24 -> 2 | M27: ='동별 점검수량'!G24 -> 0.4 | N27: ='동별 점검수량'!H24 -> 1 | O27: =TRUNC(F27*$N27*SUM($I27:$J27),2) -> 0.04 | P27: =단가대비표!$G$7 -> 0 | Q27: =TRUNC(O27*P27,) -> 0 | R27: =TRUNC(G27*$N27*SUM($I27:$J27),2) -> 0.21 | S27: =단가대비표!$G$8 -> 0 | T27: =TRUNC(R27*S27,) -> 0 | U27: =TRUNC(H27*$N27*SUM($I27:$J27),2) -> 0.13 | V27: =단가대비표!$G$9 -> 0 | W27: =TRUNC(U27*V27,) -> 0 | X27: =Q27+T27+W27 -> 0
E28: 팬코일유닛 | F28: 0.04 | G28: 0.11 | H28: 0.13 | J28: 1.2 | K28: 대 | L28: ='동별 점검수량'!F25 -> 0 | M28: ='동별 점검수량'!G25 -> 0 | N28: ='동별 점검수량'!H25 -> 0 | O28: =TRUNC(F28*$N28*SUM($I28:$J28),2) -> 0 | P28: =단가대비표!$G$7 -> 0 | Q28: =TRUNC(O28*P28,) -> 0 | R28: =TRUNC(G28*$N28*SUM($I28:$J28),2) -> 0 | S28: =단가대비표!$G$8 -> 0 | T28: =TRUNC(R28*S28,) -> 0 | U28: =TRUNC(H28*$N28*SUM($I28:$J28),2) -> 0 | V28: =단가대비표!$G$9 -> 0 | W28: =TRUNC(U28*V28,) -> 0 | X28: =Q28+T28+W28 -> 0
B29: 환기설비 | E29: 환기설비 | F29: 0.04 | G29: 0.11 | H29: 0.13 | J29: 1.2 | K29: 대 | L29: ='동별 점검수량'!F26 -> 5 | M29: ='동별 점검수량'!G26 -> 1 | N29: ='동별 점검수량'!H26 -> 1 | O29: =TRUNC(F29*$N29*SUM($I29:$J29),2) -> 0.04 | P29: =단가대비표!$G$7 -> 0 | Q29: =TRUNC(O29*P29,) -> 0 | R29: =TRUNC(G29*$N29*SUM($I29:$J29),2) -> 0.13 | S29: =단가대비표!$G$8 -> 0 | T29: =TRUNC(R29*S29,) -> 0 | U29: =TRUNC(H29*$N29*SUM($I29:$J29),2) -> 0.15 | V29: =단가대비표!$G$9 -> 0 | W29: =TRUNC(U29*V29,) -> 0 | X29: =Q29+T29+W29 -> 0
E30: 필터 | F30: 0.04 | G30: 0.1 | H30: 0.1 | J30: 1.2 | K30: 대 | L30: ='동별 점검수량'!F27 -> 0 | M30: ='동별 점검수량'!G27 -> 0 | N30: ='동별 점검수량'!H27 -> 0 | O30: =TRUNC(F30*$N30*SUM($I30:$J30),2) -> 0 | P30: =단가대비표!$G$7 -> 0 | Q30: =TRUNC(O30*P30,) -> 0 | R30: =TRUNC(G30*$N30*SUM($I30:$J30),2) -> 0 | S30: =단가대비표!$G$8 -> 0 | T30: =TRUNC(R30*S30,) -> 0 | U30: =TRUNC(H30*$N30*SUM($I30:$J30),2) -> 0 | V30: =단가대비표!$G$9 -> 0 | W30: =TRUNC(U30*V30,) -> 0 | X30: =Q30+T30+W30 -> 0
B31: 위생기구설비 | F31: 0.04 | G31: 0.35 | H31: 0.2 | I31: 1 | K31: 식 | L31: ='동별 점검수량'!F28 -> 1 | M31: ='동별 점검수량'!G28 -> 1 | N31: ='동별 점검수량'!H28 -> 1 | O31: =TRUNC(F31*$N31*SUM($I31:$J31),2) -> 0.04 | P31: =단가대비표!$G$7 -> 0 | Q31: =TRUNC(O31*P31,) -> 0 | R31: =TRUNC(G31*$N31*SUM($I31:$J31),2) -> 0.35 | S31: =단가대비표!$G$8 -> 0 | T31: =TRUNC(R31*S31,) -> 0 | U31: =TRUNC(H31*$N31*SUM($I31:$J31),2) -> 0.2 | V31: =단가대비표!$G$9 -> 0 | W31: =TRUNC(U31*V31,) -> 0 | X31: =Q31+T31+W31 -> 0
B32: 급수·급탕 설비 | C32: 급수·급탕설비 | F32: 0.04 | G32: 0.23 | H32: 0.1 | I32: 1 | K32: 식 | L32: ='동별 점검수량'!F29 -> 1 | M32: ='동별 점검수량'!G29 -> 1 | N32: ='동별 점검수량'!H29 -> 1 | O32: =TRUNC(F32*$N32*SUM($I32:$J32),2) -> 0.04 | P32: =단가대비표!$G$7 -> 0 | Q32: =TRUNC(O32*P32,) -> 0 | R32: =TRUNC(G32*$N32*SUM($I32:$J32),2) -> 0.23 | S32: =단가대비표!$G$8 -> 0 | T32: =TRUNC(R32*S32,) -> 0 | U32: =TRUNC(H32*$N32*SUM($I32:$J32),2) -> 0.1 | V32: =단가대비표!$G$9 -> 0 | W32: =TRUNC(U32*V32,) -> 0 | X32: =Q32+T32+W32 -> 0
C33: 고·저수조 | F33: 0.04 | G33: 0.21 | H33: 0.13 | I33: 1 | K33: 식 | L33: ='동별 점검수량'!F30 -> 1 | M33: ='동별 점검수량'!G30 -> 1 | N33: ='동별 점검수량'!H30 -> 1 | O33: =TRUNC(F33*$N33*SUM($I33:$J33),2) -> 0.04 | P33: =단가대비표!$G$7 -> 0 | Q33: =TRUNC(O33*P33,) -> 0 | R33: =TRUNC(G33*$N33*SUM($I33:$J33),2) -> 0.21 | S33: =단가대비표!$G$8 -> 0 | T33: =TRUNC(R33*S33,) -> 0 | U33: =TRUNC(H33*$N33*SUM($I33:$J33),2) -> 0.13 | V33: =단가대비표!$G$9 -> 0 | W33: =TRUNC(U33*V33,) -> 0 | X33: =Q33+T33+W33 -> 0
B34: 오·배수 통기 및 우수배수설비 | F34: 0.04 | G34: 0.29 | H34: 0.17 | I34: 1 | K34: 식 | L34: ='동별 점검수량'!F31 -> 1 | M34: ='동별 점검수량'!G31 -> 1 | N34: ='동별 점검수량'!H31 -> 1 | O34: =TRUNC(F34*$N34*SUM($I34:$J34),2) -> 0.04 | P34: =단가대비표!$G$7 -> 0 | Q34: =TRUNC(O34*P34,) -> 0 | R34: =TRUNC(G34*$N34*SUM($I34:$J34),2) -> 0.29 | S34: =단가대비표!$G$8 -> 0 | T34: =TRUNC(R34*S34,) -> 0 | U34: =TRUNC(H34*$N34*SUM($I34:$J34),2) -> 0.17 | V34: =단가대비표!$G$9 -> 0 | W34: =TRUNC(U34*V34,) -> 0 | X34: =Q34+T34+W34 -> 0
B35: 오수정화 및 물재이용설비 | D35: 오수정화설비 | F35: 0.04 | G35: 0.29 | H35: 0.17 | I35: 1 | K35: 식 | L35: ='동별 점검수량'!F32 -> 1 | M35: ='동별 점검수량'!G32 -> 1 | N35: ='동별 점검수량'!H32 -> 1 | O35: =TRUNC(F35*$N35*SUM($I35:$J35),2) -> 0.04 | P35: =단가대비표!$G$7 -> 0 | Q35: =TRUNC(O35*P35,) -> 0 | R35: =TRUNC(G35*$N35*SUM($I35:$J35),2) -> 0.29 | S35: =단가대비표!$G$8 -> 0 | T35: =TRUNC(R35*S35,) -> 0 | U35: =TRUNC(H35*$N35*SUM($I35:$J35),2) -> 0.17 | V35: =단가대비표!$G$9 -> 0 | W35: =TRUNC(U35*V35,) -> 0 | X35: =Q35+T35+W35 -> 0
D36: 물 재이용설비 | F36: 0.04 | G36: 0.29 | H36: 0.17 | I36: 1 | K36: 식 | L36: ='동별 점검수량'!F33 -> 0 | M36: ='동별 점검수량'!G33 -> 0 | N36: ='동별 점검수량'!H33 -> 0 | O36: =TRUNC(F36*$N36*SUM($I36:$J36),2) -> 0 | P36: =단가대비표!$G$7 -> 0 | Q36: =TRUNC(O36*P36,) -> 0 | R36: =TRUNC(G36*$N36*SUM($I36:$J36),2) -> 0 | S36: =단가대비표!$G$8 -> 0 | T36: =TRUNC(R36*S36,) -> 0 | U36: =TRUNC(H36*$N36*SUM($I36:$J36),2) -> 0 | V36: =단가대비표!$G$9 -> 0 | W36: =TRUNC(U36*V36,) -> 0 | X36: =Q36+T36+W36 -> 0
B37: 배관설비 | F37: 0.04 | G37: 1.13 | H37: 1.25 | I37: 1 | K37: 식 | L37: ='동별 점검수량'!F34 -> 1 | M37: ='동별 점검수량'!G34 -> 1 | N37: ='동별 점검수량'!H34 -> 1 | O37: =TRUNC(F37*$N37*SUM($I37:$J37),2) -> 0.04 | P37: =단가대비표!$G$7 -> 0 | Q37: =TRUNC(O37*P37,) -> 0 | R37: =TRUNC(G37*$N37*SUM($I37:$J37),2) -> 1.13 | S37: =단가대비표!$G$8 -> 0 | T37: =TRUNC(R37*S37,) -> 0 | U37: =TRUNC(H37*$N37*SUM($I37:$J37),2) -> 1.25 | V37: =단가대비표!$G$9 -> 0 | W37: =TRUNC(U37*V37,) -> 0 | X37: =Q37+T37+W37 -> 0
B38: 덕트설비 | F38: 0.04 | G38: 0.52 | H38: 0.4 | I38: 1 | K38: 식 | L38: ='동별 점검수량'!F35 -> 1 | M38: ='동별 점검수량'!G35 -> 1 | N38: ='동별 점검수량'!H35 -> 1 | O38: =TRUNC(F38*$N38*SUM($I38:$J38),2) -> 0.04 | P38: =단가대비표!$G$7 -> 0 | Q38: =TRUNC(O38*P38,) -> 0 | R38: =TRUNC(G38*$N38*SUM($I38:$J38),2) -> 0.52 | S38: =단가대비표!$G$8 -> 0 | T38: =TRUNC(R38*S38,) -> 0 | U38: =TRUNC(H38*$N38*SUM($I38:$J38),2) -> 0.4 | V38: =단가대비표!$G$9 -> 0 | W38: =TRUNC(U38*V38,) -> 0 | X38: =Q38+T38+W38 -> 0
B39: 보온설비 | F39: 0.04 | G39: 0.96 | H39: 1 | I39: 1 | K39: 식 | L39: ='동별 점검수량'!F36 -> 1 | M39: ='동별 점검수량'!G36 -> 1 | N39: ='동별 점검수량'!H36 -> 1 | O39: =TRUNC(F39*$N39*SUM($I39:$J39),2) -> 0.04 | P39: =단가대비표!$G$7 -> 0 | Q39: =TRUNC(O39*P39,) -> 0 | R39: =TRUNC(G39*$N39*SUM($I39:$J39),2) -> 0.96 | S39: =단가대비표!$G$8 -> 0 | T39: =TRUNC(R39*S39,) -> 0 | U39: =TRUNC(H39*$N39*SUM($I39:$J39),2) -> 1 | V39: =단가대비표!$G$9 -> 0 | W39: =TRUNC(U39*V39,) -> 0 | X39: =Q39+T39+W39 -> 0
B40: 자동제어설비 | F40: 0.1 | G40: 0.75 | H40: 0.5 | I40: 1 | K40: 식 | L40: ='동별 점검수량'!F37 -> 1 | M40: ='동별 점검수량'!G37 -> 1 | N40: ='동별 점검수량'!H37 -> 1 | O40: =TRUNC(F40*$N40*SUM($I40:$J40),2) -> 0.1 | P40: =단가대비표!$G$7 -> 0 | Q40: =TRUNC(O40*P40,) -> 0 | R40: =TRUNC(G40*$N40*SUM($I40:$J40),2) -> 0.75 | S40: =단가대비표!$G$8 -> 0 | T40: =TRUNC(R40*S40,) -> 0 | U40: =TRUNC(H40*$N40*SUM($I40:$J40),2) -> 0.5 | V40: =단가대비표!$G$9 -> 0 | W40: =TRUNC(U40*V40,) -> 0 | X40: =Q40+T40+W40 -> 0
B41: 방음·방진·내진 설비 | F41: 0.04 | G41: 0.47 | H41: 0.42 | I41: 1 | K41: 식 | L41: ='동별 점검수량'!F38 -> 1 | M41: ='동별 점검수량'!G38 -> 1 | N41: ='동별 점검수량'!H38 -> 1 | O41: =TRUNC(F41*$N41*SUM($I41:$J41),2) -> 0.04 | P41: =단가대비표!$G$7 -> 0 | Q41: =TRUNC(O41*P41,) -> 0 | R41: =TRUNC(G41*$N41*SUM($I41:$J41),2) -> 0.47 | S41: =단가대비표!$G$8 -> 0 | T41: =TRUNC(R41*S41,) -> 0 | U41: =TRUNC(H41*$N41*SUM($I41:$J41),2) -> 0.42 | V41: =단가대비표!$G$9 -> 0 | W41: =TRUNC(U41*V41,) -> 0 | X41: =Q41+T41+W41 -> 0
B42: 소 계 | O42: =TRUNC(SUBTOTAL(9,O17:O41),2) -> 1.18 | Q42: =TRUNC(SUBTOTAL(9,Q17:Q41),) -> 0 | R42: =TRUNC(SUBTOTAL(9,R17:R41),2) -> 7.24 | T42: =TRUNC(SUBTOTAL(9,T17:T41),) -> 0 | U42: =TRUNC(SUBTOTAL(9,U17:U41),2) -> 7.01 | W42: =TRUNC(SUBTOTAL(9,W17:W41),) -> 0 | X42: =TRUNC(SUBTOTAL(9,X17:X41),) -> 0
B44: 2-2. 중앙도서관
B45: 열원 및 냉난방 설비 | E45: 냉동기 | F45: 0.13 | G45: 0.28 | H45: 0.16 | J45: 1.2 | K45: 대 | L45: ='동별 점검수량'!F50 -> 0 | M45: ='동별 점검수량'!G50 -> 0 | N45: ='동별 점검수량'!H50 -> 0 | O45: =TRUNC(F45*$N45*SUM($I45:$J45),2) -> 0 | P45: =단가대비표!$G$7 -> 0 | Q45: =TRUNC(O45*P45,) -> 0 | R45: =TRUNC(G45*$N45*SUM($I45:$J45),2) -> 0 | S45: =단가대비표!$G$8 -> 0 | T45: =TRUNC(R45*S45,) -> 0 | U45: =TRUNC(H45*$N45*SUM($I45:$J45),2) -> 0 | V45: =단가대비표!$G$9 -> 0 | W45: =TRUNC(U45*V45,) -> 0 | X45: =Q45+T45+W45 -> 0
E46: 냉각탑 | F46: 0.1 | G46: 0.25 | H46: 0.17 | J46: 1.2 | K46: 대 | L46: ='동별 점검수량'!F51 -> 0 | M46: ='동별 점검수량'!G51 -> 0 | N46: ='동별 점검수량'!H51 -> 0 | O46: =TRUNC(F46*$N46*SUM($I46:$J46),2) -> 0 | P46: =단가대비표!$G$7 -> 0 | Q46: =TRUNC(O46*P46,) -> 0 | R46: =TRUNC(G46*$N46*SUM($I46:$J46),2) -> 0 | S46: =단가대비표!$G$8 -> 0 | T46: =TRUNC(R46*S46,) -> 0 | U46: =TRUNC(H46*$N46*SUM($I46:$J46),2) -> 0 | V46: =단가대비표!$G$9 -> 0 | W46: =TRUNC(U46*V46,) -> 0 | X46: =Q46+T46+W46 -> 0
E47: 축열조 | F47: 0.1 | G47: 0.27 | H47: 0.17 | J47: 1.2 | K47: 대 | L47: ='동별 점검수량'!F52 -> 0 | M47: ='동별 점검수량'!G52 -> 0 | N47: ='동별 점검수량'!H52 -> 0 | O47: =TRUNC(F47*$N47*SUM($I47:$J47),2) -> 0 | P47: =단가대비표!$G$7 -> 0 | Q47: =TRUNC(O47*P47,) -> 0 | R47: =TRUNC(G47*$N47*SUM($I47:$J47),2) -> 0 | S47: =단가대비표!$G$8 -> 0 | T47: =TRUNC(R47*S47,) -> 0 | U47: =TRUNC(H47*$N47*SUM($I47:$J47),2) -> 0 | V47: =단가대비표!$G$9 -> 0 | W47: =TRUNC(U47*V47,) -> 0 | X47: =Q47+T47+W47 -> 0
E48: 보일러 | F48: 0.1 | G48: 0.28 | H48: 0.19 | J48: 1.2 | K48: 대 | L48: ='동별 점검수량'!F53 -> 2 | M48: ='동별 점검수량'!G53 -> 1 | N48: ='동별 점검수량'!H53 -> 1 | O48: =TRUNC(F48*$N48*SUM($I48:$J48),2) -> 0.12 | P48: =단가대비표!$G$7 -> 0 | Q48: =TRUNC(O48*P48,) -> 0 | R48: =TRUNC(G48*$N48*SUM($I48:$J48),2) -> 0.33 | S48: =단가대비표!$G$8 -> 0 | T48: =TRUNC(R48*S48,) -> 0 | U48: =TRUNC(H48*$N48*SUM($I48:$J48),2) -> 0.22 | V48: =단가대비표!$G$9 -> 0 | W48: =TRUNC(U48*V48,) -> 0 | X48: =Q48+T48+W48 -> 0
E49: 열교환기 | F49: 0.04 | G49: 0.16 | H49: 0.11 | J49: 1.2 | K49: 대 | L49: ='동별 점검수량'!F54 -> 0 | M49: ='동별 점검수량'!G54 -> 0 | N49: ='동별 점검수량'!H54 -> 0 | O49: =TRUNC(F49*$N49*SUM($I49:$J49),2) -> 0 | P49: =단가대비표!$G$7 -> 0 | Q49: =TRUNC(O49*P49,) -> 0 | R49: =TRUNC(G49*$N49*SUM($I49:$J49),2) -> 0 | S49: =단가대비표!$G$8 -> 0 | T49: =TRUNC(R49*S49,) -> 0 | U49: =TRUNC(H49*$N49*SUM($I49:$J49),2) -> 0 | V49: =단가대비표!$G$9 -> 0 | W49: =TRUNC(U49*V49,) -> 0 | X49: =Q49+T49+W49 -> 0
E50: 팽창탱크 | F50: 0.02 | G50: 0.16 | H50: 0.07 | J50: 1.2 | K50: 대 | L50: ='동별 점검수량'!F55 -> 1 | M50: ='동별 점검수량'!G55 -> 1 | N50: ='동별 점검수량'!H55 -> 1 | O50: =TRUNC(F50*$N50*SUM($I50:$J50),2) -> 0.02 | P50: =단가대비표!$G$7 -> 0 | Q50: =TRUNC(O50*P50,) -> 0 | R50: =TRUNC(G50*$N50*SUM($I50:$J50),2) -> 0.19 | S50: =단가대비표!$G$8 -> 0 | T50: =TRUNC(R50*S50,) -> 0 | U50: =TRUNC(H50*$N50*SUM($I50:$J50),2) -> 0.08 | V50: =단가대비표!$G$9 -> 0 | W50: =TRUNC(U50*V50,) -> 0 | X50: =Q50+T50+W50 -> 0
E51: 펌프 | F51: 0.1 | G51: 0.21 | H51: 0.13 | J51: 1.2 | K51: 대 | L51: ='동별 점검수량'!F56 -> 0 | M51: ='동별 점검수량'!G56 -> 0 | N51: ='동별 점검수량'!H56 -> 0 | O51: =TRUNC(F51*$N51*SUM($I51:$J51),2) -> 0 | P51: =단가대비표!$G$7 -> 0 | Q51: =TRUNC(O51*P51,) -> 0 | R51: =TRUNC(G51*$N51*SUM($I51:$J51),2) -> 0 | S51: =단가대비표!$G$8 -> 0 | T51: =TRUNC(R51*S51,) -> 0 | U51: =TRUNC(H51*$N51*SUM($I51:$J51),2) -> 0 | V51: =단가대비표!$G$9 -> 0 | W51: =TRUNC(U51*V51,) -> 0 | X51: =Q51+T51+W51 -> 0
E52: 신재생에너지 | F52: 0.09 | G52: 0.23 | H52: 0.09 | J52: 1.2 | K52: 대 | L52: ='동별 점검수량'!F57 -> 0 | M52: ='동별 점검수량'!G57 -> 0 | N52: ='동별 점검수량'!H57 -> 0 | O52: =TRUNC(F52*$N52*SUM($I52:$J52),2) -> 0 | P52: =단가대비표!$G$7 -> 0 | Q52: =TRUNC(O52*P52,) -> 0 | R52: =TRUNC(G52*$N52*SUM($I52:$J52),2) -> 0 | S52: =단가대비표!$G$8 -> 0 | T52: =TRUNC(R52*S52,) -> 0 | U52: =TRUNC(H52*$N52*SUM($I52:$J52),2) -> 0 | V52: =단가대비표!$G$9 -> 0 | W52: =TRUNC(U52*V52,) -> 0 | X52: =Q52+T52+W52 -> 0
E53: 패키지에어컨 | F53: 0.04 | G53: 0.11 | H53: 0.17 | J53: 1.2 | K53: 대 | L53: ='동별 점검수량'!F58 -> 36 | M53: ='동별 점검수량'!G58 -> 7.2 | N53: ='동별 점검수량'!H58 -> 8 | O53: =TRUNC(F53*$N53*SUM($I53:$J53),2) -> 0.38 | P53: =단가대비표!$G$7 -> 0 | Q53: =TRUNC(O53*P53,) -> 0 | R53: =TRUNC(G53*$N53*SUM($I53:$J53),2) -> 1.05 | S53: =단가대비표!$G$8 -> 0 | T53: =TRUNC(R53*S53,) -> 0 | U53: =TRUNC(H53*$N53*SUM($I53:$J53),2) -> 1.63 | V53: =단가대비표!$G$9 -> 0 | W53: =TRUNC(U53*V53,) -> 0 | X53: =Q53+T53+W53 -> 0
E54: 항온항습기 | F54: 0.08 | G54: 0.16 | H54: 0.18 | J54: 1.2 | K54: 대 | L54: ='동별 점검수량'!F59 -> 0 | M54: ='동별 점검수량'!G59 -> 0 | N54: ='동별 점검수량'!H59 -> 0 | O54: =TRUNC(F54*$N54*SUM($I54:$J54),2) -> 0 | P54: =단가대비표!$G$7 -> 0 | Q54: =TRUNC(O54*P54,) -> 0 | R54: =TRUNC(G54*$N54*SUM($I54:$J54),2) -> 0 | S54: =단가대비표!$G$8 -> 0 | T54: =TRUNC(R54*S54,) -> 0 | U54: =TRUNC(H54*$N54*SUM($I54:$J54),2) -> 0 | V54: =단가대비표!$G$9 -> 0 | W54: =TRUNC(U54*V54,) -> 0 | X54: =Q54+T54+W54 -> 0
B55: 공기조화설비 | E55: 공기조화기 | F55: 0.04 | G55: 0.18 | H55: 0.11 | J55: 1.2 | K55: 대 | L55: ='동별 점검수량'!F60 -> 5 | M55: ='동별 점검수량'!G60 -> 1 | N55: ='동별 점검수량'!H60 -> 1 | O55: =TRUNC(F55*$N55*SUM($I55:$J55),2) -> 0.04 | P55: =단가대비표!$G$7 -> 0 | Q55: =TRUNC(O55*P55,) -> 0 | R55: =TRUNC(G55*$N55*SUM($I55:$J55),2) -> 0.21 | S55: =단가대비표!$G$8 -> 0 | T55: =TRUNC(R55*S55,) -> 0 | U55: =TRUNC(H55*$N55*SUM($I55:$J55),2) -> 0.13 | V55: =단가대비표!$G$9 -> 0 | W55: =TRUNC(U55*V55,) -> 0 | X55: =Q55+T55+W55 -> 0
E56: 팬코일유닛 | F56: 0.04 | G56: 0.11 | H56: 0.13 | J56: 1.2 | K56: 대 | L56: ='동별 점검수량'!F61 -> 0 | M56: ='동별 점검수량'!G61 -> 0 | N56: ='동별 점검수량'!H61 -> 0 | O56: =TRUNC(F56*$N56*SUM($I56:$J56),2) -> 0 | P56: =단가대비표!$G$7 -> 0 | Q56: =TRUNC(O56*P56,) -> 0 | R56: =TRUNC(G56*$N56*SUM($I56:$J56),2) -> 0 | S56: =단가대비표!$G$8 -> 0 | T56: =TRUNC(R56*S56,) -> 0 | U56: =TRUNC(H56*$N56*SUM($I56:$J56),2) -> 0 | V56: =단가대비표!$G$9 -> 0 | W56: =TRUNC(U56*V56,) -> 0 | X56: =Q56+T56+W56 -> 0
B57: 환기설비 | E57: 환기설비 | F57: 0.04 | G57: 0.11 | H57: 0.13 | J57: 1.2 | K57: 대 | L57: ='동별 점검수량'!F62 -> 4 | M57: ='동별 점검수량'!G62 -> 0.8 | N57: ='동별 점검수량'!H62 -> 1 | O57: =TRUNC(F57*$N57*SUM($I57:$J57),2) -> 0.04 | P57: =단가대비표!$G$7 -> 0 | Q57: =TRUNC(O57*P57,) -> 0 | R57: =TRUNC(G57*$N57*SUM($I57:$J57),2) -> 0.13 | S57: =단가대비표!$G$8 -> 0 | T57: =TRUNC(R57*S57,) -> 0 | U57: =TRUNC(H57*$N57*SUM($I57:$J57),2) -> 0.15 | V57: =단가대비표!$G$9 -> 0 | W57: =TRUNC(U57*V57,) -> 0 | X57: =Q57+T57+W57 -> 0
E58: 필터 | F58: 0.04 | G58: 0.1 | H58: 0.1 | J58: 1.2 | K58: 대 | L58: ='동별 점검수량'!F63 -> 0 | M58: ='동별 점검수량'!G63 -> 0 | N58: ='동별 점검수량'!H63 -> 0 | O58: =TRUNC(F58*$N58*SUM($I58:$J58),2) -> 0 | P58: =단가대비표!$G$7 -> 0 | Q58: =TRUNC(O58*P58,) -> 0 | R58: =TRUNC(G58*$N58*SUM($I58:$J58),2) -> 0 | S58: =단가대비표!$G$8 -> 0 | T58: =TRUNC(R58*S58,) -> 0 | U58: =TRUNC(H58*$N58*SUM($I58:$J58),2) -> 0 | V58: =단가대비표!$G$9 -> 0 | W58: =TRUNC(U58*V58,) -> 0 | X58: =Q58+T58+W58 -> 0
B59: 위생기구설비 | F59: 0.04 | G59: 0.35 | H59: 0.2 | I59: 1 | K59: 식 | L59: ='동별 점검수량'!F64 -> 1 | M59: ='동별 점검수량'!G64 -> 1 | N59: ='동별 점검수량'!H64 -> 1 | O59: =TRUNC(F59*$N59*SUM($I59:$J59),2) -> 0.04 | P59: =단가대비표!$G$7 -> 0 | Q59: =TRUNC(O59*P59,) -> 0 | R59: =TRUNC(G59*$N59*SUM($I59:$J59),2) -> 0.35 | S59: =단가대비표!$G$8 -> 0 | T59: =TRUNC(R59*S59,) -> 0 | U59: =TRUNC(H59*$N59*SUM($I59:$J59),2) -> 0.2 | V59: =단가대비표!$G$9 -> 0 | W59: =TRUNC(U59*V59,) -> 0 | X59: =Q59+T59+W59 -> 0
B60: 급수·급탕 설비 | C60: 급수·급탕설비 | F60: 0.04 | G60: 0.23 | H60: 0.1 | I60: 1 | K60: 식 | L60: ='동별 점검수량'!F65 -> 1 | M60: ='동별 점검수량'!G65 -> 1 | N60: ='동별 점검수량'!H65 -> 1 | O60: =TRUNC(F60*$N60*SUM($I60:$J60),2) -> 0.04 | P60: =단가대비표!$G$7 -> 0 | Q60: =TRUNC(O60*P60,) -> 0 | R60: =TRUNC(G60*$N60*SUM($I60:$J60),2) -> 0.23 | S60: =단가대비표!$G$8 -> 0 | T60: =TRUNC(R60*S60,) -> 0 | U60: =TRUNC(H60*$N60*SUM($I60:$J60),2) -> 0.1 | V60: =단가대비표!$G$9 -> 0 | W60: =TRUNC(U60*V60,) -> 0 | X60: =Q60+T60+W60 -> 0
C61: 고·저수조 | F61: 0.04 | G61: 0.21 | H61: 0.13 | I61: 1 | K61: 식 | L61: ='동별 점검수량'!F66 -> 1 | M61: ='동별 점검수량'!G66 -> 1 | N61: ='동별 점검수량'!H66 -> 1 | O61: =TRUNC(F61*$N61*SUM($I61:$J61),2) -> 0.04 | P61: =단가대비표!$G$7 -> 0 | Q61: =TRUNC(O61*P61,) -> 0 | R61: =TRUNC(G61*$N61*SUM($I61:$J61),2) -> 0.21 | S61: =단가대비표!$G$8 -> 0 | T61: =TRUNC(R61*S61,) -> 0 | U61: =TRUNC(H61*$N61*SUM($I61:$J61),2) -> 0.13 | V61: =단가대비표!$G$9 -> 0 | W61: =TRUNC(U61*V61,) -> 0 | X61: =Q61+T61+W61 -> 0
B62: 오·배수 통기 및 우수배수설비 | F62: 0.04 | G62: 0.29 | H62: 0.17 | I62: 1 | K62: 식 | L62: ='동별 점검수량'!F67 -> 1 | M62: ='동별 점검수량'!G67 -> 1 | N62: ='동별 점검수량'!H67 -> 1 | O62: =TRUNC(F62*$N62*SUM($I62:$J62),2) -> 0.04 | P62: =단가대비표!$G$7 -> 0 | Q62: =TRUNC(O62*P62,) -> 0 | R62: =TRUNC(G62*$N62*SUM($I62:$J62),2) -> 0.29 | S62: =단가대비표!$G$8 -> 0 | T62: =TRUNC(R62*S62,) -> 0 | U62: =TRUNC(H62*$N62*SUM($I62:$J62),2) -> 0.17 | V62: =단가대비표!$G$9 -> 0 | W62: =TRUNC(U62*V62,) -> 0 | X62: =Q62+T62+W62 -> 0
B63: 오수정화 및 물재이용설비 | D63: 오수정화설비 | F63: 0.04 | G63: 0.29 | H63: 0.17 | I63: 1 | K63: 식 | L63: ='동별 점검수량'!F68 -> 1 | M63: ='동별 점검수량'!G68 -> 1 | N63: ='동별 점검수량'!H68 -> 1 | O63: =TRUNC(F63*$N63*SUM($I63:$J63),2) -> 0.04 | P63: =단가대비표!$G$7 -> 0 | Q63: =TRUNC(O63*P63,) -> 0 | R63: =TRUNC(G63*$N63*SUM($I63:$J63),2) -> 0.29 | S63: =단가대비표!$G$8 -> 0 | T63: =TRUNC(R63*S63,) -> 0 | U63: =TRUNC(H63*$N63*SUM($I63:$J63),2) -> 0.17 | V63: =단가대비표!$G$9 -> 0 | W63: =TRUNC(U63*V63,) -> 0 | X63: =Q63+T63+W63 -> 0
D64: 물 재이용설비 | F64: 0.04 | G64: 0.29 | H64: 0.17 | I64: 1 | K64: 식 | L64: ='동별 점검수량'!F69 -> 0 | M64: ='동별 점검수량'!G69 -> 0 | N64: ='동별 점검수량'!H69 -> 0 | O64: =TRUNC(F64*$N64*SUM($I64:$J64),2) -> 0 | P64: =단가대비표!$G$7 -> 0 | Q64: =TRUNC(O64*P64,) -> 0 | R64: =TRUNC(G64*$N64*SUM($I64:$J64),2) -> 0 | S64: =단가대비표!$G$8 -> 0 | T64: =TRUNC(R64*S64,) -> 0 | U64: =TRUNC(H64*$N64*SUM($I64:$J64),2) -> 0 | V64: =단가대비표!$G$9 -> 0 | W64: =TRUNC(U64*V64,) -> 0 | X64: =Q64+T64+W64 -> 0
B65: 배관설비 | F65: 0.04 | G65: 1.13 | H65: 1.25 | I65: 1 | K65: 식 | L65: ='동별 점검수량'!F70 -> 1 | M65: ='동별 점검수량'!G70 -> 1 | N65: ='동별 점검수량'!H70 -> 1 | O65: =TRUNC(F65*$N65*SUM($I65:$J65),2) -> 0.04 | P65: =단가대비표!$G$7 -> 0 | Q65: =TRUNC(O65*P65,) -> 0 | R65: =TRUNC(G65*$N65*SUM($I65:$J65),2) -> 1.13 | S65: =단가대비표!$G$8 -> 0 | T65: =TRUNC(R65*S65,) -> 0 | U65: =TRUNC(H65*$N65*SUM($I65:$J65),2) -> 1.25 | V65: =단가대비표!$G$9 -> 0 | W65: =TRUNC(U65*V65,) -> 0 | X65: =Q65+T65+W65 -> 0
B66: 덕트설비 | F66: 0.04 | G66: 0.52 | H66: 0.4 | I66: 1 | K66: 식 | L66: ='동별 점검수량'!F71 -> 1 | M66: ='동별 점검수량'!G71 -> 1 | N66: ='동별 점검수량'!H71 -> 1 | O66: =TRUNC(F66*$N66*SUM($I66:$J66),2) -> 0.04 | P66: =단가대비표!$G$7 -> 0 | Q66: =TRUNC(O66*P66,) -> 0 | R66: =TRUNC(G66*$N66*SUM($I66:$J66),2) -> 0.52 | S66: =단가대비표!$G$8 -> 0 | T66: =TRUNC(R66*S66,) -> 0 | U66: =TRUNC(H66*$N66*SUM($I66:$J66),2) -> 0.4 | V66: =단가대비표!$G$9 -> 0 | W66: =TRUNC(U66*V66,) -> 0 | X66: =Q66+T66+W66 -> 0
B67: 보온설비 | F67: 0.04 | G67: 0.96 | H67: 1 | I67: 1 | K67: 식 | L67: ='동별 점검수량'!F72 -> 1 | M67: ='동별 점검수량'!G72 -> 1 | N67: ='동별 점검수량'!H72 -> 1 | O67: =TRUNC(F67*$N67*SUM($I67:$J67),2) -> 0.04 | P67: =단가대비표!$G$7 -> 0 | Q67: =TRUNC(O67*P67,) -> 0 | R67: =TRUNC(G67*$N67*SUM($I67:$J67),2) -> 0.96 | S67: =단가대비표!$G$8 -> 0 | T67: =TRUNC(R67*S67,) -> 0 | U67: =TRUNC(H67*$N67*SUM($I67:$J67),2) -> 1 | V67: =단가대비표!$G$9 -> 0 | W67: =TRUNC(U67*V67,) -> 0 | X67: =Q67+T67+W67 -> 0
B68: 자동제어설비 | F68: 0.1 | G68: 0.75 | H68: 0.5 | I68: 1 | K68: 식 | L68: ='동별 점검수량'!F73 -> 1 | M68: ='동별 점검수량'!G73 -> 1 | N68: ='동별 점검수량'!H73 -> 1 | O68: =TRUNC(F68*$N68*SUM($I68:$J68),2) -> 0.1 | P68: =단가대비표!$G$7 -> 0 | Q68: =TRUNC(O68*P68,) -> 0 | R68: =TRUNC(G68*$N68*SUM($I68:$J68),2) -> 0.75 | S68: =단가대비표!$G$8 -> 0 | T68: =TRUNC(R68*S68,) -> 0 | U68: =TRUNC(H68*$N68*SUM($I68:$J68),2) -> 0.5 | V68: =단가대비표!$G$9 -> 0 | W68: =TRUNC(U68*V68,) -> 0 | X68: =Q68+T68+W68 -> 0
B69: 방음·방진·내진 설비 | F69: 0.04 | G69: 0.47 | H69: 0.42 | I69: 1 | K69: 식 | L69: ='동별 점검수량'!F74 -> 1 | M69: ='동별 점검수량'!G74 -> 1 | N69: ='동별 점검수량'!H74 -> 1 | O69: =TRUNC(F69*$N69*SUM($I69:$J69),2) -> 0.04 | P69: =단가대비표!$G$7 -> 0 | Q69: =TRUNC(O69*P69,) -> 0 | R69: =TRUNC(G69*$N69*SUM($I69:$J69),2) -> 0.47 | S69: =단가대비표!$G$8 -> 0 | T69: =TRUNC(R69*S69,) -> 0 | U69: =TRUNC(H69*$N69*SUM($I69:$J69),2) -> 0.42 | V69: =단가대비표!$G$9 -> 0 | W69: =TRUNC(U69*V69,) -> 0 | X69: =Q69+T69+W69 -> 0
B70: 소 계 | O70: =TRUNC(SUBTOTAL(9,O45:O69),2) -> 1.06 | Q70: =TRUNC(SUBTOTAL(9,Q45:Q69),) -> 0 | R70: =TRUNC(SUBTOTAL(9,R45:R69),2) -> 7.11 | T70: =TRUNC(SUBTOTAL(9,T45:T69),) -> 0 | U70: =TRUNC(SUBTOTAL(9,U45:U69),2) -> 6.55 | W70: =TRUNC(SUBTOTAL(9,W45:W69),) -> 0 | X70: =TRUNC(SUBTOTAL(9,X45:X69),) -> 0
B72: 2-3. 원천관
B73: 열원 및 냉난방 설비 | E73: 냉동기 | F73: 0.13 | G73: 0.28 | H73: 0.16 | J73: 1.2 | K73: 대 | L73: ='동별 점검수량'!F86 -> 0 | M73: ='동별 점검수량'!G86 -> 0 | N73: ='동별 점검수량'!H86 -> 0 | O73: =TRUNC(F73*$N73*SUM($I73:$J73),2) -> 0 | P73: =단가대비표!$G$7 -> 0 | Q73: =TRUNC(O73*P73,) -> 0 | R73: =TRUNC(G73*$N73*SUM($I73:$J73),2) -> 0 | S73: =단가대비표!$G$8 -> 0 | T73: =TRUNC(R73*S73,) -> 0 | U73: =TRUNC(H73*$N73*SUM($I73:$J73),2) -> 0 | V73: =단가대비표!$G$9 -> 0 | W73: =TRUNC(U73*V73,) -> 0 | X73: =Q73+T73+W73 -> 0
E74: 냉각탑 | F74: 0.1 | G74: 0.25 | H74: 0.17 | J74: 1.2 | K74: 대 | L74: ='동별 점검수량'!F87 -> 0 | M74: ='동별 점검수량'!G87 -> 0 | N74: ='동별 점검수량'!H87 -> 0 | O74: =TRUNC(F74*$N74*SUM($I74:$J74),2) -> 0 | P74: =단가대비표!$G$7 -> 0 | Q74: =TRUNC(O74*P74,) -> 0 | R74: =TRUNC(G74*$N74*SUM($I74:$J74),2) -> 0 | S74: =단가대비표!$G$8 -> 0 | T74: =TRUNC(R74*S74,) -> 0 | U74: =TRUNC(H74*$N74*SUM($I74:$J74),2) -> 0 | V74: =단가대비표!$G$9 -> 0 | W74: =TRUNC(U74*V74,) -> 0 | X74: =Q74+T74+W74 -> 0
E75: 축열조 | F75: 0.1 | G75: 0.27 | H75: 0.17 | J75: 1.2 | K75: 대 | L75: ='동별 점검수량'!F88 -> 0 | M75: ='동별 점검수량'!G88 -> 0 | N75: ='동별 점검수량'!H88 -> 0 | O75: =TRUNC(F75*$N75*SUM($I75:$J75),2) -> 0 | P75: =단가대비표!$G$7 -> 0 | Q75: =TRUNC(O75*P75,) -> 0 | R75: =TRUNC(G75*$N75*SUM($I75:$J75),2) -> 0 | S75: =단가대비표!$G$8 -> 0 | T75: =TRUNC(R75*S75,) -> 0 | U75: =TRUNC(H75*$N75*SUM($I75:$J75),2) -> 0 | V75: =단가대비표!$G$9 -> 0 | W75: =TRUNC(U75*V75,) -> 0 | X75: =Q75+T75+W75 -> 0
E76: 보일러 | F76: 0.1 | G76: 0.28 | H76: 0.19 | J76: 1.2 | K76: 대 | L76: ='동별 점검수량'!F89 -> 2 | M76: ='동별 점검수량'!G89 -> 1 | N76: ='동별 점검수량'!H89 -> 1 | O76: =TRUNC(F76*$N76*SUM($I76:$J76),2) -> 0.12 | P76: =단가대비표!$G$7 -> 0 | Q76: =TRUNC(O76*P76,) -> 0 | R76: =TRUNC(G76*$N76*SUM($I76:$J76),2) -> 0.33 | S76: =단가대비표!$G$8 -> 0 | T76: =TRUNC(R76*S76,) -> 0 | U76: =TRUNC(H76*$N76*SUM($I76:$J76),2) -> 0.22 | V76: =단가대비표!$G$9 -> 0 | W76: =TRUNC(U76*V76,) -> 0 | X76: =Q76+T76+W76 -> 0
E77: 열교환기 | F77: 0.04 | G77: 0.16 | H77: 0.11 | J77: 1.2 | K77: 대 | L77: ='동별 점검수량'!F90 -> 0 | M77: ='동별 점검수량'!G90 -> 0 | N77: ='동별 점검수량'!H90 -> 0 | O77: =TRUNC(F77*$N77*SUM($I77:$J77),2) -> 0 | P77: =단가대비표!$G$7 -> 0 | Q77: =TRUNC(O77*P77,) -> 0 | R77: =TRUNC(G77*$N77*SUM($I77:$J77),2) -> 0 | S77: =단가대비표!$G$8 -> 0 | T77: =TRUNC(R77*S77,) -> 0 | U77: =TRUNC(H77*$N77*SUM($I77:$J77),2) -> 0 | V77: =단가대비표!$G$9 -> 0 | W77: =TRUNC(U77*V77,) -> 0 | X77: =Q77+T77+W77 -> 0
E78: 팽창탱크 | F78: 0.02 | G78: 0.16 | H78: 0.07 | J78: 1.2 | K78: 대 | L78: ='동별 점검수량'!F91 -> 0 | M78: ='동별 점검수량'!G91 -> 0 | N78: ='동별 점검수량'!H91 -> 0 | O78: =TRUNC(F78*$N78*SUM($I78:$J78),2) -> 0 | P78: =단가대비표!$G$7 -> 0 | Q78: =TRUNC(O78*P78,) -> 0 | R78: =TRUNC(G78*$N78*SUM($I78:$J78),2) -> 0 | S78: =단가대비표!$G$8 -> 0 | T78: =TRUNC(R78*S78,) -> 0 | U78: =TRUNC(H78*$N78*SUM($I78:$J78),2) -> 0 | V78: =단가대비표!$G$9 -> 0 | W78: =TRUNC(U78*V78,) -> 0 | X78: =Q78+T78+W78 -> 0
E79: 펌프 | F79: 0.1 | G79: 0.21 | H79: 0.13 | J79: 1.2 | K79: 대 | L79: ='동별 점검수량'!F92 -> 0 | M79: ='동별 점검수량'!G92 -> 0 | N79: ='동별 점검수량'!H92 -> 0 | O79: =TRUNC(F79*$N79*SUM($I79:$J79),2) -> 0 | P79: =단가대비표!$G$7 -> 0 | Q79: =TRUNC(O79*P79,) -> 0 | R79: =TRUNC(G79*$N79*SUM($I79:$J79),2) -> 0 | S79: =단가대비표!$G$8 -> 0 | T79: =TRUNC(R79*S79,) -> 0 | U79: =TRUNC(H79*$N79*SUM($I79:$J79),2) -> 0 | V79: =단가대비표!$G$9 -> 0 | W79: =TRUNC(U79*V79,) -> 0 | X79: =Q79+T79+W79 -> 0
E80: 신재생에너지 | F80: 0.09 | G80: 0.23 | H80: 0.09 | J80: 1.2 | K80: 대 | L80: ='동별 점검수량'!F93 -> 0 | M80: ='동별 점검수량'!G93 -> 0 | N80: ='동별 점검수량'!H93 -> 0 | O80: =TRUNC(F80*$N80*SUM($I80:$J80),2) -> 0 | P80: =단가대비표!$G$7 -> 0 | Q80: =TRUNC(O80*P80,) -> 0 | R80: =TRUNC(G80*$N80*SUM($I80:$J80),2) -> 0 | S80: =단가대비표!$G$8 -> 0 | T80: =TRUNC(R80*S80,) -> 0 | U80: =TRUNC(H80*$N80*SUM($I80:$J80),2) -> 0 | V80: =단가대비표!$G$9 -> 0 | W80: =TRUNC(U80*V80,) -> 0 | X80: =Q80+T80+W80 -> 0
E81: 패키지에어컨 | F81: 0.04 | G81: 0.11 | H81: 0.17 | J81: 1.2 | K81: 대 | L81: ='동별 점검수량'!F94 -> 66 | M81: ='동별 점검수량'!G94 -> 13.2 | N81: ='동별 점검수량'!H94 -> 14 | O81: =TRUNC(F81*$N81*SUM($I81:$J81),2) -> 0.67 | P81: =단가대비표!$G$7 -> 0 | Q81: =TRUNC(O81*P81,) -> 0 | R81: =TRUNC(G81*$N81*SUM($I81:$J81),2) -> 1.84 | S81: =단가대비표!$G$8 -> 0 | T81: =TRUNC(R81*S81,) -> 0 | U81: =TRUNC(H81*$N81*SUM($I81:$J81),2) -> 2.85 | V81: =단가대비표!$G$9 -> 0 | W81: =TRUNC(U81*V81,) -> 0 | X81: =Q81+T81+W81 -> 0
E82: 항온항습기 | F82: 0.08 | G82: 0.16 | H82: 0.18 | J82: 1.2 | K82: 대 | L82: ='동별 점검수량'!F95 -> 0 | M82: ='동별 점검수량'!G95 -> 0 | N82: ='동별 점검수량'!H95 -> 0 | O82: =TRUNC(F82*$N82*SUM($I82:$J82),2) -> 0 | P82: =단가대비표!$G$7 -> 0 | Q82: =TRUNC(O82*P82,) -> 0 | R82: =TRUNC(G82*$N82*SUM($I82:$J82),2) -> 0 | S82: =단가대비표!$G$8 -> 0 | T82: =TRUNC(R82*S82,) -> 0 | U82: =TRUNC(H82*$N82*SUM($I82:$J82),2) -> 0 | V82: =단가대비표!$G$9 -> 0 | W82: =TRUNC(U82*V82,) -> 0 | X82: =Q82+T82+W82 -> 0
B83: 공기조화설비 | E83: 공기조화기 | F83: 0.04 | G83: 0.18 | H83: 0.11 | J83: 1.2 | K83: 대 | L83: ='동별 점검수량'!F96 -> 1 | M83: ='동별 점검수량'!G96 -> 0.2 | N83: ='동별 점검수량'!H96 -> 1 | O83: =TRUNC(F83*$N83*SUM($I83:$J83),2) -> 0.04 | P83: =단가대비표!$G$7 -> 0 | Q83: =TRUNC(O83*P83,) -> 0 | R83: =TRUNC(G83*$N83*SUM($I83:$J83),2) -> 0.21 | S83: =단가대비표!$G$8 -> 0 | T83: =TRUNC(R83*S83,) -> 0 | U83: =TRUNC(H83*$N83*SUM($I83:$J83),2) -> 0.13 | V83: =단가대비표!$G$9 -> 0 | W83: =TRUNC(U83*V83,) -> 0 | X83: =Q83+T83+W83 -> 0
E84: 팬코일유닛 | F84: 0.04 | G84: 0.11 | H84: 0.13 | J84: 1.2 | K84: 대 | L84: ='동별 점검수량'!F97 -> 0 | M84: ='동별 점검수량'!G97 -> 0 | N84: ='동별 점검수량'!H97 -> 0 | O84: =TRUNC(F84*$N84*SUM($I84:$J84),2) -> 0 | P84: =단가대비표!$G$7 -> 0 | Q84: =TRUNC(O84*P84,) -> 0 | R84: =TRUNC(G84*$N84*SUM($I84:$J84),2) -> 0 | S84: =단가대비표!$G$8 -> 0 | T84: =TRUNC(R84*S84,) -> 0 | U84: =TRUNC(H84*$N84*SUM($I84:$J84),2) -> 0 | V84: =단가대비표!$G$9 -> 0 | W84: =TRUNC(U84*V84,) -> 0 | X84: =Q84+T84+W84 -> 0
B85: 환기설비 | E85: 환기설비 | F85: 0.04 | G85: 0.11 | H85: 0.13 | J85: 1.2 | K85: 대 | L85: ='동별 점검수량'!F98 -> 4 | M85: ='동별 점검수량'!G98 -> 0.8 | N85: ='동별 점검수량'!H98 -> 1 | O85: =TRUNC(F85*$N85*SUM($I85:$J85),2) -> 0.04 | P85: =단가대비표!$G$7 -> 0 | Q85: =TRUNC(O85*P85,) -> 0 | R85: =TRUNC(G85*$N85*SUM($I85:$J85),2) -> 0.13 | S85: =단가대비표!$G$8 -> 0 | T85: =TRUNC(R85*S85,) -> 0 | U85: =TRUNC(H85*$N85*SUM($I85:$J85),2) -> 0.15 | V85: =단가대비표!$G$9 -> 0 | W85: =TRUNC(U85*V85,) -> 0 | X85: =Q85+T85+W85 -> 0
E86: 필터 | F86: 0.04 | G86: 0.1 | H86: 0.1 | J86: 1.2 | K86: 대 | L86: ='동별 점검수량'!F99 -> 0 | M86: ='동별 점검수량'!G99 -> 0 | N86: ='동별 점검수량'!H99 -> 0 | O86: =TRUNC(F86*$N86*SUM($I86:$J86),2) -> 0 | P86: =단가대비표!$G$7 -> 0 | Q86: =TRUNC(O86*P86,) -> 0 | R86: =TRUNC(G86*$N86*SUM($I86:$J86),2) -> 0 | S86: =단가대비표!$G$8 -> 0 | T86: =TRUNC(R86*S86,) -> 0 | U86: =TRUNC(H86*$N86*SUM($I86:$J86),2) -> 0 | V86: =단가대비표!$G$9 -> 0 | W86: =TRUNC(U86*V86,) -> 0 | X86: =Q86+T86+W86 -> 0
B87: 위생기구설비 | F87: 0.04 | G87: 0.35 | H87: 0.2 | I87: 1 | K87: 식 | L87: ='동별 점검수량'!F100 -> 1 | M87: ='동별 점검수량'!G100 -> 1 | N87: ='동별 점검수량'!H100 -> 1 | O87: =TRUNC(F87*$N87*SUM($I87:$J87),2) -> 0.04 | P87: =단가대비표!$G$7 -> 0 | Q87: =TRUNC(O87*P87,) -> 0 | R87: =TRUNC(G87*$N87*SUM($I87:$J87),2) -> 0.35 | S87: =단가대비표!$G$8 -> 0 | T87: =TRUNC(R87*S87,) -> 0 | U87: =TRUNC(H87*$N87*SUM($I87:$J87),2) -> 0.2 | V87: =단가대비표!$G$9 -> 0 | W87: =TRUNC(U87*V87,) -> 0 | X87: =Q87+T87+W87 -> 0
B88: 급수·급탕 설비 | C88: 급수·급탕설비 | F88: 0.04 | G88: 0.23 | H88: 0.1 | I88: 1 | K88: 식 | L88: ='동별 점검수량'!F101 -> 1 | M88: ='동별 점검수량'!G101 -> 1 | N88: ='동별 점검수량'!H101 -> 1 | O88: =TRUNC(F88*$N88*SUM($I88:$J88),2) -> 0.04 | P88: =단가대비표!$G$7 -> 0 | Q88: =TRUNC(O88*P88,) -> 0 | R88: =TRUNC(G88*$N88*SUM($I88:$J88),2) -> 0.23 | S88: =단가대비표!$G$8 -> 0 | T88: =TRUNC(R88*S88,) -> 0 | U88: =TRUNC(H88*$N88*SUM($I88:$J88),2) -> 0.1 | V88: =단가대비표!$G$9 -> 0 | W88: =TRUNC(U88*V88,) -> 0 | X88: =Q88+T88+W88 -> 0
C89: 고·저수조 | F89: 0.04 | G89: 0.21 | H89: 0.13 | I89: 1 | K89: 식 | L89: ='동별 점검수량'!F102 -> 1 | M89: ='동별 점검수량'!G102 -> 1 | N89: ='동별 점검수량'!H102 -> 1 | O89: =TRUNC(F89*$N89*SUM($I89:$J89),2) -> 0.04 | P89: =단가대비표!$G$7 -> 0 | Q89: =TRUNC(O89*P89,) -> 0 | R89: =TRUNC(G89*$N89*SUM($I89:$J89),2) -> 0.21 | S89: =단가대비표!$G$8 -> 0 | T89: =TRUNC(R89*S89,) -> 0 | U89: =TRUNC(H89*$N89*SUM($I89:$J89),2) -> 0.13 | V89: =단가대비표!$G$9 -> 0 | W89: =TRUNC(U89*V89,) -> 0 | X89: =Q89+T89+W89 -> 0
B90: 오·배수 통기 및 우수배수설비 | F90: 0.04 | G90: 0.29 | H90: 0.17 | I90: 1 | K90: 식 | L90: ='동별 점검수량'!F103 -> 1 | M90: ='동별 점검수량'!G103 -> 1 | N90: ='동별 점검수량'!H103 -> 1 | O90: =TRUNC(F90*$N90*SUM($I90:$J90),2) -> 0.04 | P90: =단가대비표!$G$7 -> 0 | Q90: =TRUNC(O90*P90,) -> 0 | R90: =TRUNC(G90*$N90*SUM($I90:$J90),2) -> 0.29 | S90: =단가대비표!$G$8 -> 0 | T90: =TRUNC(R90*S90,) -> 0 | U90: =TRUNC(H90*$N90*SUM($I90:$J90),2) -> 0.17 | V90: =단가대비표!$G$9 -> 0 | W90: =TRUNC(U90*V90,) -> 0 | X90: =Q90+T90+W90 -> 0
B91: 오수정화 및 물재이용설비 | D91: 오수정화설비 | F91: 0.04 | G91: 0.29 | H91: 0.17 | I91: 1 | K91: 식 | L91: ='동별 점검수량'!F104 -> 1 | M91: ='동별 점검수량'!G104 -> 1 | N91: ='동별 점검수량'!H104 -> 1 | O91: =TRUNC(F91*$N91*SUM($I91:$J91),2) -> 0.04 | P91: =단가대비표!$G$7 -> 0 | Q91: =TRUNC(O91*P91,) -> 0 | R91: =TRUNC(G91*$N91*SUM($I91:$J91),2) -> 0.29 | S91: =단가대비표!$G$8 -> 0 | T91: =TRUNC(R91*S91,) -> 0 | U91: =TRUNC(H91*$N91*SUM($I91:$J91),2) -> 0.17 | V91: =단가대비표!$G$9 -> 0 | W91: =TRUNC(U91*V91,) -> 0 | X91: =Q91+T91+W91 -> 0
D92: 물 재이용설비 | F92: 0.04 | G92: 0.29 | H92: 0.17 | I92: 1 | K92: 식 | L92: ='동별 점검수량'!F105 -> 0 | M92: ='동별 점검수량'!G105 -> 0 | N92: ='동별 점검수량'!H105 -> 0 | O92: =TRUNC(F92*$N92*SUM($I92:$J92),2) -> 0 | P92: =단가대비표!$G$7 -> 0 | Q92: =TRUNC(O92*P92,) -> 0 | R92: =TRUNC(G92*$N92*SUM($I92:$J92),2) -> 0 | S92: =단가대비표!$G$8 -> 0 | T92: =TRUNC(R92*S92,) -> 0 | U92: =TRUNC(H92*$N92*SUM($I92:$J92),2) -> 0 | V92: =단가대비표!$G$9 -> 0 | W92: =TRUNC(U92*V92,) -> 0 | X92: =Q92+T92+W92 -> 0
B93: 배관설비 | F93: 0.04 | G93: 1.13 | H93: 1.25 | I93: 1 | K93: 식 | L93: ='동별 점검수량'!F106 -> 1 | M93: ='동별 점검수량'!G106 -> 1 | N93: ='동별 점검수량'!H106 -> 1 | O93: =TRUNC(F93*$N93*SUM($I93:$J93),2) -> 0.04 | P93: =단가대비표!$G$7 -> 0 | Q93: =TRUNC(O93*P93,) -> 0 | R93: =TRUNC(G93*$N93*SUM($I93:$J93),2) -> 1.13 | S93: =단가대비표!$G$8 -> 0 | T93: =TRUNC(R93*S93,) -> 0 | U93: =TRUNC(H93*$N93*SUM($I93:$J93),2) -> 1.25 | V93: =단가대비표!$G$9 -> 0 | W93: =TRUNC(U93*V93,) -> 0 | X93: =Q93+T93+W93 -> 0
B94: 덕트설비 | F94: 0.04 | G94: 0.52 | H94: 0.4 | I94: 1 | K94: 식 | L94: ='동별 점검수량'!F107 -> 1 | M94: ='동별 점검수량'!G107 -> 1 | N94: ='동별 점검수량'!H107 -> 1 | O94: =TRUNC(F94*$N94*SUM($I94:$J94),2) -> 0.04 | P94: =단가대비표!$G$7 -> 0 | Q94: =TRUNC(O94*P94,) -> 0 | R94: =TRUNC(G94*$N94*SUM($I94:$J94),2) -> 0.52 | S94: =단가대비표!$G$8 -> 0 | T94: =TRUNC(R94*S94,) -> 0 | U94: =TRUNC(H94*$N94*SUM($I94:$J94),2) -> 0.4 | V94: =단가대비표!$G$9 -> 0 | W94: =TRUNC(U94*V94,) -> 0 | X94: =Q94+T94+W94 -> 0
B95: 보온설비 | F95: 0.04 | G95: 0.96 | H95: 1 | I95: 1 | K95: 식 | L95: ='동별 점검수량'!F108 -> 1 | M95: ='동별 점검수량'!G108 -> 1 | N95: ='동별 점검수량'!H108 -> 1 | O95: =TRUNC(F95*$N95*SUM($I95:$J95),2) -> 0.04 | P95: =단가대비표!$G$7 -> 0 | Q95: =TRUNC(O95*P95,) -> 0 | R95: =TRUNC(G95*$N95*SUM($I95:$J95),2) -> 0.96 | S95: =단가대비표!$G$8 -> 0 | T95: =TRUNC(R95*S95,) -> 0 | U95: =TRUNC(H95*$N95*SUM($I95:$J95),2) -> 1 | V95: =단가대비표!$G$9 -> 0 | W95: =TRUNC(U95*V95,) -> 0 | X95: =Q95+T95+W95 -> 0
B96: 자동제어설비 | F96: 0.1 | G96: 0.75 | H96: 0.5 | I96: 1 | K96: 식 | L96: ='동별 점검수량'!F109 -> 1 | M96: ='동별 점검수량'!G109 -> 1 | N96: ='동별 점검수량'!H109 -> 1 | O96: =TRUNC(F96*$N96*SUM($I96:$J96),2) -> 0.1 | P96: =단가대비표!$G$7 -> 0 | Q96: =TRUNC(O96*P96,) -> 0 | R96: =TRUNC(G96*$N96*SUM($I96:$J96),2) -> 0.75 | S96: =단가대비표!$G$8 -> 0 | T96: =TRUNC(R96*S96,) -> 0 | U96: =TRUNC(H96*$N96*SUM($I96:$J96),2) -> 0.5 | V96: =단가대비표!$G$9 -> 0 | W96: =TRUNC(U96*V96,) -> 0 | X96: =Q96+T96+W96 -> 0
B97: 방음·방진·내진 설비 | F97: 0.04 | G97: 0.47 | H97: 0.42 | I97: 1 | K97: 식 | L97: ='동별 점검수량'!F110 -> 1 | M97: ='동별 점검수량'!G110 -> 1 | N97: ='동별 점검수량'!H110 -> 1 | O97: =TRUNC(F97*$N97*SUM($I97:$J97),2) -> 0.04 | P97: =단가대비표!$G$7 -> 0 | Q97: =TRUNC(O97*P97,) -> 0 | R97: =TRUNC(G97*$N97*SUM($I97:$J97),2) -> 0.47 | S97: =단가대비표!$G$8 -> 0 | T97: =TRUNC(R97*S97,) -> 0 | U97: =TRUNC(H97*$N97*SUM($I97:$J97),2) -> 0.42 | V97: =단가대비표!$G$9 -> 0 | W97: =TRUNC(U97*V97,) -> 0 | X97: =Q97+T97+W97 -> 0
B98: 소 계 | O98: =TRUNC(SUBTOTAL(9,O73:O97),2) -> 1.33 | Q98: =TRUNC(SUBTOTAL(9,Q73:Q97),) -> 0 | R98: =TRUNC(SUBTOTAL(9,R73:R97),2) -> 7.71 | T98: =TRUNC(SUBTOTAL(9,T73:T97),) -> 0 | U98: =TRUNC(SUBTOTAL(9,U73:U97),2) -> 7.69 | W98: =TRUNC(SUBTOTAL(9,W73:W97),) -> 0 | X98: =TRUNC(SUBTOTAL(9,X73:X97),) -> 0
B100: 2-4. 팔달관
B101: 열원 및 냉난방 설비 | E101: 냉동기 | F101: 0.13 | G101: 0.28 | H101: 0.16 | J101: 1.2 | K101: 대 | L101: ='동별 점검수량'!F122 -> 0 | M101: ='동별 점검수량'!G122 -> 0 | N101: ='동별 점검수량'!H122 -> 0 | O101: =TRUNC(F101*$N101*SUM($I101:$J101),2) -> 0 | P101: =단가대비표!$G$7 -> 0 | Q101: =TRUNC(O101*P101,) -> 0 | R101: =TRUNC(G101*$N101*SUM($I101:$J101),2) -> 0 | S101: =단가대비표!$G$8 -> 0 | T101: =TRUNC(R101*S101,) -> 0 | U101: =TRUNC(H101*$N101*SUM($I101:$J101),2) -> 0 | V101: =단가대비표!$G$9 -> 0 | W101: =TRUNC(U101*V101,) -> 0 | X101: =Q101+T101+W101 -> 0
E102: 냉각탑 | F102: 0.1 | G102: 0.25 | H102: 0.17 | J102: 1.2 | K102: 대 | L102: ='동별 점검수량'!F123 -> 0 | M102: ='동별 점검수량'!G123 -> 0 | N102: ='동별 점검수량'!H123 -> 0 | O102: =TRUNC(F102*$N102*SUM($I102:$J102),2) -> 0 | P102: =단가대비표!$G$7 -> 0 | Q102: =TRUNC(O102*P102,) -> 0 | R102: =TRUNC(G102*$N102*SUM($I102:$J102),2) -> 0 | S102: =단가대비표!$G$8 -> 0 | T102: =TRUNC(R102*S102,) -> 0 | U102: =TRUNC(H102*$N102*SUM($I102:$J102),2) -> 0 | V102: =단가대비표!$G$9 -> 0 | W102: =TRUNC(U102*V102,) -> 0 | X102: =Q102+T102+W102 -> 0
E103: 축열조 | F103: 0.1 | G103: 0.27 | H103: 0.17 | J103: 1.2 | K103: 대 | L103: ='동별 점검수량'!F124 -> 0 | M103: ='동별 점검수량'!G124 -> 0 | N103: ='동별 점검수량'!H124 -> 0 | O103: =TRUNC(F103*$N103*SUM($I103:$J103),2) -> 0 | P103: =단가대비표!$G$7 -> 0 | Q103: =TRUNC(O103*P103,) -> 0 | R103: =TRUNC(G103*$N103*SUM($I103:$J103),2) -> 0 | S103: =단가대비표!$G$8 -> 0 | T103: =TRUNC(R103*S103,) -> 0 | U103: =TRUNC(H103*$N103*SUM($I103:$J103),2) -> 0 | V103: =단가대비표!$G$9 -> 0 | W103: =TRUNC(U103*V103,) -> 0 | X103: =Q103+T103+W103 -> 0
E104: 보일러 | F104: 0.1 | G104: 0.28 | H104: 0.19 | J104: 1.2 | K104: 대 | L104: ='동별 점검수량'!F125 -> 2 | M104: ='동별 점검수량'!G125 -> 1 | N104: ='동별 점검수량'!H125 -> 1 | O104: =TRUNC(F104*$N104*SUM($I104:$J104),2) -> 0.12 | P104: =단가대비표!$G$7 -> 0 | Q104: =TRUNC(O104*P104,) -> 0 | R104: =TRUNC(G104*$N104*SUM($I104:$J104),2) -> 0.33 | S104: =단가대비표!$G$8 -> 0 | T104: =TRUNC(R104*S104,) -> 0 | U104: =TRUNC(H104*$N104*SUM($I104:$J104),2) -> 0.22 | V104: =단가대비표!$G$9 -> 0 | W104: =TRUNC(U104*V104,) -> 0 | X104: =Q104+T104+W104 -> 0
E105: 열교환기 | F105: 0.04 | G105: 0.16 | H105: 0.11 | J105: 1.2 | K105: 대 | L105: ='동별 점검수량'!F126 -> 0 | M105: ='동별 점검수량'!G126 -> 0 | N105: ='동별 점검수량'!H126 -> 0 | O105: =TRUNC(F105*$N105*SUM($I105:$J105),2) -> 0 | P105: =단가대비표!$G$7 -> 0 | Q105: =TRUNC(O105*P105,) -> 0 | R105: =TRUNC(G105*$N105*SUM($I105:$J105),2) -> 0 | S105: =단가대비표!$G$8 -> 0 | T105: =TRUNC(R105*S105,) -> 0 | U105: =TRUNC(H105*$N105*SUM($I105:$J105),2) -> 0 | V105: =단가대비표!$G$9 -> 0 | W105: =TRUNC(U105*V105,) -> 0 | X105: =Q105+T105+W105 -> 0
...

Sheet 수량산출기준
A1: 기계설비 성능점검 수량산출 기준
E2: 근거: 국토교통부고시 제2021 - 1013호(기계설비 유지관리기준 별표2)
A3: 점검대상 | C3: 수량산출 | E3: 비고
A4: 계획 검토 | C4: 특급기술자 작성 원칙
A5: 시스템 검토 | C5: 특급기술자 작성 원칙
A6: 열원 및 냉난방 설비 | B6: 냉동기 | C6: 전체수량의 50% : 고압가스안전관리법 매년 검사 제외
B7: 냉각탑 | C7: 전체수량의 50% : 점검대상 냉동기에 관련된 냉각탑
B8: 축열 | C8: 전체수량 : 축열량 및 방열량에 대한 효율 점검 포함
B9: 보일러 | C9: 전체수량의 50% : 에너지이용화법 매년 검사 제외
B10: 열교환기 | C10: 전체수량의 50%
B11: 팽창탱크 | C11: 냉.난방, 급탕 팽창탱크 포함
B12: 펌프 | C12: 전체수량의 20% : 냉.난방, 급수펌프(예비펌프, 동력 0.75kw이하 제외)
B13: 신재생에너지 | C13: 전체수량
B14: 패키지에어컨 | C14: 전체수량의 20% : (냉난방용량 7.3kw이하제외 실외기 기준)
B15: 항온항습기 | C15: 전체수량의 20%
A16: 공기조화 설비 | B16: 공기조화기 | C16: 전체수량의 20% : 송풍기 포함
B17: 팬코일유닛 | C17: 1개층 이상(전체수량의 10%이상)
A18: 환기 설비 | B18: 환기설비 | C18: 전체수량의 20% : 용량 0.75Kw이하 및 벽부형 제외
B19: 필터 | C19: 전체수량 : 팬필터유닛, 냄새제거필터유닛 등 포함
A20: 위생기구설비 | C20: 전체
A21: 급수,급탕 설비 | B21: 급수.급탕설비 | C21: 전체 : 급탕탱크 포함
B22: 고.저수조 | C22: 전체
A23: 오.배수 통기, 우수배수설비 | C23: 전체
A24: 오수정화 및 물 재이용 설비 | B24: 오수정화설비 | C24: 전체
B25: 물 재이용설비 | C25: 전체
A26: 배관설비 | C26: 전체
A27: 덕트설비 | C27: 전체 : VAV, CAV 유닛 포함
A28: 보온설비 | C28: 전체
A29: 자동제어설비 | C29: 중앙감시반, 기계실, 공조실 포함
A30: 방음.방진.내진설비

Sheet 용역비 산출근거
A1: 용역비 산출근거
A3: 1. 기계설비 성능점검 용역비 산출근거
A4: 가. 적용근거
A5: ○ 기계설비법 제17조
A6: ○ 기계설비 유지관리기준(국토교통부 고시 제2021-1013호) 별표 4(제12조 제2항 관련)
A7: ○ 엔지니어링산업 진흥법 제31조(엔지니어링사업의 대가 기준 등)
A9: 나. 산출방법 : 성능점검 투입인원 × 산정기준 점검 수량 × 조정계수 × (엔지니어링 노임단가)
A11: 다. 투입인원 산출 기준 (기계설비유지관리기준 [별표 4 - 표1])
B12: 구분 | C12: 점검대상 | D12: 기준인원(인) | G12: 분류 | H12: 조정계수 적용여부
D13: 특급 | E13: 고급 | F13: 중급 | H13: 연면적 | I13: 경과년수
B14: 계획검토 | D14: 3.58 | E14: - | F14: - | G14: 식 | H14: √
B15: 시스템검토 | D15: 3.58 | E15: - | F15: - | G15: 식 | H15: √
B16: 열원 및 냉방설비 | C16: 냉동기 | D16: 0.13 | E16: 0.28 | F16: 0.16 | G16: 대 | I16: √
C17: 냉각탑 | D17: 0.1 | E17: 0.25 | F17: 0.17 | G17: 대 | I17: √
C18: 축열조 | D18: 0.1 | E18: 0.27 | F18: 0.17 | G18: 대 | I18: √
C19: 보일러 | D19: 0.1 | E19: 0.28 | F19: 0.19 | G19: 대 | I19: √
C20: 열교환기 | D20: 0.04 | E20: 0.16 | F20: 0.11 | G20: 대 | I20: √
C21: 팽창탱크 | D21: 0.02 | E21: 0.16 | F21: 0.07 | G21: 대 | I21: √
C22: 펌프 | D22: 0.1 | E22: 0.21 | F22: 0.13 | G22: 대 | I22: √
C23: 신재생에너지 | D23: 0.09 | E23: 0.23 | F23: 0.09 | G23: 대 | I23: √
C24: 패키지에어컨 | D24: 0.04 | E24: 0.11 | F24: 0.17 | G24: 대 | I24: √
C25: 항온항습기 | D25: 0.08 | E25: 0.16 | F25: 0.18 | G25: 대 | I25: √
B26: 공기조화 설비 | C26: 공기조화기 | D26: 0.04 | E26: 0.18 | F26: 0.11 | G26: 대 | I26: √
C27: 팬코일유닛 | D27: 0.04 | E27: 0.11 | F27: 0.13 | G27: 대 | I27: √
B28: 환기설비 | C28: 환기설비 | D28: 0.04 | E28: 0.11 | F28: 0.13 | G28: 대 | I28: √
C29: 필터 | D29: 0.04 | E29: 0.1 | F29: 0.1 | G29: 대 | I29: √
B30: 위생기구설비 | D30: 0.04 | E30: 0.35 | F30: 0.2 | G30: 식 | H30: √
B31: 급수·급탕 설비 | C31: 급수·급탕설비 | D31: 0.04 | E31: 0.23 | F31: 0.1 | G31: 식 | H31: √
C32: 고·저수조 | D32: 0.04 | E32: 0.21 | F32: 0.13 | G32: 식 | H32: √
B33: 오·배수 통기 및 우수배수설비 | D33: 0.04 | E33: 0.29 | F33: 0.17 | G33: 식 | H33: √
B34: 오수정화 및 물재이용설비 | C34: 오수정화설비 | D34: 0.04 | E34: 0.29 | F34: 0.17 | G34: 식 | H34: √
C35: 물 재이용설비 | D35: 0.04 | E35: 0.29 | F35: 0.17 | G35: 식 | H35: √
B36: 배관설비 | D36: 0.04 | E36: 1.13 | F36: 1.25 | G36: 식 | H36: √
B37: 덕트설비 | D37: 0.04 | E37: 0.52 | F37: 0.4 | G37: 식 | H37: √
B38: 보온설비 | D38: 0.04 | E38: 0.96 | F38: 1 | G38: 식 | H38: √
B39: 자동제어설비 | D39: 0.1 | E39: 0.75 | F39: 0.5 | G39: 식 | H39: √
B40: 방음·방진·내진 설비 | D40: 0.04 | E40: 0.47 | F40: 0.42 | G40: 식 | H40: √
B41: 보고서 작성 | D41: 0.42 | E41: 2.46 | F41: 2.71 | G41: 식 | H41: √
A45: 라. 조정계수 적용기준 (기계설비유지관리기준 [별표 4 - 표2])
B46: 연면적에 따른 조정 | D46: 기계설비 경과년수에 따른 조정
B47: 연면적(㎡) | C47: 조정계수 | D47: 경과년수 | F47: 조정계수
B48: 10,000~15,000 | C48: 1 | D48: 5년 이내 | F48: 1
B49: 15,000~30,000 | C49: 1.1 | D49: 5년 초과 10년 이내 | F49: 1.05
B50: 30,000~60,000 | C50: 1.4 | D50: 10년 초과 15년 이내 | F50: 1.09
B51: 60,000~100,000 | C51: 1.8 | D51: 15년 초과 20년 이내 | F51: 1.14
B52: 100,000~ | C52: 2 | D52: 20년 초과 25년 이내 | F52: 1.18
D53: 25년 초과 | F53: 1.2

Sheet 단가대비표
A2: 단 가 대 비 표
A4: =내역서!B1 -> [ 용역명 : 2023년 아주대학교 기계설비 성능점검]
A5: 품 명 | B5: 규 격 | C5: 단위 | D5: 단가조사서 | F5: 조정률 | G5: 적용단가 | H5: 비 고
D6: 조사가격 | E6: 근거
A7: 특급기술자 | B7: 기계/설비 | C7: 인 | D7: =엔지니어링대가기준!C6 -> 367153 | E7: 2023년 엔지니어링업체 임금실태조사 결과 공표 | F7: 0 | G7: =INT(F7*D7) -> 0
A8: 고급기술자 | B8: 기계/설비 | C8: 인 | D8: =엔지니어링대가기준!C7 -> 313547 | E8: " | F8: =F7 -> 0 | G8: =INT(F8*D8) -> 0
A9: 중급기술자 | B9: 기계/설비 | C9: 인 | D9: =엔지니어링대가기준!C8 -> 266506 | E9: " | F9: =F8 -> 0 | G9: =INT(F9*D9) -> 0

Sheet 엔지니어링대가기준
B1: 엔지니어링 대가기준
I2: 관련근거: 2023년 엔지니어링업체 임금실태조사 결과 공표
B3: 년도 | C3: 2023년
B4: 기술등급 | C4: 기계/설비 | D4: 전기 | E4: 정보통신 | F4: 건설 | G4: 환경 | H4: 원자력 | I4: 기타
B5: 기술사 | C5: 445789 | D5: 431962 | E5: 417280 | F5: 432440 | G5: 424902 | H5: 539581 | I5: 400781
B6: 특급기술자 | C6: 367153 | D6: 325361 | E6: 310245 | F6: 335638 | G6: 322680 | H6: 450664 | I6: 325337
B7: 고급기술자 | C7: 313547 | D7: 285820 | E7: 281987 | F7: 282545 | G7: 293753 | H7: 361182 | I7: 280031
B8: 중급기술자 | C8: 266506 | D8: 268378 | E8: 254590 | F8: 261571 | G8: 246709 | H8: 324116 | I8: 228300
B9: 초급기술자 | C9: 228792 | D9: 224434 | E9: 218500 | F9: 205686 | G9: 217342 | H9: 267042 | I9: 202067
B10: 고급숙련기술자 | C10: 273502 | D10: 283141 | E10: 232694 | F10: 240947 | G10: 234982 | H10: 324521 | I10: 250442
B11: 중급숙련기술자 | C11: 207122 | D11: 211043 | E11: 202588 | F11: 220894 | G11: 209077 | H11: 301470 | I11: 201395
B12: 초급숙련기술자 | C12: 185413 | D12: 181762 | E12: 175059 | F12: 186909 | G12: 183671 | H12: 201653 | I12: 166204

Sheet 대상건물현황
A1: 기계설비 성능점검 대상 건물현황
A2: 번 호 | B2: 건 물 명 | C2: 연면적(㎡) | D2: 사용승인일 | E2: 비 고
A5: 1 | B5: 율곡관 | C5: 13120.03 | D5: 1989.09.
A6: 2 | B6: 중앙도서관 | C6: 13311.67 | D6: 1989.09.
A7: 3 | B7: 원천관 | C7: 11283.99 | D7: 1977.03.
A8: 4 | B8: 팔달관 | C8: 15683.88 | D8: 1997.07.
A9: 5 | B9: 다산관 | C9: 11147.2 | D9: 1997.07.
A10: 6 | B10: 산학협력원 | C10: 10714.77 | D10: 2002.01.
A11: 7 | B11: 연암관 | C11: 25757.21 | D11: 2011.02.
A12: 8 | B12: 국제학사 | C12: 10096.78 | D12: 2014.12.
A13: 9 | B13: 일신관 | C13: 14681.22 | D13: 2022.02.
A14: 10 | B14: 캠퍼스플라자 | C14: 11939.56 | D14: 2000.08.
A15: 합 계 | C15: =SUM(C5:C14) -> 137736.31

Sheet 동별 점검수량
B1: =집계표!C1 -> [ 용역명 : 2023년 아주대학교 기계설비 성능점검]
B3: 점검대상 수량 산출서
B5: ▣ 건 물 명: | C5: 율곡관
B6: - 대상년도: | C6: 2023 | E6: 년
B7: - 연면적: | C7: =VLOOKUP(C5,대상건물현황!$B$5:$E$14,2,0) -> 13120.03 | E7: ㎡
B8: - 사용승인일: | C8: =VLOOKUP(C5,대상건물현황!$B$5:$E$14,3,0) -> 1989.09.
B11: 구 분 | E11: 점검대상 | F11: 총수량 | G11: 산출수량 | H11: 점검수량 | I11: 단 위 | J11: 비 고
B12: 계획 검토 | F12: 1 | G12: =F12*1 -> 1 | H12: =ROUNDUP(G12,0) -> 1 | I12: 식
B13: 시스템 검토 | F13: 1 | G13: =F13*1 -> 1 | H13: =ROUNDUP(G13,0) -> 1 | I13: 식
B14: 열원 및 냉난방설비 | E14: 냉동기/냉온수기 | G14: =F14*0.5 -> 0 | H14: =ROUNDUP(G14,0) -> 0 | I14: 대
E15: 냉각탑 | G15: =F15*0.5 -> 0 | H15: =ROUNDUP(G15,0) -> 0 | I15: 대
E16: 축열조 | G16: =F16*1 -> 0 | H16: =ROUNDUP(G16,0) -> 0 | I16: 대
E17: 보일러 | G17: =F17*0.5 -> 0 | H17: =ROUNDUP(G17,0) -> 0 | I17: 대
E18: 열교환기 | G18: =F18*0.5 -> 0 | H18: =ROUNDUP(G18,0) -> 0 | I18: 대
E19: 팽창탱크 | G19: =F19*1 -> 0 | H19: =ROUNDUP(G19,0) -> 0 | I19: 대
E20: 펌프 | F20: 1 | G20: =F20*0.2 -> 0.2 | H20: =ROUNDUP(G20,0) -> 1 | I20: 대
E21: 신재생에너지 | G21: =F21*1 -> 0 | H21: =ROUNDUP(G21,0) -> 0 | I21: 대
E22: 패키지에어컨 | F22: 54 | G22: =F22*0.2 -> 10.8 | H22: =ROUNDUP(G22,0) -> 11 | I22: 대
E23: 항온항습기 | G23: =F23*0.2 -> 0 | H23: =ROUNDUP(G23,0) -> 0 | I23: 대
B24: 공기조화설비 | E24: 공기조화기 | F24: 2 | G24: =F24*0.2 -> 0.4 | H24: =ROUNDUP(G24,0) -> 1 | I24: 대
E25: 팬코일유닛 | G25: =F25/5 -> 0 | H25: =ROUNDUP(G25,0) -> 0 | I25: 대
B26: 환기설비 | E26: 환기설비 | F26: 5 | G26: =F26*0.2 -> 1 | H26: =ROUNDUP(G26,0) -> 1 | I26: 대
E27: 필터 | G27: =F27*1 -> 0 | H27: =ROUNDUP(G27,0) -> 0 | I27: 대
B28: 위생기구설비 | F28: 1 | G28: =F28*1 -> 1 | H28: =ROUNDUP(G28,0) -> 1 | I28: 식
B29: 급수·급탕 설비 | C29: 급수·급탕설비 | F29: 1 | G29: =F29*1 -> 1 | H29: =ROUNDUP(G29,0) -> 1 | I29: 식
C30: 고·저수조 | F30: 1 | G30: =F30*1 -> 1 | H30: =ROUNDUP(G30,0) -> 1 | I30: 식
B31: 오·배수 통기 및 우수배수설비 | F31: 1 | G31: =F31*1 -> 1 | H31: =ROUNDUP(G31,0) -> 1 | I31: 식
B32: 오수정화 및 물재이용설비 | D32: 오수정화설비 | F32: 1 | G32: =F32*1 -> 1 | H32: =ROUNDUP(G32,0) -> 1 | I32: 식
D33: 물 재이용설비 | G33: =F33*1 -> 0 | H33: =ROUNDUP(G33,0) -> 0 | I33: 식
B34: 배관설비 | F34: 1 | G34: =F34*1 -> 1 | H34: =ROUNDUP(G34,0) -> 1 | I34: 식
B35: 덕트설비 | F35: 1 | G35: =F35*1 -> 1 | H35: =ROUNDUP(G35,0) -> 1 | I35: 식
B36: 보온설비 | F36: 1 | G36: =F36*1 -> 1 | H36: =ROUNDUP(G36,0) -> 1 | I36: 식
B37: 자동제어설비 | F37: 1 | G37: =F37*1 -> 1 | H37: =ROUNDUP(G37,0) -> 1 | I37: 식
B38: 방음·방진·내진 설비 | F38: 1 | G38: =F38*1 -> 1 | H38: =ROUNDUP(G38,0) -> 1 | I38: 식
B39: 보고서 | F39: 1 | G39: =F39*1 -> 1 | H39: =ROUNDUP(G39,0) -> 1 | I39: 식
B41: ▣ 건 물 명: | C41: 중앙도서관
B42: - 대상년도: | C42: 2023 | E42: 년
B43: - 연면적: | C43: =VLOOKUP(C41,대상건물현황!$B$5:$E$14,2,0) -> 13311.67 | E43: ㎡
B44: - 사용승인일: | C44: =VLOOKUP(C41,대상건물현황!$B$5:$E$14,3,0) -> 1989.09.
B47: 구 분 | E47: 점검대상 | F47: 총수량 | G47: 산출수량 | H47: 점검수량 | I47: 단 위 | J47: 비 고
B48: 계획 검토 | F48: 1 | G48: =F48*1 -> 1 | H48: =ROUNDUP(G48,0) -> 1 | I48: 식
B49: 시스템 검토 | F49: 1 | G49: =F49*1 -> 1 | H49: =ROUNDUP(G49,0) -> 1 | I49: 식
B50: 열원 및 냉난방설비 | E50: 냉동기/냉온수기 | G50: =F50*0.5 -> 0 | H50: =ROUNDUP(G50,0) -> 0 | I50: 대
E51: 냉각탑 | G51: =F51*0.5 -> 0 | H51: =ROUNDUP(G51,0) -> 0 | I51: 대
E52: 축열조 | G52: =F52*1 -> 0 | H52: =ROUNDUP(G52,0) -> 0 | I52: 대
E53: 보일러 | F53: 2 | G53: =F53*0.5 -> 1 | H53: =ROUNDUP(G53,0) -> 1 | I53: 대
E54: 열교환기 | G54: =F54*0.5 -> 0 | H54: =ROUNDUP(G54,0) -> 0 | I54: 대
E55: 팽창탱크 | F55: 1 | G55: =F55*1 -> 1 | H55: =ROUNDUP(G55,0) -> 1 | I55: 대
E56: 펌프 | G56: =F56*0.2 -> 0 | H56: =ROUNDUP(G56,0) -> 0 | I56: 대
E57: 신재생에너지 | G57: =F57*1 -> 0 | H57: =ROUNDUP(G57,0) -> 0 | I57: 대
E58: 패키지에어컨 | F58: =6+30 -> 36 | G58: =F58*0.2 -> 7.2 | H58: =ROUNDUP(G58,0) -> 8 | I58: 대
E59: 항온항습기 | G59: =F59*0.2 -> 0 | H59: =ROUNDUP(G59,0) -> 0 | I59: 대
B60: 공기조화설비 | E60: 공기조화기 | F60: 5 | G60: =F60*0.2 -> 1 | H60: =ROUNDUP(G60,0) -> 1 | I60: 대
E61: 팬코일유닛 | G61: =F61/5 -> 0 | H61: =ROUNDUP(G61,0) -> 0 | I61: 대
B62: 환기설비 | E62: 환기설비 | F62: 4 | G62: =F62*0.2 -> 0.8 | H62: =ROUNDUP(G62,0) -> 1 | I62: 대
E63: 필터 | G63: =F63*1 -> 0 | H63: =ROUNDUP(G63,0) -> 0 | I63: 대
B64: 위생기구설비 | F64: 1 | G64: =F64*1 -> 1 | H64: =ROUNDUP(G64,0) -> 1 | I64: 식
B65: 급수·급탕 설비 | C65: 급수·급탕설비 | F65: 1 | G65: =F65*1 -> 1 | H65: =ROUNDUP(G65,0) -> 1 | I65: 식
C66: 고·저수조 | F66: 1 | G66: =F66*1 -> 1 | H66: =ROUNDUP(G66,0) -> 1 | I66: 식
B67: 오·배수 통기 및 우수배수설비 | F67: 1 | G67: =F67*1 -> 1 | H67: =ROUNDUP(G67,0) -> 1 | I67: 식
B68: 오수정화 및 물재이용설비 | D68: 오수정화설비 | F68: 1 | G68: =F68*1 -> 1 | H68: =ROUNDUP(G68,0) -> 1 | I68: 식
D69: 물 재이용설비 | G69: =F69*1 -> 0 | H69: =ROUNDUP(G69,0) -> 0 | I69: 식
B70: 배관설비 | F70: 1 | G70: =F70*1 -> 1 | H70: =ROUNDUP(G70,0) -> 1 | I70: 식
B71: 덕트설비 | F71: 1 | G71: =F71*1 -> 1 | H71: =ROUNDUP(G71,0) -> 1 | I71: 식
B72: 보온설비 | F72: 1 | G72: =F72*1 -> 1 | H72: =ROUNDUP(G72,0) -> 1 | I72: 식
B73: 자동제어설비 | F73: 1 | G73: =F73*1 -> 1 | H73: =ROUNDUP(G73,0) -> 1 | I73: 식
B74: 방음·방진·내진 설비 | F74: 1 | G74: =F74*1 -> 1 | H74: =ROUNDUP(G74,0) -> 1 | I74: 식
B75: 보고서 | F75: 1 | G75: =F75*1 -> 1 | H75: =ROUNDUP(G75,0) -> 1 | I75: 식
B77: ▣ 건 물 명: | C77: 원천관
B78: - 대상년도: | C78: 2023 | E78: 년
B79: - 연면적: | C79: =VLOOKUP(C77,대상건물현황!$B$5:$E$14,2,0) -> 11283.99 | E79: ㎡
B80: - 사용승인일: | C80: =VLOOKUP(C77,대상건물현황!$B$5:$E$14,3,0) -> 1977.03.
B83: 구 분 | E83: 점검대상 | F83: 총수량 | G83: 산출수량 | H83: 점검수량 | I83: 단 위 | J83: 비 고
B84: 계획 검토 | F84: 1 | G84: =F84*1 -> 1 | H84: =ROUNDUP(G84,0) -> 1 | I84: 식
B85: 시스템 검토 | F85: 1 | G85: =F85*1 -> 1 | H85: =ROUNDUP(G85,0) -> 1 | I85: 식
B86: 열원 및 냉난방설비 | E86: 냉동기/냉온수기 | G86: =F86*0.5 -> 0 | H86: =ROUNDUP(G86,0) -> 0 | I86: 대
E87: 냉각탑 | G87: =F87*0.5 -> 0 | H87: =ROUNDUP(G87,0) -> 0 | I87: 대
E88: 축열조 | G88: =F88*1 -> 0 | H88: =ROUNDUP(G88,0) -> 0 | I88: 대
E89: 보일러 | F89: 2 | G89: =F89*0.5 -> 1 | H89: =ROUNDUP(G89,0) -> 1 | I89: 대
E90: 열교환기 | G90: =F90*0.5 -> 0 | H90: =ROUNDUP(G90,0) -> 0 | I90: 대
E91: 팽창탱크 | G91: =F91*1 -> 0 | H91: =ROUNDUP(G91,0) -> 0 | I91: 대
E92: 펌프 | G92: =F92*0.2 -> 0 | H92: =ROUNDUP(G92,0) -> 0 | I92: 대
E93: 신재생에너지 | G93: =F93*1 -> 0 | H93: =ROUNDUP(G93,0) -> 0 | I93: 대
E94: 패키지에어컨 | F94: 66 | G94: =F94*0.2 -> 13.2 | H94: =ROUNDUP(G94,0) -> 14 | I94: 대
E95: 항온항습기 | G95: =F95*0.2 -> 0 | H95: =ROUNDUP(G95,0) -> 0 | I95: 대
B96: 공기조화설비 | E96: 공기조화기 | F96: 1 | G96: =F96*0.2 -> 0.2 | H96: =ROUNDUP(G96,0) -> 1 | I96: 대
E97: 팬코일유닛 | G97: =F97/5 -> 0 | H97: =ROUNDUP(G97,0) -> 0 | I97: 대
B98: 환기설비 | E98: 환기설비 | F98: 4 | G98: =F98*0.2 -> 0.8 | H98: =ROUNDUP(G98,0) -> 1 | I98: 대
E99: 필터 | G99: =F99*1 -> 0 | H99: =ROUNDUP(G99,0) -> 0 | I99: 대
B100: 위생기구설비 | F100: 1 | G100: =F100*1 -> 1 | H100: =ROUNDUP(G100,0) -> 1 | I100: 식
B101: 급수·급탕 설비 | C101: 급수·급탕설비 | F101: 1 | G101: =F101*1 -> 1 | H101: =ROUNDUP(G101,0) -> 1 | I101: 식
C102: 고·저수조 | F102: 1 | G102: =F102*1 -> 1 | H102: =ROUNDUP(G102,0) -> 1 | I102: 식
B103: 오·배수 통기 및 우수배수설비 | F103: 1 | G103: =F103*1 -> 1 | H103: =ROUNDUP(G103,0) -> 1 | I103: 식
B104: 오수정화 및 물재이용설비 | D104: 오수정화설비 | F104: 1 | G104: =F104*1 -> 1 | H104: =ROUNDUP(G104,0) -> 1 | I104: 식
D105: 물 재이용설비 | G105: =F105*1 -> 0 | H105: =ROUNDUP(G105,0) -> 0 | I105: 식
B106: 배관설비 | F106: 1 | G106: =F106*1 -> 1 | H106: =ROUNDUP(G106,0) -> 1 | I106: 식
B107: 덕트설비 | F107: 1 | G107: =F107*1 -> 1 | H107: =ROUNDUP(G107,0) -> 1 | I107: 식
B108: 보온설비 | F108: 1 | G108: =F108*1 -> 1 | H108: =ROUNDUP(G108,0) -> 1 | I108: 식
B109: 자동제어설비 | F109: 1 | G109: =F109*1 -> 1 | H109: =ROUNDUP(G109,0) -> 1 | I109: 식
B110: 방음·방진·내진 설비 | F110: 1 | G110: =F110*1 -> 1 | H110: =ROUNDUP(G110,0) -> 1 | I110: 식
...
