Workbook
Name _: [1]예가표!#REF!
Name _: [1]예가표!#REF!
Name _: [1]예가표!#REF!
Name _1: #N/A
Name _1.전기공사: #REF!
Name _1.전기공사: #REF!
Name _1.전기공사: #REF!
Name _1¤§¤_¤¡: {#N/A,#N/A,FALSE,"Sheet1"}
Name _10: #N/A
Name _10A_: [4]연돌일위집계!#REF!
Name _10A_: [4]연돌일위집계!#REF!
Name _10A_: [4]연돌일위집계!#REF!
Name _10A_1: [4]연돌일위집계!#REF!
Name _10A_1: [4]연돌일위집계!#REF!
Name _10A_1: [4]연돌일위집계!#REF!
Name _10A_10: [4]연돌일위집계!#REF!
Name _10A_10: [4]연돌일위집계!#REF!
Name _10A_10: [4]연돌일위집계!#REF!
Name _10A_11: [4]연돌일위집계!#REF!
Name _10A_11: [4]연돌일위집계!#REF!
Name _10A_11: [4]연돌일위집계!#REF!
Name _10A_12: [4]연돌일위집계!#REF!
Name _10A_12: [4]연돌일위집계!#REF!
Name _10A_12: [4]연돌일위집계!#REF!
Name _10A_13: [4]연돌일위집계!#REF!
Name _10A_13: [4]연돌일위집계!#REF!
Name _10A_13: [4]연돌일위집계!#REF!
Name _10A_14: [4]연돌일위집계!#REF!
Name _10A_14: [4]연돌일위집계!#REF!
Name _10A_14: [4]연돌일위집계!#REF!
Name _10A_15: [4]연돌일위집계!#REF!
Name _10A_15: [4]연돌일위집계!#REF!
Name _10A_15: [4]연돌일위집계!#REF!
Name _10A_16: [4]연돌일위집계!#REF!
Name _10A_16: [4]연돌일위집계!#REF!
Name _10A_16: [4]연돌일위집계!#REF!
Name _10A_17: [4]연돌일위집계!#REF!
Name _10A_17: [4]연돌일위집계!#REF!
Name _10A_17: [4]연돌일위집계!#REF!
Name _10A_18: [4]연돌일위집계!#REF!
Name _10A_18: [4]연돌일위집계!#REF!
Name _10A_18: [4]연돌일위집계!#REF!
Name _10A_19: [4]연돌일위집계!#REF!
Name _10A_19: [4]연돌일위집계!#REF!
Name _10A_19: [4]연돌일위집계!#REF!
Name _10A_2: [4]연돌일위집계!#REF!
Name _10A_2: [4]연돌일위집계!#REF!
Name _10A_2: [4]연돌일위집계!#REF!
Name _10A_20: [4]연돌일위집계!#REF!
Name _10A_20: [4]연돌일위집계!#REF!
Name _10A_20: [4]연돌일위집계!#REF!
Name _10A_21: [4]연돌일위집계!#REF!
Name _10A_21: [4]연돌일위집계!#REF!
Name _10A_21: [4]연돌일위집계!#REF!
Name _10A_22: [4]연돌일위집계!#REF!
Name _10A_22: [4]연돌일위집계!#REF!
Name _10A_22: [4]연돌일위집계!#REF!
Name _10A_23: [4]연돌일위집계!#REF!
Name _10A_23: [4]연돌일위집계!#REF!
Name _10A_23: [4]연돌일위집계!#REF!

Sheet 원가 계산서
B2: 용역비 계산서
B4: [ 용역명 : 2023년 아주대학교 기계설비 성능점검]
G5: (단위: 원)
B6: 구분 | D6: 규격 | F6: 금액 | G6: 비고
B8: (1) | C8: 직 접 인 건 비 | F8: =집계표!O22 -> 0
B9: (2) | C9: 제 경 비 | D9: 직접인건비의 | E9: 1.1 | F9: =INT(F8*E9) -> 0
B10: (3) | C10: 기 술 료 | D10: (직접인건비+제경비)의 | E10: 0.2 | F10: =INT((F8+F9)*E10) -> 0
B11: (4) | C11: 소 계 | D11: (1)+(2)+(3) | F11: =TRUNC(F8+F9+F10) -> 0
B12: (5) | C12: 부 가 세 | D12: (4)의 | E12: 0.1 | F12: =INT(F11*10%) -> 0
B13: 합 계 | F13: =TRUNC((F11+F12),-3) -> 0 | G13: 천단위절사
G14: ※ 산출근거 : 기계설비 유지관리기준(국토교통부 고시 제2021-1013호) 별표 4(제12조 제2항 관련)
F17: 100000000
F20: =F17/F13 -> #DIV/0!

Sheet 집계표
C1: [ 용역명 : 2023년 아주대학교 기계설비 성능점검]
C2: 집 계 표
C4: ▣ 건물명: 율곡관 외 9개동
P6: (단위: 원)
C7: 번호 | D7: 건물명 | E7: 연면적 (㎡) | F7: 단위 | G7: 수량 | H7: 특급 기술자 | J7: 고급 기술자 | L7: 중급 기술자 | N7: 합 계 | P7: 비고
H8: 단가 | I8: 금액 | J8: 단가 | K8: 금액 | L8: 단가 | M8: 금액 | N8: 단가 | O8: 금액
C9: =C1 -> [ 용역명 : 2023년 아주대학교 기계설비 성능점검]
C10: 1. 계획 및 보고서 작성 | F10: 식 | G10: 1 | I10: =내역서!Q14 -> 0 | K10: =내역서!T14 -> 0 | M10: =내역서!W14 -> 0 | O10: =I10+K10+M10 -> 0
C11: 2. 현장점검 | F11: 식 | G11: 1 | I11: =SUM(I12:I21) -> 0 | K11: =SUM(K12:K21) -> 0 | M11: =SUM(M12:M21) -> 0 | O11: =I11+K11+M11 -> 0
C12: 2-1. | D12: =대상건물현황!B5 -> 율곡관 | E12: 13120.03 | F12: 식 | G12: 1 | I12: =내역서!Q42 -> 0 | K12: =내역서!T42 -> 0 | M12: =내역서!W42 -> 0 | O12: =내역서!X42 -> 0
C13: 2-2. | D13: =대상건물현황!B6 -> 중앙도서관 | E13: 13311.67 | F13: 식 | G13: 1 | I13: =내역서!Q70 -> 0 | K13: =내역서!T70 -> 0 | M13: =내역서!W70 -> 0 | O13: =내역서!X70 -> 0
C14: 2-3. | D14: =대상건물현황!B7 -> 원천관 | E14: 11283.99 | F14: 식 | G14: 1 | I14: =내역서!Q98 -> 0 | K14: =내역서!T98 -> 0 | M14: =내역서!W98 -> 0 | O14: =내역서!X98 -> 0
C15: 2-4. | D15: =대상건물현황!B8 -> 팔달관 | E15: 15683.88 | F15: 식 | G15: 1 | I15: =내역서!Q126 -> 0 | K15: =내역서!T126 -> 0 | M15: =내역서!W126 -> 0 | O15: =내역서!X126 -> 0
C16: 2-5. | D16: =대상건물현황!B9 -> 다산관 | E16: 11147.2 | F16: 식 | G16: 1 | I16: =내역서!Q154 -> 0 | K16: =내역서!T154 -> 0 | M16: =내역서!W154 -> 0 | O16: =내역서!X154 -> 0
C17: 2-6. | D17: =대상건물현황!B10 -> 산학협력원 | E17: 10714.77 | F17: 식 | G17: 1 | I17: =내역서!Q182 -> 0 | K17: =내역서!T182 -> 0 | M17: =내역서!W182 -> 0 | O17: =내역서!X182 -> 0
C18: 2-7. | D18: =대상건물현황!B11 -> 연암관 | E18: 25757.21 | F18: 식 | G18: 1 | I18: =내역서!Q210 -> 0 | K18: =내역서!T210 -> 0 | M18: =내역서!W210 -> 0 | O18: =내역서!X210 -> 0
C19: 2-8. | D19: =대상건물현황!B12 -> 국제학사 | E19: 10096.78 | F19: 식 | G19: 1 | I19: =내역서!Q238 -> 0 | K19: =내역서!T238 -> 0 | M19: =내역서!W238 -> 0 | O19: =내역서!X238 -> 0
C20: 2-9. | D20: =대상건물현황!B13 -> 일신관 | E20: 14681.22 | F20: 식 | G20: 1 | I20: =내역서!Q266 -> 0 | K20: =내역서!T266 -> 0 | M20: =내역서!W266 -> 0 | O20: =내역서!X266 -> 0
C21: 2-10. | D21: =대상건물현황!B14 -> 캠퍼스플라자 | E21: 11939.56 | F21: 식 | G21: 1 | I21: =내역서!Q294 -> 0 | K21: =내역서!T294 -> 0 | M21: =내역서!W294 -> 0 | O21: =내역서!X294 -> 0
C22: 계 | I22: =I10+I11 -> 0 | K22: =K10+K11 -> 0 | M22: =M10+M11 -> 0 | O22: =O10+O11 -> 0

Sheet 내역서
B1: =집계표!C1 -> [ 용역명 : 2023년 아주대학교 기계설비 성능점검]
B2: 내 역 서
B4: =집계표!C4 -> ▣ 건물명: 율곡관 외 9개동
B5: - 대상년도: | C5: 2023 | E5: 년
B6: - 총연면적: | C6: =SUM(대상건물현황!C5:C14) -> 137736.31 | E6: ㎡ | Y6: (단위: 원)
B8: 구분 | E8: 점검대상 | F8: 기준인원(인) | I8: 조정계수 | K8: 단위 | L8: 총 수량 | M8: 산출수량 | N8: 금회수량 | O8: 특급 기술자 | R8: 고급 기술자 | U8: 중급 기술자 | X8: 합 계 | Y8: 비고
F9: 특급 | G9: 고급 | H9: 중급 | I9: 연면적 | J9: 경과년수 | O9: 인원 | P9: 단가 | Q9: 금액 | R9: 인원 | S9: 단가 | T9: 금액 | U9: 인원 | V9: 단가 | W9: 금액
B10: 1. 계획 및 보고서 작성
B11: 1-1. 계획검토 | E11: 137,736㎡ | F11: 3.58 | G11: 0 | H11: 0 | I11: 2 | K11: 식 | N11: 1 | O11: =TRUNC(F11*$N11*SUM($I11:$J11),2) -> 7.16 | P11: =단가대비표!$G$7 -> 0 | Q11: =TRUNC(O11*P11) -> 0 | R11: 0 | S11: =단가대비표!$G$8 -> 0 | T11: =TRUNC(R11*S11) -> 0 | U11: 0 | V11: =단가대비표!$G$9 -> 0 | W11: =TRUNC(U11*V11) -> 0 | X11: =Q11+T11+W11 -> 0
B12: 1-2. 시스템검토 | F12: 3.58 | G12: 0 | H12: 0 | I12: 2 | K12: 식 | N12: 1 | O12: =TRUNC(F12*$N12*SUM($I12:$J12),2) -> 7.16 | P12: =단가대비표!$G$7 -> 0 | Q12: =TRUNC(O12*P12) -> 0 | R12: 0 | S12: =단가대비표!$G$8 -> 0 | T12: =TRUNC(R12*S12) -> 0 | U12: 0 | V12: =단가대비표!$G$9 -> 0 | W12: =TRUNC(U12*V12) -> 0 | X12: =Q12+T12+W12 -> 0
B13: 1-3. 보고서 작성 | F13: 0.42 | G13: 2.46 | H13: 2.71 | I13: 2 | K13: 식 | N13: 1 | O13: =TRUNC(F13*$N13*SUM($I13:$J13),2) -> 0.84 | P13: =단가대비표!$G$7 -> 0 | Q13: =TRUNC(O13*P13) -> 0 | R13: =TRUNC(G13*$N13*SUM($I13:$J13),2) -> 4.92 | S13: =단가대비표!$G$8 -> 0 | T13: =TRUNC(R13*S13) -> 0 | U13: =TRUNC(H13*$N13*SUM($I13:$J13),2) -> 5.42 | V13: =단가대비표!$G$9 -> 0 | W13: =TRUNC(U13*V13) -> 0 | X13: =Q13+T13+W13 -> 0
B14: 합 계 (1) | O14: =SUM(O11:O13) -> 15.16 | Q14: =SUM(Q11:Q13) -> 0 | R14: =SUM(R11:R13) -> 4.92 | T14: =SUM(T11:T13) -> 0 | U14: =SUM(U11:U13) -> 5.42 | W14: =SUM(W11:W13) -> 0 | X14: =SUM(X11:X13) -> 0
B15: 2. 현장점검
B16: 2-1. 율곡관
B17: 열원 및 냉난방 설비 | E17: 냉동기 | F17: 0.13 | G17: 0.28 | H17: 0.16 | J17: 1.2 | K17: 대 | L17: ='동별 점검수량'!F14 -> 0 | M17: ='동별 점검수량'!G14 -> 0 | N17: ='동별 점검수량'!H14 -> 0 | O17: =TRUNC(F17*$N17*SUM($I17:$J17),2) -> 0 | P17: =단가대비표!$G$7 -> 0 | Q17: =TRUNC(O17*P17,) -> 0 | R17: =TRUNC(G17*$N17*SUM($I17:$J17),2) -> 0 | S17: =단가대비표!$G$8 -> 0 | T17: =TRUNC(R17*S17,) -> 0 | U17: =TRUNC(H17*$N17*SUM($I17:$J17),2) -> 0 | V17: =단가대비표!$G$9 -> 0 | W17: =TRUNC(U17*V17,) -> 0 | X17: =Q17+T17+W17 -> 0
E18: 냉각탑 | F18: 0.1 | G18: 0.25 | H18: 0.17 | J18: 1.2 | K18: 대 | L18: ='동별 점검수량'!F15 -> 0 | M18: ='동별 점검수량'!G15 -> 0 | N18: ='동별 점검수량'!H15 -> 0 | O18: =TRUNC(F18*$N18*SUM($I18:$J18),2) -> 0 | P18: =단가대비표!$G$7 -> 0 | Q18: =TRUNC(O18*P18,) -> 0 | R18: =TRUNC(G18*$N18*SUM($I18:$J18),2) -> 0 | S18: =단가대비표!$G$8 -> 0 | T18: =TRUNC(R18*S18,) -> 0 | U18: =TRUNC(H18*$N18*SUM($I18:$J18),2) -> 0 | V18: =단가대비표!$G$9 -> 0 | W18: =TRUNC(U18*V18,) -> 0 | X18: =Q18+T18+W18 -> 0
E19: 축열조 | F19: 0.1 | G19: 0.27 | H19: 0.17 | J19: 1.2 | K19: 대 | L19: ='동별 점검수량'!F16 -> 0 | M19: ='동별 점검수량'!G16 -> 0 | N19: ='동별 점검수량'!H16 -> 0 | O19: =TRUNC(F19*$N19*SUM($I19:$J19),2) -> 0 | P19: =단가대비표!$G$7 -> 0 | Q19: =TRUNC(O19*P19,) -> 0 | R19: =TRUNC(G19*$N19*SUM($I19:$J19),2) -> 0 | S19: =단가대비표!$G$8 -> 0 | T19: =TRUNC(R19*S19,) -> 0 | U19: =TRUNC(H19*$N19*SUM($I19:$J19),2) -> 0 | V19: =단가대비표!$G$9 -> 0 | W19: =TRUNC(U19*V19,) -> 0 | X19: =Q19+T19+W19 -> 0
E20: 보일러 | F20: 0.1 | G20: 0.28 | H20: 0.19 | J20: 1.2 | K20: 대 | L20: ='동별 점검수량'!F17 -> 0 | M20: ='동별 점검수량'!G17 -> 0 | N20: ='동별 점검수량'!H17 -> 0 | O20: =TRUNC(F20*$N20*SUM($I20:$J20),2) -> 0 | P20: =단가대비표!$G$7 -> 0 | Q20: =TRUNC(O20*P20,) -> 0 | R20: =TRUNC(G20*$N20*SUM($I20:$J20),2) -> 0 | S20: =단가대비표!$G$8 -> 0 | T20: =TRUNC(R20*S20,) -> 0 | U20: =TRUNC(H20*$N20*SUM($I20:$J20),2) -> 0 | V20: =단가대비표!$G$9 -> 0 | W20: =TRUNC(U20*V20,) -> 0 | X20: =Q20+T20+W20 -> 0
E21: 열교환기 | F21: 0.04 | G21: 0.16 | H21: 0.11 | J21: 1.2 | K21: 대 | L21: ='동별 점검수량'!F18 -> 0 | M21: ='동별 점검수량'!G18 -> 0 | N21: ='동별 점검수량'!H18 -> 0 | O21: =TRUNC(F21*$N21*SUM($I21:$J21),2) -> 0 | P21: =단가대비표!$G$7 -> 0 | Q21: =TRUNC(O21*P21,) -> 0 | R21: =TRUNC(G21*$N21*SUM($I21:$J21),2) -> 0 | S21: =단가대비표!$G$8 -> 0 | T21: =TRUNC(R21*S21,) -> 0 | U21: =TRUNC(H21*$N21*SUM($I21:$J21),2) -> 0 | V21: =단가대비표!$G$9 -> 0 | W21: =TRUNC(U21*V21,) -> 0 | X21: =Q21+T21+W21 -> 0
E22: 팽창탱크 | F22: 0.02 | G22: 0.16 | H22: 0.07 | J22: 1.2 | K22: 대 | L22: ='동별 점검수량'!F19 -> 0 | M22: ='동별 점검수량'!G19 -> 0 | N22: ='동별 점검수량'!H19 -> 0 | O22: =TRUNC(F22*$N22*SUM($I22:$J22),2) -> 0 | P22: =단가대비표!$G$7 -> 0 | Q22: =TRUNC(O22*P22,) -> 0 | R22: =TRUNC(G22*$N22*SUM($I22:$J22),2) -> 0 | S22: =단가대비표!$G$8 -> 0 | T22: =TRUNC(R22*S22,) -> 0 | U22: =TRUNC(H22*$N22*SUM($I22:$J22),2) -> 0 | V22: =단가대비표!$G$9 -> 0 | W22: =TRUNC(U22*V22,) -> 0 | X22: =Q22+T22+W22 -> 0
E23: 펌프 | F23: 0.1 | G23: 0.21 | H23: 0.13 | J23: 1.2 | K23: 대 | L23: ='동별 점검수량'!F20 -> 1 | M23: ='동별 점검수량'!G20 -> 0.2 | N23: ='동별 점검수량'!H20 -> 1 | O23: =TRUNC(F23*$N23*SUM($I23:$J23),2) -> 0.12 | P23: =단가대비표!$G$7 -> 0 | Q23: =TRUNC(O23*P23,) -> 0 | R23: =TRUNC(G23*$N23*SUM($I23:$J23),2) -> 0.25 | S23: =단가대비표!$G$8 -> 0 | T23: =TRUNC(R23*S23,) -> 0 | U23: =TRUNC(H23*$N23*SUM($I23:$J23),2) -> 0.15 | V23: =단가대비표!$G$9 -> 0 | W23: =TRUNC(U23*V23,) -> 0 | X23: =Q23+T23+W23 -> 0
E24: 신재생에너지 | F24: 0.09 | G24: 0.23 | H24: 0.09 | J24: 1.2 | K24: 대 | L24: ='동별 점검수량'!F21 -> 0 | M24: ='동별 점검수량'!G21 -> 0 | N24: ='동별 점검수량'!H21 -> 0 | O24: =TRUNC(F24*$N24*SUM($I24:$J24),2) -> 0 | P24: =단가대비표!$G$7 -> 0 | Q24: =TRUNC(O24*P24,) -> 0 | R24: =TRUNC(G24*$N24*SUM($I24:$J24),2) -> 0 | S24: =단가대비표!$G$8 -> 0 | T24: =TRUNC(R24*S24,) -> 0 | U24: =TRUNC(H24*$N24*SUM($I24:$J24),2) -> 0 | V24: =단가대비표!$G$9 -> 0 | W24: =TRUNC(U24*V24,) -> 0 | X24: =Q24+T24+W24 -> 0
E25: 패키지에어컨 | F25: 0.04 | G25: 0.11 | H25: 0.17 | J25: 1.2 | K25: 대 | L25: ='동별 점검수량'!F22 -> 54 | M25: ='동별 점검수량'!G22 -> 10.8 | N25: ='동별 점검수량'!H22 -> 11 | O25: =TRUNC(F25*$N25*SUM($I25:$J25),2) -> 0.52 | P25: =단가대비표!$G$7 -> 0 | Q25: =TRUNC(O25*P25,) -> 0 | R25: =TRUNC(G25*$N25*SUM($I25:$J25),2) -> 1.45 | S25: =단가대비표!$G$8 -> 0 | T25: =TRUNC(R25*S25,) -> 0 | U25: =TRUNC(H25*$N25*SUM($I25:$J25),2) -> 2.24 | V25: =단가대비표!$G$9 -> 0 | W25: =TRUNC(U25*V25,) -> 0 | X25: =Q25+T25+W25 -> 0
E26: 항온항습기 | F26: 0.08 | G26: 0.16 | H26: 0.18 | J26: 1.2 | K26: 대 | L26: ='동별 점검수량'!F23 -> 0 | M26: ='동별 점검수량'!G23 -> 0 | N26: ='동별 점검수량'!H23 -> 0 | O26: =TRUNC(F26*$N26*SUM($I26:$J26),2) -> 0 | P26: =단가대비표!$G$7 -> 0 | Q26: =TRUNC(O26*P26,) -> 0 | R26: =TRUNC(G26*$N26*SUM($I26:$J26),2) -> 0 | S26: =단가대비표!$G$8 -> 0 | T26: =TRUNC(R26*S26,) -> 0 | U26: =TRUNC(H26*$N26*SUM($I26:$J26),2) -> 0 | V26: =단가대비표!$G$9 -> 0 | W26: =TRUNC(U26*V26,) -> 0 | X26: =Q26+T26+W26 -> 0
B27: 공기조화설비 | E27: 공기조화기 | F27: 0.04 | G27: 0.18 | H27: 0.11 | J27: 1.2 | K27: 대 | L27: ='동별 점검수량'!F24 -> 2 | M27: ='동별 점검수량'!G24 -> 0.4 | N27: ='동별 점검수량'!H24 -> 1 | O27: =TRUNC(F27*$N27*SUM($I27:$J27),2) -> 0.04 | P27: =단가대비표!$G$7 -> 0 | Q27: =TRUNC(O27*P27,) -> 0 | R27: =TRUNC(G27*$N27*SUM($I27:$J27),2) -> 0.21 | S27: =단가대비표!$G$8 -> 0 | T27: =TRUNC(R27*S27,) -> 0 | U27: =TRUNC(H27*$N27*SUM($I27:$J27),2) -> 0.13 | V27: =단가대비표!$G$9 -> 0 | W27: =TRUNC(U27*V27,) -> 0 | X27: =Q27+T27+W27 -> 0
E28: 팬코일유닛 | F28: 0.04 | G28: 0.11 | H28: 0.13 | J28: 1.2 | K28: 대 | L28: ='동별 점검수량'!F25 -> 0 | M28: ='동별 점검수량'!G25 -> 0 | N28: ='동별 점검수량'!H25 -> 0 | O28: =TRUNC(F28*$N28*SUM($I28:$J28),2) -> 0 | P28: =단가대비표!$G$7 -> 0 | Q28: =TRUNC(O28*P28,) -> 0 | R28: =TRUNC(G28*$N28*SUM($I28:$J28),2) -> 0 | S28: =단가대비표!$G$8 -> 0 | T28: =TRUNC(R28*S28,) -> 0 | U28: =TRUNC(H28*$N28*SUM($I28:$J28),2) -> 0 | V28: =단가대비표!$G$9 -> 0 | W28: =TRUNC(U28*V28,) -> 0 | X28: =Q28+T28+W28 -> 0
B29: 환기설비 | E29: 환기설비 | F29: 0.04 | G29: 0.11 | H29: 0.13 | J29: 1.2 | K29: 대 | L29: ='동별 점검수량'!F26 -> 5 | M29: ='동별 점검수량'!G26 -> 1 | N29: ='동별 점검수량'!H26 -> 1 | O29: =TRUNC(F29*$N29*SUM($I29:$J29),2) -> 0.04 | P29: =단가대비표!$G$7 -> 0 | Q29: =TRUNC(O29*P29,) -> 0 | R29: =TRUNC(G29*$N29*SUM($I29:$J29),2) -> 0.13 | S29: =단가대비표!$G$8 -> 0 | T29: =TRUNC(R29*S29,) -> 0 | U29: =TRUNC(H29*$N29*SUM($I29:$J29),2) -> 0.15 | V29: =단가대비표!$G$9 -> 0 | W29: =TRUNC(U29*V29,) -> 0 | X29: =Q29+T29+W29 -> 0
E30: 필터 | F30: 0.04 | G30: 0.1 | H30: 0.1 | J30: 1.2 | K30: 대 | L30: ='동별 점검수량'!F27 -> 0 | M30: ='동별 점검수량'!G27 -> 0 | N30: ='동별 점검수량'!H27 -> 0 | O30: =TRUNC(F30*$N30*SUM($I30:$J30),2) -> 0 | P30: =단가대비표!$G$7 -> 0 | Q30: =TRUNC(O30*P30,) -> 0 | R30: =TRUNC(G30*$N30*SUM($I30:$J30),2) -> 0 | S30: =단가대비표!$G$8 -> 0 | T30: =TRUNC(R30*S30,) -> 0 | U30: =TRUNC(H30*$N30*SUM($I30:$J30),2) -> 0 | V30: =단가대비표!$G$9 -> 0 | W30: =TRUNC(U30*V30,) -> 0 | X30: =Q30+T30+W30 -> 0
B31: 위생기구설비 | F31: 0.04 | G31: 0.35 | H31: 0.2 | I31: 1 | K31: 식 | L31: ='동별 점검수량'!F28 -> 1 | M31: ='동별 점검수량'!G28 -> 1 | N31: ='동별 점검수량'!H28 -> 1 | O31: =TRUNC(F31*$N31*SUM($I31:$J31),2) -> 0.04 | P31: =단가대비표!$G$7 -> 0 | Q31: =TRUNC(O31*P31,) -> 0 | R31: =TRUNC(G31*$N31*SUM($I31:$J31),2) -> 0.35 | S31: =단가대비표!$G$8 -> 0 | T31: =TRUNC(R31*S31,) -> 0 | U31: =TRUNC(H31*$N31*SUM($I31:$J31),2) -> 0.2 | V31: =단가대비표!$G$9 -> 0 | W31: =TRUNC(U31*V31,) -> 0 | X31: =Q31+T31+W31 -> 0
B32: 급수·급탕 설비 | C32: 급수·급탕설비 | F32: 0.04 | G32: 0.23 | H32: 0.1 | I32: 1 | K32: 식 | L32: ='동별 점검수량'!F29 -> 1 | M32: ='동별 점검수량'!G29 -> 1 | N32: ='동별 점검수량'!H29 -> 1 | O32: =TRUNC(F32*$N32*SUM($I32:$J32),2) -> 0.04 | P32: =단가대비표!$G$7 -> 0 | Q32: =TRUNC(O32*P32,) -> 0 | R32: =TRUNC(G32*$N32*SUM($I32:$J32),2) -> 0.23 | S32: =단가대비표!$G$8 -> 0 | T32: =TRUNC(R32*S32,) -> 0 | U32: =TRUNC(H32*$N32*SUM($I32:$J32),2) -> 0.1 | V32: =단가대비표!$G$9 -> 0 | W32: =TRUNC(U32*V32,) -> 0 | X32: =Q32+T32+W32 -> 0
C33: 고·저수조 | F33: 0.04 | G33: 0.21 | H33: 0.13 | I33: 1 | K33: 식 | L33: ='동별 점검수량'!F30 -> 1 | M33: ='동별 점검수량'!G30 -> 1 | N33: ='동별 점검수량'!H30 -> 1 | O33: =TRUNC(F33*$N33*SUM($I33:$J33),2) -> 0.04 | P33: =단가대비표!$G$7 -> 0 | Q33: =TRUNC(O33*P33,) -> 0 | R33: =TRUNC(G33*$N33*SUM($I33:$J33),2) -> 0.21 | S33: =단가대비표!$G$8 -> 0 | T33: =TRUNC(R33*S33,) -> 0 | U33: =TRUNC(H33*$N33*SUM($I33:$J33),2) -> 0.13 | V33: =단가대비표!$G$9 -> 0 | W33: =TRUNC(U33*V33,) -> 0 | X33: =Q33+T33+W33 -> 0
B34: 오·배수 통기 및 우수배수설비 | F34: 0.04 | G34: 0.29 | H34: 0.17 | I34: 1 | K34: 식 | L34: ='동별 점검수량'!F31 -> 1 | M34: ='동별 점검수량'!G31 -> 1 | N34: ='동별 점검수량'!H31 -> 1 | O34: =TRUNC(F34*$N34*SUM($I34:$J34),2) -> 0.04 | P34: =단가대비표!$G$7 -> 0 | Q34: =TRUNC(O34*P34,) -> 0 | R34: =TRUNC(G34*$N34*SUM($I34:$J34),2) -> 0.29 | S34: =단가대비표!$G$8 -> 0 | T34: =TRUNC(R34*S34,) -> 0 | U34: =TRUNC(H34*$N34*SUM($I34:$J34),2) -> 0.17 | V34: =단가대비표!$G$9 -> 0 | W34: =TRUNC(U34*V34,) -> 0 | X34: =Q34+T34+W34 -> 0
B35: 오수정화 및 물재이용설비 | D35: 오수정화설비 | F35: 0.04 | G35: 0.29 | H35: 0.17 | I35: 1 | K35: 식 | L35: ='동별 점검수량'!F32 -> 1 | M35: ='동별 점검수량'!G32 -> 1 | N35: ='동별 점검수량'!H32 -> 1 | O35: =TRUNC(F35*$N35*SUM($I35:$J35),2) -> 0.04 | P35: =단가대비표!$G$7 -> 0 | Q35: =TRUNC(O35*P35,) -> 0 | R35: =TRUNC(G35*$N35*SUM($I35:$J35),2) -> 0.29 | S35: =단가대비표!$G$8 -> 0 | T35: =TRUNC(R35*S35,) -> 0 | U35: =TRUNC(H35*$N35*SUM($I35:$J35),2) -> 0.17 | V35: =단가대비표!$G$9 -> 0 | W35: =TRUNC(U35*V35,) -> 0 | X35: =Q35+T35+W35 -> 0
D36: 물 재이용설비 | F36: 0.04 | G36: 0.29 | H36: 0.17 | I36: 1 | K36: 식 | L36: ='동별 점검수량'!F33 -> 0 | M36: ='동별 점검수량'!G33 -> 0 | N36: ='동별 점검수량'!H33 -> 0 | O36: =TRUNC(F36*$N36*SUM($I36:$J36),2) -> 0 | P36: =단가대비표!$G$7 -> 0 | Q36: =TRUNC(O36*P36,) -> 0 | R36: =TRUNC(G36*$N36*SUM($I36:$J36),2) -> 0 | S36: =단가대비표!$G$8 -> 0 | T36: =TRUNC(R36*S36,) -> 0 | U36: =TRUNC(H36*$N36*SUM($I36:$J36),2) -> 0 | V36: =단가대비표!$G$9 -> 0 | W36: =TRUNC(U36*V36,) -> 0 | X36: =Q36+T36+W36 -> 0
B37: 배관설비 | F37: 0.04 | G37: 1.13 | H37: 1.25 | I37: 1 | K37: 식 | L37: ='동별 점검수량'!F34 -> 1 | M37: ='동별 점검수량'!G34 -> 1 | N37: ='동별 점검수량'!H34 -> 1 | O37: =TRUNC(F37*$N37*SUM($I37:$J37),2) -> 0.04 | P37: =단가대비표!$G$7 -> 0 | Q37: =TRUNC(O37*P37,) -> 0 | R37: =TRUNC(G37*$N37*SUM($I37:$J37),2) -> 1.13 | S37: =단가대비표!$G$8 -> 0 | T37: =TRUNC(R37*S37,) -> 0 | U37: =TRUNC(H37*$N37*SUM($I37:$J37),2) -> 1.25 | V37: =단가대비표!$G$9 -> 0 | W37: =TRUNC(U37*V37,) -> 0 | X37: =Q37+T37+W37 -> 0
B38: 덕트설비 | F38: 0.04 | G38: 0.52 | H38: 0.4 | I38: 1 | K38: 식 | L38: ='동별 점검수량'!F35 -> 1 | M38: ='동별 점검수량'!G35 -> 1 | N38: ='동별 점검수량'!H35 -> 1 | O38: =TRUNC(F38*$N38*SUM($I38:$J38),2) -> 0.04 | P38: =단가대비표!$G$7 -> 0 | Q38: =TRUNC(O38*P38,) -> 0 | R38: =TRUNC(G38*$N38*SUM($I38:$J38),2) -> 0.52 | S38: =단가대비표!$G$8 -> 0 | T38: =TRUNC(R38*S38,) -> 0 | U38: =TRUNC(H38*$N38*SUM($I38:$J38),2) -> 0.4 | V38: =단가대비표!$G$9 -> 0 | W38: =TRUNC(U38*V38,) -> 0 | X38: =Q38+T38+W38 -> 0
B39: 보온설비 | F39: 0.04 | G39: 0.96 | H39: 1 | I39: 1 | K39: 식 | L39: ='동별 점검수량'!F36 -> 1 | M39: ='동별 점검수량'!G36 -> 1 | N39: ='동별 점검수량'!H36 -> 1 | O39: =TRUNC(F39*$N39*SUM($I39:$J39),2) -> 0.04 | P39: =단가대비표!$G$7 -> 0 | Q39: =TRUNC(O39*P39,) -> 0 | R39: =TRUNC(G39*$N39*SUM($I39:$J39),2) -> 0.96 | S39: =단가대비표!$G$8 -> 0 | T39: =TRUNC(R39*S39,) -> 0 | U39: =TRUNC(H39*$N39*SUM($I39:$J39),2) -> 1 | V39: =단가대비표!$G$9 -> 0 | W39: =TRUNC(U39*V39,) -> 0 | X39: =Q39+T39+W39 -> 0
B40: 자동제어설비 | F40: 0.1 | G40: 0.75 | H40: 0.5 | I40: 1 | K40: 식 | L40: ='동별 점검수량'!F37 -> 1 | M40: ='동별 점검수량'!G37 -> 1 | N40: ='동별 점검수량'!H37 -> 1 | O40: =TRUNC(F40*$N40*SUM($I40:$J40),2) -> 0.1 | P40: =단가대비표!$G$7 -> 0 | Q40: =TRUNC(O40*P40,) -> 0 | R40: =TRUNC(G40*$N40*SUM($I40:$J40),2) -> 0.75 | S40: =단가대비표!$G$8 -> 0 | T40: =TRUNC(R40*S40,) -> 0 | U40: =TRUNC(H40*$N40*SUM($I40:$J40),2) -> 0.5 | V40: =단가대비표!$G$9 -> 0 | W40: =TRUNC(U40*V40,) -> 0 | X40: =Q40+T40+W40 -> 0
B41: 방음·방진·내진 설비 | F41: 0.04 | G41: 0.47 | H41: 0.42 | I41: 1 | K41: 식 | L41: ='동별 점검수량'!F38 -> 1 | M41: ='동별 점검수량'!G38 -> 1 | N41: ='동별 점검수량'!H38 -> 1 | O41: =TRUNC(F41*$N41*SUM($I41:$J41),2) -> 0.04 | P41: =단가대비표!$G$7 -> 0 | Q41: =TRUNC(O41*P41,) -> 0 | R41: =TRUNC(G41*$N41*SUM($I41:$J41),2) -> 0.47 | S41: =단가대비표!$G$8 -> 0 | T41: =TRUNC(R41*S41,) -> 0 | U41: =TRUNC(H41*$N41*SUM($I41:$J41),2) -> 0.42 | V41: =단가대비표!$G$9 -> 0 | W41: =TRUNC(U41*V41,) -> 0 | X41: =Q41+T41+W41 -> 0
B42: 소 계 | O42: =TRUNC(SUBTOTAL(9,O17:O41),2) -> 1.18 | Q42: =TRUNC(SUBTOTAL(9,Q17:Q41),) -> 0 | R42: =TRUNC(SUBTOTAL(9,R17:R41),2) -> 7.24 | T42: =TRUNC(SUBTOTAL(9,T17:T41),) -> 0 | U42: =TRUNC(SUBTOTAL(9,U17:U41),2) -> 7.01 | W42: =TRUNC(SUBTOTAL(9,W17:W41),) -> 0 | X42: =TRUNC(SUBTOTAL(9,X17:X41),) -> 0
...

Sheet 수량산출기준
A1: 기계설비 성능점검 수량산출 기준
E2: 근거: 국토교통부고시 제2021 - 1013호(기계설비 유지관리기준 별표2)
A3: 점검대상 | C3: 수량산출 | E3: 비고
A4: 계획 검토 | C4: 특급기술자 작성 원칙
A5: 시스템 검토 | C5: 특급기술자 작성 원칙
A6: 열원 및 냉난방 설비 | B6: 냉동기 | C6: 전체수량의 50% : 고압가스안전관리법 매년 검사 제외
B7: 냉각탑 | C7: 전체수량의 50% : 점검대상 냉동기에 관련된 냉각탑
B8: 축열 | C8: 전체수량 : 축열량 및 방열량에 대한 효율 점검 포함
B9: 보일러 | C9: 전체수량의 50% : 에너지이용화법 매년 검사 제외
B10: 열교환기 | C10: 전체수량의 50%
B11: 팽창탱크 | C11: 냉.난방, 급탕 팽창탱크 포함
B12: 펌프 | C12: 전체수량의 20% : 냉.난방, 급수펌프(예비펌프, 동력 0.75kw이하 제외)
B13: 신재생에너지 | C13: 전체수량
B14: 패키지에어컨 | C14: 전체수량의 20% : (냉난방용량 7.3kw이하제외 실외기 기준)
B15: 항온항습기 | C15: 전체수량의 20%
A16: 공기조화 설비 | B16: 공기조화기 | C16: 전체수량의 20% : 송풍기 포함
B17: 팬코일유닛 | C17: 1개층 이상(전체수량의 10%이상)
A18: 환기 설비 | B18: 환기설비 | C18: 전체수량의 20% : 용량 0.75Kw이하 및 벽부형 제외
B19: 필터 | C19: 전체수량 : 팬필터유닛, 냄새제거필터유닛 등 포함
A20: 위생기구설비 | C20: 전체
A21: 급수,급탕 설비 | B21: 급수.급탕설비 | C21: 전체 : 급탕탱크 포함
B22: 고.저수조 | C22: 전체
A23: 오.배수 통기, 우수배수설비 | C23: 전체
A24: 오수정화 및 물 재이용 설비 | B24: 오수정화설비 | C24: 전체
B25: 물 재이용설비 | C25: 전체
A26: 배관설비 | C26: 전체
A27: 덕트설비 | C27: 전체 : VAV, CAV 유닛 포함
A28: 보온설비 | C28: 전체
A29: 자동제어설비 | C29: 중앙감시반, 기계실, 공조실 포함
A30: 방음.방진.내진설비

Sheet 용역비 산출근거
A1: 용역비 산출근거
A3: 1. 기계설비 성능점검 용역비 산출근거
A4: 가. 적용근거
A5: ○ 기계설비법 제17조
A6: ○ 기계설비 유지관리기준(국토교통부 고시 제2021-1013호) 별표 4(제12조 제2항 관련)
A7: ○ 엔지니어링산업 진흥법 제31조(엔지니어링사업의 대가 기준 등)
A9: 나. 산출방법 : 성능점검 투입인원 × 산정기준 점검 수량 × 조정계수 × (엔지니어링 노임단가)
A11: 다. 투입인원 산출 기준 (기계설비유지관리기준 [별표 4 - 표1])
B12: 구분 | C12: 점검대상 | D12: 기준인원(인) | G12: 분류 | H12: 조정계수 적용여부
D13: 특급 | E13: 고급 | F13: 중급 | H13: 연면적 | I13: 경과년수
B14: 계획검토 | D14: 3.58 | E14: - | F14: - | G14: 식 | H14: √
B15: 시스템검토 | D15: 3.58 | E15: - | F15: - | G15: 식 | H15: √
B16: 열원 및 냉방설비 | C16: 냉동기 | D16: 0.13 | E16: 0.28 | F16: 0.16 | G16: 대 | I16: √
C17: 냉각탑 | D17: 0.1 | E17: 0.25 | F17: 0.17 | G17: 대 | I17: √
C18: 축열조 | D18: 0.1 | E18: 0.27 | F18: 0.17 | G18: 대 | I18: √
C19: 보일러 | D19: 0.1 | E19: 0.28 | F19: 0.19 | G19: 대 | I19: √
C20: 열교환기 | D20: 0.04 | E20: 0.16 | F20: 0.11 | G20: 대 | I20: √
C21: 팽창탱크 | D21: 0.02 | E21: 0.16 | F21: 0.07 | G21: 대 | I21: √
C22: 펌프 | D22: 0.1 | E22: 0.21 | F22: 0.13 | G22: 대 | I22: √
C23: 신재생에너지 | D23: 0.09 | E23: 0.23 | F23: 0.09 | G23: 대 | I23: √
C24: 패키지에어컨 | D24: 0.04 | E24: 0.11 | F24: 0.17 | G24: 대 | I24: √
C25: 항온항습기 | D25: 0.08 | E25: 0.16 | F25: 0.18 | G25: 대 | I25: √
B26: 공기조화 설비 | C26: 공기조화기 | D26: 0.04 | E26: 0.18 | F26: 0.11 | G26: 대 | I26: √
C27: 팬코일유닛 | D27: 0.04 | E27: 0.11 | F27: 0.13 | G27: 대 | I27: √
B28: 환기설비 | C28: 환기설비 | D28: 0.04 | E28: 0.11 | F28: 0.13 | G28: 대 | I28: √
C29: 필터 | D29: 0.04 | E29: 0.1 | F29: 0.1 | G29: 대 | I29: √
B30: 위생기구설비 | D30: 0.04 | E30: 0.35 | F30: 0.2 | G30: 식 | H30: √
B31: 급수·급탕 설비 | C31: 급수·급탕설비 | D31: 0.04 | E31: 0.23 | F31: 0.1 | G31: 식 | H31: √
C32: 고·저수조 | D32: 0.04 | E32: 0.21 | F32: 0.13 | G32: 식 | H32: √
B33: 오·배수 통기 및 우수배수설비 | D33: 0.04 | E33: 0.29 | F33: 0.17 | G33: 식 | H33: √
B34: 오수정화 및 물재이용설비 | C34: 오수정화설비 | D34: 0.04 | E34: 0.29 | F34: 0.17 | G34: 식 | H34: √
C35: 물 재이용설비 | D35: 0.04 | E35: 0.29 | F35: 0.17 | G35: 식 | H35: √
B36: 배관설비 | D36: 0.04 | E36: 1.13 | F36: 1.25 | G36: 식 | H36: √
B37: 덕트설비 | D37: 0.04 | E37: 0.52 | F37: 0.4 | G37: 식 | H37: √
B38: 보온설비 | D38: 0.04 | E38: 0.96 | F38: 1 | G38: 식 | H38: √
B39: 자동제어설비 | D39: 0.1 | E39: 0.75 | F39: 0.5 | G39: 식 | H39: √
B40: 방음·방진·내진 설비 | D40: 0.04 | E40: 0.47 | F40: 0.42 | G40: 식 | H40: √
B41: 보고서 작성 | D41: 0.42 | E41: 2.46 | F41: 2.71 | G41: 식 | H41: √
A45: 라. 조정계수 적용기준 (기계설비유지관리기준 [별표 4 - 표2])
B46: 연면적에 따른 조정 | D46: 기계설비 경과년수에 따른 조정
...

Sheet 단가대비표
A2: 단 가 대 비 표
A4: =내역서!B1 -> [ 용역명 : 2023년 아주대학교 기계설비 성능점검]
A5: 품 명 | B5: 규 격 | C5: 단위 | D5: 단가조사서 | F5: 조정률 | G5: 적용단가 | H5: 비 고
D6: 조사가격 | E6: 근거
A7: 특급기술자 | B7: 기계/설비 | C7: 인 | D7: =엔지니어링대가기준!C6 -> 367153 | E7: 2023년 엔지니어링업체 임금실태조사 결과 공표 | F7: 0 | G7: =INT(F7*D7) -> 0
A8: 고급기술자 | B8: 기계/설비 | C8: 인 | D8: =엔지니어링대가기준!C7 -> 313547 | E8: " | F8: =F7 -> 0 | G8: =INT(F8*D8) -> 0
A9: 중급기술자 | B9: 기계/설비 | C9: 인 | D9: =엔지니어링대가기준!C8 -> 266506 | E9: " | F9: =F8 -> 0 | G9: =INT(F9*D9) -> 0

Sheet 엔지니어링대가기준
B1: 엔지니어링 대가기준
I2: 관련근거: 2023년 엔지니어링업체 임금실태조사 결과 공표
B3: 년도 | C3: 2023년
B4: 기술등급 | C4: 기계/설비 | D4: 전기 | E4: 정보통신 | F4: 건설 | G4: 환경 | H4: 원자력 | I4: 기타
B5: 기술사 | C5: 445789 | D5: 431962 | E5: 417280 | F5: 432440 | G5: 424902 | H5: 539581 | I5: 400781
B6: 특급기술자 | C6: 367153 | D6: 325361 | E6: 310245 | F6: 335638 | G6: 322680 | H6: 450664 | I6: 325337
B7: 고급기술자 | C7: 313547 | D7: 285820 | E7: 281987 | F7: 282545 | G7: 293753 | H7: 361182 | I7: 280031
B8: 중급기술자 | C8: 266506 | D8: 268378 | E8: 254590 | F8: 261571 | G8: 246709 | H8: 324116 | I8: 228300
B9: 초급기술자 | C9: 228792 | D9: 224434 | E9: 218500 | F9: 205686 | G9: 217342 | H9: 267042 | I9: 202067
B10: 고급숙련기술자 | C10: 273502 | D10: 283141 | E10: 232694 | F10: 240947 | G10: 234982 | H10: 324521 | I10: 250442
B11: 중급숙련기술자 | C11: 207122 | D11: 211043 | E11: 202588 | F11: 220894 | G11: 209077 | H11: 301470 | I11: 201395
B12: 초급숙련기술자 | C12: 185413 | D12: 181762 | E12: 175059 | F12: 186909 | G12: 183671 | H12: 201653 | I12: 166204

Sheet 대상건물현황
A1: 기계설비 성능점검 대상 건물현황
A2: 번 호 | B2: 건 물 명 | C2: 연면적(㎡) | D2: 사용승인일 | E2: 비 고
A5: 1 | B5: 율곡관 | C5: 13120.03 | D5: 1989.09.
A6: 2 | B6: 중앙도서관 | C6: 13311.67 | D6: 1989.09.
A7: 3 | B7: 원천관 | C7: 11283.99 | D7: 1977.03.
A8: 4 | B8: 팔달관 | C8: 15683.88 | D8: 1997.07.
A9: 5 | B9: 다산관 | C9: 11147.2 | D9: 1997.07.
A10: 6 | B10: 산학협력원 | C10: 10714.77 | D10: 2002.01.
A11: 7 | B11: 연암관 | C11: 25757.21 | D11: 2011.02.
A12: 8 | B12: 국제학사 | C12: 10096.78 | D12: 2014.12.
A13: 9 | B13: 일신관 | C13: 14681.22 | D13: 2022.02.
A14: 10 | B14: 캠퍼스플라자 | C14: 11939.56 | D14: 2000.08.
A15: 합 계 | C15: =SUM(C5:C14) -> 137736.31

Sheet 동별 점검수량
B1: =집계표!C1 -> [ 용역명 : 2023년 아주대학교 기계설비 성능점검]
B3: 점검대상 수량 산출서
B5: ▣ 건 물 명: | C5: 율곡관
B6: - 대상년도: | C6: 2023 | E6: 년
B7: - 연면적: | C7: =VLOOKUP(C5,대상건물현황!$B$5:$E$14,2,0) -> 13120.03 | E7: ㎡
B8: - 사용승인일: | C8: =VLOOKUP(C5,대상건물현황!$B$5:$E$14,3,0) -> 1989.09.
B11: 구 분 | E11: 점검대상 | F11: 총수량 | G11: 산출수량 | H11: 점검수량 | I11: 단 위 | J11: 비 고
B12: 계획 검토 | F12: 1 | G12: =F12*1 -> 1 | H12: =ROUNDUP(G12,0) -> 1 | I12: 식
B13: 시스템 검토 | F13: 1 | G13: =F13*1 -> 1 | H13: =ROUNDUP(G13,0) -> 1 | I13: 식
B14: 열원 및 냉난방설비 | E14: 냉동기/냉온수기 | G14: =F14*0.5 -> 0 | H14: =ROUNDUP(G14,0) -> 0 | I14: 대
E15: 냉각탑 | G15: =F15*0.5 -> 0 | H15: =ROUNDUP(G15,0) -> 0 | I15: 대
E16: 축열조 | G16: =F16*1 -> 0 | H16: =ROUNDUP(G16,0) -> 0 | I16: 대
E17: 보일러 | G17: =F17*0.5 -> 0 | H17: =ROUNDUP(G17,0) -> 0 | I17: 대
E18: 열교환기 | G18: =F18*0.5 -> 0 | H18: =ROUNDUP(G18,0) -> 0 | I18: 대
E19: 팽창탱크 | G19: =F19*1 -> 0 | H19: =ROUNDUP(G19,0) -> 0 | I19: 대
E20: 펌프 | F20: 1 | G20: =F20*0.2 -> 0.2 | H20: =ROUNDUP(G20,0) -> 1 | I20: 대
E21: 신재생에너지 | G21: =F21*1 -> 0 | H21: =ROUNDUP(G21,0) -> 0 | I21: 대
E22: 패키지에어컨 | F22: 54 | G22: =F22*0.2 -> 10.8 | H22: =ROUNDUP(G22,0) -> 11 | I22: 대
E23: 항온항습기 | G23: =F23*0.2 -> 0 | H23: =ROUNDUP(G23,0) -> 0 | I23: 대
B24: 공기조화설비 | E24: 공기조화기 | F24: 2 | G24: =F24*0.2 -> 0.4 | H24: =ROUNDUP(G24,0) -> 1 | I24: 대
E25: 팬코일유닛 | G25: =F25/5 -> 0 | H25: =ROUNDUP(G25,0) -> 0 | I25: 대
B26: 환기설비 | E26: 환기설비 | F26: 5 | G26: =F26*0.2 -> 1 | H26: =ROUNDUP(G26,0) -> 1 | I26: 대
E27: 필터 | G27: =F27*1 -> 0 | H27: =ROUNDUP(G27,0) -> 0 | I27: 대
B28: 위생기구설비 | F28: 1 | G28: =F28*1 -> 1 | H28: =ROUNDUP(G28,0) -> 1 | I28: 식
B29: 급수·급탕 설비 | C29: 급수·급탕설비 | F29: 1 | G29: =F29*1 -> 1 | H29: =ROUNDUP(G29,0) -> 1 | I29: 식
C30: 고·저수조 | F30: 1 | G30: =F30*1 -> 1 | H30: =ROUNDUP(G30,0) -> 1 | I30: 식
B31: 오·배수 통기 및 우수배수설비 | F31: 1 | G31: =F31*1 -> 1 | H31: =ROUNDUP(G31,0) -> 1 | I31: 식
B32: 오수정화 및 물재이용설비 | D32: 오수정화설비 | F32: 1 | G32: =F32*1 -> 1 | H32: =ROUNDUP(G32,0) -> 1 | I32: 식
D33: 물 재이용설비 | G33: =F33*1 -> 0 | H33: =ROUNDUP(G33,0) -> 0 | I33: 식
B34: 배관설비 | F34: 1 | G34: =F34*1 -> 1 | H34: =ROUNDUP(G34,0) -> 1 | I34: 식
B35: 덕트설비 | F35: 1 | G35: =F35*1 -> 1 | H35: =ROUNDUP(G35,0) -> 1 | I35: 식
B36: 보온설비 | F36: 1 | G36: =F36*1 -> 1 | H36: =ROUNDUP(G36,0) -> 1 | I36: 식
B37: 자동제어설비 | F37: 1 | G37: =F37*1 -> 1 | H37: =ROUNDUP(G37,0) -> 1 | I37: 식
B38: 방음·방진·내진 설비 | F38: 1 | G38: =F38*1 -> 1 | H38: =ROUNDUP(G38,0) -> 1 | I38: 식
B39: 보고서 | F39: 1 | G39: =F39*1 -> 1 | H39: =ROUNDUP(G39,0) -> 1 | I39: 식
B41: ▣ 건 물 명: | C41: 중앙도서관
B42: - 대상년도: | C42: 2023 | E42: 년
B43: - 연면적: | C43: =VLOOKUP(C41,대상건물현황!$B$5:$E$14,2,0) -> 13311.67 | E43: ㎡
B44: - 사용승인일: | C44: =VLOOKUP(C41,대상건물현황!$B$5:$E$14,3,0) -> 1989.09.
B47: 구 분 | E47: 점검대상 | F47: 총수량 | G47: 산출수량 | H47: 점검수량 | I47: 단 위 | J47: 비 고
...
