{"text_format":"2","workbook":"xlsx","n_sheets":3,"sheets":["물품사양검토확인서 양식","사전견적서-1","사전견적서-2"],"not_rendered":{"charts":0,"images":0,"macros":0,"external_links":0,"defined_names":3,"comments":0,"pivot_tables":0},"unopened":[],"bounds":{"document_bytes":16777216,"sheet_cells":100000,"run_cost":"one","rows_first":2000,"rows_last":500,"rows_between":2000,"halvings":0,"cell_chars":16384,"cell_head_chars":4096},"cells_cut":0,"cells_raw":0,"read":"whole","date_system":"1900"}

{"sheet":"물품사양검토확인서 양식","index":0,"n_rows":51,"n_cols":5,"rows_kept":51,"cut":false,"hidden":false,"merged":[[1,0,1,4],[3,2,3,4],[4,2,4,4],[7,2,7,3],[10,2,10,3],[42,0,42,4],[48,0,50,0],[12,2,12,4],[14,0,15,0],[16,0,22,0],[23,0,26,0],[27,0,40,0]]}
[]
["물품사양검토확인서"]
[]
["입찰건명",": ","2015년 아주대학교 에어컨 단가계약업체 선정입찰"]
["품명 ",":","에어컨 (단가계약품)"]
[]
[]
["업체명\n (사업자등록번호)",":",null,null,"(인)"]
[]
[]
["제출자 ",":",null,null,"(서명)"]
[]
[]
["구 분","평형/(㎡)","기준스펙","제안물품 모델명","제안물품 스펙"]
["벽걸이형","10평형 ","■ 전원 : 220/60 V\n■ 소비전력 :　1.45kw\n■ 냉방능력 :　4.0kw"]
[null,"13평형 ","■ 전원 : 220/60 V\n■ 소비전력 : 1.68kw\n■ 냉방능력 : 5.2kw"]
["냉방전용 PAC","15평형  ","■ 전원 : 220/60 V\n■ 소비전력 :　1.7kw\n■ 냉방능력 :　6.0kw"]
[null,"18평형  ","■ 전원 : 220/60 V\n■ 소비전력 :　2.15kw\n■ 냉방능력 :　7.2kw"]
[null,"23평형  ","■ 전원 : 220/60 V\n■ 소비전력 :　2.8kw\n■ 냉방능력 :　8.3kw"]
[null,"30평형  ","■ 전원 : 220/60 V\n■ 소비전력 :　3.6kw\n■ 냉방능력 :　10.0kw"]
[null,"40평형  ","■ 전원 : 220/60 V\n■ 소비전력 :　4.6kw\n■ 냉방능력 :　14.5kw"]
[null,"58평형  ","■ 전원 : 380/60 V\n■ 소비전력 :　7.7kw\n■ 냉방능력 :　21.0kw"]
[null,"83평형  ","■ 전원 : 380/60 V\n■ 소비전력 :　30.0kw\n■ 냉방능력 :　14.5kw"]
["냉난방 인버터","15평형  ","■ 전원 : 220/60 V\n■ 냉방소비전력 : 3.0kw\n■ 난방소비전력 : 3.2kw\n■ 냉방능력 : 6.0kw\n■ 난방능력 : 7.0kw"]
[null,"18평형  ","■ 전원 : 220/60 V\n■ 냉방소비전력 : 3.0KW\n■ 난방소비전력 : 4.0KW\n■ 냉방능력:7.2KW \n■ 난방능력:8.2KW"]
[null,"23평형  ","■ 전원 : 220/60 V\n■ 냉방소비전력 : 3.8kw\n■ 난방소비전력 : 3.9kw\n■ 냉방능력 : 9.0KW \n■ 난방능력 : 8.3KW"]
[null,"30평형","■ 전원 : 220V단상 or 380V 3상\n■ 냉방소비전력 : 4.7kw\n■ 난방소비전력 : 4.9kw\n■ 냉방능력 : 11.KW \n■ 난방능력 : 11.0kw"]
["천정형(시스템)에어컨 ","냉난방 10평형  ","■ 전원 : 220V단상 or 380V 3상\n■ 냉방소비전력  : 2.1KW\n■ 난방소비전력  : 2.2KW\n■ 냉방능력 :　4.0kw\n■ 난방능력 :　5.0kw"]
[null,"냉난방 15평형  ","■ 전원 : 220V단상 or 380V 3상\n■ 냉방소비전력  : 2.1KW\n■ 난방소비전력  : 2.2KW\n■ 냉방능력 : 6.0kw\n■ 난방능력 : 7.2kw"]
[null,"냉난방 18평형  ","■ 전원 : 220V단상 or 380V 3상\n■ 냉방소비전력  : 2.5KW\n■ 난방소비전력  : 2.7KW\n■ 냉방능력 : 6.7.KW \n■ 난방능력 : 8.0KW "]
[null,"냉난방 25평형  ","■ 전원 : 220V단상 or 380V 3상\n■ 냉방소비전력  : 3.1KW\n■ 난방소비전력  : 3.2KW\n■ 냉방능력 :　9.0kw\n■ 난방능력 :　11.0kw"]
[null,"냉난방 28평형  ","■ 전원 : 220V단상 or 380V 3상\n■ 냉방소비전력  : 3.5KW\n■ 난방소비전력  : 4.1KW\n■ 냉방능력 : 10.0kw\n■ 난방능력 : 11.2KW "]
[null,"냉난방 30평형  ","■ 전원 : 220V단상 or 380V 3상\n■ 냉방소비전력  : 3.8KW\n■ 난방소비전력  : 4.1KW\n■ 냉방능력 :　11.0kw\n■ 난방능력 :　13.2kw"]
[null,"냉난방 36평형  ","■ 전원 : 220V단상 or 380V 3상\n■ 냉방소비전력 : 4.6kw\n■ 난방소비전력 : 4.3kw\n■ 냉방능력 :　12.0kw\n■ 난방능력 :　14.0kw"]
[null,"냉난방 40평형  ","■ 전원 : 220V단상 or 380V 3상\n■ 냉방소비전력 :　5.2kw\n■ 난방소비전력 :　5.3kw\n■ 냉방능력 :　14.0kw\n■ 난방능력 :　16.0kw"]
[null,"냉방 10평형  ","■ 전원 :220V단상 or 380V 3상\n■ 냉방소비전력 :　1.35kw\n■ 냉방능력 :　4.0kw"]
[null,"냉방 15평형  ","■ 전원 :220V단상 or 380V 3상\n■ 냉방소비전력 :　2.1kw\n■ 냉방능력 :　6.0kw"]
[null,"냉방 18평형  ","■ 전원 :220V단상 or 380V 3상\n■ 냉방소비전력 :　2.25kw\n■ 냉방능력 :　6.7kw"]
[null,"냉방 25평형  ","■ 전원 :220V단상 or 380V 3상\n■ 냉방소비전력 :　3.46kw\n■ 냉방능력 :　9.0kw"]
[null,"냉방 28평형  ","■ 전원 :220V단상 or 380V 3상\n■ 냉방소비전력 :　3.46kw\n■ 냉방능력 :　10.0kw"]
[null,"냉방 36평형  ","■ 전원 :220V단상 or 380V 3상\n■ 냉방소비전력 :4.35kw\n■ 냉방능력 : 12.0kw"]
[]
["상기 품목에 대한 규격서를 검토한 결과, 본교가 구입하고자 하는 물품에 적합함을 확인함"]
[]
[]
[null,null,"2015년","1월","일"]
[]
[]
["검토확인자",null,"부서 :","성명 :","(서명)"]
[]
[null,null,"부서 :","성명 :","(서명)"]

{"sheet":"사전견적서-1","index":1,"n_rows":47,"n_cols":5,"rows_kept":47,"cut":false,"hidden":false,"merged":[[12,2,12,4],[1,0,1,4],[3,2,3,4],[4,2,4,4],[7,2,7,3],[10,2,10,3],[14,0,15,0],[16,0,22,0],[23,0,26,0],[27,0,40,0],[43,0,43,4]]}
[]
["사전견적서 (기기부문)"]
[]
["입찰건명",": ","2015년 아주대학교 에어컨 단가계약업체 선정입찰"]
["품명 ",":","에어컨 (단가계약품)"]
[]
[]
["업체명\n (사업자등록번호)",":",{"$f":"'물품사양검토확인서 양식'!C8:D8","v":0},null,"(인)"]
[]
[]
["제출자 ",":",{"$f":"'물품사양검토확인서 양식'!C11:D11","v":0},null,"(서명)"]
[]
[]
["구 분","평형/(㎡)","제안물품 모델명","제안물품 스펙","사전견적가(부가세 포함가)"]
["벽걸이형","10평형 ",{"$f":"'물품사양검토확인서 양식'!D15","v":0},{"$f":"'물품사양검토확인서 양식'!E15","v":0}]
[null,"13평형 ",{"$f":"'물품사양검토확인서 양식'!D16","v":0},{"$f":"'물품사양검토확인서 양식'!E16","v":0}]
["냉방전용 PAC","15평형  ",{"$f":"'물품사양검토확인서 양식'!D17","v":0},{"$f":"'물품사양검토확인서 양식'!E17","v":0}]
[null,"18평형  ",{"$f":"'물품사양검토확인서 양식'!D18","v":0},{"$f":"'물품사양검토확인서 양식'!E18","v":0}]
[null,"23평형  ",{"$f":"'물품사양검토확인서 양식'!D19","v":0},{"$f":"'물품사양검토확인서 양식'!E19","v":0}]
[null,"30평형  ",{"$f":"'물품사양검토확인서 양식'!D20","v":0},{"$f":"'물품사양검토확인서 양식'!E20","v":0}]
[null,"40평형  ",{"$f":"'물품사양검토확인서 양식'!D21","v":0},{"$f":"'물품사양검토확인서 양식'!E21","v":0}]
[null,"58평형  ",{"$f":"'물품사양검토확인서 양식'!D22","v":0},{"$f":"'물품사양검토확인서 양식'!E22","v":0}]
[null,"83평형  ",{"$f":"'물품사양검토확인서 양식'!D23","v":0},{"$f":"'물품사양검토확인서 양식'!E23","v":0}]
["냉난방 인버터","15평형  ",{"$f":"'물품사양검토확인서 양식'!D24","v":0},{"$f":"'물품사양검토확인서 양식'!E24","v":0}]
[null,"18평형  ",{"$f":"'물품사양검토확인서 양식'!D25","v":0},{"$f":"'물품사양검토확인서 양식'!E25","v":0}]
[null,"23평형  ",{"$f":"'물품사양검토확인서 양식'!D26","v":0},{"$f":"'물품사양검토확인서 양식'!E26","v":0}]
[null,"30평형",{"$f":"'물품사양검토확인서 양식'!D27","v":0},{"$f":"'물품사양검토확인서 양식'!E27","v":0}]
["천정형(시스템)\n에어컨 ","냉난방 10평형  ",{"$f":"'물품사양검토확인서 양식'!D28","v":0},{"$f":"'물품사양검토확인서 양식'!E28","v":0}]
[null,"냉난방 15평형  ",{"$f":"'물품사양검토확인서 양식'!D29","v":0},{"$f":"'물품사양검토확인서 양식'!E29","v":0}]
[null,"냉난방 18평형  ",{"$f":"'물품사양검토확인서 양식'!D30","v":0},{"$f":"'물품사양검토확인서 양식'!E30","v":0}]
[null,"냉난방 25평형  ",{"$f":"'물품사양검토확인서 양식'!D31","v":0},{"$f":"'물품사양검토확인서 양식'!E31","v":0}]
[null,"냉난방 28평형  ",{"$f":"'물품사양검토확인서 양식'!D32","v":0},{"$f":"'물품사양검토확인서 양식'!E32","v":0}]
[null,"냉난방 30평형  ",{"$f":"'물품사양검토확인서 양식'!D33","v":0},{"$f":"'물품사양검토확인서 양식'!E33","v":0}]
[null,"냉난방 36평형  ",{"$f":"'물품사양검토확인서 양식'!D34","v":0},{"$f":"'물품사양검토확인서 양식'!E34","v":0}]
[null,"냉난방 40평형  ",{"$f":"'물품사양검토확인서 양식'!D35","v":0},{"$f":"'물품사양검토확인서 양식'!E35","v":0}]
[null,"냉방 10평형  ",{"$f":"'물품사양검토확인서 양식'!D36","v":0},{"$f":"'물품사양검토확인서 양식'!E36","v":0}]
[null,"냉방 15평형  ",{"$f":"'물품사양검토확인서 양식'!D37","v":0},{"$f":"'물품사양검토확인서 양식'!E37","v":0}]
[null,"냉방 18평형  ",{"$f":"'물품사양검토확인서 양식'!D38","v":0},{"$f":"'물품사양검토확인서 양식'!E38","v":0}]
[null,"냉방 25평형  ",{"$f":"'물품사양검토확인서 양식'!D39","v":0},{"$f":"'물품사양검토확인서 양식'!E39","v":0}]
[null,"냉방 28평형  ",{"$f":"'물품사양검토확인서 양식'!D40","v":0},{"$f":"'물품사양검토확인서 양식'!E40","v":0}]
[null,"냉방 36평형  ",{"$f":"'물품사양검토확인서 양식'!D41","v":0},{"$f":"'물품사양검토확인서 양식'!E41","v":0}]
[]
[]
["상기와 같이 견적함"]
[]
[]
[null,null,"2015년","1월","일"]

{"sheet":"사전견적서-2","index":2,"n_rows":67,"n_cols":8,"rows_kept":67,"cut":false,"hidden":false,"merged":[[1,0,1,7],[3,4,3,7],[4,4,4,7],[8,4,8,7],[3,1,3,3],[4,1,4,3],[64,0,64,7],[5,2,5,6],[7,2,7,6],[11,1,12,1],[9,0,10,2],[10,3,10,7],[13,1,21,1],[11,0,21,0],[22,1,28,1],[22,0,28,0],[11,7,21,7],[22,7,28,7],[29,1,29,2],[30,1,30,2],[31,1,31,2],[29,0,31,0],[32,1,33,1],[34,1,35,1],[32,0,35,0],[36,1,36,2],[37,1,38,1],[39,1,40,1],[51,1,51,2],[52,1,52,2],[49,0,52,0],[43,1,44,1],[37,0,40,0],[41,0,46,0],[45,1,45,2],[46,1,46,2],[47,1,47,2],[41,1,42,1],[29,3,62,6],[58,1,58,2],[56,0,57,0],[59,0,62,0],[59,1,60,1],[61,1,62,1],[53,1,53,2],[54,1,54,2],[55,1,55,2],[53,0,55,0],[56,1,56,2],[57,1,57,2],[48,1,48,2],[47,0,48,0],[49,1,49,2],[50,1,50,2]]}
[]
["사전견적서 (시공부문)"]
[]
["입찰건명",": ",null,null,"2015년 아주대학교 에어컨 단가계약업체 선정입찰"]
["품명 ",":",null,null,"에어컨 (단가계약품)"]
["업체명\n (사업자등록번호)",":",{"$f":"'물품사양검토확인서 양식'!C8:D8","v":0},{"$nulls":4},"(인)"]
[]
["제출자 ",":",{"$f":"'물품사양검토확인서 양식'!C11:D11","v":0},{"$nulls":4},"(서명)"]
[]
["구 분",null,null,"천정형","벽걸이","PAC","인버터","공통"]
[null,null,null,"부가세 포함가 기준"]
["인건비\n(잡자재비 포함)","천정형","멀티-카세트형",{"$nulls":4},"-"]
[null,null,"싱글-카세트형"]
[null,"기타","10평형"]
[null,null,"13평형"]
[null,null,"15평형"]
[null,null,"18평형"]
[null,null,"23평형"]
[null,null,"30평형"]
[null,null,"40평형"]
[null,null,"58평형"]
[null,null,"83평형"]
["냉매배관 (동배관)\n- 보온재,전선,통신선\n관부속포함)/\nM당 비용","EHP","RG 38.1 mm",{"$nulls":4},"-"]
[null,null,"RG 31.8 mm"]
[null,null,"RG 28.58 mm"]
[null,null,"RG 25.4 mm"]
[null,null,"RG 19.05 mm"]
[null,null,"RG 15.88 mm"]
[null,null,"RG 12.7 mm"]
["드레인배관 (PVC, VGI, 보온재, 관부속\n포함)/M당 비용","25mm",null,"-"]
[null,"32mm"]
[null,"40mm"]
["실외기 앵글제작","천정형 (평형별)","10~23평형"]
[null,null,"28~40평형"]
[null,"기타 (평형별)","10~23평형"]
[null,null,"30~83평형"]
["실외기 에어가이드","대당"]
["철거작업 (건당)","천정형 (평형별)","10~23평형"]
[null,null,"28~40평형"]
[null,"기타 (평형별)","10~23평형"]
[null,null,"30~83평형"]
["이설작업 (건당)","천정형 (평형별)","10~23평형"]
[null,null,"28~40평형"]
[null,"기타 (평형별)","10~23평형"]
[null,null,"30~83평형"]
[null,"냉매(R22) / kg당"]
[null,"냉매(R410) / kg당"]
["COA 천공","100mm 미만 (구당)"]
[null,"100mm 이상 (구당)"]
["전기공사","단상 (M당)"]
[null,"삼상 (M당)"]
[null,"누전차단기 단상 (대당)"]
[null,"누전차단기 삼상 (대당)"]
["배수펌프","8m/h (대당)"]
[null,"12m/h (대당)"]
[null,"15m/h (대당)"]
["배관마감","외벽 스텐몰딩 (M당)"]
[null,"내부 스텐몰딩 (M당)"]
["실외기패드","콘크리트 (대당)"]
["장비반입비","사다리차","반일"]
[null,null,"전일"]
[null,"크레인","반일"]
[null,null,"전일"]
[]
["상기와 같이 견적함"]
[]
[{"$nulls":5},"2015년","1월","일"]