{"text_format":"2","workbook":"xlsx","n_sheets":1,"sheets":["Sheet1"],"not_rendered":{"charts":0,"images":0,"macros":0,"external_links":1,"defined_names":1,"comments":0,"pivot_tables":0},"unopened":[],"bounds":{"document_bytes":16777216,"sheet_cells":100000,"run_cost":"one","rows_first":2000,"rows_last":500,"rows_between":2000,"halvings":0,"cell_chars":16384,"cell_head_chars":4096},"cells_cut":0,"cells_raw":0,"read":"whole","date_system":"1900"}

{"sheet":"Sheet1","index":0,"n_rows":196,"n_cols":12,"rows_kept":196,"cut":false,"hidden":false,"merged":[[0,0,0,11],[2,0,3,0],[2,1,3,1],[2,2,3,2],[2,3,3,3],[2,4,2,5],[2,6,2,7],[2,8,2,9],[2,10,3,10],[2,11,3,11]]}
[" 공   내    역    서"]
[{"$f":"[1]수량산출조서!A3","v":"공사명 : 중앙도서관 2~4층 LED 등기구 교체공사"}]
["명    칭","규     격","단위","수  량","재   료   비",null,"노   무   비",null,"경        비",null,"합    계","비   고"]
[{"$nulls":4},"단 가","금   액","단 가","금   액","단 가","금   액"]
[{"$f":"[1]수량산출조서!A7","v":"1.도서관 조명교체"}]
[{"$f":"[1]수량산출조서!A8","v":"도서관 형광등 철거"},{"$f":"[1]수량산출조서!B8","v":"매입형 32W*1등용"},{"$f":"[1]수량산출조서!C8","v":"EA"},{"$f":"[1]수량산출조서!G8","v":24}]
[{"$f":"[1]수량산출조서!A9","v":"도서관 형광등 철거"},{"$f":"[1]수량산출조서!B9","v":"매입형 32W*2등용"},{"$f":"[1]수량산출조서!C9","v":"EA"},{"$f":"[1]수량산출조서!G9","v":1354}]
[{"$f":"[1]수량산출조서!A10","v":"도서관 형광등 철거"},{"$f":"[1]수량산출조서!B10","v":"직부형 32W*2등용"},{"$f":"[1]수량산출조서!C10","v":"EA"},{"$f":"[1]수량산출조서!G10","v":24}]
[{"$f":"[1]수량산출조서!A11","v":"도서관 LED평판등 신설"},{"$f":"[1]수량산출조서!B11","v":"매입형 (300*1200)40W, M-BAR Type"},{"$f":"[1]수량산출조서!C11","v":"EA"},{"$f":"[1]수량산출조서!G11","v":1378},"지급자재",null,null,{"$f":"G9*D9","v":0},null,null,{"$f":"H9","v":0}]
[{"$f":"[1]수량산출조서!A12","v":"도서관 LED평판등 신설"},{"$f":"[1]수량산출조서!B12","v":"직부형 (300*1200)40W"},{"$f":"[1]수량산출조서!C12","v":"EA"},{"$f":"[1]수량산출조서!G12","v":24},"지급자재",null,null,{"$f":"G10*D10","v":0},null,null,{"$f":"H10","v":0}]
["공구손료","노무비의 3%","식",1,{"$f":"H22","v":0},{"$f":"E11*0.03","v":0},{"$nulls":4},{"$f":"F11","v":0}]
{"$rows_empty":10}
["소 계",{"$nulls":4},{"$f":"SUM(F8:F11)","v":0},null,{"$f":"SUM(H8:H11)","v":0},null,null,{"$f":"SUM(K6:K11)","v":0}]
{"$rows_empty":155}
[{"$f":"[1]수량산출조서!C283","v":0},{"$f":"[1]수량산출조서!D283","v":0},{"$f":"[1]수량산출조서!E283","v":0},{"$f":"[1]수량산출조서!#REF!","v":{"$error":"#REF!"}},{"$f":"[1]단가조사!B268","v":0},{"$f":"E178*D178","v":{"$error":"#REF!"}},{"$nulls":4},{"$f":"H178+F178","v":{"$error":"#REF!"}}]
[{"$f":"[1]수량산출조서!C284","v":0},{"$f":"[1]수량산출조서!D284","v":0},{"$f":"[1]수량산출조서!E284","v":0},{"$f":"[1]수량산출조서!#REF!","v":{"$error":"#REF!"}},{"$f":"[1]단가조사!B269","v":0},{"$error":"#REF!"},{"$nulls":4},{"$error":"#REF!"}]
[{"$f":"[1]수량산출조서!C285","v":0},{"$f":"[1]수량산출조서!D285","v":0},{"$f":"[1]수량산출조서!E285","v":0},{"$f":"[1]수량산출조서!#REF!","v":{"$error":"#REF!"}},{"$f":"[1]단가조사!B271","v":0},{"$error":"#REF!"},{"$nulls":4},{"$error":"#REF!"}]
[{"$f":"[1]수량산출조서!C286","v":0},{"$f":"[1]수량산출조서!D286","v":0},{"$f":"[1]수량산출조서!E286","v":0},{"$f":"[1]수량산출조서!#REF!","v":{"$error":"#REF!"}},{"$f":"[1]단가조사!B272","v":0},{"$error":"#REF!"},{"$nulls":4},{"$error":"#REF!"}]
[{"$f":"[1]수량산출조서!C287","v":0},{"$f":"[1]수량산출조서!D287","v":0},{"$f":"[1]수량산출조서!E287","v":0},{"$f":"[1]수량산출조서!#REF!","v":{"$error":"#REF!"}},{"$f":"[1]단가조사!B273","v":0},{"$error":"#REF!"},{"$nulls":4},{"$error":"#REF!"}]
[{"$f":"[1]수량산출조서!C288","v":0},{"$f":"[1]수량산출조서!D288","v":0},{"$f":"[1]수량산출조서!E288","v":0},{"$f":"[1]수량산출조서!#REF!","v":{"$error":"#REF!"}},{"$f":"[1]단가조사!B274","v":0},{"$error":"#REF!"},{"$nulls":4},{"$error":"#REF!"}]
[{"$f":"[1]수량산출조서!C289","v":0},{"$f":"[1]수량산출조서!D289","v":0},{"$f":"[1]수량산출조서!E289","v":0},{"$f":"[1]수량산출조서!#REF!","v":{"$error":"#REF!"}},{"$f":"[1]단가조사!B275","v":0},{"$error":"#REF!"},{"$nulls":4},{"$error":"#REF!"}]
[{"$f":"[1]수량산출조서!C290","v":0},{"$f":"[1]수량산출조서!D290","v":0},{"$f":"[1]수량산출조서!E290","v":0},{"$f":"[1]수량산출조서!#REF!","v":{"$error":"#REF!"}},{"$f":"[1]단가조사!B276","v":0},{"$error":"#REF!"},{"$nulls":4},{"$error":"#REF!"}]
[{"$f":"[1]수량산출조서!C291","v":0},{"$f":"[1]수량산출조서!D291","v":0},{"$f":"[1]수량산출조서!E291","v":0},{"$f":"[1]수량산출조서!#REF!","v":{"$error":"#REF!"}},{"$f":"[1]단가조사!B277","v":0},{"$error":"#REF!"},{"$nulls":4},{"$error":"#REF!"}]
[{"$f":"[1]수량산출조서!C292","v":0},{"$f":"[1]수량산출조서!D292","v":0},{"$f":"[1]수량산출조서!E292","v":0},{"$f":"[1]수량산출조서!#REF!","v":{"$error":"#REF!"}},{"$f":"[1]단가조사!B278","v":0},{"$error":"#REF!"},{"$nulls":4},{"$error":"#REF!"}]
[{"$f":"[1]수량산출조서!C293","v":0},{"$f":"[1]수량산출조서!D293","v":0},{"$f":"[1]수량산출조서!E293","v":0},{"$f":"[1]수량산출조서!#REF!","v":{"$error":"#REF!"}},{"$f":"[1]단가조사!B279","v":0},{"$error":"#REF!"},{"$nulls":4},{"$error":"#REF!"}]
[{"$f":"[1]수량산출조서!C294","v":0},{"$f":"[1]수량산출조서!D294","v":0},{"$f":"[1]수량산출조서!E294","v":0},{"$f":"[1]수량산출조서!#REF!","v":{"$error":"#REF!"}},{"$f":"[1]단가조사!B280","v":0},{"$error":"#REF!"},{"$nulls":4},{"$error":"#REF!"}]
[{"$f":"[1]수량산출조서!C295","v":0},{"$f":"[1]수량산출조서!D295","v":0},{"$f":"[1]수량산출조서!E295","v":0},{"$f":"[1]수량산출조서!#REF!","v":{"$error":"#REF!"}},{"$f":"[1]단가조사!B281","v":0},{"$error":"#REF!"},{"$nulls":4},{"$error":"#REF!"}]
[{"$f":"[1]수량산출조서!C296","v":0},{"$f":"[1]수량산출조서!D296","v":0},{"$f":"[1]수량산출조서!E296","v":0},{"$f":"[1]수량산출조서!#REF!","v":{"$error":"#REF!"}},{"$f":"[1]단가조사!B282","v":0},{"$error":"#REF!"},{"$nulls":4},{"$error":"#REF!"}]
[{"$f":"[1]수량산출조서!C297","v":0},{"$f":"[1]수량산출조서!D297","v":0},{"$f":"[1]수량산출조서!E297","v":0},{"$f":"[1]수량산출조서!#REF!","v":{"$error":"#REF!"}},{"$f":"[1]단가조사!B283","v":0},{"$error":"#REF!"},{"$nulls":4},{"$error":"#REF!"}]
[{"$f":"[1]수량산출조서!C298","v":0},{"$f":"[1]수량산출조서!D298","v":0},{"$f":"[1]수량산출조서!E298","v":0},{"$f":"[1]수량산출조서!#REF!","v":{"$error":"#REF!"}},{"$f":"[1]단가조사!B284","v":0},{"$error":"#REF!"},{"$nulls":4},{"$error":"#REF!"}]
[{"$f":"[1]수량산출조서!C299","v":0},{"$f":"[1]수량산출조서!D299","v":0},{"$f":"[1]수량산출조서!E299","v":0},{"$f":"[1]수량산출조서!#REF!","v":{"$error":"#REF!"}},{"$f":"[1]단가조사!B285","v":0},{"$error":"#REF!"},{"$nulls":4},{"$error":"#REF!"}]
[{"$f":"[1]수량산출조서!C300","v":0},{"$f":"[1]수량산출조서!D300","v":0},{"$f":"[1]수량산출조서!E300","v":0},{"$f":"[1]수량산출조서!#REF!","v":{"$error":"#REF!"}},{"$f":"[1]단가조사!B286","v":0},{"$error":"#REF!"},{"$nulls":4},{"$error":"#REF!"}]
[{"$f":"[1]수량산출조서!C301","v":0},{"$f":"[1]수량산출조서!D301","v":0},{"$f":"[1]수량산출조서!E301","v":0},{"$f":"[1]수량산출조서!#REF!","v":{"$error":"#REF!"}},{"$f":"[1]단가조사!B287","v":0},{"$error":"#REF!"},{"$nulls":4},{"$error":"#REF!"}]