{"text_format":"2","workbook":"xlsx","n_sheets":2,"sheets":["정품토너","재생토너"],"not_rendered":{"charts":0,"images":0,"macros":0,"external_links":0,"defined_names":3,"comments":0,"pivot_tables":0},"unopened":[],"bounds":{"document_bytes":16777216,"sheet_cells":100000,"run_cost":"one","rows_first":2000,"rows_last":500,"rows_between":2000,"halvings":0,"cell_chars":16384,"cell_head_chars":4096},"cells_cut":0,"cells_raw":0,"read":"whole","date_system":"1900"}

{"sheet":"정품토너","index":0,"n_rows":196,"n_cols":7,"rows_kept":196,"cut":false,"hidden":false,"merged":[[105,3,106,3],[5,1,195,1],[5,2,19,2],[5,3,8,3],[9,3,12,3],[14,3,15,3],[95,3,98,3],[99,3,102,3],[20,2,60,2],[25,3,26,3],[1,0,1,7],[192,2,195,2],[192,3,195,3],[170,2,187,2],[170,3,174,3],[175,3,178,3],[179,3,183,3],[184,3,187,3],[188,2,191,2],[188,3,191,3],[107,3,108,3],[109,3,110,3],[161,2,169,2],[162,3,165,3],[27,3,31,3],[32,3,36,3],[61,2,160,2],[16,3,19,3],[64,3,65,3],[67,3,70,3],[71,3,73,3],[74,3,77,3],[78,3,81,3],[82,3,86,3],[87,3,90,3],[91,3,94,3],[51,3,54,3],[56,3,60,3],[37,3,40,3],[41,3,44,3],[45,3,50,3],[103,3,104,3]]}
[]
["2020, 2021학년도 아주대학교 정품토너 단가계약업체 선정입찰 규격표"]
[]
[]
[null,"구분","제조사","프린터모델명","카트리지모델명","색상","비고"]
[null,"정품토너","HP","HP Officejet Pro K550/K8600","C9396A(88XL)","검정"]
[{"$nulls":4},"C9391A(88XL)","파랑"]
[{"$nulls":4},"C9392A(88XL)","빨강"]
[{"$nulls":4},"C9393A(88XL)","노랑"]
[null,null,null,"HP Photosmart B8550/C5380/\nC6375/C6380/D5460/C6385/\nD5463/D5468","CB316WA","검정"]
[{"$nulls":4},"CB318WA","파랑"]
[{"$nulls":4},"CB319WA","빨강"]
[{"$nulls":4},"CB320WA","노랑"]
[null,null,null,"HP PS B109A/B8550/C5380/C6375/C6380","CN684WA_564XL","검정"]
[null,null,null,"HP Deskjet F380","C9351AA(21)","검정"]
[{"$nulls":4},"C9352AA(22)","칼라"]
[null,null,null,"HP Officejet Pro 8500","CN016AA(942XL)","검정"]
[{"$nulls":4},"CN017AA(942XL)","파랑"]
[{"$nulls":4},"CN018AA(942XL)","빨강"]
[{"$nulls":4},"CN019AA(942XL)","노랑"]
[null,null,"삼성","ML-2851DK","ML-D2850B","검정"]
[null,null,null,"SCX-4824FNK/ 4824FNKG/ 4828FNK","MLT-D209L","대용량"]
[null,null,null,"ML-3475D/3475ND/5635/5636FNK","MLT-D208L","대용량"]
[null,null,null,"ML-2525K,SCX-4605K/4623","MLT-D105L","대용량"]
[null,null,null,"ML-2240K/2241K","MLT-D108S","검정"]
[null,null,null,"ML-3310D","MLT-D205S","표준용량"]
[{"$nulls":4},"MLT-D205L","대용량"]
[null,null,null,"CLX-3175/3175K/3175/3185FNK\nCLX-3170FNK","CLT-K409S","검정"]
[{"$nulls":4},"CLT-C409S","파랑"]
[{"$nulls":4},"CLT-M409S","빨강"]
[{"$nulls":4},"CLT-Y409S","노랑"]
[{"$nulls":4},"CLT-P409C","세트팩"]
[null,null,null,"CLP-620/620NDK/670NDK\nCLX-6220FXK","CLT-K508L","검정대용량"]
[{"$nulls":4},"CLT-C508L","파랑대용량"]
[{"$nulls":4},"CLT-M508L","빨강대용량"]
[{"$nulls":4},"CLT-Y508L","노랑대용량"]
[{"$nulls":4},"CLT-T508","전사벨트"]
[null,null,null,"SCX-2000FW","K200","검정"]
[{"$nulls":4},"C200","파랑"]
[{"$nulls":4},"M200","빨강"]
[{"$nulls":4},"Y200","노랑"]
[null,null,null,"CLP-770/770NDK","CLT-K609S","검정"]
[{"$nulls":4},"CLT-C609S","파랑"]
[{"$nulls":4},"CLT-M609S","빨강"]
[{"$nulls":4},"CLT-Y609S","노랑"]
[null,null,null,"CLX-3185시리즈","CLT-K407S","검정"]
[{"$nulls":4},"CLT-C407S","파랑"]
[{"$nulls":4},"CLT-M407S","빨강"]
[{"$nulls":4},"CLT-Y407S","노랑"]
[{"$nulls":4},"CLT-W409","폐토너통"]
[{"$nulls":4},"CLT-R407","드럼"]
[null,null,null,"CLX-3305FW/3307FW","CLT-K406S","검정"]
[{"$nulls":4},"CLT-C406S","파랑"]
[{"$nulls":4},"CLT-M406S","빨강"]
[{"$nulls":4},"CLT-Y406S","노랑"]
[null,null,null,"CF-565PR","CF-560","검정"]
[null,null,null,"CLP-415/CLX-4195","CLT-K504S","검정"]
[{"$nulls":4},"CLT-C504S","파랑"]
[{"$nulls":4},"CLT-M504S","빨강"]
[{"$nulls":4},"CLT-Y504S","노랑"]
[{"$nulls":4},"W504(폐토너통)","폐토너통"]
[null,null,"HP","HP LJ 5200/5200N","Q7516A","검정"]
[null,null,null,"HP LJ M1536DNF","CE278A","검정"]
[null,null,null,"HP LJ 1015/1020/3030/3050/3055","Q2612A","검정"]
[null,null,null,"HP LJ P2055DN/2050DN","CE505A","표준용량"]
[{"$nulls":4},"CE505X","대용량"]
[null,null,null,"HP LJ P3015","CE255A","표준용량"]
[null,null,null,"HP Color Laserjet\nCM2320/CP2025","CC530A","검정"]
[{"$nulls":4},"CC531A","파랑"]
[{"$nulls":4},"CC532A","노랑"]
[{"$nulls":4},"CC533A","빨강"]
[null,null,null,"HP Color Laserjet\n3800","Q7581A","파랑"]
[{"$nulls":4},"Q7582A","노랑"]
[{"$nulls":4},"Q7583A","빨강"]
[null,null,null,"HP Color Laserjet\n3550","Q2670A","검정"]
[{"$nulls":4},"Q2671A","파랑"]
[{"$nulls":4},"Q2672A","노랑"]
[{"$nulls":4},"Q2673A","빨강"]
[null,null,null,"HP Color Laserjet 4650DN/4600","C9720A","검정"]
[{"$nulls":4},"C9721A","파랑"]
[{"$nulls":4},"C9722A","노랑"]
[{"$nulls":4},"C9723A","빨강"]
[null,null,null,"HP Color Laserjet 2840","Q3960A","검정"]
[{"$nulls":4},"Q3961A","파랑"]
[{"$nulls":4},"Q3962A","노랑"]
[{"$nulls":4},"Q3963A","빨강"]
[{"$nulls":4},"Q3964A","드럼"]
[null,null,null,"HP Color Laserjet CM1312 MFP","CB540A","검정"]
[{"$nulls":4},"CB541A","파랑"]
[{"$nulls":4},"CB542A","노랑"]
[{"$nulls":4},"CB543A","빨강"]
[null,null,null,"HP Color Laserjet CM3530(CP3525DN)","CE250A","검정"]
[{"$nulls":4},"CE251A","파랑"]
[{"$nulls":4},"CE252A","노랑"]
[{"$nulls":4},"CE253A","빨강"]
[null,null,null,"HP Color Laserjet CP4025 ","CE260A","검정"]
[{"$nulls":4},"CE261A","파랑"]
[{"$nulls":4},"CE262A","노랑"]
[{"$nulls":4},"CE263A","빨강"]
[null,null,null,"HP Color Laserjet CP5225/CP5220","CE740A","검정"]
[{"$nulls":4},"CE741A","파랑"]
[{"$nulls":4},"CE742A","노랑"]
[{"$nulls":4},"CE743A","빨강"]
[null,null,null,"HP LJ Pro 400 Color M451dn/M451NW\nHP MFP-400 M475","CE410A","검정"]
[{"$nulls":4},"CE411A","파랑"]
[null,null,null,"HP LJ Pro 400 Color M451dn/M451NW\nHP MFP-400 M475","CE412A","노랑"]
[{"$nulls":4},"CE413A","빨강"]
[null,null,null,"HP Color Laserjet M551/\nHP LJ 500 Color M551n","CE400A","검정"]
[{"$nulls":4},"CE400X","대용량"]
[null,null,null,"**HP LJ Pro M425DN","CF280A","표준용량"]
[{"$nulls":4},"CF280X","대용량"]
[null,null,null,"**HP M1536DNF(복합기)","CE287A","검정"]
[null,null,null,"HP Color Laserjet CM3530(CP3525DN)","CE254A","폐토너통"]
[null,null,null,"M506dn","CF287A","검정"]
[null,null,null,"M506dn","CF287X","검정"]
[null,null,null,"M402dn/M426fdn","CF226A","검정"]
[null,null,null,"M402dn/M426fdn","CF226X","검정"]
[null,null,null,"M201dw/M225dw","CF283A","검정"]
[null,null,null,"M201dw/M225dw","CF283X","검정"]
[null,null,null,"M203dw","CF230A","검정"]
[null,null,null,"M203dw","CF230X","검정"]
[null,null,null,"M706n","CZ192A","검정"]
[null,null,null,"M252n","CF400A","검정"]
[null,null,null,"M252n","CF401A","파랑"]
[null,null,null,"M252n","CF402A","노랑"]
[null,null,null,"M252n","CF403A","빨강"]
[null,null,null,"M252n","CF400X","검정"]
[null,null,null,"M252n","CF401X","파랑"]
[null,null,null,"M252n","CF402X","노랑"]
[null,null,null,"M252n","CF403X","빨강"]
[null,null,null,"M452dn/M477fdw","CF410A","검정"]
[null,null,null,"M452dn/M477fdw","CF411A","파랑"]
[null,null,null,"M452dn/M477fdw","CF412A","노랑"]
[null,null,null,"M452dn/M477fdw","CF413A","빨강"]
[null,null,null,"M452dn/M477fdw","CF410X","검정"]
[null,null,null,"M452dn/M477fdw","CF411X","파랑"]
[null,null,null,"M452dn/M477fdw","CF412X","노랑"]
[null,null,null,"M452dn/M477fdw","CF413X","빨강"]
[null,null,null,"M552dn","CF360A","검정"]
[null,null,null,"M552dn","CF361A","파랑"]
[null,null,null,"M552dn","CF362A","노랑"]
[null,null,null,"M552dn","CF363A","빨강"]
[null,null,null,"M552dn","CF360X","검정"]
[null,null,null,"M552dn","CF361X","파랑"]
[null,null,null,"M552dn","CF362X","노랑"]
[null,null,null,"M552dn","CF363X","빨강"]
[null,null,null,"M750dn","CE270A","검정"]
[null,null,null,"M750dn","CE271A","파랑"]
[null,null,null,"M750dn","CE272A","노랑"]
[null,null,null,"M750dn","CE273A","빨강"]
[null,null,null,"M570dw","CE400A","검정"]
[null,null,null,"M570dw","CE400X","검정"]
[null,null,null,"M570dw","CE401A","파랑"]
[null,null,null,"M570dw","CE402A","노랑"]
[null,null,null,"M570dw","CE403A","빨강"]
[null,null,null,"M130fn","CF217A","검정"]
[null,null,null,"M604n","CF281A","검정"]
[null,null,null,"452dw/477dw","L0S00AA","검정"]
[null,null,null,"452dw/477dw","L0S03AA","파랑"]
[null,null,null,"452dw/477dw","L0S06AA","노랑"]
[null,null,null,"452dw/477dw","L0S09AA","빨강"]
[null,null,"캐논","LBP-5000","CRG-307BK","검정"]
[null,null,null,"MF8030","CRG-416K","검정"]
[{"$nulls":4},"CRG-416C","파랑"]
[{"$nulls":4},"CRG-416M","빨강"]
[{"$nulls":4},"CRG-416Y","노랑"]
[null,null,null,"MF-4100/4150/4120","FX-9","검정"]
[null,null,null,"IC-D380","CRG-W","검정"]
[null,null,null,"LBP-3200","EP-26","검정"]
[null,null,null,"MF-4570DW","CRG-328","검정"]
[null,null,"제록스","DocuPrinter C4350","CT200856","검정"]
[{"$nulls":4},"CT200857","파랑"]
[{"$nulls":4},"CT200858","빨강"]
[{"$nulls":4},"CT200859","노랑"]
[{"$nulls":4},"CT350462","드럼"]
[null,null,null,"DocuPrint C3290FS","CT350567","검정"]
[{"$nulls":4},"CT350568","파랑"]
[{"$nulls":4},"CT350569","빨강"]
[{"$nulls":4},"CT350570","노랑"]
[null,null,null,"DocuPrint C3210","CT350485","검정"]
[{"$nulls":4},"CT350486","파랑"]
[{"$nulls":4},"CT350487","빨강"]
[{"$nulls":4},"CT350488","노랑"]
[{"$nulls":4},"CT350489","드럼"]
[null,null,null,"DocuPrint C3300 DX","CT350670(6000매)","검정"]
[{"$nulls":4},"CT350671(4000매)","파랑"]
[{"$nulls":4},"CT350672(4000매)","빨강"]
[{"$nulls":4},"CT350673(4000매)","노랑"]
[null,null,"청호컴넷","CHP-5024CN","CTK-424K","검정"]
[{"$nulls":4},"CTK-424C","파랑"]
[{"$nulls":4},"CTK-424M","빨강"]
[{"$nulls":4},"CTK-424Y","노랑"]
[null,null,"쿄세라","FS-C5150DN","TK-584KK","검정"]
[{"$nulls":4},"TK-584KC","파랑"]
[{"$nulls":4},"TK-584KY","노랑"]
[{"$nulls":4},"TK-584KM","빨강"]

{"sheet":"재생토너","index":1,"n_rows":205,"n_cols":14,"rows_kept":205,"cut":false,"hidden":false,"merged":[[87,3,89,3],[90,3,93,3],[195,2,203,2],[196,3,197,3],[105,3,108,3],[109,3,112,3],[113,3,116,3],[48,3,51,3],[53,3,54,3],[55,3,56,3],[77,3,80,3],[83,3,86,3],[125,3,128,3],[1,0,1,7],[64,3,65,3],[5,2,6,2],[5,3,6,3],[7,2,18,2],[7,3,10,3],[11,3,12,3],[13,3,16,3],[17,3,18,3],[19,2,57,2],[26,3,27,3],[30,3,34,3],[35,3,39,3],[40,3,43,3],[44,3,47,3],[5,1,204,1],[117,3,120,3],[58,2,183,2],[68,3,69,3],[75,3,76,3],[129,3,132,3],[133,3,134,3],[135,3,138,3],[184,2,194,2],[184,3,185,3],[186,3,189,3],[190,3,194,3],[94,3,97,3],[98,3,100,3],[101,3,104,3],[121,3,124,3]]}
[]
["2020, 2021학년도 아주대학교 재생토너 단가계약업체 선정입찰 규격표"]
[]
[]
[null,"구분","제조사","프린터모델명","카트리지모델명","색상","비고",{"$nulls":5},"카트리지 모델명","발주량"]
[null,"재생토너","삼성","SCX-1220","INK-M90","검정",null,null,null,{"$error":"#N/A"},{"$f":"IF(J6=#REF!,\"OK\",\"문제\")","v":{"$error":"#N/A"}},null,"MLT-D208L",1]
[{"$nulls":4},"INK-C90","컬러",null,null,null,{"$error":"#N/A"},{"$f":"IF(J7=#REF!,\"OK\",\"문제\")","v":{"$error":"#N/A"}},null,"ML-1610D3",1]
[null,null,"HP","HP Officejet K5400\nPro K8600","C4936A(18)","검정",null,null,null,2200,{"$f":"IF(J8=#REF!,\"OK\",\"문제\")","v":{"$error":"#REF!"}},null,"CLT-Y504S",1]
[{"$nulls":4},"C4937A(18)","파랑",null,null,null,2200,{"$f":"IF(J9=#REF!,\"OK\",\"문제\")","v":{"$error":"#REF!"}},null,"Q5949A",1]
[{"$nulls":4},"C4938A(18)","빨강",null,null,null,2200,{"$f":"IF(J10=#REF!,\"OK\",\"문제\")","v":{"$error":"#REF!"}},null,"Q5942A",1]
[{"$nulls":4},"C4939A(18)","노랑",null,null,null,2200,{"$f":"IF(J11=#REF!,\"OK\",\"문제\")","v":{"$error":"#REF!"}},null,"C9730A",1]
[null,null,null,"HP Deskjet F370/F380/F2120","C9351AA(21)","검정",null,null,null,{"$error":"#N/A"},{"$f":"IF(J12=#REF!,\"OK\",\"문제\")","v":{"$error":"#N/A"}},null,"C9731A",1]
[{"$nulls":4},"C9352AA(22)","칼라",null,null,null,{"$error":"#N/A"},{"$f":"IF(J13=#REF!,\"OK\",\"문제\")","v":{"$error":"#N/A"}},null,"C9732A",1]
[null,null,null,"HP Officejet Pro K550/L7590","C9396A(88XL)","검정",null,null,null,{"$error":"#N/A"},{"$f":"IF(J14=#REF!,\"OK\",\"문제\")","v":{"$error":"#N/A"}},null,"C9733A",1]
[{"$nulls":4},"C9391A(88XL)","파랑",null,null,null,1100,{"$f":"IF(J15=#REF!,\"OK\",\"문제\")","v":{"$error":"#REF!"}},null,"CF403X",1]
[{"$nulls":4},"C9392A(88XL)","빨강",null,null,null,1100,{"$f":"IF(J16=#REF!,\"OK\",\"문제\")","v":{"$error":"#REF!"}},null,"CT350485",1]
[{"$nulls":4},"C9393A(88XL)","노랑",null,null,null,{"$error":"#N/A"},{"$f":"IF(J17=#REF!,\"OK\",\"문제\")","v":{"$error":"#N/A"}},null,"CT350486",1]
[null,null,null,"HP Photosmart 7760","C6656A(56)","검정",null,null,null,1650,{"$f":"IF(J18=#REF!,\"OK\",\"문제\")","v":{"$error":"#REF!"}},null,"CT350487",1]
[{"$nulls":4},"C6657A(57)","칼라",null,null,null,1650,{"$f":"IF(J19=#REF!,\"OK\",\"문제\")","v":{"$error":"#REF!"}},null,"CT350488",1]
[null,null,"삼성","ML-2855NDK,ML-2853ND\nSCX-4824FNKD,SCX-4828FNK","MLT-D209L","대용량",null,null,null,9900,{"$f":"IF(J20=#REF!,\"OK\",\"문제\")","v":{"$error":"#REF!"}},null,"MLT-D209L",2]
[null,null,null,"ML-2850,ML-2852NDKG,\nML-2851NDKG,ML-2450DK","MLT-D2850B","대용량",null,null,null,{"$error":"#N/A"},{"$f":"IF(J21=#REF!,\"OK\",\"문제\")","v":{"$error":"#N/A"}},null,"CLT-C504S",2]
[null,null,null,"ML-3475ND, ML-3475ND,\nSCX-5635FNK","MLT-D208L","대용량",null,null,null,9900,{"$f":"IF(J22=#REF!,\"OK\",\"문제\")","v":{"$error":"#REF!"}},null,"CF401A",2]
[null,null,null,"ML-4055N,ML-4555N","MLT-D308A","소용량",null,null,null,8800,{"$f":"IF(J23=#REF!,\"OK\",\"문제\")","v":{"$error":"#REF!"}},null,"CF400X",2]
[null,null,null,"ML-4550N,ML-4551N","ML-D4550A","소용량",null,null,null,8800,{"$f":"IF(J24=#REF!,\"OK\",\"문제\")","v":{"$error":"#REF!"}},null,"CF402X",2]
[null,null,null,"ML-2165W","MLT-D101S","검정",null,null,null,{"$error":"#N/A"},{"$f":"IF(J25=#REF!,\"OK\",\"문제\")","v":{"$error":"#N/A"}},null,"CF217A",2]
[null,null,null,"ML-1640K,ML-2240K/1642K","MLT-D108S","검정",null,null,null,2200,{"$f":"IF(J26=#REF!,\"OK\",\"문제\")","v":{"$error":"#REF!"}},null,"FX-9(FX-9S)동일",2]
[null,null,null,"ML-1660K,ML-1665K/SCX-3205K\nML-1661K, ML-1678","MLT-D104S","검정",null,null,null,{"$error":"#N/A"},{"$f":"IF(J27=#REF!,\"OK\",\"문제\")","v":{"$error":"#N/A"}},null,"MLT-D205L",3]
[{"$nulls":4},"MLT-D105L","대용량",null,null,null,{"$error":"#N/A"},{"$f":"IF(J28=#REF!,\"OK\",\"문제\")","v":{"$error":"#N/A"}},null,"CLT-K504S",3]
[null,null,null,"ML-3310ND","MLT-D205L","대용량",null,null,null,16500,{"$f":"IF(J29=#REF!,\"OK\",\"문제\")","v":{"$error":"#REF!"}},null,"CLT-M504S",3]
[null,null,null,"ML-1610","ML-1610D3","검정",null,null,null,5500,{"$f":"IF(J30=#REF!,\"OK\",\"문제\")","v":{"$error":"#REF!"}},null,"CE505X",3]
[null,null,null,"CLX-3185K/3185FW/3180K\nCLP-325K","CLT-K407S","검정",null,null,null,{"$error":"#N/A"},{"$f":"IF(J31=#REF!,\"OK\",\"문제\")","v":{"$error":"#N/A"}},null,"CF283A",3]
[{"$nulls":4},"CLT-C407S","파랑",null,null,null,{"$error":"#N/A"},{"$f":"IF(J32=#REF!,\"OK\",\"문제\")","v":{"$error":"#N/A"}},null,"CF400A",3]
[{"$nulls":4},"CLT-M407S","빨강",null,null,null,{"$error":"#N/A"},{"$f":"IF(J33=#REF!,\"OK\",\"문제\")","v":{"$error":"#N/A"}},null,"CF403A",3]
[{"$nulls":4},"CLT-Y407S","노랑",null,null,null,{"$error":"#N/A"},{"$f":"IF(J34=#REF!,\"OK\",\"문제\")","v":{"$error":"#N/A"}},null,"CF401X",3]
[{"$nulls":4},"CLT-R407","드럼",null,null,null,5500,{"$f":"IF(J35=#REF!,\"OK\",\"문제\")","v":{"$error":"#REF!"}},null,"CF402A",4]
[null,null,null,"CLX-3170FNK/3175FNK/3185FNK\nCLP-310K","CLT-K409S","검정",null,null,null,1100,{"$f":"IF(J36=#REF!,\"OK\",\"문제\")","v":{"$error":"#REF!"}},null,"CF280X",5]
[{"$nulls":4},"CLT-C409S","파랑",null,null,null,1100,{"$f":"IF(J37=#REF!,\"OK\",\"문제\")","v":{"$error":"#REF!"}},null,"CF283X",6]
[{"$nulls":4},"CLT-M409S","빨강",null,null,null,1100,{"$f":"IF(J38=#REF!,\"OK\",\"문제\")","v":{"$error":"#REF!"}},null,"CF230X",6]
[{"$nulls":4},"CLT-Y409S","노랑",null,null,null,1100,{"$f":"IF(J39=#REF!,\"OK\",\"문제\")","v":{"$error":"#REF!"}},null,"CF280A",8]
[{"$nulls":4},"CLT-W409","폐토너통",null,null,null,1100,{"$f":"IF(J40=#REF!,\"OK\",\"문제\")","v":{"$error":"#REF!"}},null,"CF362A",8]
[null,null,null,"CLP-615NDK / CLP-620NDK /\nCLP-670NDK / CLP-670NK /\nCLX-6220FXK / CLX-6250FXK ","CLT-K508L","검정대용량",null,null,null,{"$error":"#N/A"},{"$f":"IF(J41=#REF!,\"OK\",\"문제\")","v":{"$error":"#N/A"}},null,"CF361A",10]
[{"$nulls":4},"CLT-C508L","파랑대용량",null,null,null,{"$error":"#N/A"},{"$f":"IF(J42=#REF!,\"OK\",\"문제\")","v":{"$error":"#N/A"}},null,"CF363A",10]
[{"$nulls":4},"CLT-M508L","빨강대용량",null,null,null,{"$error":"#N/A"},{"$f":"IF(J43=#REF!,\"OK\",\"문제\")","v":{"$error":"#N/A"}},null,"CF360A",12]
[{"$nulls":4},"CLT-Y508L","노랑대용량",null,null,null,{"$error":"#N/A"},{"$f":"IF(J44=#REF!,\"OK\",\"문제\")","v":{"$error":"#N/A"}},null,"CF411A",20]
[null,null,null,"CLP-770/770NDK","CLT-K609S","검정",null,null,null,{"$error":"#N/A"},{"$f":"IF(J45=#REF!,\"OK\",\"문제\")","v":{"$error":"#N/A"}},null,"CF413A",20]
[{"$nulls":4},"CLT-C609S","파랑",null,null,null,{"$error":"#N/A"},{"$f":"IF(J46=#REF!,\"OK\",\"문제\")","v":{"$error":"#N/A"}},null,"CF363X",20]
[{"$nulls":4},"CLT-M609S","빨강",null,null,null,{"$error":"#N/A"},{"$f":"IF(J47=#REF!,\"OK\",\"문제\")","v":{"$error":"#N/A"}},null,"CF412A",21]
[{"$nulls":4},"CLT-Y609S","노랑",null,null,null,{"$error":"#N/A"},{"$f":"IF(J48=#REF!,\"OK\",\"문제\")","v":{"$error":"#N/A"}},null,"CF413X",21]
[null,null,null,"CLP-611NDK/611NDKG\nCLP-661NDK /CLX-6210FXK","CLP-K660B","검정",null,null,null,{"$error":"#N/A"},{"$f":"IF(J49=#REF!,\"OK\",\"문제\")","v":{"$error":"#N/A"}},null,"CF362X",21]
[{"$nulls":4},"CLP-C660B","파랑",null,null,null,{"$error":"#N/A"},{"$f":"IF(J50=#REF!,\"OK\",\"문제\")","v":{"$error":"#N/A"}},null,"CF410A",22]
[{"$nulls":4},"CLP-M660B","빨강",null,null,null,{"$error":"#N/A"},{"$f":"IF(J51=#REF!,\"OK\",\"문제\")","v":{"$error":"#N/A"}},null,"CF411X",22]
[{"$nulls":4},"CLP-Y660B","노랑",null,null,null,{"$error":"#N/A"},{"$f":"IF(J52=#REF!,\"OK\",\"문제\")","v":{"$error":"#N/A"}},null,"CF360X",22]
[null,null,null,"CF-565PR","CF-560","검정",null,null,null,5500,{"$f":"IF(J53=#REF!,\"OK\",\"문제\")","v":{"$error":"#REF!"}},null,"CF410X",23]
[null,null,null,"CLP-415/CLX-4195","CLT-K504S","검정",null,null,null,16500,{"$f":"IF(J54=#REF!,\"OK\",\"문제\")","v":{"$error":"#REF!"}},null,"CF412X",23]
[{"$nulls":4},"CLT-C504S","파랑",null,null,null,16500,{"$f":"IF(J55=#REF!,\"OK\",\"문제\")","v":{"$error":"#REF!"}},null,"CF361X",23]
[null,null,null,"CLP-415/CLX-4195","CLT-M504S","빨강",null,null,null,16500,{"$f":"IF(J56=#REF!,\"OK\",\"문제\")","v":{"$error":"#REF!"}},null,"CF281A",110]
[{"$nulls":4},"CLT-Y504S","노랑",null,null,null,16500,{"$f":"IF(J57=#REF!,\"OK\",\"문제\")","v":{"$error":"#REF!"}},null,"CF226A",120]
[null,null,null,"SL-M3320ND","MLT-D203L","검정",null,null,null,{"$error":"#N/A"},{"$f":"IF(J58=#REF!,\"OK\",\"문제\")","v":{"$error":"#N/A"}},null,"CZ192A",123]
[null,null,"HP","HP LJ 5000/5100/5100TN","C4129X","검정",null,null,null,3849.9999999999995,{"$f":"IF(J59=#REF!,\"OK\",\"문제\")","v":{"$error":"#REF!"}},null,"CF226X",268]
[null,null,null,"HP LJ P2014/P2014N\nP2015/P2015D/P2015N\nHP LJ M2727NF","Q7553X","대용량",null,null,null,{"$error":"#N/A"},{"$f":"IF(J60=#REF!,\"OK\",\"문제\")","v":{"$error":"#N/A"}}]
[null,null,null,"HP LJ 5200/5200N","Q7516A","검정",null,null,null,{"$error":"#N/A"},{"$f":"IF(J61=#REF!,\"OK\",\"문제\")","v":{"$error":"#N/A"}}]
[null,null,null,"HP LJ P1505/M1522nf","CB436A","검정",null,null,null,{"$error":"#N/A"},{"$f":"IF(J62=#REF!,\"OK\",\"문제\")","v":{"$error":"#N/A"}}]
[null,null,null,"HP laserjet 2300D","Q2610A","검정",null,null,null,3849.9999999999995,{"$f":"IF(J63=#REF!,\"OK\",\"문제\")","v":{"$error":"#REF!"}}]
[null,null,null,"HP LJ 1010/1012/1015/1020/1022\n     1022N/3020/M1005/3015/3055","Q2612A","검정",null,null,null,{"$error":"#N/A"},{"$f":"IF(J64=#REF!,\"OK\",\"문제\")","v":{"$error":"#N/A"}}]
[null,null,null,"HP LJ 1160/1320/3340/3390","Q5949A","표준용량",null,null,null,3849.9999999999995,{"$f":"IF(J65=#REF!,\"OK\",\"문제\")","v":{"$error":"#REF!"}}]
[{"$nulls":4},"Q5949X","대용량",null,null,null,4620,{"$f":"IF(J66=#REF!,\"OK\",\"문제\")","v":{"$error":"#REF!"}}]
[null,null,null,"HP LJ P1102W/Pro P1102/\nM1212nf/M1212nf/M1132/M1136","CE285A","검정",null,null,null,{"$error":"#N/A"},{"$f":"IF(J67=#REF!,\"OK\",\"문제\")","v":{"$error":"#N/A"}}]
[null,null,null,"HP LJ 4200","Q1338A","검정",null,null,null,6930,{"$f":"IF(J68=#REF!,\"OK\",\"문제\")","v":{"$error":"#REF!"}}]
[null,null,null,"HP LJ 4250/4350","Q5942A","표준용량",null,null,null,6160,{"$f":"IF(J69=#REF!,\"OK\",\"문제\")","v":{"$error":"#REF!"}}]
[{"$nulls":4},"Q5942X","대용량",null,null,null,6930,{"$f":"IF(J70=#REF!,\"OK\",\"문제\")","v":{"$error":"#REF!"}}]
[null,null,null,"HP LJ 1100","C4092A","검정",null,null,null,5390,{"$f":"IF(J71=#REF!,\"OK\",\"문제\")","v":{"$error":"#REF!"}}]
[null,null,null,"HP LJ 2100/2200/2200D","C4096A","검정",null,null,null,5390,{"$f":"IF(J72=#REF!,\"OK\",\"문제\")","v":{"$error":"#REF!"}}]
[null,null,null,"HP LJ 2400/2420/2430TN","Q6511A","표준용량",null,null,null,4620,{"$f":"IF(J73=#REF!,\"OK\",\"문제\")","v":{"$error":"#REF!"}}]
[null,null,null,"HP LJ P1006","CB435A","검정",null,null,null,{"$error":"#N/A"},{"$f":"IF(J74=#REF!,\"OK\",\"문제\")","v":{"$error":"#N/A"}}]
[null,null,null,"HP LJ P1566/1606/1536dnf","CE278A","검정",null,null,null,{"$error":"#N/A"},{"$f":"IF(J75=#REF!,\"OK\",\"문제\")","v":{"$error":"#N/A"}}]
[null,null,null,"HP LJ P2035/2055/P2055DN","CE505X","대용량",null,null,null,9900,{"$f":"IF(J76=#REF!,\"OK\",\"문제\")","v":{"$error":"#REF!"}}]
[{"$nulls":4},"CE505A","표준용량",null,null,null,{"$error":"#N/A"},{"$f":"IF(J77=#REF!,\"OK\",\"문제\")","v":{"$error":"#N/A"}}]
[null,null,null,"HP Color Laserjet CP5225 ","CE740A","검정",null,null,null,{"$error":"#N/A"},{"$f":"IF(J78=#REF!,\"OK\",\"문제\")","v":{"$error":"#N/A"}}]
[{"$nulls":4},"CE741A","파랑",null,null,null,{"$error":"#N/A"},{"$f":"IF(J79=#REF!,\"OK\",\"문제\")","v":{"$error":"#N/A"}}]
[{"$nulls":4},"CE742A","노랑",null,null,null,{"$error":"#N/A"},{"$f":"IF(J80=#REF!,\"OK\",\"문제\")","v":{"$error":"#N/A"}}]
[{"$nulls":4},"CE743A","빨강",null,null,null,{"$error":"#N/A"},{"$f":"IF(J81=#REF!,\"OK\",\"문제\")","v":{"$error":"#N/A"}}]
[null,null,null,"HP LJ 1000/1200/3380","C7115A","표준용량",null,null,null,3849.9999999999995,{"$f":"IF(J82=#REF!,\"OK\",\"문제\")","v":{"$error":"#REF!"}}]
[null,null,null,"HP P4014N","CC364A","검정",null,null,null,4620,{"$f":"IF(J83=#REF!,\"OK\",\"문제\")","v":{"$error":"#REF!"}}]
[null,null,null,"HP Color Laserjet CM1312/CM1312MFP\nCM1312nfi/CM1312nfi MFP CP1215/ CP1518/P1006/HP CP1515N","CB540A","검정",null,null,null,{"$error":"#N/A"},{"$f":"IF(J84=#REF!,\"OK\",\"문제\")","v":{"$error":"#N/A"}}]
[{"$nulls":4},"CB541A","파랑",null,null,null,{"$error":"#N/A"},{"$f":"IF(J85=#REF!,\"OK\",\"문제\")","v":{"$error":"#N/A"}}]
[{"$nulls":4},"CB542A","노랑",null,null,null,{"$error":"#N/A"},{"$f":"IF(J86=#REF!,\"OK\",\"문제\")","v":{"$error":"#N/A"}}]
[{"$nulls":4},"CB543A","빨강",null,null,null,{"$error":"#N/A"},{"$f":"IF(J87=#REF!,\"OK\",\"문제\")","v":{"$error":"#N/A"}}]
[null,null,null,"HP Color Laserjet\n3800/CP3505","Q7581A","파랑",null,null,null,4620,{"$f":"IF(J88=#REF!,\"OK\",\"문제\")","v":{"$error":"#REF!"}}]
[{"$nulls":4},"Q7582A","노랑",null,null,null,4620,{"$f":"IF(J89=#REF!,\"OK\",\"문제\")","v":{"$error":"#REF!"}}]
[{"$nulls":4},"Q7583A","빨강",null,null,null,4620,{"$f":"IF(J90=#REF!,\"OK\",\"문제\")","v":{"$error":"#REF!"}}]
[null,null,null,"HP CM1415FN\nCP1525N/CP1525NW","CE320A","검정",null,null,null,{"$error":"#N/A"},{"$f":"IF(J91=#REF!,\"OK\",\"문제\")","v":{"$error":"#N/A"}}]
[{"$nulls":4},"CE321A","파랑",null,null,null,{"$error":"#N/A"},{"$f":"IF(J92=#REF!,\"OK\",\"문제\")","v":{"$error":"#N/A"}}]
[{"$nulls":4},"CE322A","빨강",null,null,null,{"$error":"#N/A"},{"$f":"IF(J93=#REF!,\"OK\",\"문제\")","v":{"$error":"#N/A"}}]
[{"$nulls":4},"CE323A","노랑",null,null,null,{"$error":"#N/A"},{"$f":"IF(J94=#REF!,\"OK\",\"문제\")","v":{"$error":"#N/A"}}]
[null,null,null,"HP Color Laserjet CM3530(CP3525)","CE250A","검정",null,null,null,{"$error":"#N/A"},{"$f":"IF(J95=#REF!,\"OK\",\"문제\")","v":{"$error":"#N/A"}}]
[{"$nulls":4},"CE251A","파랑",null,null,null,{"$error":"#N/A"},{"$f":"IF(J96=#REF!,\"OK\",\"문제\")","v":{"$error":"#N/A"}}]
[{"$nulls":4},"CE252A","노랑",null,null,null,{"$error":"#N/A"},{"$f":"IF(J97=#REF!,\"OK\",\"문제\")","v":{"$error":"#N/A"}}]
[{"$nulls":4},"CE253A","빨강",null,null,null,{"$error":"#N/A"},{"$f":"IF(J98=#REF!,\"OK\",\"문제\")","v":{"$error":"#N/A"}}]
[null,null,null,"HP Color Laserjet\n3700/3700DN","Q2681A","파랑",null,null,null,5390,{"$f":"IF(J99=#REF!,\"OK\",\"문제\")","v":{"$error":"#REF!"}}]
[{"$nulls":4},"Q2682A","노랑",null,null,null,5390,{"$f":"IF(J100=#REF!,\"OK\",\"문제\")","v":{"$error":"#REF!"}}]
[{"$nulls":4},"Q2683A","빨강",null,null,null,5390,{"$f":"IF(J101=#REF!,\"OK\",\"문제\")","v":{"$error":"#REF!"}}]
[null,null,null,"HP Color Laserjet CP4025 ","CE260A","검정",null,null,null,13860,{"$f":"IF(J102=#REF!,\"OK\",\"문제\")","v":{"$error":"#REF!"}}]
[{"$nulls":4},"CE261A","파랑",null,null,null,13860,{"$f":"IF(J103=#REF!,\"OK\",\"문제\")","v":{"$error":"#REF!"}}]
[{"$nulls":4},"CE262A","노랑",null,null,null,13860,{"$f":"IF(J104=#REF!,\"OK\",\"문제\")","v":{"$error":"#REF!"}}]
[{"$nulls":4},"CE263A","빨강",null,null,null,13860,{"$f":"IF(J105=#REF!,\"OK\",\"문제\")","v":{"$error":"#REF!"}}]
[null,null,null,"HP Color Laserjet\n4600","C9720A","검정",null,null,null,4620,{"$f":"IF(J106=#REF!,\"OK\",\"문제\")","v":{"$error":"#REF!"}}]
[{"$nulls":4},"C9721A","파랑",null,null,null,4620,{"$f":"IF(J107=#REF!,\"OK\",\"문제\")","v":{"$error":"#REF!"}}]
[{"$nulls":4},"C9722A","노랑",null,null,null,4620,{"$f":"IF(J108=#REF!,\"OK\",\"문제\")","v":{"$error":"#REF!"}}]
[{"$nulls":4},"C9723A","빨강",null,null,null,4620,{"$f":"IF(J109=#REF!,\"OK\",\"문제\")","v":{"$error":"#REF!"}}]
[null,null,null,"HP Color Laserjet \n5550/5550N/5550DN","C9730A","검정",null,null,null,11550,{"$f":"IF(J110=#REF!,\"OK\",\"문제\")","v":{"$error":"#REF!"}}]
[{"$nulls":4},"C9731A","파랑",null,null,null,11550,{"$f":"IF(J111=#REF!,\"OK\",\"문제\")","v":{"$error":"#REF!"}}]
[{"$nulls":4},"C9732A","노랑",null,null,null,11550,{"$f":"IF(J112=#REF!,\"OK\",\"문제\")","v":{"$error":"#REF!"}}]
[{"$nulls":4},"C9733A","빨강",null,null,null,11550,{"$f":"IF(J113=#REF!,\"OK\",\"문제\")","v":{"$error":"#REF!"}}]
[null,null,null,"HP Color Laserjet M551/\nHP LJ 500 Color M551n","CE400A","검정",null,null,null,{"$error":"#N/A"},{"$f":"IF(J114=#REF!,\"OK\",\"문제\")","v":{"$error":"#N/A"}}]
[{"$nulls":4},"CE401A","파랑",null,null,null,{"$error":"#N/A"},{"$f":"IF(J115=#REF!,\"OK\",\"문제\")","v":{"$error":"#N/A"}}]
[{"$nulls":4},"CE402A","노랑",null,null,null,{"$error":"#N/A"},{"$f":"IF(J116=#REF!,\"OK\",\"문제\")","v":{"$error":"#N/A"}}]
[{"$nulls":4},"CE403A","빨강",null,null,null,{"$error":"#N/A"},{"$f":"IF(J117=#REF!,\"OK\",\"문제\")","v":{"$error":"#N/A"}}]
[null,null,null,"HP Color Laserjet\nCM2320/CP2025/CP2020","CC530A","검정",null,null,null,{"$error":"#N/A"},{"$f":"IF(J118=#REF!,\"OK\",\"문제\")","v":{"$error":"#N/A"}}]
[{"$nulls":4},"CC531A","파랑",null,null,null,{"$error":"#N/A"},{"$f":"IF(J119=#REF!,\"OK\",\"문제\")","v":{"$error":"#N/A"}}]
[{"$nulls":4},"CC532A","노랑",null,null,null,{"$error":"#N/A"},{"$f":"IF(J120=#REF!,\"OK\",\"문제\")","v":{"$error":"#N/A"}}]
[{"$nulls":4},"CC533A","빨강",null,null,null,{"$error":"#N/A"},{"$f":"IF(J121=#REF!,\"OK\",\"문제\")","v":{"$error":"#N/A"}}]
[null,null,null,"HP Color Lasrejet 3550","Q2670A","검정",null,null,null,5390,{"$f":"IF(J122=#REF!,\"OK\",\"문제\")","v":{"$error":"#REF!"}}]
[{"$nulls":4},"Q2671A","파랑",null,null,null,5390,{"$f":"IF(J123=#REF!,\"OK\",\"문제\")","v":{"$error":"#REF!"}}]
[{"$nulls":4},"Q2672A","노랑",null,null,null,5390,{"$f":"IF(J124=#REF!,\"OK\",\"문제\")","v":{"$error":"#REF!"}}]
[{"$nulls":4},"Q2673A","빨강",null,null,null,5390,{"$f":"IF(J125=#REF!,\"OK\",\"문제\")","v":{"$error":"#REF!"}}]
[null,null,null,"HP Color Laserjet\n4700/4700N/4700DN","Q5950A","검정",null,null,null,{"$error":"#N/A"},{"$f":"IF(J126=#REF!,\"OK\",\"문제\")","v":{"$error":"#N/A"}}]
[{"$nulls":4},"Q5951A","파랑",null,null,null,{"$error":"#N/A"},{"$f":"IF(J127=#REF!,\"OK\",\"문제\")","v":{"$error":"#N/A"}}]
[{"$nulls":4},"Q5952A","노랑",null,null,null,{"$error":"#N/A"},{"$f":"IF(J128=#REF!,\"OK\",\"문제\")","v":{"$error":"#N/A"}}]
[{"$nulls":4},"Q5953A","빨강",null,null,null,{"$error":"#N/A"},{"$f":"IF(J129=#REF!,\"OK\",\"문제\")","v":{"$error":"#N/A"}}]
[null,null,null,"**HP M375NW/475DN(복합기)","CE410A","검정",null,null,null,{"$error":"#N/A"},{"$f":"IF(J130=#REF!,\"OK\",\"문제\")","v":{"$error":"#N/A"}}]
[{"$nulls":4},"CE411A","파랑",null,null,null,{"$error":"#N/A"},{"$f":"IF(J131=#REF!,\"OK\",\"문제\")","v":{"$error":"#N/A"}}]
[{"$nulls":4},"CE412A","노랑",null,null,null,{"$error":"#N/A"},{"$f":"IF(J132=#REF!,\"OK\",\"문제\")","v":{"$error":"#N/A"}}]
[{"$nulls":4},"CE413A","빨강",null,null,null,{"$error":"#N/A"},{"$f":"IF(J133=#REF!,\"OK\",\"문제\")","v":{"$error":"#N/A"}}]
[null,null,null,"**HP LJ Pro M425DN","CF280A","표준용량",null,null,null,8800,{"$f":"IF(J134=#REF!,\"OK\",\"문제\")","v":{"$error":"#REF!"}}]
[{"$nulls":4},"CF280X","대용량",null,null,null,11000,{"$f":"IF(J135=#REF!,\"OK\",\"문제\")","v":{"$error":"#REF!"}}]
[null,null,null,"HP Color LJ PRO 200","CF210A","검정",null,null,null,{"$error":"#N/A"},{"$f":"IF(J136=#REF!,\"OK\",\"문제\")","v":{"$error":"#N/A"}}]
[{"$nulls":4},"CF211A","빨강",null,null,null,{"$error":"#N/A"},{"$f":"IF(J137=#REF!,\"OK\",\"문제\")","v":{"$error":"#N/A"}}]
[{"$nulls":4},"CF212A","노랑",null,null,null,{"$error":"#N/A"},{"$f":"IF(J138=#REF!,\"OK\",\"문제\")","v":{"$error":"#N/A"}}]
[{"$nulls":4},"CF213A","파랑",null,null,null,{"$error":"#N/A"},{"$f":"IF(J139=#REF!,\"OK\",\"문제\")","v":{"$error":"#N/A"}}]
[null,null,null,"M506dn","CF287A","검정",null,null,null,44000,{"$f":"IF(J140=#REF!,\"OK\",\"문제\")","v":{"$error":"#REF!"}}]
[null,null,null,"M506dn","CF287X","검정",null,null,null,48000,{"$f":"IF(J141=#REF!,\"OK\",\"문제\")","v":{"$error":"#REF!"}}]
[null,null,null,"M402dn/M426fdn","CF226A","검정",null,null,null,30800,{"$f":"IF(J142=#REF!,\"OK\",\"문제\")","v":{"$error":"#REF!"}}]
[null,null,null,"M402dn/M426fdn","CF226X","검정",null,null,null,38500,{"$f":"IF(J143=#REF!,\"OK\",\"문제\")","v":{"$error":"#REF!"}}]
[null,null,null,"M201dw/M225dw","CF283A","검정",null,null,null,7700,{"$f":"IF(J144=#REF!,\"OK\",\"문제\")","v":{"$error":"#REF!"}}]
[null,null,null,"M201dw/M225dw","CF283X","검정",null,null,null,9900,{"$f":"IF(J145=#REF!,\"OK\",\"문제\")","v":{"$error":"#REF!"}}]
[null,null,null,"M203dw","CF230A","검정",null,null,null,{"$error":"#N/A"},{"$f":"IF(J146=#REF!,\"OK\",\"문제\")","v":{"$error":"#N/A"}}]
[null,null,null,"M203dw","CF230X","검정",null,null,null,28600,{"$f":"IF(J147=#REF!,\"OK\",\"문제\")","v":{"$error":"#REF!"}}]
[null,null,null,"M706n","CZ192A","검정",null,null,null,42900,{"$f":"IF(J148=#REF!,\"OK\",\"문제\")","v":{"$error":"#REF!"}}]
[null,null,null,"M252n","CF400A","검정",null,null,null,28600,{"$f":"IF(J149=#REF!,\"OK\",\"문제\")","v":{"$error":"#REF!"}}]
[null,null,null,"M252n","CF401A","파랑",null,null,null,28600,{"$f":"IF(J150=#REF!,\"OK\",\"문제\")","v":{"$error":"#REF!"}}]
[null,null,null,"M252n","CF402A","노랑",null,null,null,28600,{"$f":"IF(J151=#REF!,\"OK\",\"문제\")","v":{"$error":"#REF!"}}]
[null,null,null,"M252n","CF403A","빨강",null,null,null,28600,{"$f":"IF(J152=#REF!,\"OK\",\"문제\")","v":{"$error":"#REF!"}}]
[null,null,null,"M252n","CF400X","검정",null,null,null,30800,{"$f":"IF(J153=#REF!,\"OK\",\"문제\")","v":{"$error":"#REF!"}}]
[null,null,null,"M252n","CF401X","파랑",null,null,null,30800,{"$f":"IF(J154=#REF!,\"OK\",\"문제\")","v":{"$error":"#REF!"}}]
[null,null,null,"M252n","CF402X","노랑",null,null,null,30800,{"$f":"IF(J155=#REF!,\"OK\",\"문제\")","v":{"$error":"#REF!"}}]
[null,null,null,"M252n","CF403X","빨강",null,null,null,30800,{"$f":"IF(J156=#REF!,\"OK\",\"문제\")","v":{"$error":"#REF!"}}]
[null,null,null,"M452dn","CF410A","검정",null,null,null,30800,{"$f":"IF(J157=#REF!,\"OK\",\"문제\")","v":{"$error":"#REF!"}}]
[null,null,null,"M452dn","CF411A","파랑",null,null,null,30800,{"$f":"IF(J158=#REF!,\"OK\",\"문제\")","v":{"$error":"#REF!"}}]
[null,null,null,"M452dn","CF412A","노랑",null,null,null,30800,{"$f":"IF(J159=#REF!,\"OK\",\"문제\")","v":{"$error":"#REF!"}}]
[null,null,null,"M452dn","CF413A","빨강",null,null,null,30800,{"$f":"IF(J160=#REF!,\"OK\",\"문제\")","v":{"$error":"#REF!"}}]
[null,null,null,"M452dn","CF410X","검정",null,null,null,36300,{"$f":"IF(J161=#REF!,\"OK\",\"문제\")","v":{"$error":"#REF!"}}]
[null,null,null,"M452dn","CF411X","파랑",null,null,null,36300,{"$f":"IF(J162=#REF!,\"OK\",\"문제\")","v":{"$error":"#REF!"}}]
[null,null,null,"M452dn","CF412X","노랑",null,null,null,36300,{"$f":"IF(J163=#REF!,\"OK\",\"문제\")","v":{"$error":"#REF!"}}]
[null,null,null,"M452dn","CF413X","빨강",null,null,null,36300,{"$f":"IF(J164=#REF!,\"OK\",\"문제\")","v":{"$error":"#REF!"}}]
[null,null,null,"M552dn","CF360A","검정",null,null,null,48400,{"$f":"IF(J165=#REF!,\"OK\",\"문제\")","v":{"$error":"#REF!"}}]
[null,null,null,"M552dn","CF361A","파랑",null,null,null,48400,{"$f":"IF(J166=#REF!,\"OK\",\"문제\")","v":{"$error":"#REF!"}}]
[null,null,null,"M552dn","CF362A","노랑",null,null,null,48400,{"$f":"IF(J167=#REF!,\"OK\",\"문제\")","v":{"$error":"#REF!"}}]
[null,null,null,"M552dn","CF363A","빨강",null,null,null,48400,{"$f":"IF(J168=#REF!,\"OK\",\"문제\")","v":{"$error":"#REF!"}}]
[null,null,null,"M552dn","CF360X","검정",null,null,null,53900,{"$f":"IF(J169=#REF!,\"OK\",\"문제\")","v":{"$error":"#REF!"}}]
[null,null,null,"M552dn","CF361X","파랑",null,null,null,53900,{"$f":"IF(J170=#REF!,\"OK\",\"문제\")","v":{"$error":"#REF!"}}]
[null,null,null,"M552dn","CF362X","노랑",null,null,null,53900,{"$f":"IF(J171=#REF!,\"OK\",\"문제\")","v":{"$error":"#REF!"}}]
[null,null,null,"M552dn","CF363X","빨강",null,null,null,53900,{"$f":"IF(J172=#REF!,\"OK\",\"문제\")","v":{"$error":"#REF!"}}]
[null,null,null,"M750dn","CE270A","검정",null,null,null,{"$error":"#N/A"},{"$f":"IF(J173=#REF!,\"OK\",\"문제\")","v":{"$error":"#N/A"}}]
[null,null,null,"M750dn","CE271A","파랑",null,null,null,{"$error":"#N/A"},{"$f":"IF(J174=#REF!,\"OK\",\"문제\")","v":{"$error":"#N/A"}}]
[null,null,null,"M750dn","CE272A","노랑",null,null,null,{"$error":"#N/A"},{"$f":"IF(J175=#REF!,\"OK\",\"문제\")","v":{"$error":"#N/A"}}]
[null,null,null,"M750dn","CE273A","빨강",null,null,null,{"$error":"#N/A"},{"$f":"IF(J176=#REF!,\"OK\",\"문제\")","v":{"$error":"#N/A"}}]
[null,null,null,"M570dw","CE400A","검정",null,null,null,{"$error":"#N/A"},{"$f":"IF(J177=#REF!,\"OK\",\"문제\")","v":{"$error":"#N/A"}}]
[null,null,null,"M570dw","CE400X","검정",null,null,null,{"$error":"#N/A"},{"$f":"IF(J178=#REF!,\"OK\",\"문제\")","v":{"$error":"#N/A"}}]
[null,null,null,"M570dw","CE401A","파랑",null,null,null,{"$error":"#N/A"},{"$f":"IF(J179=#REF!,\"OK\",\"문제\")","v":{"$error":"#N/A"}}]
[null,null,null,"M570dw","CE402A","노랑",null,null,null,{"$error":"#N/A"},{"$f":"IF(J180=#REF!,\"OK\",\"문제\")","v":{"$error":"#N/A"}}]
[null,null,null,"M570dw","CE403A","빨강",null,null,null,{"$error":"#N/A"},{"$f":"IF(J181=#REF!,\"OK\",\"문제\")","v":{"$error":"#N/A"}}]
[null,null,null,"M130fn","CF217A","검정",null,null,null,31900,{"$f":"IF(J182=#REF!,\"OK\",\"문제\")","v":{"$error":"#REF!"}}]
[null,null,null,"M604n","CF281A","검정",null,null,null,26400,{"$f":"IF(J183=#REF!,\"OK\",\"문제\")","v":{"$error":"#REF!"}}]
[null,null,null,"HP LJ P3015DN/P3013DN/P3015","CE255X","검정",null,null,null,{"$error":"#N/A"},{"$f":"IF(J184=#REF!,\"OK\",\"문제\")","v":{"$error":"#N/A"}}]
[null,null,"제록스","DocuPrinter C3055","CT200805","검정",null,null,null,7700,{"$f":"IF(J185=#REF!,\"OK\",\"문제\")","v":{"$error":"#REF!"}}]
[{"$nulls":4},"CT200806","파랑",null,null,null,7700,{"$f":"IF(J186=#REF!,\"OK\",\"문제\")","v":{"$error":"#REF!"}}]
[null,null,null,"DocuPrint C3210","CT350485","검정대용량",null,null,null,23100,{"$f":"IF(J187=#REF!,\"OK\",\"문제\")","v":{"$error":"#REF!"}}]
[{"$nulls":4},"CT350486","파랑대용량",null,null,null,23100,{"$f":"IF(J188=#REF!,\"OK\",\"문제\")","v":{"$error":"#REF!"}}]
[{"$nulls":4},"CT350487","빨강대용량",null,null,null,23100,{"$f":"IF(J189=#REF!,\"OK\",\"문제\")","v":{"$error":"#REF!"}}]
[{"$nulls":4},"CT350488","노랑대용량",null,null,null,23100,{"$f":"IF(J190=#REF!,\"OK\",\"문제\")","v":{"$error":"#REF!"}}]
[null,null,null,"DocuPrinter C4350","CT200856","검정",null,null,null,25300,{"$f":"IF(J191=#REF!,\"OK\",\"문제\")","v":{"$error":"#REF!"}}]
[{"$nulls":4},"CT200857","파랑",null,null,null,25300,{"$f":"IF(J192=#REF!,\"OK\",\"문제\")","v":{"$error":"#REF!"}}]
[{"$nulls":4},"CT200858","빨강",null,null,null,25300,{"$f":"IF(J193=#REF!,\"OK\",\"문제\")","v":{"$error":"#REF!"}}]
[{"$nulls":4},"CT200859","노랑",null,null,null,25300,{"$f":"IF(J194=#REF!,\"OK\",\"문제\")","v":{"$error":"#REF!"}}]
[{"$nulls":4},"CWAA0686","폐토너통",null,null,null,4400,{"$f":"IF(J195=#REF!,\"OK\",\"문제\")","v":{"$error":"#REF!"}}]
[null,null,"캐논","MF-4100/4150/4120/4380DN","FX-9(FX-9S)동일","검정",null,null,null,5500,{"$f":"IF(J196=#REF!,\"OK\",\"문제\")","v":{"$error":"#REF!"}}]
[null,null,null,"LBP-3000","CRG-303","표준용량",null,null,null,{"$error":"#N/A"},{"$f":"IF(J197=#REF!,\"OK\",\"문제\")","v":{"$error":"#N/A"}}]
[{"$nulls":4},"CRG-308","표준용량",null,null,null,{"$error":"#N/A"},{"$f":"IF(J198=#REF!,\"OK\",\"문제\")","v":{"$error":"#N/A"}}]
[null,null,null,"LBP-3200","EP-26","검정",null,null,null,{"$error":"#N/A"},{"$f":"IF(J199=#REF!,\"OK\",\"문제\")","v":{"$error":"#N/A"}}]
[null,null,null,"LBP-3370","CRG-315Ⅱ","대용량",null,null,null,{"$error":"#N/A"},{"$f":"IF(J200=#REF!,\"OK\",\"문제\")","v":{"$error":"#N/A"}}]
[null,null,null,"LBP-6835K","CRG-309","검정",null,null,null,{"$error":"#N/A"},{"$f":"IF(J201=#REF!,\"OK\",\"문제\")","v":{"$error":"#N/A"}}]
[null,null,null,"IR2025/2016","NPG-28","검정",null,null,null,{"$error":"#N/A"},{"$f":"IF(J202=#REF!,\"OK\",\"문제\")","v":{"$error":"#N/A"}}]
[null,null,null,"MF-4570DN CRG328","CRG-328B","검정",null,null,null,{"$error":"#N/A"},{"$f":"IF(J203=#REF!,\"OK\",\"문제\")","v":{"$error":"#N/A"}}]
[null,null,null,"FAX-L360","FX-3","검정",null,null,null,{"$error":"#N/A"},{"$f":"IF(J204=#REF!,\"OK\",\"문제\")","v":{"$error":"#N/A"}}]
[null,null,"렉스마크","X-364DN","X264H11G","검정",null,null,null,{"$error":"#N/A"},{"$f":"IF(J205=#REF!,\"OK\",\"문제\")","v":{"$error":"#N/A"}}]